{"text_format":"1","workbook":"xlsx","n_sheets":28,"sheets":["ADSI","FormData","P-I","P-II","P-II-A","P-III","P-IV","P-V","P-VI","P-VII","P-VIII","P-IX","P-X","P-XI","P-XII","P-XIII","P-XIV","P-XV","P-XVI","P-XVII","P-XVIII","P-XIX","P-XIX-A","P-XX","P-XXI","P-XXII","P-XXIII","Status"],"not_rendered":{"charts":0,"images":3,"macros":1,"external_links":0,"defined_names":117,"comments":25,"pivot_tables":0},"unopened":[],"bounds":{"document_bytes":16777216,"sheet_cells":100000,"rows_first":2000,"rows_last":500,"rows_between":2000,"halvings":0,"cell_chars":16384,"cell_head_chars":4096},"cells_cut":0,"cells_raw":0,"read":"whole","date_system":"1900"}

{"sheet":"ADSI","index":0,"n_rows":495,"n_cols":12,"rows_kept":495,"cut":false,"hidden":false,"merged":[[2,0,2,13],[3,0,3,13],[5,0,5,13]]}
[null,{"$f":"IF($G$12<>\"\",CONCATENATE(PROPER($G$12),\", \",PROPER($G$14),IF($G$18<>\"\",\", \"&$G$18,\"\"),\", ADSI-\",$K$12),IF($G$16<>\"\",CONCATENATE(\"Mega City: \",PROPER($G$16),\", ADSI-\",$K$12)))","v":"Goa, , ADSI-2021"},null,null,null,null,null,null,null,null,"ADSI v3.0","2016-12-22"]
[]
["Accidental Deaths & Suicides in India"]
["(Proformae Revision year 2016)"]
[]
["Data Entry Module v4.0"]
[]
[]
[]
[]
[null,null,null,null,null,null,null,"Code",null,null,{"$f":"YEAR(NOW())-1","v":2021}]
[null,null,"Select the Name of the State / UT",null,null,null,"GOA",{"$f":"IF(ISERROR(LOOKUP(G12,StateList,StateCode)),\"\",LOOKUP(G12,StateList,StateCode))","v":6},null,"Data Year",2021]
[null,null,null,null,null,null,{"$f":"SUBSTITUTE(SUBSTITUTE(G12,\" \",\"_\"),\"&\",\"_\")","v":"GOA"}]
[null,null,"Select the Name of the District",null,null,null,null,{"$f":"IF(ISERROR(LOOKUP(G14,INDIRECT(G13),INDIRECT(CONCATENATE(MID(G13,1,7),\"Code\")))),\"\",LOOKUP(G14,INDIRECT(G13),INDIRECT(CONCATENATE(MID(G13,1,7),\"Code\"))))","v":""},null,null,"Total Number of Errors",{"$f":"SUM('P-I:P-XXIII'!C2)","v":0}]
[]
[null,null,"Select the name of the Mega City",null,null,null,null,{"$f":"IF(ISNA(LOOKUP(G16,MegaCityName,MegaCityCode)),\"\",LOOKUP(G16,MegaCityName,MegaCityCode))","v":""},null,null,"Total Abnormal Variations in Data",{"$f":"SUM('P-I:P-XXIII'!F2)","v":55}]
[]
[null,null,"Police Station Name"]
[]
[null,null,"Name of the Officer preparing this report"]
[null,null,null,null,null,null,null,null,null,null,"(Authorized Signatory)"]
[null,null,"Whether Original / Revised data?",null,null,null,"Original data",null,null,"Name :  ","Shri Bossuet Silva, GPS"]
[null,null,null,null,null,null,null,null,null,"Rank :  ","Superintendent of Police, SCRB, GOA"]
[null,null,"Date of Submission of this report",null,null,null,{"$f":"NOW()","v":"2022-04-22T12:31:32.210"},null,null,"Office seal :  "]
[]
[null,null,"Note:    1. The output file (after data entry) must be saved in .xlsm format only."]
[null,null,null,"2. NCRB/SCRB can not import/accept the data until the data is error free (i.e. Error count = 0)"]
[null,null,null,"3. The proformae output can be printed only on LEGAL size paper."]
[]
[]
[]
[]
[]
[]
[]
[]
[]
[]
[]
[]
[]
[]
[]
[]
[]
[]
[]
[]
[]
[]
[]
[]
[]
[]
[]
[]
[]
[]
[]
[]
[]
[]
[]
[]
[]
[]
[]
[]
[]
[]
[]
[]
[]
[]
[]
[]
[]
[]
[]
[]
[]
[]
[]
[]
[]
[]
[]
[]
[]
[]
[]
[]
[]
[]
[]
[]
[]
[]
[]
[]
[]
[]
[]
[]
[]
[]
[]
[]
[]
[]
[]
[]
[]
[]
[]
[]
[]
[]
[]
[]
[]
[]
[]
[]
[]
[]
[]
[]
[]
[]
[]
[]
[]
[]
[]
[]
[]
[]
[]
[]
[]
[]
[]
[]
[]
[]
[]
[]
[]
[]
[]
[]
[]
[]
[]
[]
[]
[]
[]
[]
[]
[]
[]
[]
[]
[]
[]
[]
[]
[]
[]
[]
[]
[]
[]
[]
[]
[]
[]
[]
[]
[]
[]
[]
[]
[]
[]
[]
[]
[]
[]
[]
[]
[]
[]
[]
[]
[]
[]
[]
[]
[]
[]
[]
[]
[]
[]
[]
[]
[]
[]
[]
[]
[]
[]
[]
[]
[]
[]
[]
[]
[]
[]
[]
[]
[]
[]
[]
[]
[]
[]
[]
[]
[]
[]
[]
[]
[]
[]
[]
[]
[]
[]
[]
[]
[]
[]
[]
[]
[]
[]
[]
[]
[]
[]
[]
[]
[]
[]
[]
[]
[]
[]
[]
[]
[]
[]
[]
[]
[]
[]
[]
[]
[]
[]
[]
[]
[]
[]
[]
[]
[]
[]
[]
[]
[]
[]
[]
[]
[]
[]
[]
[]
[]
[]
[]
[]
[]
[]
[]
[]
[]
[]
[]
[]
[]
[]
[]
[]
[]
[]
[]
[]
[]
[]
[]
[]
[]
[]
[]
[]
[]
[]
[]
[]
[]
[]
[]
[]
[]
[]
[]
[]
[]
[]
[]
[]
[]
[]
[]
[]
[]
[]
[]
[]
[]
[]
[]
[]
[]
[]
[]
[]
[]
[]
[]
[]
[]
[]
[]
[]
[]
[]
[]
[]
[]
[]
[]
[]
[]
[]
[]
[]
[]
[]
[]
[]
[]
[]
[]
[]
[]
[]
[]
[]
[]
[]
[]
[]
[]
[]
[]
[]
[]
[]
[]
[]
[]
[]
[]
[]
[]
[]
[]
[]
[]
[]
[]
[]
[]
[]
[]
[]
[]
[]
[]
[]
[]
[]
[]
[]
[]
[]
[]
[]
[]
[]
[]
[]
[]
[]
[]
[]
[]
[]
[]
[]
[]
[]
[]
[]
[]
[]
[]
[]
[]
[]
[]
[]
[]
[]
[]
[]
[]
[]
[]
[]
[]
[]
[]
[]
[]
[]
[]
[]
[]
[]
[]
[]
[]
[]
[]
[]
[]
[]
[]
[]
[]
[]
[]
[]
[]
[]
[]
[]
[]
[]
[]
[]
[]
[]
[]
[]
[]
["Errors:",null,{"$f":"L14","v":0}]

{"sheet":"FormData","index":1,"n_rows":81,"n_cols":116,"rows_kept":81,"cut":false,"hidden":true,"merged":[]}
["StateCode","StateList",null,"A&N ISLCode","A&N ISLANDS",null,"ANDHRA Code","ANDHRA PRADESH",null,"ARUNACHCode","ARUNACHAL PRADESH",null,"ASSAMCode","ASSAM",null,"BIHARCode","BIHAR",null,"CHANDIGCode","CHANDIGARH",null,"CHHATTICode","CHHATTISGARH",null,"D&N HAVCode","D&N HAVELI AND DAMAN&DIU",null,"LADAKHCode","LADAKH",null,"DELHICode","DELHI",null,"GOACode","GOA",null,"GUJARATCode","GUJARAT",null,"HARYANACode","HARYANA",null,"HIMACHACode","HIMACHAL PRADESH",null,"JAMMU &Code","JAMMU & KASHMIR",null,"JHARKHACode","JHARKHAND",null,"KARNATACode","KARNATAKA",null,"KERALACode","KERALA",null,"LAKSHADCode","LAKSHADWEEP",null,"MADHYA Code","MADHYA PRADESH",null,"MAHARASCode","MAHARASHTRA",null,"MANIPURCode","MANIPUR",null,"MEGHALACode","MEGHALAYA",null,"MIZORAMCode","MIZORAM",null,"NAGALANCode","NAGALAND",null,"ODISHACode","ODISHA",null,"PUDUCHECode","PUDUCHERRY",null,"PUNJABCode","PUNJAB",null,"RAJASTHCode","RAJASTHAN",null,"SIKKIMCode","SIKKIM",null,"TAMIL NCode","TAMIL NADU",null,"TELANGACode","TELANGANA",null,"TRIPURACode","TRIPURA",null,"UTTAR PCode","UTTAR PRADESH",null,"UTTARAKCode","UTTARAKHAND",null,"WEST BECode","WEST BENGAL",null,"MegaCityCode","MegaCityName",null,"LangCode","LangName"]
[29,"A&N ISLANDS",null,0,"- All Districts -",null,0,"- All Districts -",null,0,"- All Districts -",null,0,"- All Districts -",null,0,"- All Districts -",null,0,"- All Districts -",null,0,"- All Districts -",null,0,"- All Districts -",null,0,"- All Districts -",null,0,"- All Districts -",null,0,"- All Districts -",null,0,"- All Districts -",null,0,"- All Districts -",null,0,"- All Districts -",null,0,"- All Districts -",null,0,"- All Districts -",null,0,"- All Districts -",null,0,"- All Districts -",null,0,"- All Districts -",null,0,"- All Districts -",null,0,"- All Districts -",null,0,"- All Districts -",null,0,"- All Districts -",null,0,"- All Districts -",null,0,"- All Districts -",null,0,"- All Districts -",null,0,"- All Districts -",null,0,"- All Districts -",null,0,"- All Districts -",null,0,"- All Districts -",null,0,"- All Districts -",null,0,"- All Districts -",null,0,"- All Districts -",null,0,"- All Districts -",null,0,"- All Districts -",null,0,"- All Districts -",null,37,"AGRA",null,1,"English"]
[1,"ANDHRA PRADESH",null,3,"Nicobar",null,1,"Anantapur",null,1,"Anjaw",null,1,"B.I.E.O",null,46,"Anti Terrorist Squad",null,1,"Chandigarh",null,1,"Balod",null,1,"D&N Haveli",null,1,"Kargil",null,1,"Central",null,3,"CID",null,1,"Ahmedabad City",null,25,"Ambala",null,1,"Baddi",null,1,"Anantnag",null,1,"Bokaro",null,1,"Bagalkot",null,1,"Alapuzha",null,1,"Lakshadweep",null,1,"Agar",null,1,"Ahmednagar",null,1,"Bishnupur",null,1,"Garo Hills East",null,1,"Aizawl",null,1,"Dimapur",null,1,"Angul",null,1,"Karaikal",null,1,"Amritsar Rural",null,1,"Ajmer",null,1,"East",null,1,"Ariyalur",null,"30","Adilabad ",null,1,"Dhalai",null,1,"Agra",null,1,"Almora",null,3,"Alipurduar",null,38,"AHMEDABAD",null,2,"Hindi"]
[2,"ARUNACHAL PRADESH",null,2,"North & Middle Andaman",null,2,"Chittoor",null,2,"Changlang",null,3,"Baksa",null,1,"Araria",null,null,null,null,2,"Balodbazar",null,2,"Daman",null,2,"Leh",null,2,"Crime Branch",null,1,"North Goa",null,2,"Ahmedabad Rural",null,3,"Bhiwani",null,2,"Bilaspur",null,2,"Awantipora",null,2,"Chaibasa",null,5,"Ballari",null,21,"Crime Branch",null,null,null,null,2,"Alirajpur",null,2,"Akola",null,2,"Chandel",null,2,"Garo Hills North",null,2,"Champhai",null,2,"Kiphire",null,2,"Balasore",null,2,"Puducherry",null,2,"Barnala",null,2,"Alwar",null,2,"North",null,41,"Chengalpattu",null,31,"Badhradhri Kothagudem",null,2,"Gomati",null,2,"Aligarh",null,2,"Bageshwar",null,4,"Asansol-Durgapur PC",null,39,"ALLAHABAD",null,3,"Regional Language"]
[3,"ASSAM",null,1,"South Andaman",null,3,"Cuddapah",null,3,"Crime Branch",null,2,"Barpeta",null,2,"Arwal",null,null,null,null,3,"Balrampur",null,3,"Diu",null,null,null,null,22,"Dwarka",null,2,"South Goa",null,3,"Amreli",null,26,"Charkhi Dadri",null,3,"Chamba",null,3,"Bandipora",null,3,"Chatra",null,36,"Belagavi City",null,2,"Ernakulam Commr.",null,null,null,null,3,"Anuppur",null,3,"Amravati Commr.",null,3,"Churachandpur",null,3,"Garo Hills South",null,11,"Hnahthial",null,3,"Kohima",null,3,"Baragarh",null,null,null,null,3,"Batala",null,3,"Banswara",null,3,"South",null,2,"Chennai",null,21,"Cyberabad Commissionerate",null,3,"GRP",null,3,"Allahabad",null,3,"Chamoli",null,5,"Bankura",null,40,"AMRITSAR"]
[4,"BIHAR",null,null,null,null,4,"East Godavari",null,4,"Dibang Valley",null,37,"Biswanath",null,3,"Aurangabad",null,null,null,null,4,"Bemetra",null,null,null,null,null,null,null,3,"East",null,null,null,null,4,"Anand",null,4,"Faridabad",null,4,"CID",null,4,"Baramulla",null,4,"Deoghar",null,4,"Belagavi District",null,3,"Ernakulam Rural",null,null,null,null,4,"Ashok Nagar",null,4,"Amravati Rural",null,4,"CID",null,4,"Garo Hills South West",null,12,"Khawzawl",null,4,"Longleng",null,4,"Berhampur",null,null,null,null,4,"Bathinda",null,4,"Baran",null,4,"West",null,3,"Coimbatore",null,22,"Hyderabad Commissionerate",null,4,"Kowai",null,4,"Ambedkar Nagar",null,4,"Champawat",null,38,"Barasat Police District",null,41,"ASANSOL"]
[30,"CHANDIGARH",null,null,null,null,5,"Guntakal Railway",null,5,"Kameng East",null,4,"Bongaigaon",null,4,"Bagaha",null,null,null,null,5,"Bilaspur",null,null,null,null,null,null,null,4,"EOW",null,null,null,null,5,"Arvalli",null,5,"Fatehabad",null,5,"GRP",null,5,"Budgam",null,5,"Dhanbad",null,2,"Bengaluru City",null,4,"Idukki",null,null,null,null,5,"Balaghat",null,5,"Aurangabad Commr.",null,5,"Imphal East",null,5,"Garo Hills West",null,3,"Kolasib",null,5,"Mokokchung",null,5,"Bhadrak",null,null,null,null,5,"CP Amritsar",null,5,"Barmer",null,null,null,null,4,"Coimbatore City",null,32,"Jagityal",null,5,"North",null,5,"Amethi",null,5,"Dehradun",null,6,"Barrackpur PC",null,42,"AURANGABAD"]
[5,"CHHATTISGARH",null,null,null,null,6,"Guntur",null,6,"Kameng West",null,5,"C.I.D.",null,5,"Banka",null,null,null,null,6,"Bizapur",null,null,null,null,null,null,null,5,"IGI Airport",null,null,null,null,6,"Banaskantha",null,6,"GRP",null,6,"Hamirpur",null,6,"Crime Jammu",null,6,"Dhanbad Railway",null,3,"Bengaluru District",null,5,"Kannur City",null,null,null,null,6,"Barwani",null,48,"Aurangabad Railway",null,6,"Imphal West",null,7,"Jaintia Hills East",null,4,"Lawngtlai",null,6,"Mon",null,6,"Bolangir",null,null,null,null,6,"CP Jalandhar",null,6,"Bharatpur",null,null,null,null,5,"Cuddalore",null,33,"Jayashankar Bhupalpalli",null,6,"Sipahijala",null,6,"Amroha",null,14,"GRP",null,31,"Baruipur Police ",null,43,"BENGALURU"]
[31,"D&N HAVELI AND DAMAN & DIU",null,null,null,null,7,"Guntur Urban",null,27,"Kamle",null,6,"Cachar",null,6,"Begusarai",null,null,null,null,7,"Dantewara",null,null,null,null,null,null,null,6,"Metro",null,null,null,null,7,"Bharuch",null,7,"Gurgaon",null,7,"Kangra",null,7,"Crime Srinagar",null,7,"Dumka",null,6,"Bidar",null,22,"Kannur Rural",null,null,null,null,7,"Betul",null,6,"Aurangabad Rural",null,11,"Jiribam",null,6,"Jaintia Hills West",null,5,"Lunglei",null,7,"Peren",null,7,"Boudh",null,null,null,null,7,"CP Ludhiana",null,7,"Bhilwara",null,null,null,null,6,"Dharmapuri",null,34,"Jogulamba Gadwal",null,7,"South",null,7,"Auraiya",null,6,"Haridwar",null,43,"Basirhat Police District",null,44,"BHOPAL"]
[32,"DELHI",null,null,null,null,8,"Krishna",null,23,"Kra Daadi",null,40,"Charaideo",null,7,"Bettiah",null,null,null,null,8,"Dhamtari",null,null,null,null,null,null,null,7,"New Delhi",null,null,null,null,8,"Bhavnagar",null,27,"Hansi",null,8,"Kinnaur",null,8,"Doda",null,8,"Garhwa",null,9,"Chamarajnagar",null,6,"Kasargod",null,null,null,null,8,"Bhind",null,7,"Beed",null,13,"Kakching",null,8,"Khasi Hills East",null,6,"Mamit",null,8,"Phek",null,8,"Cuttack",null,null,null,null,8,"Faridkot",null,49,"Bhiwadi",null,null,null,null,7,"Dindigul",null,35,"Kamareddy ",null,8,"Unakoti",null,8,"Azamgarh",null,7,"Nainital",null,7,"Bidhannagar PC",null,45,"CHANDIGARH CITY"]
[6,"GOA",null,null,null,null,9,"Kurnool",null,7,"Kurung Kumey",null,7,"Chirang",null,8,"Bhabhua",null,null,null,null,9,"Durg",null,null,null,null,null,null,null,8,"North",null,null,null,null,9,"Botad",null,8,"Hissar",null,9,"Kullu",null,9,"Ganderbal",null,9,"Giridih",null,8,"Chikkaballapura",null,7,"Kollam Commr.",null,null,null,null,9,"Bhopal",null,8,"Bhandara",null,15,"Kamjong",null,9,"Khasi Hills South West",null,7,"Saiha",null,9,"Tuensang",null,9,"DCP BBSR",null,null,null,null,9,"Fatehgarh Sahib",null,8,"Bikaner",null,null,null,null,8,"Erode",null,23,"Karimnagar Commissionerate",null,9,"West",null,9,"Badaun",null,8,"Pauri Garhwal",null,8,"Birbhum",null,46,"CHENNAI"]
[7,"GUJARAT",null,null,null,null,10,"Nellore",null,25,"Lepa Rada",null,8,"Darrang",null,9,"Bhagalpur",null,null,null,null,10,"Gariyaband",null,null,null,null,null,null,null,9,"North-East",null,null,null,null,10,"Chhotaudepur",null,24,"Irrigation & Power",null,10,"Lahaul & Spiti",null,10,"Handwara",null,10,"Godda",null,10,"Chikkamagaluru",null,8,"Kollam Rural",null,null,null,null,10,"Bhopal Railway",null,9,"Buldhana",null,12,"Kangpokpi",null,10,"Khasi Hills West",null,13,"Saitual",null,10,"Wokha",null,10,"DCP CTC",null,null,null,null,10,"Fazilka",null,9,"Bundi",null,null,null,null,42,"Kallakurichi",null,24,"Khammam Commissionerate",null,null,null,null,10,"Baghpat",null,9,"Pithoragarh",null,37,"Bongaon Police District",null,47,"COIMBATORE"]
[8,"HARYANA",null,null,null,null,11,"Prakasham",null,8,"Lohit",null,9,"Dhemaji",null,10,"Bhojpur",null,null,null,null,30,"Gaurela-Pendra-Marwahi",null,null,null,null,null,null,null,10,"North-West",null,null,null,null,11,"CID Crime",null,9,"Jhajjar",null,11,"Mandi",null,11,"Jammu",null,11,"Gumla",null,11,"Chitradurga",null,9,"Kottayam",null,null,null,null,11,"Burhanpur",null,10,"Chandrapur",null,16,"Noney",null,11,"Ri-Bhoi",null,8,"Serchhip",null,11,"Zunheboto",null,11,"Deogarh",null,null,null,null,11,"Ferozepur",null,10,"Chittorgarh",null,null,null,null,9,"Kanchipuram",null,36,"Komarmbheem Asifabad",null,null,null,null,11,"Bahraich",null,10,"Rudra Prayag",null,32,"Chandannagar PC",null,48,"DELHI CITY"]
[9,"HIMACHAL PRADESH",null,null,null,null,12,"Rajahmundry",null,9,"Longding",null,10,"Dhubri",null,11,"Buxar",null,null,null,null,11,"GRP Raipur",null,null,null,null,null,null,null,11,"Outer",null,null,null,null,12,"Dahod",null,10,"Jind",null,12,"Shimla",null,13,"Kathua",null,12,"Hazaribagh",null,12,"Dakshina Kannada",null,10,"Kozhikode Commr.",null,null,null,null,12,"Chhatarpur",null,11,"Dhule",null,17,"Pherzawl",null,null,null,null,10,"Spl Narcotic",null,null,null,null,12,"Dhenkanal",null,null,null,null,12,"G.R.P",null,11,"Churu",null,null,null,null,10,"Kanyakumari",null,37,"Mahabubbad",null,null,null,null,12,"Ballia",null,11,"Tehri Garhwal",null,10,"Coochbehar",null,49,"DHANBAD"]
[33,"JAMMU & KASHMIR",null,null,null,null,13,"Srikakulam",null,10,"Lower Dibang Valley",null,11,"Dibrugarh",null,12,"Darbhanga",null,null,null,null,12,"Jagdalpur",null,null,null,null,null,null,null,23,"Outer North",null,null,null,null,13,"Dang",null,11,"Kaithal",null,13,"Sirmaur",null,14,"Kishtwar",null,13,"Jamshedpur",null,13,"Davanagere",null,11,"Kozhikode Rural",null,null,null,null,13,"Chhindwara",null,12,"Gadchiroli",null,7,"Senapati",null,null,null,null,9,"Spl Traffic",null,null,null,null,13,"Gajapati",null,null,null,null,13,"Gurdaspur",null,12,"Dausa",null,null,null,null,11,"Karur",null,38,"Mahabubnagar",null,null,null,null,13,"Balrampur",null,12,"Udhamsingh Nagar",null,11,"Dakshin Dinajpur",null,50,"DURG-BHILAINAGAR"]
[10,"JHARKHAND",null,null,null,null,14,"Tirupathi Urban",null,22,"Lower Siang",null,25,"Dima Hasao",null,45,"Economic Offences Unit",null,null,null,null,13,"Janjgir",null,null,null,null,null,null,null,12,"RAILWAY",null,null,null,null,14,"Devbhumi Dwarka",null,12,"Karnal",null,14,"Solan",null,15,"Kulgam",null,14,"Jamshedpur Railway",null,14,"Dharwad",null,12,"Malappuram",null,null,null,null,14,"Damoh",null,13,"Gondia",null,8,"Tamenglong",null,null,null,null,null,null,null,null,null,null,14,"Ganjam",null,null,null,null,14,"Hoshiarpur",null,13,"Dholpur",null,null,null,null,12,"Krishnagiri",null,39,"Medak",null,null,null,null,14,"Banda",null,13,"Uttarkashi",null,12,"Darjeeling",null,51,"FARIDABAD"]
[11,"KARNATAKA",null,null,null,null,15,"Vijayawada City",null,20,"Namsai",null,12,"G.R.P.",null,13,"Gaya",null,null,null,null,14,"Jashpur",null,null,null,null,null,null,null,20,"Rohini",null,null,null,null,15,"Gandhinagar",null,13,"Kurukshetra",null,15,"Una",null,16,"Kupwara",null,15,"Jamtara",null,15,"Gadag",null,13,"Palakkad",null,null,null,null,15,"Datia",null,14,"Hingoli",null,14,"Tengnoupal",null,null,null,null,null,null,null,null,null,null,15,"Jagatsinghpur",null,null,null,null,15,"Jalandhar Rural",null,43,"DISCOM",null,null,null,null,13,"Madurai",null,49,"Mulug",null,null,null,null,15,"Barabanki",null,null,null,null,33,"Diamond Harbour Police",null,52,"GHAZIABAD"]
[12,"KERALA",null,null,null,null,16,"Vijayawada Railway",null,26,"Pakke Kessang",null,13,"Goalpara",null,14,"Gopalganj",null,null,null,null,15,"Kabirdham",null,null,null,null,null,null,null,21,"Shahdara",null,null,null,null,16,"Gir Somnath",null,14,"Mahendergarh",null,null,null,null,18,"Poonch",null,16,"Khunti",null,17,"Hassan",null,14,"Pathanamthitta",null,null,null,null,16,"Dewas",null,15,"Jalgaon",null,9,"Thoubal",null,null,null,null,null,null,null,null,null,null,16,"Jajpur",null,null,null,null,16,"Kapurthala",null,14,"Dungarpur",null,null,null,null,14,"Madurai City",null,40,"Nagarkurnool",null,null,null,null,16,"Bareilly",null,null,null,null,13,"Hooghly Rural Police",null,53,"GWALIOR"]
[34,"LADAKH",null,null,null,null,17,"Visakha Rural",null,11,"Papum Pare City",null,14,"Golaghat",null,15,"Jamalpur Railway",null,null,null,null,16,"Kanker",null,null,null,null,null,null,null,13,"South",null,null,null,null,17,"Jamnagar",null,15,"Mewat",null,null,null,null,19,"Pulwama",null,17,"Koderma",null,18,"Haveri",null,15,"Railways",null,null,null,null,17,"Dhar",null,16,"Jalna",null,10,"Ukhrul",null,null,null,null,null,null,null,null,null,null,17,"Jharsuguda",null,null,null,null,17,"Khanna",null,15,"G.R.P.Ajmer",null,null,null,null,46,"Mayiladuthurai",null,41,"Nalgonda",null,null,null,null,17,"Basti",null,null,null,null,14,"Howrah G. R. P.",null,54,"HYDERABAD"]
[35,"LAKSHADWEEP",null,null,null,null,18,"Visakhapatnam",null,12,"Papum Pare Rural",null,15,"Guwahati City",null,16,"Jamui",null,null,null,null,17,"Kondagaon",null,null,null,null,null,null,null,14,"South-East",null,null,null,null,18,"Junagadh",null,16,"Palwal",null,null,null,null,20,"Railways Jammu",null,18,"Latehar",null,19,"Hubballi Dharwad City",null,16,"Thrissur Commr.",null,null,null,null,18,"Dindori",null,17,"Kolhapur",null,null,null,null,null,null,null,null,null,null,null,null,null,18,"Kalahandi",null,null,null,null,18,"Ludhiana Rural",null,16,"G.R.P.Jodhpur",null,null,null,null,15,"Nagapattinam",null,50,"Narayanpet",null,null,null,null,18,"Bijnor",null,null,null,null,15,"Howrah PC",null,55,"INDORE"]
[13,"MADHYA PRADESH",null,null,null,null,19,"Vizianagaram",null,24,"Shiyomi",null,16,"Hailakandi",null,17,"Jehanabad",null,null,null,null,18,"Korba",null,null,null,null,null,null,null,15,"South-West",null,null,null,null,19,"Kachchh East(G)",null,17,"Panchkula",null,null,null,null,21,"Railways Kashmir",null,19,"Lohardagga",null,20,"K.G.F.",null,17,"Thrissur Rural",null,null,null,null,19,"Guna",null,18,"Latur",null,null,null,null,null,null,null,null,null,null,null,null,null,19,"Kandhamal",null,null,null,null,29,"Malerkotla",null,17,"Ganganagar",null,null,null,null,16,"Namakkal",null,42,"Nirmal",null,null,null,null,19,"Bulandshahar",null,null,null,null,16,"Howrah Rural",null,56,"JABALPUR"]
[14,"MAHARASHTRA",null,null,null,null,20,"West Godavari",null,21,"Siang",null,17,"Hamren",null,18,"Katihar",null,null,null,null,19,"Koria",null,null,null,null,null,null,null,16,"Spl Cell",null,null,null,null,20,"Kachchh West(B)",null,18,"Panipat",null,null,null,null,22,"Railways Katra",null,20,"Pakur",null,29,"K.Railways",null,18,"Trivandrum Commr.",null,null,null,null,20,"Gwalior",null,49,"Mira Bhayandar Vasai Virar",null,null,null,null,null,null,null,null,null,null,null,null,null,20,"Kendrapara",null,null,null,null,19,"Mansa",null,18,"Hanumangarh",null,null,null,null,17,"Nilgiris",null,25,"Nizamabad Commissionerate",null,null,null,null,20,"Chandoli",null,null,null,null,39,"Islampore Police District",null,57,"JAIPUR"]
[15,"MANIPUR",null,null,null,null,null,null,null,13,"Siang East",null,38,"Hojai",null,19,"Katihar Railway",null,null,null,null,20,"Koriya",null,null,null,null,null,null,null,17,"SPUWAC",null,null,null,null,21,"Kheda",null,19,"Rewari",null,null,null,null,23,"Rajouri",null,21,"Palamu",null,16,"Kalaburagi",null,19,"Trivandrum Rural",null,null,null,null,21,"Harda",null,19,"Mumbai Commr.",null,null,null,null,null,null,null,null,null,null,null,null,null,21,"Keonjhar",null,null,null,null,20,"Moga",null,48,"Jaipur Crime",null,null,null,null,18,"Perambalur",null,26,"Rachakonda Commissionerate",null,null,null,null,21,"Chitrakoot",null,null,null,null,17,"Jalpaiguri",null,58,"JAMSHEDPUR"]
[16,"MEGHALAYA",null,null,null,null,null,null,null,14,"Siang Upper",null,18,"Jorhat",null,20,"Khagaria",null,null,null,null,21,"Mahasamund",null,null,null,null,null,null,null,18,"Vigilance",null,null,null,null,22,"Mahisagar",null,20,"Rohtak",null,null,null,null,24,"Ramban",null,22,"Ramgarh",null,37,"Kalaburagi City",null,20,"Wayanadu",null,null,null,null,22,"Hoshangabad",null,20,"Mumbai Railway",null,null,null,null,null,null,null,null,null,null,null,null,null,22,"Khurda",null,null,null,null,21,"Muktsar",null,19,"Jaipur East",null,null,null,null,19,"Pudukottai",null,48,"Railway Police Secunderabad",null,null,null,null,22,"Deoria",null,null,null,null,46,"Jangipur Police District",null,59,"JODHPUR"]
[17,"MIZORAM",null,null,null,null,null,null,null,15,"Siang West",null,19,"Kamrup",null,21,"Kishanganj",null,null,null,null,22,"Mungali",null,null,null,null,null,null,null,19,"West",null,null,null,null,23,"Mehsana",null,21,"Sirsa",null,null,null,null,25,"Reasi",null,23,"Ranchi",null,21,"Kodagu",null,null,null,null,null,null,null,23,"Indore",null,21,"Nagpur Commr.",null,null,null,null,null,null,null,null,null,null,null,null,null,23,"Koraput",null,null,null,null,22,"Pathankot",null,44,"Jaipur Metro",null,null,null,null,21,"Railway Chennai",null,43,"Rajanna Siricilla",null,null,null,null,23,"Etah",null,null,null,null,18,"Jhargram",null,60,"KANNUR"]
[18,"NAGALAND",null,null,null,null,null,null,null,16,"Subansiri Lower",null,20,"Karbi Anglong",null,22,"Lakhisarai",null,null,null,null,23,"Narayanpur",null,null,null,null,null,null,null,null,null,null,null,null,null,24,"Morbi",null,22,"Sonipat",null,null,null,null,26,"Samba",null,24,"Sahebganj",null,22,"Kolar",null,null,null,null,null,null,null,24,"Indore Railway",null,22,"Nagpur Railway",null,null,null,null,null,null,null,null,null,null,null,null,null,24,"Malkangiri",null,null,null,null,23,"Patiala",null,20,"Jaipur North",null,null,null,null,22,"Railway Trichy",null,27,"Ramagundam Commissionerate",null,null,null,null,24,"Etawah",null,null,null,null,34,"Kalimpong",null,61,"KANPUR"]
[19,"ODISHA",null,null,null,null,null,null,null,17,"Subansiri Upper",null,21,"Karimganj",null,23,"Madhepura",null,null,null,null,24,"Raigarh",null,null,null,null,null,null,null,null,null,null,null,null,null,25,"Narmada",null,23,"Yamunanagar",null,null,null,null,27,"Shopian",null,25,"Saraikela",null,23,"Koppal",null,null,null,null,null,null,null,25,"Jabalpur",null,23,"Nagpur Rural",null,null,null,null,null,null,null,null,null,null,null,null,null,25,"Mayurbhanj",null,null,null,null,24,"Ropar",null,21,"Jaipur Rural",null,null,null,null,20,"Ramnathapuram",null,44,"Sangareddy",null,null,null,null,25,"Faizabad",null,null,null,null,19,"Kharagpur G. R. P.",null,62,"KOCHI"]
[36,"PUDUCHERRY",null,null,null,null,null,null,null,18,"Tawang",null,22,"Kokrajhar",null,24,"Madhubani",null,null,null,null,25,"Raipur",null,null,null,null,null,null,null,null,null,null,null,null,null,26,"Navsari",null,null,null,null,null,null,null,28,"Sopore",null,26,"Simdega",null,24,"Mandya",null,null,null,null,null,null,null,26,"Jabalpur Railway",null,24,"Nanded",null,null,null,null,null,null,null,null,null,null,null,null,null,27,"Nabarangpur",null,null,null,null,25,"Sangrur",null,22,"Jaipur South",null,null,null,null,43,"Ranipet",null,28,"Siddipet Commissionerate",null,null,null,null,26,"Fatehgarh",null,null,null,null,20,"Kolkata",null,63,"KOLKATA"]
[20,"PUNJAB",null,null,null,null,null,null,null,19,"Tirap",null,23,"Lakhimpur",null,25,"Motihari",null,null,null,null,26,"Rajnandgaon",null,null,null,null,null,null,null,null,null,null,null,null,null,27,"Panchmahal",null,null,null,null,null,null,null,29,"Srinagar",null,null,null,null,25,"Mangaluru City",null,null,null,null,null,null,null,27,"Jhabua",null,25,"Nandurbar",null,null,null,null,null,null,null,null,null,null,null,null,null,26,"Nayagarh",null,null,null,null,26,"SAS Nagar",null,23,"Jaipur West",null,null,null,null,23,"Salem",null,45,"Suryapet",null,null,null,null,27,"Fatehpur",null,null,null,null,45,"Krishna Nagar Police District",null,64,"KOLLAM"]
[21,"RAJASTHAN",null,null,null,null,null,null,null,null,null,null,36,"Majuli",null,26,"Munger",null,null,null,null,27,"Sarguja",null,null,null,null,null,null,null,null,null,null,null,null,null,28,"Patan",null,null,null,null,null,null,null,30,"Udhampur",null,null,null,null,26,"Mysuru City",null,null,null,null,null,null,null,28,"Katni",null,26,"Nasik Commr.",null,null,null,null,null,null,null,null,null,null,null,null,null,28,"Nuapada",null,null,null,null,27,"SBS Nagar",null,24,"Jaisalmer",null,null,null,null,24,"Salem City",null,46,"Vikarabad",null,null,null,null,28,"Firozabad",null,null,null,null,21,"Malda",null,65,"KOTA"]
[22,"SIKKIM",null,null,null,null,null,null,null,null,null,null,24,"Morigaon",null,27,"Muzaffarpur",null,null,null,null,28,"Sukma",null,null,null,null,null,null,null,null,null,null,null,null,null,29,"Porbandar",null,null,null,null,null,null,null,null,null,null,null,null,null,27,"Mysuru District",null,null,null,null,null,null,null,29,"Khandwa",null,27,"Nasik Rural",null,null,null,null,null,null,null,null,null,null,null,null,null,29,"Puri",null,null,null,null,28,"Tarn Taran",null,25,"Jalore",null,null,null,null,25,"Sivagangai",null,47,"Wanaparthy",null,null,null,null,29,"G.R.P.",null,null,null,null,22,"Murshidabad Police District",null,66,"KOZHIKODE"]
[23,"TAMIL NADU",null,null,null,null,null,null,null,null,null,null,26,"Nagaon",null,28,"Muzaffarpur Railway",null,null,null,null,29,"Surajpur",null,null,null,null,null,null,null,null,null,null,null,null,null,30,"Rajkot City",null,null,null,null,null,null,null,null,null,null,null,null,null,28,"Raichur",null,null,null,null,null,null,null,30,"Khargone",null,28,"Navi Mumbai",null,null,null,null,null,null,null,null,null,null,null,null,null,30,"Rayagada",null,null,null,null,null,null,null,26,"Jhalawar",null,null,null,null,44,"Tenkasi",null,29,"Warangal Commissionerate",null,null,null,null,30,"Gautambudh Nagar Commissionerate",null,null,null,null,24,"Paschim Medinipur",null,67,"LUCKNOW"]
[24,"TELANGANA",null,null,null,null,null,null,null,null,null,null,27,"Nalbari",null,29,"Nalanda",null,null,null,null,null,null,null,null,null,null,null,null,null,null,null,null,null,null,null,31,"Rajkot Rural",null,null,null,null,null,null,null,null,null,null,null,null,null,30,"Ramanagar",null,null,null,null,null,null,null,31,"Mandla",null,29,"Osmanabad",null,null,null,null,null,null,null,null,null,null,null,null,null,31,"Rourkela",null,null,null,null,null,null,null,27,"Jhunjhunu",null,null,null,null,26,"Thanjavur",null,null,null,null,null,null,null,31,"Ghaziabad",null,null,null,null,25,"Purab Medinipur",null,68,"LUDHIANA"]
[25,"TRIPURA",null,null,null,null,null,null,null,null,null,null,28,"R.P.O.",null,30,"Naugachia",null,null,null,null,null,null,null,null,null,null,null,null,null,null,null,null,null,null,null,32,"Sabarkantha",null,null,null,null,null,null,null,null,null,null,null,null,null,31,"Shimoga",null,null,null,null,null,null,null,32,"Mandsaur",null,30,"Palghar",null,null,null,null,null,null,null,null,null,null,null,null,null,32,"Sambalpur",null,null,null,null,null,null,null,28,"Jodhpur (East)",null,null,null,null,27,"Theni",null,null,null,null,null,null,null,32,"Ghazipur",null,null,null,null,35,"Purba Bardhaman",null,69,"MADURAI"]
[26,"UTTAR PRADESH",null,null,null,null,null,null,null,null,null,null,29,"S.O.U.",null,31,"Nawadah",null,null,null,null,null,null,null,null,null,null,null,null,null,null,null,null,null,null,null,33,"Surat City",null,null,null,null,null,null,null,null,null,null,null,null,null,32,"Tumakuru",null,null,null,null,null,null,null,33,"Morena",null,31,"Parbhani",null,null,null,null,null,null,null,null,null,null,null,null,null,33,"Sonepur",null,null,null,null,null,null,null,30,"Jodhpur (West)",null,null,null,null,28,"Thirunelveli",null,null,null,null,null,null,null,33,"Gonda",null,null,null,null,26,"Purulia",null,70,"MALAPPURAM"]
[27,"UTTARAKHAND",null,null,null,null,null,null,null,null,null,null,30,"S.T.F.",null,32,"Patna",null,null,null,null,null,null,null,null,null,null,null,null,null,null,null,null,null,null,null,34,"Surat Rural",null,null,null,null,null,null,null,null,null,null,null,null,null,33,"Udupi",null,null,null,null,null,null,null,34,"Narsinghpur",null,47,"Pimpri Chinchwad City",null,null,null,null,null,null,null,null,null,null,null,null,null,34,"SRP(Cuttack)",null,null,null,null,null,null,null,29,"Jodhpur Rural",null,null,null,null,29,"Thirunelveli City",null,null,null,null,null,null,null,34,"Gorakhpur",null,null,null,null,44,"Raiganj Police District",null,71,"MEERUT"]
[28,"WEST BENGAL",null,null,null,null,null,null,null,null,null,null,35,"Sadia",null,33,"Patna Railway",null,null,null,null,null,null,null,null,null,null,null,null,null,null,null,null,null,null,null,35,"Surendranagar",null,null,null,null,null,null,null,null,null,null,null,null,null,34,"Uttara Kannada",null,null,null,null,null,null,null,35,"Neemuch",null,32,"Pune Commr.",null,null,null,null,null,null,null,null,null,null,null,null,null,35,"SRP(Rourkela)",null,null,null,null,null,null,null,31,"Karauli",null,null,null,null,30,"Thiruvallur",null,null,null,null,null,null,null,35,"Hamirpur",null,null,null,null,40,"Ranaghat Police District",null,72,"MUMBAI"]
[null,null,null,null,null,null,null,null,null,null,null,null,31,"Sibsagar",null,34,"Purnea",null,null,null,null,null,null,null,null,null,null,null,null,null,null,null,null,null,null,null,36,"Tapi",null,null,null,null,null,null,null,null,null,null,null,null,null,7,"Vijayapura",null,null,null,null,null,null,null,55,"Niwari",null,33,"Pune Railway",null,null,null,null,null,null,null,null,null,null,null,null,null,36,"Sundargarh",null,null,null,null,null,null,null,32,"Kota City",null,null,null,null,31,"Thiruvannamalai",null,null,null,null,null,null,null,36,"Hapur",null,null,null,null,27,"Sealdah G. R. P.",null,73,"NAGPUR"]
[null,null,null,null,null,null,null,null,null,null,null,null,32,"Sonitpur",null,35,"Rohtas",null,null,null,null,null,null,null,null,null,null,null,null,null,null,null,null,null,null,null,37,"Vadodara City",null,null,null,null,null,null,null,null,null,null,null,null,null,35,"Yadgiri",null,null,null,null,null,null,null,36,"Panna",null,34,"Pune Rural",null,null,null,null,null,null,null,null,null,null,null,null,null,null,null,null,null,null,null,null,null,null,33,"Kota Rural",null,null,null,null,32,"Thiruvarur",null,null,null,null,null,null,null,37,"Hardoi",null,null,null,null,28,"Siliguri G. R. P.",null,74,"NASIK"]
[null,null,null,null,null,null,null,null,null,null,null,null,39,"South Salmara",null,36,"Saharsa",null,null,null,null,null,null,null,null,null,null,null,null,null,null,null,null,null,null,null,38,"Vadodara Rural",null,null,null,null,null,null,null,null,null,null,null,null,null,null,null,null,null,null,null,null,null,null,37,"Raisen",null,35,"Raigad",null,null,null,null,null,null,null,null,null,null,null,null,null,null,null,null,null,null,null,null,null,null,34,"Nagaur",null,null,null,null,33,"Thoothugudi",null,null,null,null,null,null,null,38,"Hathras",null,null,null,null,29,"Siliguri PC",null,75,"PATNA"]
[null,null,null,null,null,null,null,null,null,null,null,null,33,"Tinsukia",null,37,"Samastipur",null,null,null,null,null,null,null,null,null,null,null,null,null,null,null,null,null,null,null,39,"Valsad",null,null,null,null,null,null,null,null,null,null,null,null,null,null,null,null,null,null,null,null,null,null,38,"Rajgarh",null,36,"Ratnagiri",null,null,null,null,null,null,null,null,null,null,null,null,null,null,null,null,null,null,null,null,null,null,35,"Pali",null,null,null,null,45,"Tiruppattur",null,null,null,null,null,null,null,39,"Jalaun",null,null,null,null,36,"Sundarban Police District",null,76,"PUNE"]
[null,null,null,null,null,null,null,null,null,null,null,null,34,"Udalguri",null,38,"Saran",null,null,null,null,null,null,null,null,null,null,null,null,null,null,null,null,null,null,null,40,"W.Rly Ahmedabad",null,null,null,null,null,null,null,null,null,null,null,null,null,null,null,null,null,null,null,null,null,null,39,"Ratlam",null,37,"Sangli",null,null,null,null,null,null,null,null,null,null,null,null,null,null,null,null,null,null,null,null,null,null,36,"Pratapgarh",null,null,null,null,34,"Tiruppur",null,null,null,null,null,null,null,40,"Jaunpur",null,null,null,null,null,null,null,77,"RAIPUR"]
[null,null,null,null,null,null,null,null,null,null,null,null,null,null,null,39,"Sheikhpura",null,null,null,null,null,null,null,null,null,null,null,null,null,null,null,null,null,null,null,41,"W.Rly Vadodara",null,null,null,null,null,null,null,null,null,null,null,null,null,null,null,null,null,null,null,null,null,null,40,"Rewa",null,38,"Satara",null,null,null,null,null,null,null,null,null,null,null,null,null,null,null,null,null,null,null,null,null,null,37,"Rajsamand",null,null,null,null,35,"Tiruppur City",null,null,null,null,null,null,null,41,"Jhansi",null,null,null,null,null,null,null,78,"RAJKOT"]
[null,null,null,null,null,null,null,null,null,null,null,null,null,null,null,40,"Sheohar",null,null,null,null,null,null,null,null,null,null,null,null,null,null,null,null,null,null,null,null,null,null,null,null,null,null,null,null,null,null,null,null,null,null,null,null,null,null,null,null,null,null,null,41,"Sagar",null,39,"Sindhudurg",null,null,null,null,null,null,null,null,null,null,null,null,null,null,null,null,null,null,null,null,null,null,38,"Sawai Madhopur",null,null,null,null,36,"Trichy",null,null,null,null,null,null,null,42,"Kannauj",null,null,null,null,null,null,null,79,"RANCHI"]
[null,null,null,null,null,null,null,null,null,null,null,null,null,null,null,41,"Sitamarhi",null,null,null,null,null,null,null,null,null,null,null,null,null,null,null,null,null,null,null,null,null,null,null,null,null,null,null,null,null,null,null,null,null,null,null,null,null,null,null,null,null,null,null,42,"Satna",null,40,"Solapur Commr.",null,null,null,null,null,null,null,null,null,null,null,null,null,null,null,null,null,null,null,null,null,null,45,"SCRB",null,null,null,null,37,"Trichy City",null,null,null,null,null,null,null,44,"Kanpur Commissionerate",null,null,null,null,null,null,null,80,"SRINAGAR"]
[null,null,null,null,null,null,null,null,null,null,null,null,null,null,null,42,"Siwan",null,null,null,null,null,null,null,null,null,null,null,null,null,null,null,null,null,null,null,null,null,null,null,null,null,null,null,null,null,null,null,null,null,null,null,null,null,null,null,null,null,null,null,49,"Sehore",null,41,"Solapur Rural",null,null,null,null,null,null,null,null,null,null,null,null,null,null,null,null,null,null,null,null,null,null,39,"Sikar",null,null,null,null,38,"Vellore",null,null,null,null,null,null,null,43,"Kanpur Dehat",null,null,null,null,null,null,null,81,"SURAT"]
[null,null,null,null,null,null,null,null,null,null,null,null,null,null,null,48,"Special Unit Vigilence",null,null,null,null,null,null,null,null,null,null,null,null,null,null,null,null,null,null,null,null,null,null,null,null,null,null,null,null,null,null,null,null,null,null,null,null,null,null,null,null,null,null,null,43,"Seoni",null,42,"Thane Commr.",null,null,null,null,null,null,null,null,null,null,null,null,null,null,null,null,null,null,null,null,null,null,40,"Sirohi",null,null,null,null,39,"Villupuram",null,null,null,null,null,null,null,78,"Kanpur Outer",null,null,null,null,null,null,null,82,"THIRUVANANTHAPURAM"]
[null,null,null,null,null,null,null,null,null,null,null,null,null,null,null,47,"State Vigilence",null,null,null,null,null,null,null,null,null,null,null,null,null,null,null,null,null,null,null,null,null,null,null,null,null,null,null,null,null,null,null,null,null,null,null,null,null,null,null,null,null,null,null,44,"Shahdol",null,43,"Thane Rural",null,null,null,null,null,null,null,null,null,null,null,null,null,null,null,null,null,null,null,null,null,null,46,"SOG",null,null,null,null,40,"Virudhunagar",null,null,null,null,null,null,null,45,"Kasganj",null,null,null,null,null,null,null,83,"THRISSUR"]
[null,null,null,null,null,null,null,null,null,null,null,null,null,null,null,43,"Supaul",null,null,null,null,null,null,null,null,null,null,null,null,null,null,null,null,null,null,null,null,null,null,null,null,null,null,null,null,null,null,null,null,null,null,null,null,null,null,null,null,null,null,null,45,"Shajapur",null,44,"Wardha",null,null,null,null,null,null,null,null,null,null,null,null,null,null,null,null,null,null,null,null,null,null,47,"SSB",null,null,null,null,null,null,null,null,null,null,null,null,null,46,"Kaushambi",null,null,null,null,null,null,null,84,"TIRUCHIRAPALLI"]
[null,null,null,null,null,null,null,null,null,null,null,null,null,null,null,44,"Vaishali",null,null,null,null,null,null,null,null,null,null,null,null,null,null,null,null,null,null,null,null,null,null,null,null,null,null,null,null,null,null,null,null,null,null,null,null,null,null,null,null,null,null,null,46,"Sheopur",null,45,"Washim",null,null,null,null,null,null,null,null,null,null,null,null,null,null,null,null,null,null,null,null,null,null,41,"Tonk",null,null,null,null,null,null,null,null,null,null,null,null,null,47,"Khiri",null,null,null,null,null,null,null,85,"VADODARA"]
[null,null,null,null,null,null,null,null,null,null,null,null,null,null,null,null,null,null,null,null,null,null,null,null,null,null,null,null,null,null,null,null,null,null,null,null,null,null,null,null,null,null,null,null,null,null,null,null,null,null,null,null,null,null,null,null,null,null,null,null,47,"Shivpuri",null,46,"Yavatmal",null,null,null,null,null,null,null,null,null,null,null,null,null,null,null,null,null,null,null,null,null,null,42,"Udaipur",null,null,null,null,null,null,null,null,null,null,null,null,null,48,"Kushi Nagar",null,null,null,null,null,null,null,86,"VARANASI"]
[null,null,null,null,null,null,null,null,null,null,null,null,null,null,null,null,null,null,null,null,null,null,null,null,null,null,null,null,null,null,null,null,null,null,null,null,null,null,null,null,null,null,null,null,null,null,null,null,null,null,null,null,null,null,null,null,null,null,null,null,48,"Sidhi",null,null,null,null,null,null,null,null,null,null,null,null,null,null,null,null,null,null,null,null,null,null,null,null,null,null,null,null,null,null,null,null,null,null,null,null,null,null,null,null,49,"Lalitpur",null,null,null,null,null,null,null,87,"VASAI VIRAR"]
[null,null,null,null,null,null,null,null,null,null,null,null,null,null,null,null,null,null,null,null,null,null,null,null,null,null,null,null,null,null,null,null,null,null,null,null,null,null,null,null,null,null,null,null,null,null,null,null,null,null,null,null,null,null,null,null,null,null,null,null,50,"Singrauli",null,null,null,null,null,null,null,null,null,null,null,null,null,null,null,null,null,null,null,null,null,null,null,null,null,null,null,null,null,null,null,null,null,null,null,null,null,null,null,null,50,"Lucknow Commissionerate",null,null,null,null,null,null,null,88,"VIJAYAWADA"]
[null,null,null,null,null,null,null,null,null,null,null,null,null,null,null,null,null,null,null,null,null,null,null,null,null,null,null,null,null,null,null,null,null,null,null,null,null,null,null,null,null,null,null,null,null,null,null,null,null,null,null,null,null,null,null,null,null,null,null,null,51,"Tikamgarh",null,null,null,null,null,null,null,null,null,null,null,null,null,null,null,null,null,null,null,null,null,null,null,null,null,null,null,null,null,null,null,null,null,null,null,null,null,null,null,null,77,"Lucknow Grameen",null,null,null,null,null,null,null,89,"VISHAKHAPATNAM"]
[null,null,null,null,null,null,null,null,null,null,null,null,null,null,null,null,null,null,null,null,null,null,null,null,null,null,null,null,null,null,null,null,null,null,null,null,null,null,null,null,null,null,null,null,null,null,null,null,null,null,null,null,null,null,null,null,null,null,null,null,52,"Ujjain",null,null,null,null,null,null,null,null,null,null,null,null,null,null,null,null,null,null,null,null,null,null,null,null,null,null,null,null,null,null,null,null,null,null,null,null,null,null,null,null,51,"Maharajganj"]
[null,null,null,null,null,null,null,null,null,null,null,null,null,null,null,null,null,null,null,null,null,null,null,null,null,null,null,null,null,null,null,null,null,null,null,null,null,null,null,null,null,null,null,null,null,null,null,null,null,null,null,null,null,null,null,null,null,null,null,null,53,"Umaria",null,null,null,null,null,null,null,null,null,null,null,null,null,null,null,null,null,null,null,null,null,null,null,null,null,null,null,null,null,null,null,null,null,null,null,null,null,null,null,null,52,"Mahoba"]
[null,null,null,null,null,null,null,null,null,null,null,null,null,null,null,null,null,null,null,null,null,null,null,null,null,null,null,null,null,null,null,null,null,null,null,null,null,null,null,null,null,null,null,null,null,null,null,null,null,null,null,null,null,null,null,null,null,null,null,null,54,"Vidisha",null,null,null,null,null,null,null,null,null,null,null,null,null,null,null,null,null,null,null,null,null,null,null,null,null,null,null,null,null,null,null,null,null,null,null,null,null,null,null,null,53,"Mainpuri"]
[null,null,null,null,null,null,null,null,null,null,null,null,null,null,null,null,null,null,null,null,null,null,null,null,null,null,null,null,null,null,null,null,null,null,null,null,null,null,null,null,null,null,null,null,null,null,null,null,null,null,null,null,null,null,null,null,null,null,null,null,null,null,null,null,null,null,null,null,null,null,null,null,null,null,null,null,null,null,null,null,null,null,null,null,null,null,null,null,null,null,null,null,null,null,null,null,null,null,null,null,null,null,54,"Mathura"]
[null,null,null,null,null,null,null,null,null,null,null,null,null,null,null,null,null,null,null,null,null,null,null,null,null,null,null,null,null,null,null,null,null,null,null,null,null,null,null,null,null,null,null,null,null,null,null,null,null,null,null,null,null,null,null,null,null,null,null,null,null,null,null,null,null,null,null,null,null,null,null,null,null,null,null,null,null,null,null,null,null,null,null,null,null,null,null,null,null,null,null,null,null,null,null,null,null,null,null,null,null,null,55,"Mau"]
[null,null,null,null,null,null,null,null,null,null,null,null,null,null,null,null,null,null,null,null,null,null,null,null,null,null,null,null,null,null,null,null,null,null,null,null,null,null,null,null,null,null,null,null,null,null,null,null,null,null,null,null,null,null,null,null,null,null,null,null,null,null,null,null,null,null,null,null,null,null,null,null,null,null,null,null,null,null,null,null,null,null,null,null,null,null,null,null,null,null,null,null,null,null,null,null,null,null,null,null,null,null,56,"Meerut"]
[null,null,null,null,null,null,null,null,null,null,null,null,null,null,null,null,null,null,null,null,null,null,null,null,null,null,null,null,null,null,null,null,null,null,null,null,null,null,null,null,null,null,null,null,null,null,null,null,null,null,null,null,null,null,null,null,null,null,null,null,null,null,null,null,null,null,null,null,null,null,null,null,null,null,null,null,null,null,null,null,null,null,null,null,null,null,null,null,null,null,null,null,null,null,null,null,null,null,null,null,null,null,57,"Mirzapur"]
[null,null,null,null,null,null,null,null,null,null,null,null,null,null,null,null,null,null,null,null,null,null,null,null,null,null,null,null,null,null,null,null,null,null,null,null,null,null,null,null,null,null,null,null,null,null,null,null,null,null,null,null,null,null,null,null,null,null,null,null,null,null,null,null,null,null,null,null,null,null,null,null,null,null,null,null,null,null,null,null,null,null,null,null,null,null,null,null,null,null,null,null,null,null,null,null,null,null,null,null,null,null,58,"Moradabad"]
[null,null,null,null,null,null,null,null,null,null,null,null,null,null,null,null,null,null,null,null,null,null,null,null,null,null,null,null,null,null,null,null,null,null,null,null,null,null,null,null,null,null,null,null,null,null,null,null,null,null,null,null,null,null,null,null,null,null,null,null,null,null,null,null,null,null,null,null,null,null,null,null,null,null,null,null,null,null,null,null,null,null,null,null,null,null,null,null,null,null,null,null,null,null,null,null,null,null,null,null,null,null,59,"Muzaffarnagar"]
[null,null,null,null,null,null,null,null,null,null,null,null,null,null,null,null,null,null,null,null,null,null,null,null,null,null,null,null,null,null,null,null,null,null,null,null,null,null,null,null,null,null,null,null,null,null,null,null,null,null,null,null,null,null,null,null,null,null,null,null,null,null,null,null,null,null,null,null,null,null,null,null,null,null,null,null,null,null,null,null,null,null,null,null,null,null,null,null,null,null,null,null,null,null,null,null,null,null,null,null,null,null,60,"Pilibhit"]
[null,null,null,null,null,null,null,null,null,null,null,null,null,null,null,null,null,null,null,null,null,null,null,null,null,null,null,null,null,null,null,null,null,null,null,null,null,null,null,null,null,null,null,null,null,null,null,null,null,null,null,null,null,null,null,null,null,null,null,null,null,null,null,null,null,null,null,null,null,null,null,null,null,null,null,null,null,null,null,null,null,null,null,null,null,null,null,null,null,null,null,null,null,null,null,null,null,null,null,null,null,null,61,"Pratapgarh"]
[null,null,null,null,null,null,null,null,null,null,null,null,null,null,null,null,null,null,null,null,null,null,null,null,null,null,null,null,null,null,null,null,null,null,null,null,null,null,null,null,null,null,null,null,null,null,null,null,null,null,null,null,null,null,null,null,null,null,null,null,null,null,null,null,null,null,null,null,null,null,null,null,null,null,null,null,null,null,null,null,null,null,null,null,null,null,null,null,null,null,null,null,null,null,null,null,null,null,null,null,null,null,62,"Raibareilly"]
[null,null,null,null,null,null,null,null,null,null,null,null,null,null,null,null,null,null,null,null,null,null,null,null,null,null,null,null,null,null,null,null,null,null,null,null,null,null,null,null,null,null,null,null,null,null,null,null,null,null,null,null,null,null,null,null,null,null,null,null,null,null,null,null,null,null,null,null,null,null,null,null,null,null,null,null,null,null,null,null,null,null,null,null,null,null,null,null,null,null,null,null,null,null,null,null,null,null,null,null,null,null,63,"Rampur"]
[null,null,null,null,null,null,null,null,null,null,null,null,null,null,null,null,null,null,null,null,null,null,null,null,null,null,null,null,null,null,null,null,null,null,null,null,null,null,null,null,null,null,null,null,null,null,null,null,null,null,null,null,null,null,null,null,null,null,null,null,null,null,null,null,null,null,null,null,null,null,null,null,null,null,null,null,null,null,null,null,null,null,null,null,null,null,null,null,null,null,null,null,null,null,null,null,null,null,null,null,null,null,64,"Saharanpur"]
[null,null,null,null,null,null,null,null,null,null,null,null,null,null,null,null,null,null,null,null,null,null,null,null,null,null,null,null,null,null,null,null,null,null,null,null,null,null,null,null,null,null,null,null,null,null,null,null,null,null,null,null,null,null,null,null,null,null,null,null,null,null,null,null,null,null,null,null,null,null,null,null,null,null,null,null,null,null,null,null,null,null,null,null,null,null,null,null,null,null,null,null,null,null,null,null,null,null,null,null,null,null,65,"Sambhal"]
[null,null,null,null,null,null,null,null,null,null,null,null,null,null,null,null,null,null,null,null,null,null,null,null,null,null,null,null,null,null,null,null,null,null,null,null,null,null,null,null,null,null,null,null,null,null,null,null,null,null,null,null,null,null,null,null,null,null,null,null,null,null,null,null,null,null,null,null,null,null,null,null,null,null,null,null,null,null,null,null,null,null,null,null,null,null,null,null,null,null,null,null,null,null,null,null,null,null,null,null,null,null,66,"Sant Kabirnagar"]
[null,null,null,null,null,null,null,null,null,null,null,null,null,null,null,null,null,null,null,null,null,null,null,null,null,null,null,null,null,null,null,null,null,null,null,null,null,null,null,null,null,null,null,null,null,null,null,null,null,null,null,null,null,null,null,null,null,null,null,null,null,null,null,null,null,null,null,null,null,null,null,null,null,null,null,null,null,null,null,null,null,null,null,null,null,null,null,null,null,null,null,null,null,null,null,null,null,null,null,null,null,null,67,"Shahjahanpur"]
[null,null,null,null,null,null,null,null,null,null,null,null,null,null,null,null,null,null,null,null,null,null,null,null,null,null,null,null,null,null,null,null,null,null,null,null,null,null,null,null,null,null,null,null,null,null,null,null,null,null,null,null,null,null,null,null,null,null,null,null,null,null,null,null,null,null,null,null,null,null,null,null,null,null,null,null,null,null,null,null,null,null,null,null,null,null,null,null,null,null,null,null,null,null,null,null,null,null,null,null,null,null,68,"Shamli"]
[null,null,null,null,null,null,null,null,null,null,null,null,null,null,null,null,null,null,null,null,null,null,null,null,null,null,null,null,null,null,null,null,null,null,null,null,null,null,null,null,null,null,null,null,null,null,null,null,null,null,null,null,null,null,null,null,null,null,null,null,null,null,null,null,null,null,null,null,null,null,null,null,null,null,null,null,null,null,null,null,null,null,null,null,null,null,null,null,null,null,null,null,null,null,null,null,null,null,null,null,null,null,69,"Shrawasti"]
[null,null,null,null,null,null,null,null,null,null,null,null,null,null,null,null,null,null,null,null,null,null,null,null,null,null,null,null,null,null,null,null,null,null,null,null,null,null,null,null,null,null,null,null,null,null,null,null,null,null,null,null,null,null,null,null,null,null,null,null,null,null,null,null,null,null,null,null,null,null,null,null,null,null,null,null,null,null,null,null,null,null,null,null,null,null,null,null,null,null,null,null,null,null,null,null,null,null,null,null,null,null,70,"Sidharthnagar"]
[null,null,null,null,null,null,null,null,null,null,null,null,null,null,null,null,null,null,null,null,null,null,null,null,null,null,null,null,null,null,null,null,null,null,null,null,null,null,null,null,null,null,null,null,null,null,null,null,null,null,null,null,null,null,null,null,null,null,null,null,null,null,null,null,null,null,null,null,null,null,null,null,null,null,null,null,null,null,null,null,null,null,null,null,null,null,null,null,null,null,null,null,null,null,null,null,null,null,null,null,null,null,71,"Sitapur"]
[null,null,null,null,null,null,null,null,null,null,null,null,null,null,null,null,null,null,null,null,null,null,null,null,null,null,null,null,null,null,null,null,null,null,null,null,null,null,null,null,null,null,null,null,null,null,null,null,null,null,null,null,null,null,null,null,null,null,null,null,null,null,null,null,null,null,null,null,null,null,null,null,null,null,null,null,null,null,null,null,null,null,null,null,null,null,null,null,null,null,null,null,null,null,null,null,null,null,null,null,null,null,72,"Sonbhadra"]
[null,null,null,null,null,null,null,null,null,null,null,null,null,null,null,null,null,null,null,null,null,null,null,null,null,null,null,null,null,null,null,null,null,null,null,null,null,null,null,null,null,null,null,null,null,null,null,null,null,null,null,null,null,null,null,null,null,null,null,null,null,null,null,null,null,null,null,null,null,null,null,null,null,null,null,null,null,null,null,null,null,null,null,null,null,null,null,null,null,null,null,null,null,null,null,null,null,null,null,null,null,null,73,"St.Ravidasnagar"]
[null,null,null,null,null,null,null,null,null,null,null,null,null,null,null,null,null,null,null,null,null,null,null,null,null,null,null,null,null,null,null,null,null,null,null,null,null,null,null,null,null,null,null,null,null,null,null,null,null,null,null,null,null,null,null,null,null,null,null,null,null,null,null,null,null,null,null,null,null,null,null,null,null,null,null,null,null,null,null,null,null,null,null,null,null,null,null,null,null,null,null,null,null,null,null,null,null,null,null,null,null,null,74,"Sultanpur"]
[null,null,null,null,null,null,null,null,null,null,null,null,null,null,null,null,null,null,null,null,null,null,null,null,null,null,null,null,null,null,null,null,null,null,null,null,null,null,null,null,null,null,null,null,null,null,null,null,null,null,null,null,null,null,null,null,null,null,null,null,null,null,null,null,null,null,null,null,null,null,null,null,null,null,null,null,null,null,null,null,null,null,null,null,null,null,null,null,null,null,null,null,null,null,null,null,null,null,null,null,null,null,75,"Unnao"]
[null,null,null,null,null,null,null,null,null,null,null,null,null,null,null,null,null,null,null,null,null,null,null,null,null,null,null,null,null,null,null,null,null,null,null,null,null,null,null,null,null,null,null,null,null,null,null,null,null,null,null,null,null,null,null,null,null,null,null,null,null,null,null,null,null,null,null,null,null,null,null,null,null,null,null,null,null,null,null,null,null,null,null,null,null,null,null,null,null,null,null,null,null,null,null,null,null,null,null,null,null,null,76,"Varanasi Commissionerate"]
[null,null,null,null,null,null,null,null,null,null,null,null,null,null,null,null,null,null,null,null,null,null,null,null,null,null,null,null,null,null,null,null,null,null,null,null,null,null,null,null,null,null,null,null,null,null,null,null,null,null,null,null,null,null,null,null,null,null,null,null,null,null,null,null,null,null,null,null,null,null,null,null,null,null,null,null,null,null,null,null,null,null,null,null,null,null,null,null,null,null,null,null,null,null,null,null,null,null,null,null,null,null,79,"Varanasi Dehat"]

{"sheet":"P-I","index":2,"n_rows":516,"n_cols":76,"rows_kept":516,"cut":false,"hidden":false,"merged":[[222,52,222,53],[23,0,23,2],[202,52,204,52],[202,53,204,53],[202,54,202,74],[202,75,204,75],[203,54,203,60],[203,61,203,67],[203,68,203,74],[3,0,5,0],[3,1,5,1],[3,2,5,2],[3,24,5,24],[3,3,3,23],[4,10,4,16],[4,17,4,23],[4,3,4,9]]}
[{"$f":"ADSI!$B$1","v":"Goa, , ADSI-2021"}]
["Proforma–I",null,null,null,"Abnormal Variations",{"$f":"COUNTIF(D24:Y24,\"ABVAR\")","v":3}]
["Accidental Deaths due to Natural Calamities"]
["Code","Sl. No.","Factors","N u m b e r       o f      A c c i d e n t a l       D e a t h s",null,null,null,null,null,null,null,null,null,null,null,null,null,null,null,null,null,null,null,null,"Grand Total (9) + (16)+(23)"]
[null,null,null,"M a l e",null,null,null,null,null,null,"F e m a l e",null,null,null,null,null,null,"Transgender"]
[null,null,null,"below 14 years","14 and above – below 18 years","18 and above – below 30 years","30 and above – below 45 years","45 and above – below 60 years","60 years & above"," Total [sum of (3) to (8)]","below 14 years","14 and above – below 18 years","18 and above – below 30 years","30 and above – below 45 years","45 and above – below 60 years","60 years & above","Total    [sum of (10) to (15)]","below 14 years","14 and above – below 18 years","18 and above – below 30 years","30 and above – below 45 years","45 and above – below 60 years","60 years & above","Total [sum of (17) to (22)]"]
[null,"(1)","(2)","(3)","(4)","(5)","(6)","(7)","(8)","(9)","(10)","(11)","(12)","(13)","(14)","(15)","(16)","(17)","(18)","(19)","(20)","(21)","(22)","(23)","(24)"]
[1,1,"Avalanche",0,0,0,0,0,0,{"$f":"SUM(D8:I8)","v":0},0,0,0,0,0,0,{"$f":"SUM(K8:P8)","v":0},0,0,0,0,0,0,{"$f":"SUM(R8:W8)","v":0},{"$f":"J8+Q8+X8","v":0}]
[2,2,"Exposure to cold",0,0,0,0,0,0,{"$f":"SUM(D9:I9)","v":0},0,0,0,0,0,0,{"$f":"SUM(K9:P9)","v":0},0,0,0,0,0,0,{"$f":"SUM(R9:W9)","v":0},{"$f":"J9+Q9+X9","v":0}]
[3,3,"Cyclone",0,0,0,0,0,0,0,0,0,0,0,0,0,0,0,0,0,0,0,0,0,0]
[4,4,"Tornado",0,0,0,0,0,0,0,0,0,0,0,0,0,0,0,0,0,0,0,0,0,0]
[5,5,"Tsunami",0,0,0,0,0,0,0,0,0,0,0,0,0,0,0,0,0,0,0,0,0,0]
[6,6,"Starvation due to natural calamity",0,0,0,0,0,0,0,0,0,0,0,0,0,0,0,0,0,0,0,0,0,0]
[7,7,"Earthquake",0,0,0,0,0,0,0,0,0,0,0,0,0,0,0,0,0,0,0,0,0,0]
[8,8,"Epidemic",0,0,0,0,0,0,0,0,0,0,0,0,0,0,0,0,0,0,0,0,0,0]
[9,9,"Flood",0,0,0,0,0,0,0,0,0,0,0,0,0,0,0,0,0,0,0,0,0,0]
[10,10,"Heat/Sun Stroke",0,0,0,0,0,0,0,0,0,0,0,0,0,0,0,0,0,0,0,0,0,0]
[11,11,"Landslide",0,0,0,0,0,0,0,0,0,0,0,0,0,0,0,0,0,0,0,0,0,0]
[12,12,"Lightning",0,0,0,1,0,0,1,0,0,0,0,0,0,0,0,0,0,0,0,0,0,1]
[13,13,"Torrential Rain",0,0,0,0,1,0,1,0,0,0,0,0,0,0,0,0,0,0,0,0,0,1]
[14,14,"Forest Fire",0,0,0,0,0,0,0,0,0,0,0,0,0,0,0,0,0,0,0,0,0,0]
[15,15,"Other Natural Causes",0,0,0,0,1,0,1,0,0,0,0,0,0,0,0,0,0,0,0,0,0,1]
[30,16,"Total (sum of Sl. 1 to 15)",{"$f":"SUM(D8:D22)","v":0},{"$f":"SUM(E8:E22)","v":0},0,1,2,0,{"$f":"SUM(D23:I23)","v":3},0,0,0,0,0,0,{"$f":"SUM(K23:P23)","v":0},{"$f":"SUM(R8:R22)","v":0},0,0,0,0,0,{"$f":"SUM(R23:W23)","v":0},{"$f":"J23+Q23+X23","v":3}]
["SL-15 ABNORMAL VARIATION IN \"OTHER NATURAL CAUSES\" DATA",null,null,{"$f":"IF(D23>0,IF((D22/D23*100)>20,\"ABVAR\",\"\"),\"\")","v":""},{"$f":"IF(E23>0,IF((E22/E23*100)>20,\"ABVAR\",\"\"),\"\")","v":""},"","","ABVAR","","ABVAR","","","","","","","","","","","","","","","ABVAR"]
[]
[]
[]
[]
[]
[]
[]
[]
[]
[]
[]
[]
[]
[]
[]
[]
[]
[]
[]
[]
[]
[]
[]
[]
[]
[]
[]
[]
[]
[]
[]
[]
[]
[]
[]
[]
[]
[]
[]
[]
[]
[]
[]
[]
[]
[]
[]
[]
[]
[]
[]
[]
[]
[]
[]
[]
[]
[]
[]
[]
[]
[]
[]
[]
[]
[]
[]
[]
[]
[]
[]
[]
[]
[]
[]
[]
[]
[]
[]
[]
[]
[]
[]
[]
[]
[]
[]
[]
[]
[]
[]
[]
[]
[]
[]
[]
[]
[]
[]
[]
[]
[]
[]
[]
[]
[]
[]
[]
[]
[]
[]
[]
[]
[]
[]
[]
[]
[]
[]
[]
[]
[]
[]
[]
[]
[]
[]
[]
[]
[]
[]
[]
[]
[]
[]
[]
[]
[]
[]
[]
[]
[]
[]
[]
[]
[]
[]
[]
[]
[]
[]
[]
[]
[]
[]
[]
[]
[]
[]
[]
[]
[]
[]
[]
[]
[]
[]
[]
[]
[]
[]
[]
[]
[]
[]
[null,null,null,null,null,null,null,null,null,null,null,null,null,null,null,null,null,null,null,null,null,null,null,null,null,null,null,null,null,null,null,null,null,null,null,null,null,null,null,null,null,null,null,null,null,null,null,null,null,null,null,null,{"$f":"A1","v":"Goa, , ADSI-2021"}]
[null,null,null,null,null,null,null,null,null,null,null,null,null,null,null,null,null,null,null,null,null,null,null,null,null,null,null,null,null,null,null,null,null,null,null,null,null,null,null,null,null,null,null,null,null,null,null,null,null,null,null,null,{"$f":"A2","v":"Proforma–I"},null,null,null,{"$f":"E2","v":"Abnormal Variations"},{"$f":"F2","v":3}]
[null,null,null,null,null,null,null,null,null,null,null,null,null,null,null,null,null,null,null,null,null,null,null,null,null,null,null,null,null,null,null,null,null,null,null,null,null,null,null,null,null,null,null,null,null,null,null,null,null,null,null,null,{"$f":"A3","v":"Accidental Deaths due to Natural Calamities"}]
[null,null,null,null,null,null,null,null,null,null,null,null,null,null,null,null,null,null,null,null,null,null,null,null,null,null,null,null,null,null,null,null,null,null,null,null,null,null,null,null,null,null,null,null,null,null,null,null,null,null,null,null,{"$f":"B4","v":"Sl. No."},{"$f":"C4","v":"Factors"},{"$f":"D4","v":"N u m b e r       o f      A c c i d e n t a l       D e a t h s"},null,null,null,null,null,null,null,null,null,null,null,null,null,null,null,null,null,null,null,null,{"$f":"Y4","v":"Grand Total (9) + (16)+(23)"}]
[null,null,null,null,null,null,null,null,null,null,null,null,null,null,null,null,null,null,null,null,null,null,null,null,null,null,null,null,null,null,null,null,null,null,null,null,null,null,null,null,null,null,null,null,null,null,null,null,null,null,null,null,null,null,{"$f":"D5","v":"M a l e"},null,null,null,null,null,null,{"$f":"K5","v":"F e m a l e"},null,null,null,null,null,null,{"$f":"R5","v":"Transgender"}]
[null,null,null,null,null,null,null,null,null,null,null,null,null,null,null,null,null,null,null,null,null,null,null,null,null,null,null,null,null,null,null,null,null,null,null,null,null,null,null,null,null,null,null,null,null,null,null,null,null,null,null,null,null,null,"below 14 years",{"$f":"E6","v":"14 and above – below 18 years"},{"$f":"F6","v":"18 and above – below 30 years"},{"$f":"G6","v":"30 and above – below 45 years"},{"$f":"H6","v":"45 and above – below 60 years"},{"$f":"I6","v":"60 years & above"},{"$f":"J6","v":" Total [sum of (3) to (8)]"},"below 14 years",{"$f":"L6","v":"14 and above – below 18 years"},{"$f":"M6","v":"18 and above – below 30 years"},{"$f":"N6","v":"30 and above – below 45 years"},{"$f":"O6","v":"45 and above – below 60 years"},{"$f":"P6","v":"60 years & above"},{"$f":"Q6","v":"Total    [sum of (10) to (15)]"},"below 14 years",{"$f":"S6","v":"14 and above – below 18 years"},{"$f":"T6","v":"18 and above – below 30 years"},{"$f":"U6","v":"30 and above – below 45 years"},{"$f":"V6","v":"45 and above – below 60 years"},{"$f":"W6","v":"60 years & above"},{"$f":"X6","v":"Total [sum of (17) to (22)]"}]
[null,null,null,null,null,null,null,null,null,null,null,null,null,null,null,null,null,null,null,null,null,null,null,null,null,null,null,null,null,null,null,null,null,null,null,null,null,null,null,null,null,null,null,null,null,null,null,null,null,null,null,null,{"$f":"B7","v":"(1)"},{"$f":"C7","v":"(2)"},"(3)","(4)","(5)","(6)","(7)","(8)","(9)","(10)","(11)","(12)","(13)","(14)","(15)","(16)","(17)","(18)","(19)","(20)","(21)","(22)","(23)",{"$f":"Y7","v":"(24)"}]
[null,null,null,null,null,null,null,null,null,null,null,null,null,null,null,null,null,null,null,null,null,null,null,null,null,null,null,null,null,null,null,null,null,null,null,null,null,null,null,null,null,null,null,null,null,null,null,null,null,null,null,null,1,"Avalanche",0,0,0,0,0,0,0,0,0,0,0,0,0,0,0,0,0,0,0,0,0,0]
[null,null,null,null,null,null,null,null,null,null,null,null,null,null,null,null,null,null,null,null,null,null,null,null,null,null,null,null,null,null,null,null,null,null,null,null,null,null,null,null,null,null,null,null,null,null,null,null,null,null,null,null,2,"Exposure to cold",0,0,0,0,0,0,0,0,0,0,0,0,0,0,0,0,0,0,0,0,0,0]
[null,null,null,null,null,null,null,null,null,null,null,null,null,null,null,null,null,null,null,null,null,null,null,null,null,null,null,null,null,null,null,null,null,null,null,null,null,null,null,null,null,null,null,null,null,null,null,null,null,null,null,null,3,"Cyclone",0,0,0,0,0,0,0,0,0,0,0,0,0,0,0,0,0,0,0,0,0,0]
[null,null,null,null,null,null,null,null,null,null,null,null,null,null,null,null,null,null,null,null,null,null,null,null,null,null,null,null,null,null,null,null,null,null,null,null,null,null,null,null,null,null,null,null,null,null,null,null,null,null,null,null,4,"Tornado",0,0,0,0,0,0,0,0,0,0,0,0,0,0,0,0,0,0,0,0,0,0]
[null,null,null,null,null,null,null,null,null,null,null,null,null,null,null,null,null,null,null,null,null,null,null,null,null,null,null,null,null,null,null,null,null,null,null,null,null,null,null,null,null,null,null,null,null,null,null,null,null,null,null,null,5,"Tsunami",0,0,0,0,0,0,0,0,0,0,0,0,0,0,0,0,0,0,0,0,0,0]
[null,null,null,null,null,null,null,null,null,null,null,null,null,null,null,null,null,null,null,null,null,null,null,null,null,null,null,null,null,null,null,null,null,null,null,null,null,null,null,null,null,null,null,null,null,null,null,null,null,null,null,null,6,"Starvation due to natural calamity",0,0,0,0,0,0,0,0,0,0,0,0,0,0,0,0,0,0,0,0,0,0]
[null,null,null,null,null,null,null,null,null,null,null,null,null,null,null,null,null,null,null,null,null,null,null,null,null,null,null,null,null,null,null,null,null,null,null,null,null,null,null,null,null,null,null,null,null,null,null,null,null,null,null,null,7,"Earthquake",0,0,0,0,0,0,0,0,0,0,0,0,0,0,0,0,0,0,0,0,0,0]
[null,null,null,null,null,null,null,null,null,null,null,null,null,null,null,null,null,null,null,null,null,null,null,null,null,null,null,null,null,null,null,null,null,null,null,null,null,null,null,null,null,null,null,null,null,null,null,null,null,null,null,null,8,"Epidemic",0,0,0,0,0,0,0,0,0,0,0,0,0,0,0,0,0,0,0,0,0,0]
[null,null,null,null,null,null,null,null,null,null,null,null,null,null,null,null,null,null,null,null,null,null,null,null,null,null,null,null,null,null,null,null,null,null,null,null,null,null,null,null,null,null,null,null,null,null,null,null,null,null,null,null,9,"Flood",0,0,0,0,0,0,0,0,0,0,0,0,0,0,0,0,0,0,0,0,0,0]
[null,null,null,null,null,null,null,null,null,null,null,null,null,null,null,null,null,null,null,null,null,null,null,null,null,null,null,null,null,null,null,null,null,null,null,null,null,null,null,null,null,null,null,null,null,null,null,null,null,null,null,null,10,"Heat/Sun Stroke",0,0,0,0,0,0,0,0,0,0,0,0,0,0,0,0,0,0,0,0,0,0]
[null,null,null,null,null,null,null,null,null,null,null,null,null,null,null,null,null,null,null,null,null,null,null,null,null,null,null,null,null,null,null,null,null,null,null,null,null,null,null,null,null,null,null,null,null,null,null,null,null,null,null,null,11,"Landslide",0,0,0,0,0,0,0,0,0,0,0,0,0,0,0,0,0,0,0,0,0,0]
[null,null,null,null,null,null,null,null,null,null,null,null,null,null,null,null,null,null,null,null,null,null,null,null,null,null,null,null,null,null,null,null,null,null,null,null,null,null,null,null,null,null,null,null,null,null,null,null,null,null,null,null,12,"Lightning",0,0,0,1,0,0,1,0,0,0,0,0,0,0,0,0,0,0,0,0,0,1]
[null,null,null,null,null,null,null,null,null,null,null,null,null,null,null,null,null,null,null,null,null,null,null,null,null,null,null,null,null,null,null,null,null,null,null,null,null,null,null,null,null,null,null,null,null,null,null,null,null,null,null,null,13,"Torrential Rain",0,0,0,0,1,0,1,0,0,0,0,0,0,0,0,0,0,0,0,0,0,1]
[null,null,null,null,null,null,null,null,null,null,null,null,null,null,null,null,null,null,null,null,null,null,null,null,null,null,null,null,null,null,null,null,null,null,null,null,null,null,null,null,null,null,null,null,null,null,null,null,null,null,null,null,14,"Forest Fire",0,0,0,0,0,0,0,0,0,0,0,0,0,0,0,0,0,0,0,0,0,0]
[null,null,null,null,null,null,null,null,null,null,null,null,null,null,null,null,null,null,null,null,null,null,null,null,null,null,null,null,null,null,null,null,null,null,null,null,null,null,null,null,null,null,null,null,null,null,null,null,null,null,null,null,15,"Other Natural Causes",0,0,0,0,1,0,1,0,0,0,0,0,0,0,0,0,0,0,0,0,0,1]
[null,null,null,null,null,null,null,null,null,null,null,null,null,null,null,null,null,null,null,null,null,null,null,null,null,null,null,null,null,null,null,null,null,null,null,null,null,null,null,null,null,null,null,null,null,null,null,null,null,null,null,null,16,"Total (sum of Sl. 1 to 15)",0,0,0,1,2,0,3,0,0,0,0,0,0,0,0,0,0,0,0,0,0,3]
[null,null,null,null,null,null,null,null,null,null,null,null,null,null,null,null,null,null,null,null,null,null,null,null,null,null,null,null,null,null,null,null,null,null,null,null,null,null,null,null,null,null,null,null,null,null,null,null,null,null,null,null,{"$f":"A24","v":"SL-15 ABNORMAL VARIATION IN \"OTHER NATURAL CAUSES\" DATA"},null,"","","","","ABVAR","","ABVAR","","","","","","","","","","","","","","","ABVAR"]
[]
[]
[]
[]
[]
[]
[]
[]
[]
[]
[]
[]
[]
[]
[]
[]
[]
[]
[]
[]
[]
[]
[]
[]
[]
[]
[]
[]
[]
[]
[]
[]
[]
[]
[]
[]
[]
[]
[]
[]
[]
[]
[]
[]
[]
[]
[]
[]
[]
[]
[]
[]
[]
[]
[]
[]
[]
[]
[]
[]
[]
[]
[]
[]
[]
[]
[]
[]
[]
[]
[]
[]
[]
[]
[]
[]
[]
[]
[]
[]
[]
[]
[]
[]
[]
[]
[]
[]
[]
[]
[]
[]
[]
[]
[]
[]
[]
[]
[]
[]
[]
[]
[]
[]
[]
[]
[]
[]
[]
[]
[]
[]
[]
[]
[]
[]
[]
[]
[]
[]
[]
[]
[]
[]
[]
[]
[]
[]
[]
[]
[]
[]
[]
[]
[]
[]
[]
[]
[]
[]
[]
[]
[]
[]
[]
[]
[]
[]
[]
[]
[]
[]
[]
[]
[]
[]
[]
[]
[]
[]
[]
[]
[]
[]
[]
[]
[]
[]
[]
[]
[]
[]
[]
[]
[]
[]
[]
[]
[]
[]
[]
[]
[]
[]
[]
[]
[]
[]
[]
[]
[]
[]
[]
[]
[]
[]
[]
[]
[]
[]
[]
[]
[]
[]
[]
[]
[]
[]
[]
[]
[]
[]
[]
[]
[]
[]
[]
[]
[]
[]
[]
[]
[]
[]
[]
[]
[]
[]
[]
[]
[]
[]
[]
[]
[]
[]
[]
[]
[]
[]
[]
[]
[]
[]
[]
[]
[]
[]
[]
[]
[]
[]
[]
[]
[]
[]
[]
[]
[]
[]
[]
[]
[]
[]
[]
[]
[]
[]
[]
[]
[]
[]
[]
[]
[]
[]
["StateUTCityCode","DistrictCode","CrimeCode","DataYear","Male_below 14 years","Male_14 and above – below 18 years","Male_18 and above – below 30 years","Male_30 and above – below 45 years","Male_45 and above – below 60 years","Male_60 years & above","Male_Total","Female_below 14 years","Female_14 and above – below 18 years","Female_18 and above – below 30 years","Female_30 and above – below 45 years","Female_45 and above – below 60 years","Female_60 years & above","Female_Total","Trans_below 14 years","Trans_14 and above – below 18 years","Trans_18 and above – below 30 years","Trans_30 and above – below 45 years","Trans_45 and above – below 60 years","Trans_60 years & above","Trans_Total","Grand Total"]
[{"$f":"IF(ADSI!$G$12=\"\",ADSI!$H$16,ADSI!$H$12)","v":6},{"$f":"IF(ADSI!$G$12=\"\",ADSI!$H$16,ADSI!$H$14)","v":""},{"$f":"A8","v":1},{"$f":"ADSI!$K$12","v":2021},{"$f":"D8","v":0},{"$f":"E8","v":0},0,0,0,0,0,0,0,0,0,0,0,0,0,0,0,0,0,0,0,0]
[{"$f":"IF(ADSI!$G$12=\"\",ADSI!$H$16,ADSI!$H$12)","v":6},{"$f":"IF(ADSI!$G$12=\"\",ADSI!$H$16,ADSI!$H$14)","v":""},{"$f":"A9","v":2},{"$f":"ADSI!$K$12","v":2021},{"$f":"D9","v":0},0,0,0,0,0,0,0,0,0,0,0,0,0,0,0,0,0,0,0,0,0]
[{"$f":"IF(ADSI!$G$12=\"\",ADSI!$H$16,ADSI!$H$12)","v":6},{"$f":"IF(ADSI!$G$12=\"\",ADSI!$H$16,ADSI!$H$14)","v":""},3,{"$f":"ADSI!$K$12","v":2021},{"$f":"D10","v":0},0,0,0,0,0,0,0,0,0,0,0,0,0,0,0,0,0,0,0,0,0]
[{"$f":"IF(ADSI!$G$12=\"\",ADSI!$H$16,ADSI!$H$12)","v":6},{"$f":"IF(ADSI!$G$12=\"\",ADSI!$H$16,ADSI!$H$14)","v":""},4,{"$f":"ADSI!$K$12","v":2021},{"$f":"D11","v":0},0,0,0,0,0,0,0,0,0,0,0,0,0,0,0,0,0,0,0,0,0]
[{"$f":"IF(ADSI!$G$12=\"\",ADSI!$H$16,ADSI!$H$12)","v":6},{"$f":"IF(ADSI!$G$12=\"\",ADSI!$H$16,ADSI!$H$14)","v":""},5,{"$f":"ADSI!$K$12","v":2021},{"$f":"D12","v":0},0,0,0,0,0,0,0,0,0,0,0,0,0,0,0,0,0,0,0,0,0]
[{"$f":"IF(ADSI!$G$12=\"\",ADSI!$H$16,ADSI!$H$12)","v":6},{"$f":"IF(ADSI!$G$12=\"\",ADSI!$H$16,ADSI!$H$14)","v":""},6,{"$f":"ADSI!$K$12","v":2021},{"$f":"D13","v":0},0,0,0,0,0,0,0,0,0,0,0,0,0,0,0,0,0,0,0,0,0]
[{"$f":"IF(ADSI!$G$12=\"\",ADSI!$H$16,ADSI!$H$12)","v":6},{"$f":"IF(ADSI!$G$12=\"\",ADSI!$H$16,ADSI!$H$14)","v":""},7,{"$f":"ADSI!$K$12","v":2021},{"$f":"D14","v":0},0,0,0,0,0,0,0,0,0,0,0,0,0,0,0,0,0,0,0,0,0]
[{"$f":"IF(ADSI!$G$12=\"\",ADSI!$H$16,ADSI!$H$12)","v":6},{"$f":"IF(ADSI!$G$12=\"\",ADSI!$H$16,ADSI!$H$14)","v":""},8,{"$f":"ADSI!$K$12","v":2021},{"$f":"D15","v":0},0,0,0,0,0,0,0,0,0,0,0,0,0,0,0,0,0,0,0,0,0]
[{"$f":"IF(ADSI!$G$12=\"\",ADSI!$H$16,ADSI!$H$12)","v":6},{"$f":"IF(ADSI!$G$12=\"\",ADSI!$H$16,ADSI!$H$14)","v":""},9,{"$f":"ADSI!$K$12","v":2021},{"$f":"D16","v":0},0,0,0,0,0,0,0,0,0,0,0,0,0,0,0,0,0,0,0,0,0]
[{"$f":"IF(ADSI!$G$12=\"\",ADSI!$H$16,ADSI!$H$12)","v":6},{"$f":"IF(ADSI!$G$12=\"\",ADSI!$H$16,ADSI!$H$14)","v":""},10,{"$f":"ADSI!$K$12","v":2021},{"$f":"D17","v":0},0,0,0,0,0,0,0,0,0,0,0,0,0,0,0,0,0,0,0,0,0]
[{"$f":"IF(ADSI!$G$12=\"\",ADSI!$H$16,ADSI!$H$12)","v":6},{"$f":"IF(ADSI!$G$12=\"\",ADSI!$H$16,ADSI!$H$14)","v":""},11,{"$f":"ADSI!$K$12","v":2021},{"$f":"D18","v":0},0,0,0,0,0,0,0,0,0,0,0,0,0,0,0,0,0,0,0,0,0]
[{"$f":"IF(ADSI!$G$12=\"\",ADSI!$H$16,ADSI!$H$12)","v":6},{"$f":"IF(ADSI!$G$12=\"\",ADSI!$H$16,ADSI!$H$14)","v":""},12,{"$f":"ADSI!$K$12","v":2021},{"$f":"D19","v":0},0,0,1,0,0,1,0,0,0,0,0,0,0,0,0,0,0,0,0,0,1]
[{"$f":"IF(ADSI!$G$12=\"\",ADSI!$H$16,ADSI!$H$12)","v":6},{"$f":"IF(ADSI!$G$12=\"\",ADSI!$H$16,ADSI!$H$14)","v":""},13,{"$f":"ADSI!$K$12","v":2021},{"$f":"D20","v":0},0,0,0,1,0,1,0,0,0,0,0,0,0,0,0,0,0,0,0,0,1]
[{"$f":"IF(ADSI!$G$12=\"\",ADSI!$H$16,ADSI!$H$12)","v":6},{"$f":"IF(ADSI!$G$12=\"\",ADSI!$H$16,ADSI!$H$14)","v":""},14,{"$f":"ADSI!$K$12","v":2021},{"$f":"D21","v":0},0,0,0,0,0,0,0,0,0,0,0,0,0,0,0,0,0,0,0,0,0]
[{"$f":"IF(ADSI!$G$12=\"\",ADSI!$H$16,ADSI!$H$12)","v":6},{"$f":"IF(ADSI!$G$12=\"\",ADSI!$H$16,ADSI!$H$14)","v":""},15,{"$f":"ADSI!$K$12","v":2021},{"$f":"D22","v":0},0,0,0,1,0,1,0,0,0,0,0,0,0,0,0,0,0,0,0,0,1]
[{"$f":"IF(ADSI!$G$12=\"\",ADSI!$H$16,ADSI!$H$12)","v":6},{"$f":"IF(ADSI!$G$12=\"\",ADSI!$H$16,ADSI!$H$14)","v":""},30,{"$f":"ADSI!$K$12","v":2021},{"$f":"D23","v":0},0,0,1,2,0,3,0,0,0,0,0,0,0,0,0,0,0,0,0,0,3]

{"sheet":"P-II","index":3,"n_rows":544,"n_cols":64,"rows_kept":544,"cut":false,"hidden":false,"merged":[[250,52,250,53],[251,52,251,53],[252,52,252,53],[203,60,203,63],[203,52,204,52],[203,53,204,53],[203,54,204,54],[203,56,203,59],[4,13,6,13],[203,55,205,55],[51,0,51,2],[52,0,52,2],[53,0,53,2],[4,0,5,0],[4,2,5,2],[4,9,4,12],[4,1,5,1],[4,5,4,8],[4,3,5,3],[4,4,5,4]]}
[{"$f":"ADSI!$B$1","v":"Goa, , ADSI-2021"}]
["Errors",null,{"$f":"COUNTIF(E8:E51,FALSE)","v":0},null,"Abnormal Variations",{"$f":"COUNTIF(D52:M54,\"ABVAR\")","v":0}]
["Proforma–II"]
["Cause-wise distribution of Un-natural Accidents"]
["Code","Sl. No.","Causes","No. of Cases","VALIDATION WITH NUMBER OF CASES","No. of Persons Injured",null,null,null,"No. of Persons Died"]
[null,null,null,null,null,"Male","Female","Transgender"," Total\n [sum of (4) to (6)]"," Male"," Female","Transgender","Total \n[sum of (8) to (10)]"]
[null,"(1)","(2)","(3)",null,"(4)","(5)","(6)","(7)","(8)","(9)","(10)","(11)"]
[50,1,"Air Crash",0,{"$f":"IF(AND(OR(I8>0,M8>0),D8=0),FALSE,\"\")","v":""},0,0,0,{"$f":"SUM(F8:H8)","v":0},0,0,0,{"$f":"SUM(J8:L8)","v":0}]
[51,2,"Ship Accidents",0,{"$f":"IF(AND(OR(I9>0,M9>0),D9=0),FALSE,\"\")","v":""},0,0,0,{"$f":"SUM(F9:H9)","v":0},0,0,0,{"$f":"SUM(J9:L9)","v":0}]
[52,3,"Collapse of Structure (Total) (sum of 3.1 to 3.5)",{"$f":"SUM(D11:D15)","v":5},"",{"$f":"SUM(F11:F15)","v":0},0,0,0,5,{"$f":"SUM(K11:K15)","v":0},{"$f":"SUM(L11:L15)","v":0},5]
[53,null,"3.1 Collapse of Dwelling House/Residential building",1,"",0,0,0,0,1,0,0,1]
[54,null,"3.2 Collapse of Official/Commercial Building",0,"",0,0,0,0,0,0,0,0]
[55,null,"3.3 Collapse of Dam",0,"",0,0,0,0,0,0,0,0]
[56,null,"3.4 Collapse of  Bridge",0,"",0,0,0,0,0,0,0,0]
[57,null,"3.5 Others",4,"",0,0,0,0,4,0,0,4]
[58,4,"Drowning (Total) (sum of 4.1 to 4.3)",{"$f":"SUM(D17:D19)","v":114},"",{"$f":"SUM(F17:F19)","v":0},0,0,0,{"$f":"SUM(J17:J19)","v":104},{"$f":"SUM(K17:K19)","v":11},{"$f":"SUM(L17:L19)","v":0},115]
[59,null,"4.1 Boat Capsize",0,"",0,0,0,0,0,0,0,0]
[60,null,"4.2 Accidental Falls into Waterbody",97,"",0,0,0,0,88,10,0,98]
[61,null,"4.3 Other Cases",17,"",0,0,0,0,16,1,0,17]
[62,5,"Electrocution",25,"",0,0,0,0,23,2,0,25]
[63,6,"Accidental Explosion (Total) (sum of 6.1 to 6.4)",{"$f":"SUM(D22:D25)","v":1},"",{"$f":"SUM(F22:F25)","v":0},0,0,0,{"$f":"SUM(J22:J25)","v":1},0,0,1]
[64,null,"6.1 Domestic Gas Cylinder",0,"",0,0,0,0,0,0,0,0]
[65,null,"6.2 Industrial Boiler/Gas cylinder explosion",1,"",0,0,0,0,1,0,0,1]
[66,null,"6.3 Ammunition explosion in Armed Forces/Police/CPMF",0,"",0,0,0,0,0,0,0,0]
[67,null,"6.4 Other",0,"",0,0,0,0,0,0,0,0]
[68,7,"Falls (Total) (sum of 7.1 to 7.6)",{"$f":"SUM(D27:D32)","v":101},"",{"$f":"SUM(F27:F32)","v":0},0,0,0,{"$f":"SUM(J27:J32)","v":93},9,0,102]
[69,null,"7.1 Fall from Height",77,"",0,0,0,0,72,5,0,77]
[70,null,"7.2 Fall from Vehicles (Automobile like Bus, Trucks, etc.)",7,"",0,0,0,0,7,1,0,8]
[71,null,"7.3 Fall into Manhole / Sewer",1,"",0,0,0,0,1,0,0,1]
[72,null,"7.4 Fall into Pit",0,"",0,0,0,0,0,0,0,0]
[73,null,"7.5 Fall into Borewell",0,"",0,0,0,0,0,0,0,0]
[74,null,"7.6 Others",16,"",0,0,0,0,13,3,0,16]
[75,8,"Factory/Machine accidents",3,"",0,0,0,0,3,0,0,3]
[76,9,"Accidental Fire (Total) (sum of 9.1 to 9.5)",{"$f":"SUM(D35:D39)","v":45},"",{"$f":"SUM(F35:F39)","v":1},0,0,1,{"$f":"SUM(J35:J39)","v":3},6,0,9]
[77,null,"9.1 Electrical Short circuit",16,"",0,0,0,0,1,0,0,1]
[78,null,"9.2 Riot/Agitation",0,"",0,0,0,0,0,0,0,0]
[79,null,"9.3 Fireworks",1,"",0,0,0,0,0,1,0,1]
[80,null,"9.4 Cooking Gas cylinder/stove burst",5,"",0,0,0,0,2,1,0,3]
[81,null,"9.5 Other Causes",23,"",1,0,0,1,0,4,0,4]
[82,10,"Firearm",3,"",1,1,0,2,1,0,0,1]
[83,11,"Mines or Quarry disaster",0,"",0,0,0,0,0,0,0,0]
[84,12,"Traffic Accidents (Total) (sum of 12.1, 12.2 and 12.3)",{"$f":"SUM(D43,D46:D47)","v":2899},"",{"$f":"SUM(F43,F46:F47)","v":696},160,0,856,{"$f":"SUM(J43,J46:J47)","v":238},37,0,275]
[85,null,"12.1 Road Accidents Total (sum of 12.1.1 and 12.1.2)",{"$f":"SUM(D44:D45)","v":2850},"",{"$f":"SUM(F44:F45)","v":696},160,0,856,{"$f":"SUM(J44:J45)","v":193},33,0,226]
[86,null,"12.1.1 Which led into Road Rage incidents",0,"",0,0,0,0,0,0,0,0]
[87,null,"12.1.2 Other Road Accidents",2850,"",696,160,0,856,193,33,0,226]
[88,null,"12.2 Railway Crossing Accidents",0,"",0,0,0,0,0,0,0,0]
[89,null,"12.3 Railway Accidents ",49,"",0,0,0,0,45,4,0,49]
[90,13,"Stampede",0,"",0,0,0,0,0,0,0,0]
[91,14,"Other Unnatural Causes",10,"",0,0,0,0,5,5,0,10]
[92,15,"Causes not known",16,"",0,0,0,0,13,3,0,16]
[120,16,"Total (sum of Sl. 1 to 15)",{"$f":"SUM(D8:D10,D16,D20:D21,D26,D33:D34,D40:D41,D42,D48:D50)","v":3222},"",{"$f":"SUM(F8:F10,F16,F20:F21,F26,F33:F34,F40:F41,F42,F48:F50)","v":698},161,0,859,489,73,0,562]
["SL-12.1.1 ABNORMAL VARIATION IN \"ROAD RAGE INCIDENTS\" DATA",null,null,{"$f":"IF(D43>0,IF((D44/D43*100)>10,\"ABVAR\",\"\"),\"\")","v":""},null,{"$f":"IF(F43>0,IF((F44/F43*100)>10,\"ABVAR\",\"\"),\"\")","v":""},"","","","","","",""]
["SL-14 ABNORMAL VARIATION IN \"OTHER UNNATURAL CAUSES\" DATA",null,null,{"$f":"IF(D51>0,IF((D49/D51*100)>20,\"ABVAR\",\"\"),\"\")","v":""},null,{"$f":"IF(F51>0,IF((F49/F51*100)>20,\"ABVAR\",\"\"),\"\")","v":""},"","","","","","",""]
["SL-15 ABNORMAL VARIATION IN \"CAUSES NOT KNOWN\" DATA",null,null,{"$f":"IF(D51>0,IF((D50/D51*100)>20,\"ABVAR\",\"\"),\"\")","v":""},null,{"$f":"IF(F51>0,IF((F50/F51*100)>20,\"ABVAR\",\"\"),\"\")","v":""},"","","","","","",""]
[]
[]
[]
[]
[]
[]
[]
[]
[]
[]
[]
[]
[]
[]
[]
[]
[]
[]
[]
[]
[]
[]
[]
[]
[]
[]
[]
[]
[]
[]
[]
[]
[]
[]
[]
[]
[]
[]
[]
[]
[]
[]
[]
[]
[]
[]
[]
[]
[]
[]
[]
[]
[]
[]
[]
[]
[]
[]
[]
[]
[]
[]
[]
[]
[]
[]
[]
[]
[]
[]
[]
[]
[]
[]
[]
[]
[]
[]
[]
[]
[]
[]
[]
[]
[]
[]
[]
[]
[]
[]
[]
[]
[]
[]
[]
[]
[]
[]
[]
[]
[]
[]
[]
[]
[]
[]
[]
[]
[]
[]
[]
[]
[]
[]
[]
[]
[]
[]
[]
[]
[]
[]
[]
[]
[]
[]
[]
[]
[]
[]
[]
[]
[]
[]
[]
[]
[]
[]
[]
[]
[]
[]
[]
[]
[]
[null,null,null,null,null,null,null,null,null,null,null,null,null,null,null,null,null,null,null,null,null,null,null,null,null,null,null,null,null,null,null,null,null,null,null,null,null,null,null,null,null,null,null,null,null,null,null,null,null,null,null,null,{"$f":"A1","v":"Goa, , ADSI-2021"}]
[null,null,null,null,null,null,null,null,null,null,null,null,null,null,null,null,null,null,null,null,null,null,null,null,null,null,null,null,null,null,null,null,null,null,null,null,null,null,null,null,null,null,null,null,null,null,null,null,null,null,null,null,{"$f":"A2","v":"Errors"},{"$f":"C2","v":0},null,{"$f":"E2","v":"Abnormal Variations"},{"$f":"F2","v":0}]
[null,null,null,null,null,null,null,null,null,null,null,null,null,null,null,null,null,null,null,null,null,null,null,null,null,null,null,null,null,null,null,null,null,null,null,null,null,null,null,null,null,null,null,null,null,null,null,null,null,null,null,null,{"$f":"A3","v":"Proforma–II"}]
[null,null,null,null,null,null,null,null,null,null,null,null,null,null,null,null,null,null,null,null,null,null,null,null,null,null,null,null,null,null,null,null,null,null,null,null,null,null,null,null,null,null,null,null,null,null,null,null,null,null,null,null,{"$f":"A4","v":"Cause-wise distribution of Un-natural Accidents"}]
[null,null,null,null,null,null,null,null,null,null,null,null,null,null,null,null,null,null,null,null,null,null,null,null,null,null,null,null,null,null,null,null,null,null,null,null,null,null,null,null,null,null,null,null,null,null,null,null,null,null,null,null,{"$f":"B5","v":"Sl. No."},{"$f":"C5","v":"Causes"},{"$f":"D5","v":"No. of Cases"},{"$f":"E5","v":"VALIDATION WITH NUMBER OF CASES"},{"$f":"F5","v":"No. of Persons Injured"},null,null,null,{"$f":"J5","v":"No. of Persons Died"}]
[null,null,null,null,null,null,null,null,null,null,null,null,null,null,null,null,null,null,null,null,null,null,null,null,null,null,null,null,null,null,null,null,null,null,null,null,null,null,null,null,null,null,null,null,null,null,null,null,null,null,null,null,null,null,null,null,{"$f":"F6","v":"Male"},{"$f":"G6","v":"Female"},{"$f":"H6","v":"Transgender"},{"$f":"I6","v":" Total\n [sum of (4) to (6)]"}," Male",{"$f":"K6","v":" Female"},{"$f":"L6","v":"Transgender"},{"$f":"M6","v":"Total \n[sum of (8) to (10)]"}]
[null,null,null,null,null,null,null,null,null,null,null,null,null,null,null,null,null,null,null,null,null,null,null,null,null,null,null,null,null,null,null,null,null,null,null,null,null,null,null,null,null,null,null,null,null,null,null,null,null,null,null,null,{"$f":"B7","v":"(1)"},{"$f":"C7","v":"(2)"},{"$f":"D7","v":"(3)"},null,"(4)","(5)","(6)","(7)","(8)","(9)","(10)","(11)"]
[null,null,null,null,null,null,null,null,null,null,null,null,null,null,null,null,null,null,null,null,null,null,null,null,null,null,null,null,null,null,null,null,null,null,null,null,null,null,null,null,null,null,null,null,null,null,null,null,null,null,null,null,{"$f":"B8","v":1},"Air Crash",0,{"$f":"E8","v":""},0,0,0,0,0,0,0,0]
[null,null,null,null,null,null,null,null,null,null,null,null,null,null,null,null,null,null,null,null,null,null,null,null,null,null,null,null,null,null,null,null,null,null,null,null,null,null,null,null,null,null,null,null,null,null,null,null,null,null,null,null,{"$f":"B9","v":2},"Ship Accidents",0,{"$f":"E9","v":""},0,0,0,0,0,0,0,0]
[null,null,null,null,null,null,null,null,null,null,null,null,null,null,null,null,null,null,null,null,null,null,null,null,null,null,null,null,null,null,null,null,null,null,null,null,null,null,null,null,null,null,null,null,null,null,null,null,null,null,null,null,{"$f":"B10","v":3},"Collapse of Structure (Total) (sum of 3.1 to 3.5)",5,"",0,0,0,0,5,0,0,5]
[null,null,null,null,null,null,null,null,null,null,null,null,null,null,null,null,null,null,null,null,null,null,null,null,null,null,null,null,null,null,null,null,null,null,null,null,null,null,null,null,null,null,null,null,null,null,null,null,null,null,null,null,null,"3.1 Collapse of Dwelling House/Residential building",1,"",0,0,0,0,1,0,0,1]
[null,null,null,null,null,null,null,null,null,null,null,null,null,null,null,null,null,null,null,null,null,null,null,null,null,null,null,null,null,null,null,null,null,null,null,null,null,null,null,null,null,null,null,null,null,null,null,null,null,null,null,null,null,"3.2 Collapse of Official/Commercial Building",0,"",0,0,0,0,0,0,0,0]
[null,null,null,null,null,null,null,null,null,null,null,null,null,null,null,null,null,null,null,null,null,null,null,null,null,null,null,null,null,null,null,null,null,null,null,null,null,null,null,null,null,null,null,null,null,null,null,null,null,null,null,null,null,"3.3 Collapse of Dam",0,"",0,0,0,0,0,0,0,0]
[null,null,null,null,null,null,null,null,null,null,null,null,null,null,null,null,null,null,null,null,null,null,null,null,null,null,null,null,null,null,null,null,null,null,null,null,null,null,null,null,null,null,null,null,null,null,null,null,null,null,null,null,null,"3.4 Collapse of  Bridge",0,"",0,0,0,0,0,0,0,0]
[null,null,null,null,null,null,null,null,null,null,null,null,null,null,null,null,null,null,null,null,null,null,null,null,null,null,null,null,null,null,null,null,null,null,null,null,null,null,null,null,null,null,null,null,null,null,null,null,null,null,null,null,null,"3.5 Others",4,"",0,0,0,0,4,0,0,4]
[null,null,null,null,null,null,null,null,null,null,null,null,null,null,null,null,null,null,null,null,null,null,null,null,null,null,null,null,null,null,null,null,null,null,null,null,null,null,null,null,null,null,null,null,null,null,null,null,null,null,null,null,{"$f":"B16","v":4},"Drowning (Total) (sum of 4.1 to 4.3)",114,"",0,0,0,0,104,11,0,115]
[null,null,null,null,null,null,null,null,null,null,null,null,null,null,null,null,null,null,null,null,null,null,null,null,null,null,null,null,null,null,null,null,null,null,null,null,null,null,null,null,null,null,null,null,null,null,null,null,null,null,null,null,null,"4.1 Boat Capsize",0,"",0,0,0,0,0,0,0,0]
[null,null,null,null,null,null,null,null,null,null,null,null,null,null,null,null,null,null,null,null,null,null,null,null,null,null,null,null,null,null,null,null,null,null,null,null,null,null,null,null,null,null,null,null,null,null,null,null,null,null,null,null,null,"4.2 Accidental Falls into Waterbody",97,"",0,0,0,0,88,10,0,98]
[null,null,null,null,null,null,null,null,null,null,null,null,null,null,null,null,null,null,null,null,null,null,null,null,null,null,null,null,null,null,null,null,null,null,null,null,null,null,null,null,null,null,null,null,null,null,null,null,null,null,null,null,null,"4.3 Other Cases",17,"",0,0,0,0,16,1,0,17]
[null,null,null,null,null,null,null,null,null,null,null,null,null,null,null,null,null,null,null,null,null,null,null,null,null,null,null,null,null,null,null,null,null,null,null,null,null,null,null,null,null,null,null,null,null,null,null,null,null,null,null,null,{"$f":"B20","v":5},"Electrocution",25,"",0,0,0,0,23,2,0,25]
[null,null,null,null,null,null,null,null,null,null,null,null,null,null,null,null,null,null,null,null,null,null,null,null,null,null,null,null,null,null,null,null,null,null,null,null,null,null,null,null,null,null,null,null,null,null,null,null,null,null,null,null,{"$f":"B21","v":6},"Accidental Explosion (Total) (sum of 6.1 to 6.4)",1,"",0,0,0,0,1,0,0,1]
[null,null,null,null,null,null,null,null,null,null,null,null,null,null,null,null,null,null,null,null,null,null,null,null,null,null,null,null,null,null,null,null,null,null,null,null,null,null,null,null,null,null,null,null,null,null,null,null,null,null,null,null,null,"6.1 Domestic Gas Cylinder",0,"",0,0,0,0,0,0,0,0]
[null,null,null,null,null,null,null,null,null,null,null,null,null,null,null,null,null,null,null,null,null,null,null,null,null,null,null,null,null,null,null,null,null,null,null,null,null,null,null,null,null,null,null,null,null,null,null,null,null,null,null,null,null,"6.2 Industrial Boiler/Gas cylinder explosion",1,"",0,0,0,0,1,0,0,1]
[null,null,null,null,null,null,null,null,null,null,null,null,null,null,null,null,null,null,null,null,null,null,null,null,null,null,null,null,null,null,null,null,null,null,null,null,null,null,null,null,null,null,null,null,null,null,null,null,null,null,null,null,null,"6.3 Ammunition explosion in Armed Forces/Police/CPMF",0,"",0,0,0,0,0,0,0,0]
[null,null,null,null,null,null,null,null,null,null,null,null,null,null,null,null,null,null,null,null,null,null,null,null,null,null,null,null,null,null,null,null,null,null,null,null,null,null,null,null,null,null,null,null,null,null,null,null,null,null,null,null,null,"6.4 Other",0,"",0,0,0,0,0,0,0,0]
[null,null,null,null,null,null,null,null,null,null,null,null,null,null,null,null,null,null,null,null,null,null,null,null,null,null,null,null,null,null,null,null,null,null,null,null,null,null,null,null,null,null,null,null,null,null,null,null,null,null,null,null,{"$f":"B26","v":7},"Falls (Total) (sum of 7.1 to 7.6)",101,"",0,0,0,0,93,9,0,102]
[null,null,null,null,null,null,null,null,null,null,null,null,null,null,null,null,null,null,null,null,null,null,null,null,null,null,null,null,null,null,null,null,null,null,null,null,null,null,null,null,null,null,null,null,null,null,null,null,null,null,null,null,null,"7.1 Fall from Height",77,"",0,0,0,0,72,5,0,77]
[null,null,null,null,null,null,null,null,null,null,null,null,null,null,null,null,null,null,null,null,null,null,null,null,null,null,null,null,null,null,null,null,null,null,null,null,null,null,null,null,null,null,null,null,null,null,null,null,null,null,null,null,null,"7.2 Fall from Vehicles (Automobile like Bus, Trucks, etc.)",7,"",0,0,0,0,7,1,0,8]
[null,null,null,null,null,null,null,null,null,null,null,null,null,null,null,null,null,null,null,null,null,null,null,null,null,null,null,null,null,null,null,null,null,null,null,null,null,null,null,null,null,null,null,null,null,null,null,null,null,null,null,null,null,"7.3 Fall into Manhole / Sewer",1,"",0,0,0,0,1,0,0,1]
[null,null,null,null,null,null,null,null,null,null,null,null,null,null,null,null,null,null,null,null,null,null,null,null,null,null,null,null,null,null,null,null,null,null,null,null,null,null,null,null,null,null,null,null,null,null,null,null,null,null,null,null,null,"7.4 Fall into Pit",0,"",0,0,0,0,0,0,0,0]
[null,null,null,null,null,null,null,null,null,null,null,null,null,null,null,null,null,null,null,null,null,null,null,null,null,null,null,null,null,null,null,null,null,null,null,null,null,null,null,null,null,null,null,null,null,null,null,null,null,null,null,null,null,"7.5 Fall into Borewell",0,"",{"$f":"F31","v":0},{"$f":"G31","v":0},{"$f":"H31","v":0},{"$f":"I31","v":0},{"$f":"J31","v":0},{"$f":"K31","v":0},{"$f":"L31","v":0},{"$f":"M31","v":0}]
[null,null,null,null,null,null,null,null,null,null,null,null,null,null,null,null,null,null,null,null,null,null,null,null,null,null,null,null,null,null,null,null,null,null,null,null,null,null,null,null,null,null,null,null,null,null,null,null,null,null,null,null,null,{"$f":"C32","v":"7.6 Others"},{"$f":"D32","v":16},"",{"$f":"F32","v":0},{"$f":"G32","v":0},{"$f":"H32","v":0},{"$f":"I32","v":0},{"$f":"J32","v":13},{"$f":"K32","v":3},{"$f":"L32","v":0},{"$f":"M32","v":16}]
[null,null,null,null,null,null,null,null,null,null,null,null,null,null,null,null,null,null,null,null,null,null,null,null,null,null,null,null,null,null,null,null,null,null,null,null,null,null,null,null,null,null,null,null,null,null,null,null,null,null,null,null,{"$f":"B33","v":8},"Factory/Machine accidents",3,"",0,0,0,0,3,0,0,3]
[null,null,null,null,null,null,null,null,null,null,null,null,null,null,null,null,null,null,null,null,null,null,null,null,null,null,null,null,null,null,null,null,null,null,null,null,null,null,null,null,null,null,null,null,null,null,null,null,null,null,null,null,{"$f":"B34","v":9},"Accidental Fire (Total) (sum of 9.1 to 9.5)",45,"",1,0,0,1,3,6,0,9]
[null,null,null,null,null,null,null,null,null,null,null,null,null,null,null,null,null,null,null,null,null,null,null,null,null,null,null,null,null,null,null,null,null,null,null,null,null,null,null,null,null,null,null,null,null,null,null,null,null,null,null,null,null,"9.1 Electrical Short circuit",16,"",0,0,0,0,1,0,0,1]
[null,null,null,null,null,null,null,null,null,null,null,null,null,null,null,null,null,null,null,null,null,null,null,null,null,null,null,null,null,null,null,null,null,null,null,null,null,null,null,null,null,null,null,null,null,null,null,null,null,null,null,null,null,"9.2 Riot/Agitation",0,"",0,0,0,0,0,0,0,0]
[null,null,null,null,null,null,null,null,null,null,null,null,null,null,null,null,null,null,null,null,null,null,null,null,null,null,null,null,null,null,null,null,null,null,null,null,null,null,null,null,null,null,null,null,null,null,null,null,null,null,null,null,null,"9.3 Fireworks",1,"",0,0,0,0,0,1,0,1]
[null,null,null,null,null,null,null,null,null,null,null,null,null,null,null,null,null,null,null,null,null,null,null,null,null,null,null,null,null,null,null,null,null,null,null,null,null,null,null,null,null,null,null,null,null,null,null,null,null,null,null,null,null,"9.4 Cooking Gas cylinder/stove burst",5,"",0,0,0,0,2,1,0,3]
[null,null,null,null,null,null,null,null,null,null,null,null,null,null,null,null,null,null,null,null,null,null,null,null,null,null,null,null,null,null,null,null,null,null,null,null,null,null,null,null,null,null,null,null,null,null,null,null,null,null,null,null,null,"9.5 Other Causes",23,"",1,0,0,1,0,4,0,4]
[null,null,null,null,null,null,null,null,null,null,null,null,null,null,null,null,null,null,null,null,null,null,null,null,null,null,null,null,null,null,null,null,null,null,null,null,null,null,null,null,null,null,null,null,null,null,null,null,null,null,null,null,{"$f":"B40","v":10},"Firearm",3,"",1,1,0,2,1,0,0,1]
[null,null,null,null,null,null,null,null,null,null,null,null,null,null,null,null,null,null,null,null,null,null,null,null,null,null,null,null,null,null,null,null,null,null,null,null,null,null,null,null,null,null,null,null,null,null,null,null,null,null,null,null,{"$f":"B41","v":11},"Mines or Quarry disaster",0,"",0,0,0,0,0,0,0,0]
[null,null,null,null,null,null,null,null,null,null,null,null,null,null,null,null,null,null,null,null,null,null,null,null,null,null,null,null,null,null,null,null,null,null,null,null,null,null,null,null,null,null,null,null,null,null,null,null,null,null,null,null,{"$f":"B42","v":12},"Traffic Accidents (Total) (sum of 12.1, 12.2 and 12.3)",2899,"",696,160,0,856,238,37,0,275]
[null,null,null,null,null,null,null,null,null,null,null,null,null,null,null,null,null,null,null,null,null,null,null,null,null,null,null,null,null,null,null,null,null,null,null,null,null,null,null,null,null,null,null,null,null,null,null,null,null,null,null,null,null,"12.1 Road Accidents Total (sum of 12.1.1 and 12.1.2)",2850,"",696,160,0,856,193,33,0,226]
[null,null,null,null,null,null,null,null,null,null,null,null,null,null,null,null,null,null,null,null,null,null,null,null,null,null,null,null,null,null,null,null,null,null,null,null,null,null,null,null,null,null,null,null,null,null,null,null,null,null,null,null,null,"12.1.1 Which led into Road Rage incidents",0,"",0,0,0,0,0,0,0,0]
[null,null,null,null,null,null,null,null,null,null,null,null,null,null,null,null,null,null,null,null,null,null,null,null,null,null,null,null,null,null,null,null,null,null,null,null,null,null,null,null,null,null,null,null,null,null,null,null,null,null,null,null,null,"12.1.2 Other Road Accidents",2850,"",696,160,0,856,193,33,0,226]
[null,null,null,null,null,null,null,null,null,null,null,null,null,null,null,null,null,null,null,null,null,null,null,null,null,null,null,null,null,null,null,null,null,null,null,null,null,null,null,null,null,null,null,null,null,null,null,null,null,null,null,null,null,"12.2 Railway Crossing Accidents",0,"",0,0,0,0,0,0,0,0]
[null,null,null,null,null,null,null,null,null,null,null,null,null,null,null,null,null,null,null,null,null,null,null,null,null,null,null,null,null,null,null,null,null,null,null,null,null,null,null,null,null,null,null,null,null,null,null,null,null,null,null,null,null,"12.3 Railway Accidents ",49,"",0,0,0,0,45,4,0,49]
[null,null,null,null,null,null,null,null,null,null,null,null,null,null,null,null,null,null,null,null,null,null,null,null,null,null,null,null,null,null,null,null,null,null,null,null,null,null,null,null,null,null,null,null,null,null,null,null,null,null,null,null,{"$f":"B48","v":13},"Stampede",0,"",0,0,0,0,0,0,0,0]
[null,null,null,null,null,null,null,null,null,null,null,null,null,null,null,null,null,null,null,null,null,null,null,null,null,null,null,null,null,null,null,null,null,null,null,null,null,null,null,null,null,null,null,null,null,null,null,null,null,null,null,null,{"$f":"B49","v":14},"Other Unnatural Causes",10,"",0,0,0,0,5,5,0,10]
[null,null,null,null,null,null,null,null,null,null,null,null,null,null,null,null,null,null,null,null,null,null,null,null,null,null,null,null,null,null,null,null,null,null,null,null,null,null,null,null,null,null,null,null,null,null,null,null,null,null,null,null,{"$f":"B50","v":15},"Causes not known",16,"",0,0,0,0,13,3,0,16]
[null,null,null,null,null,null,null,null,null,null,null,null,null,null,null,null,null,null,null,null,null,null,null,null,null,null,null,null,null,null,null,null,null,null,null,null,null,null,null,null,null,null,null,null,null,null,null,null,null,null,null,null,{"$f":"B51","v":16},"Total (sum of Sl. 1 to 15)",3222,"",698,161,0,859,489,73,0,562]
[null,null,null,null,null,null,null,null,null,null,null,null,null,null,null,null,null,null,null,null,null,null,null,null,null,null,null,null,null,null,null,null,null,null,null,null,null,null,null,null,null,null,null,null,null,null,null,null,null,null,null,null,{"$f":"A52","v":"SL-12.1.1 ABNORMAL VARIATION IN \"ROAD RAGE INCIDENTS\" DATA"},null,{"$f":"D52","v":""},null,"","","","","","","",""]
[null,null,null,null,null,null,null,null,null,null,null,null,null,null,null,null,null,null,null,null,null,null,null,null,null,null,null,null,null,null,null,null,null,null,null,null,null,null,null,null,null,null,null,null,null,null,null,null,null,null,null,null,{"$f":"A53","v":"SL-14 ABNORMAL VARIATION IN \"OTHER UNNATURAL CAUSES\" DATA"},null,{"$f":"D53","v":""},null,"","","","","","","",""]
[null,null,null,null,null,null,null,null,null,null,null,null,null,null,null,null,null,null,null,null,null,null,null,null,null,null,null,null,null,null,null,null,null,null,null,null,null,null,null,null,null,null,null,null,null,null,null,null,null,null,null,null,"SL-15 ABNORMAL VARIATION IN \"CAUSES NOT KNOWN\" DATA",null,"",null,"","","","","","","",""]
[]
[]
[]
[]
[]
[]
[]
[]
[]
[]
[]
[]
[]
[]
[]
[]
[]
[]
[]
[]
[]
[]
[]
[]
[]
[]
[]
[]
[]
[]
[]
[]
[]
[]
[]
[]
[]
[]
[]
[]
[]
[]
[]
[]
[]
[]
[]
[]
[]
[]
[]
[]
[]
[]
[]
[]
[]
[]
[]
[]
[]
[]
[]
[]
[]
[]
[]
[]
[]
[]
[]
[]
[]
[]
[]
[]
[]
[]
[]
[]
[]
[]
[]
[]
[]
[]
[]
[]
[]
[]
[]
[]
[]
[]
[]
[]
[]
[]
[]
[]
[]
[]
[]
[]
[]
[]
[]
[]
[]
[]
[]
[]
[]
[]
[]
[]
[]
[]
[]
[]
[]
[]
[]
[]
[]
[]
[]
[]
[]
[]
[]
[]
[]
[]
[]
[]
[]
[]
[]
[]
[]
[]
[]
[]
[]
[]
[]
[]
[]
[]
[]
[]
[]
[]
[]
[]
[]
[]
[]
[]
[]
[]
[]
[]
[]
[]
[]
[]
[]
[]
[]
[]
[]
[]
[]
[]
[]
[]
[]
[]
[]
[]
[]
[]
[]
[]
[]
[]
[]
[]
[]
[]
[]
[]
[]
[]
[]
[]
[]
[]
[]
[]
[]
[]
[]
[]
[]
[]
[]
[]
[]
[]
[]
[]
[]
[]
[]
[]
[]
[]
[]
[]
[]
[]
[]
[]
[]
[]
[]
[]
[]
[]
[]
[]
[]
[]
[]
[]
[]
[]
[]
[]
[]
[]
[]
[]
["StateUTCityCode","DistrictCode","CrimeCode","DataYear","Number of Cases","Injured_Male","Injured_Female","Injured_Trans","Injured_Total","Died_Male","Died_Female","Died_Trans","Died_Total"]
[{"$f":"IF(ADSI!$G$12=\"\",ADSI!$H$16,ADSI!$H$12)","v":6},{"$f":"IF(ADSI!$G$12=\"\",ADSI!$H$16,ADSI!$H$14)","v":""},{"$f":"A8","v":50},{"$f":"ADSI!$K$12","v":2021},{"$f":"D8","v":0},{"$f":"F8","v":0},{"$f":"G8","v":0},0,0,{"$f":"J8","v":0},0,0,0]
[{"$f":"IF(ADSI!$G$12=\"\",ADSI!$H$16,ADSI!$H$12)","v":6},{"$f":"IF(ADSI!$G$12=\"\",ADSI!$H$16,ADSI!$H$14)","v":""},{"$f":"A9","v":51},{"$f":"ADSI!$K$12","v":2021},{"$f":"D9","v":0},{"$f":"F9","v":0},0,0,0,0,0,0,0]
[{"$f":"IF(ADSI!$G$12=\"\",ADSI!$H$16,ADSI!$H$12)","v":6},{"$f":"IF(ADSI!$G$12=\"\",ADSI!$H$16,ADSI!$H$14)","v":""},52,{"$f":"ADSI!$K$12","v":2021},5,{"$f":"F10","v":0},0,0,0,5,0,0,5]
[{"$f":"IF(ADSI!$G$12=\"\",ADSI!$H$16,ADSI!$H$12)","v":6},{"$f":"IF(ADSI!$G$12=\"\",ADSI!$H$16,ADSI!$H$14)","v":""},53,{"$f":"ADSI!$K$12","v":2021},1,{"$f":"F11","v":0},0,0,0,1,0,0,1]
[{"$f":"IF(ADSI!$G$12=\"\",ADSI!$H$16,ADSI!$H$12)","v":6},{"$f":"IF(ADSI!$G$12=\"\",ADSI!$H$16,ADSI!$H$14)","v":""},54,{"$f":"ADSI!$K$12","v":2021},0,{"$f":"F12","v":0},0,0,0,0,0,0,0]
[{"$f":"IF(ADSI!$G$12=\"\",ADSI!$H$16,ADSI!$H$12)","v":6},{"$f":"IF(ADSI!$G$12=\"\",ADSI!$H$16,ADSI!$H$14)","v":""},55,{"$f":"ADSI!$K$12","v":2021},0,{"$f":"F13","v":0},0,0,0,0,0,0,0]
[{"$f":"IF(ADSI!$G$12=\"\",ADSI!$H$16,ADSI!$H$12)","v":6},{"$f":"IF(ADSI!$G$12=\"\",ADSI!$H$16,ADSI!$H$14)","v":""},56,{"$f":"ADSI!$K$12","v":2021},0,{"$f":"F14","v":0},0,0,0,0,0,0,0]
[{"$f":"IF(ADSI!$G$12=\"\",ADSI!$H$16,ADSI!$H$12)","v":6},{"$f":"IF(ADSI!$G$12=\"\",ADSI!$H$16,ADSI!$H$14)","v":""},57,{"$f":"ADSI!$K$12","v":2021},4,{"$f":"F15","v":0},0,0,0,4,0,0,4]
[{"$f":"IF(ADSI!$G$12=\"\",ADSI!$H$16,ADSI!$H$12)","v":6},{"$f":"IF(ADSI!$G$12=\"\",ADSI!$H$16,ADSI!$H$14)","v":""},58,{"$f":"ADSI!$K$12","v":2021},114,{"$f":"F16","v":0},0,0,0,104,11,0,115]
[{"$f":"IF(ADSI!$G$12=\"\",ADSI!$H$16,ADSI!$H$12)","v":6},{"$f":"IF(ADSI!$G$12=\"\",ADSI!$H$16,ADSI!$H$14)","v":""},59,{"$f":"ADSI!$K$12","v":2021},0,{"$f":"F17","v":0},0,0,0,0,0,0,0]
[{"$f":"IF(ADSI!$G$12=\"\",ADSI!$H$16,ADSI!$H$12)","v":6},{"$f":"IF(ADSI!$G$12=\"\",ADSI!$H$16,ADSI!$H$14)","v":""},60,{"$f":"ADSI!$K$12","v":2021},97,{"$f":"F18","v":0},0,0,0,88,10,0,98]
[{"$f":"IF(ADSI!$G$12=\"\",ADSI!$H$16,ADSI!$H$12)","v":6},{"$f":"IF(ADSI!$G$12=\"\",ADSI!$H$16,ADSI!$H$14)","v":""},61,{"$f":"ADSI!$K$12","v":2021},17,{"$f":"F19","v":0},0,0,0,16,1,0,17]
[{"$f":"IF(ADSI!$G$12=\"\",ADSI!$H$16,ADSI!$H$12)","v":6},{"$f":"IF(ADSI!$G$12=\"\",ADSI!$H$16,ADSI!$H$14)","v":""},62,{"$f":"ADSI!$K$12","v":2021},25,{"$f":"F20","v":0},0,0,0,23,2,0,25]
[{"$f":"IF(ADSI!$G$12=\"\",ADSI!$H$16,ADSI!$H$12)","v":6},{"$f":"IF(ADSI!$G$12=\"\",ADSI!$H$16,ADSI!$H$14)","v":""},63,{"$f":"ADSI!$K$12","v":2021},1,{"$f":"F21","v":0},0,0,0,1,0,0,1]
[{"$f":"IF(ADSI!$G$12=\"\",ADSI!$H$16,ADSI!$H$12)","v":6},{"$f":"IF(ADSI!$G$12=\"\",ADSI!$H$16,ADSI!$H$14)","v":""},64,{"$f":"ADSI!$K$12","v":2021},0,{"$f":"F22","v":0},0,0,0,0,0,0,0]
[{"$f":"IF(ADSI!$G$12=\"\",ADSI!$H$16,ADSI!$H$12)","v":6},{"$f":"IF(ADSI!$G$12=\"\",ADSI!$H$16,ADSI!$H$14)","v":""},65,{"$f":"ADSI!$K$12","v":2021},1,{"$f":"F23","v":0},0,0,0,1,0,0,1]
[{"$f":"IF(ADSI!$G$12=\"\",ADSI!$H$16,ADSI!$H$12)","v":6},{"$f":"IF(ADSI!$G$12=\"\",ADSI!$H$16,ADSI!$H$14)","v":""},66,{"$f":"ADSI!$K$12","v":2021},0,{"$f":"F24","v":0},0,0,0,0,0,0,0]
[{"$f":"IF(ADSI!$G$12=\"\",ADSI!$H$16,ADSI!$H$12)","v":6},{"$f":"IF(ADSI!$G$12=\"\",ADSI!$H$16,ADSI!$H$14)","v":""},67,{"$f":"ADSI!$K$12","v":2021},0,{"$f":"F25","v":0},0,0,0,0,0,0,0]
[{"$f":"IF(ADSI!$G$12=\"\",ADSI!$H$16,ADSI!$H$12)","v":6},{"$f":"IF(ADSI!$G$12=\"\",ADSI!$H$16,ADSI!$H$14)","v":""},68,{"$f":"ADSI!$K$12","v":2021},101,{"$f":"F26","v":0},0,0,0,93,9,0,102]
[{"$f":"IF(ADSI!$G$12=\"\",ADSI!$H$16,ADSI!$H$12)","v":6},{"$f":"IF(ADSI!$G$12=\"\",ADSI!$H$16,ADSI!$H$14)","v":""},69,{"$f":"ADSI!$K$12","v":2021},77,{"$f":"F27","v":0},0,0,0,72,5,0,77]
[{"$f":"IF(ADSI!$G$12=\"\",ADSI!$H$16,ADSI!$H$12)","v":6},{"$f":"IF(ADSI!$G$12=\"\",ADSI!$H$16,ADSI!$H$14)","v":""},70,{"$f":"ADSI!$K$12","v":2021},7,{"$f":"F28","v":0},0,0,0,7,1,0,8]
[{"$f":"IF(ADSI!$G$12=\"\",ADSI!$H$16,ADSI!$H$12)","v":6},{"$f":"IF(ADSI!$G$12=\"\",ADSI!$H$16,ADSI!$H$14)","v":""},71,{"$f":"ADSI!$K$12","v":2021},1,{"$f":"F29","v":0},0,0,0,1,0,0,1]
[{"$f":"IF(ADSI!$G$12=\"\",ADSI!$H$16,ADSI!$H$12)","v":6},{"$f":"IF(ADSI!$G$12=\"\",ADSI!$H$16,ADSI!$H$14)","v":""},72,{"$f":"ADSI!$K$12","v":2021},0,{"$f":"F30","v":0},0,0,0,0,0,0,0]
[{"$f":"IF(ADSI!$G$12=\"\",ADSI!$H$16,ADSI!$H$12)","v":6},{"$f":"IF(ADSI!$G$12=\"\",ADSI!$H$16,ADSI!$H$14)","v":""},73,{"$f":"ADSI!$K$12","v":2021},0,{"$f":"F31","v":0},0,0,0,0,0,0,0]
[{"$f":"IF(ADSI!$G$12=\"\",ADSI!$H$16,ADSI!$H$12)","v":6},{"$f":"IF(ADSI!$G$12=\"\",ADSI!$H$16,ADSI!$H$14)","v":""},74,{"$f":"ADSI!$K$12","v":2021},16,{"$f":"F32","v":0},0,0,0,13,3,0,16]
[{"$f":"IF(ADSI!$G$12=\"\",ADSI!$H$16,ADSI!$H$12)","v":6},{"$f":"IF(ADSI!$G$12=\"\",ADSI!$H$16,ADSI!$H$14)","v":""},75,{"$f":"ADSI!$K$12","v":2021},3,{"$f":"F33","v":0},0,0,0,3,0,0,3]
[{"$f":"IF(ADSI!$G$12=\"\",ADSI!$H$16,ADSI!$H$12)","v":6},{"$f":"IF(ADSI!$G$12=\"\",ADSI!$H$16,ADSI!$H$14)","v":""},76,{"$f":"ADSI!$K$12","v":2021},45,{"$f":"F34","v":1},0,0,1,3,6,0,9]
[{"$f":"IF(ADSI!$G$12=\"\",ADSI!$H$16,ADSI!$H$12)","v":6},{"$f":"IF(ADSI!$G$12=\"\",ADSI!$H$16,ADSI!$H$14)","v":""},77,{"$f":"ADSI!$K$12","v":2021},16,{"$f":"F35","v":0},0,0,0,1,0,0,1]
[{"$f":"IF(ADSI!$G$12=\"\",ADSI!$H$16,ADSI!$H$12)","v":6},{"$f":"IF(ADSI!$G$12=\"\",ADSI!$H$16,ADSI!$H$14)","v":""},78,{"$f":"ADSI!$K$12","v":2021},0,{"$f":"F36","v":0},0,0,0,0,0,0,0]
[{"$f":"IF(ADSI!$G$12=\"\",ADSI!$H$16,ADSI!$H$12)","v":6},{"$f":"IF(ADSI!$G$12=\"\",ADSI!$H$16,ADSI!$H$14)","v":""},79,{"$f":"ADSI!$K$12","v":2021},1,{"$f":"F37","v":0},0,0,0,0,1,0,1]
[{"$f":"IF(ADSI!$G$12=\"\",ADSI!$H$16,ADSI!$H$12)","v":6},{"$f":"IF(ADSI!$G$12=\"\",ADSI!$H$16,ADSI!$H$14)","v":""},80,{"$f":"ADSI!$K$12","v":2021},5,{"$f":"F38","v":0},0,0,0,2,1,0,3]
[{"$f":"IF(ADSI!$G$12=\"\",ADSI!$H$16,ADSI!$H$12)","v":6},{"$f":"IF(ADSI!$G$12=\"\",ADSI!$H$16,ADSI!$H$14)","v":""},81,{"$f":"ADSI!$K$12","v":2021},23,{"$f":"F39","v":1},0,0,1,0,4,0,4]
[{"$f":"IF(ADSI!$G$12=\"\",ADSI!$H$16,ADSI!$H$12)","v":6},{"$f":"IF(ADSI!$G$12=\"\",ADSI!$H$16,ADSI!$H$14)","v":""},82,{"$f":"ADSI!$K$12","v":2021},3,{"$f":"F40","v":1},1,0,2,1,0,0,1]
[{"$f":"IF(ADSI!$G$12=\"\",ADSI!$H$16,ADSI!$H$12)","v":6},{"$f":"IF(ADSI!$G$12=\"\",ADSI!$H$16,ADSI!$H$14)","v":""},83,{"$f":"ADSI!$K$12","v":2021},0,{"$f":"F41","v":0},0,0,0,0,0,0,0]
[{"$f":"IF(ADSI!$G$12=\"\",ADSI!$H$16,ADSI!$H$12)","v":6},{"$f":"IF(ADSI!$G$12=\"\",ADSI!$H$16,ADSI!$H$14)","v":""},84,{"$f":"ADSI!$K$12","v":2021},2899,{"$f":"F42","v":696},160,0,856,238,37,0,275]
[{"$f":"IF(ADSI!$G$12=\"\",ADSI!$H$16,ADSI!$H$12)","v":6},{"$f":"IF(ADSI!$G$12=\"\",ADSI!$H$16,ADSI!$H$14)","v":""},85,{"$f":"ADSI!$K$12","v":2021},2850,{"$f":"F43","v":696},160,0,856,193,33,0,226]
[{"$f":"IF(ADSI!$G$12=\"\",ADSI!$H$16,ADSI!$H$12)","v":6},{"$f":"IF(ADSI!$G$12=\"\",ADSI!$H$16,ADSI!$H$14)","v":""},{"$f":"A44","v":86},{"$f":"ADSI!$K$12","v":2021},0,{"$f":"F44","v":0},0,0,0,0,0,0,0]
[{"$f":"IF(ADSI!$G$12=\"\",ADSI!$H$16,ADSI!$H$12)","v":6},{"$f":"IF(ADSI!$G$12=\"\",ADSI!$H$16,ADSI!$H$14)","v":""},87,{"$f":"ADSI!$K$12","v":2021},2850,{"$f":"F45","v":696},160,0,856,193,33,0,226]
[{"$f":"IF(ADSI!$G$12=\"\",ADSI!$H$16,ADSI!$H$12)","v":6},{"$f":"IF(ADSI!$G$12=\"\",ADSI!$H$16,ADSI!$H$14)","v":""},88,{"$f":"ADSI!$K$12","v":2021},0,{"$f":"F46","v":0},0,0,0,0,0,0,0]
[{"$f":"IF(ADSI!$G$12=\"\",ADSI!$H$16,ADSI!$H$12)","v":6},{"$f":"IF(ADSI!$G$12=\"\",ADSI!$H$16,ADSI!$H$14)","v":""},89,{"$f":"ADSI!$K$12","v":2021},49,{"$f":"F47","v":0},0,0,0,45,4,0,49]
[{"$f":"IF(ADSI!$G$12=\"\",ADSI!$H$16,ADSI!$H$12)","v":6},{"$f":"IF(ADSI!$G$12=\"\",ADSI!$H$16,ADSI!$H$14)","v":""},90,{"$f":"ADSI!$K$12","v":2021},0,{"$f":"F48","v":0},0,0,0,0,0,0,0]
[{"$f":"IF(ADSI!$G$12=\"\",ADSI!$H$16,ADSI!$H$12)","v":6},{"$f":"IF(ADSI!$G$12=\"\",ADSI!$H$16,ADSI!$H$14)","v":""},91,{"$f":"ADSI!$K$12","v":2021},10,{"$f":"F49","v":0},0,0,0,5,5,0,10]
[{"$f":"IF(ADSI!$G$12=\"\",ADSI!$H$16,ADSI!$H$12)","v":6},{"$f":"IF(ADSI!$G$12=\"\",ADSI!$H$16,ADSI!$H$14)","v":""},{"$f":"A50","v":92},{"$f":"ADSI!$K$12","v":2021},16,{"$f":"F50","v":0},0,0,0,13,3,0,16]
[{"$f":"IF(ADSI!$G$12=\"\",ADSI!$H$16,ADSI!$H$12)","v":6},{"$f":"IF(ADSI!$G$12=\"\",ADSI!$H$16,ADSI!$H$14)","v":""},120,{"$f":"ADSI!$K$12","v":2021},3222,{"$f":"F51","v":698},161,0,859,489,73,0,562]

{"sheet":"P-II-A","index":4,"n_rows":514,"n_cols":64,"rows_kept":514,"cut":false,"hidden":false,"merged":[[222,52,222,53],[220,52,220,53],[221,52,221,53],[21,0,21,2],[22,0,22,2],[203,53,204,53],[4,0,5,0],[4,4,5,4],[203,52,204,52],[4,1,5,1],[4,2,5,2],[4,3,5,3],[23,0,23,2],[203,54,204,54],[203,56,203,59],[203,60,203,63],[4,5,4,8],[4,9,4,12],[203,55,205,55]]}
[{"$f":"ADSI!$B$1","v":"Goa, , ADSI-2021"}]
["Errors",null,{"$f":"COUNTIF(E8:E21,FALSE)+COUNTIF(D23:M23,FALSE)","v":0},null,"Abnormal Variations",{"$f":"COUNTIF(D24:M24,\"ABVAR\")","v":3}]
["Proforma–II(A)"]
["Fire Accidents classified according to Place of Occurrence "]
["Code","Sl. No.","Place of occurrence","No. of Cases","VALIDATION WITH NUMBER OF CASES","No. of Persons Injured",null,null,null,"No. of Persons Died"]
[null,null,null,null,null,"Male","Female","Transgender","Total [sum of (4) to (6)]","Male","Female","Transgender","Total [sum of (8) to (10)]"]
[null,"(1)","(2)","(3)",null,"(4)","(5)","(6)","(7)","(8)","(9)","(10)","(11)"]
[150,1,"Fire in School Buildings",0,{"$f":"IF(AND(OR(I8>0,M8>0),D8=0),FALSE,\"\")","v":""},0,0,0,{"$f":"SUM(F8:H8)","v":0},0,0,0,{"$f":"SUM(J8:L8)","v":0}]
[151,2,"Fire in Commercial Buildings",2,{"$f":"IF(AND(OR(I9>0,M9>0),D9=0),FALSE,\"\")","v":""},0,0,0,{"$f":"SUM(F9:H9)","v":0},0,1,0,{"$f":"SUM(J9:L9)","v":1}]
[152,3,"Fire in Residential/Dwelling Building",12,"",1,0,0,1,2,3,0,5]
[153,4,"Fire in Government Buildings",0,"",0,0,0,0,0,0,0,0]
[154,5,"Fire in the Mines",0,"",0,0,0,0,0,0,0,0]
[155,6,"Fire in Factory manufacturing combustible materials including Cracker/Match Box Factories",0,"",0,0,0,0,0,0,0,0]
[156,7,"Fire in the factories (other than Sl.-6)",1,"",0,0,0,0,0,0,0,0]
[157,8,"Accidental Fire in Train(s)",0,"",0,0,0,0,0,0,0,0]
[158,9,"Accidental Fire in Vehicles (Automobiles) (Total) (sum of 9.1 to 9.3)",{"$f":"SUM(D17:D19)","v":16},"",{"$f":"SUM(F17:F19)","v":0},0,0,0,{"$f":"SUM(J17:J19)","v":1},0,0,1]
[159,null,"9.1 Passenger Vehicle (e.g. Bus/Taxi/ Auto/etc.)",0,"",0,0,0,0,0,0,0,0]
[160,null,"9.2 Private Vehicle",15,"",0,0,0,0,0,0,0,0]
[161,null,"9.3 Goods Carriers",1,"",0,0,0,0,1,0,0,1]
[162,10,"Others",14,"",0,0,0,0,0,2,0,2]
[180,11,"Total (sum of Sl. 1 to 10)",{"$f":"SUM(D8:D16, (D20:D20))","v":45},"",{"$f":"SUM(F8:F16, (F20:F20))","v":1},0,0,1,3,6,0,9]
[" PROFORMA–II VALUES [Sl.– 9 (Accidental Fire (Total))]",null,null,{"$f":"'P-II'!D34","v":45},null,{"$f":"'P-II'!F34","v":1},{"$f":"'P-II'!G34","v":0},{"$f":"'P-II'!H34","v":0},{"$f":"'P-II'!I34","v":1},{"$f":"'P-II'!J34","v":3},{"$f":"'P-II'!K34","v":6},{"$f":"'P-II'!L34","v":0},{"$f":"'P-II'!M34","v":9}]
["VALIDATION WITH PROFORMA–II [Sl.– 9 (Accidental Fire (Total))]",null,null,{"$f":"IF(D21='P-II'!D34, \"\", FALSE)","v":""},null,{"$f":"IF(F21='P-II'!F34, \"\", FALSE)","v":""},{"$f":"IF(G21='P-II'!G34, \"\", FALSE)","v":""},{"$f":"IF(H21='P-II'!H34, \"\", FALSE)","v":""},{"$f":"IF(I21='P-II'!I34, \"\", FALSE)","v":""},{"$f":"IF(J21='P-II'!J34, \"\", FALSE)","v":""},{"$f":"IF(K21='P-II'!K34, \"\", FALSE)","v":""},{"$f":"IF(L21='P-II'!L34, \"\", FALSE)","v":""},{"$f":"IF(M21='P-II'!M34, \"\", FALSE)","v":""}]
["SL-10 ABNORMAL VARIATION IN \"OTHERS\" DATA",null,null,{"$f":"IF(D21>0,IF((D20/D21*100)>20,\"ABVAR\",\"\"),\"\")","v":"ABVAR"},null,{"$f":"IF(F21>0,IF((F20/F21*100)>20,\"ABVAR\",\"\"),\"\")","v":""},"","","","","ABVAR","","ABVAR"]
[]
[]
[]
[]
[]
[]
[]
[]
[]
[]
[]
[]
[]
[]
[]
[]
[]
[]
[]
[]
[]
[]
[]
[]
[]
[]
[]
[]
[]
[]
[]
[]
[]
[]
[]
[]
[]
[]
[]
[]
[]
[]
[]
[]
[]
[]
[]
[]
[]
[]
[]
[]
[]
[]
[]
[]
[]
[]
[]
[]
[]
[]
[]
[]
[]
[]
[]
[]
[]
[]
[]
[]
[]
[]
[]
[]
[]
[]
[]
[]
[]
[]
[]
[]
[]
[]
[]
[]
[]
[]
[]
[]
[]
[]
[]
[]
[]
[]
[]
[]
[]
[]
[]
[]
[]
[]
[]
[]
[]
[]
[]
[]
[]
[]
[]
[]
[]
[]
[]
[]
[]
[]
[]
[]
[]
[]
[]
[]
[]
[]
[]
[]
[]
[]
[]
[]
[]
[]
[]
[]
[]
[]
[]
[]
[]
[]
[]
[]
[]
[]
[]
[]
[]
[]
[]
[]
[]
[]
[]
[]
[]
[]
[]
[]
[]
[]
[]
[]
[]
[]
[]
[]
[]
[]
[]
[null,null,null,null,null,null,null,null,null,null,null,null,null,null,null,null,null,null,null,null,null,null,null,null,null,null,null,null,null,null,null,null,null,null,null,null,null,null,null,null,null,null,null,null,null,null,null,null,null,null,null,null,{"$f":"A1","v":"Goa, , ADSI-2021"}]
[null,null,null,null,null,null,null,null,null,null,null,null,null,null,null,null,null,null,null,null,null,null,null,null,null,null,null,null,null,null,null,null,null,null,null,null,null,null,null,null,null,null,null,null,null,null,null,null,null,null,null,null,{"$f":"A2","v":"Errors"},{"$f":"C2","v":0},null,{"$f":"E2","v":"Abnormal Variations"},{"$f":"F2","v":3}]
[null,null,null,null,null,null,null,null,null,null,null,null,null,null,null,null,null,null,null,null,null,null,null,null,null,null,null,null,null,null,null,null,null,null,null,null,null,null,null,null,null,null,null,null,null,null,null,null,null,null,null,null,{"$f":"A3","v":"Proforma–II(A)"}]
[null,null,null,null,null,null,null,null,null,null,null,null,null,null,null,null,null,null,null,null,null,null,null,null,null,null,null,null,null,null,null,null,null,null,null,null,null,null,null,null,null,null,null,null,null,null,null,null,null,null,null,null,{"$f":"A4","v":"Fire Accidents classified according to Place of Occurrence "}]
[null,null,null,null,null,null,null,null,null,null,null,null,null,null,null,null,null,null,null,null,null,null,null,null,null,null,null,null,null,null,null,null,null,null,null,null,null,null,null,null,null,null,null,null,null,null,null,null,null,null,null,null,{"$f":"B5","v":"Sl. No."},{"$f":"C5","v":"Place of occurrence"},{"$f":"D5","v":"No. of Cases"},{"$f":"E5","v":"VALIDATION WITH NUMBER OF CASES"},{"$f":"F5","v":"No. of Persons Injured"},null,null,null,{"$f":"J5","v":"No. of Persons Died"}]
[null,null,null,null,null,null,null,null,null,null,null,null,null,null,null,null,null,null,null,null,null,null,null,null,null,null,null,null,null,null,null,null,null,null,null,null,null,null,null,null,null,null,null,null,null,null,null,null,null,null,null,null,null,null,null,null,"Male",{"$f":"G6","v":"Female"},{"$f":"H6","v":"Transgender"},{"$f":"I6","v":"Total [sum of (4) to (6)]"},"Male",{"$f":"K6","v":"Female"},{"$f":"L6","v":"Transgender"},{"$f":"M6","v":"Total [sum of (8) to (10)]"}]
[null,null,null,null,null,null,null,null,null,null,null,null,null,null,null,null,null,null,null,null,null,null,null,null,null,null,null,null,null,null,null,null,null,null,null,null,null,null,null,null,null,null,null,null,null,null,null,null,null,null,null,null,{"$f":"B7","v":"(1)"},{"$f":"C7","v":"(2)"},{"$f":"D7","v":"(3)"},null,"(4)","(5)","(6)","(7)","(8)","(9)","(10)","(11)"]
[null,null,null,null,null,null,null,null,null,null,null,null,null,null,null,null,null,null,null,null,null,null,null,null,null,null,null,null,null,null,null,null,null,null,null,null,null,null,null,null,null,null,null,null,null,null,null,null,null,null,null,null,1,"Fire in School Buildings",0,{"$f":"E8","v":""},0,0,0,0,0,0,0,0]
[null,null,null,null,null,null,null,null,null,null,null,null,null,null,null,null,null,null,null,null,null,null,null,null,null,null,null,null,null,null,null,null,null,null,null,null,null,null,null,null,null,null,null,null,null,null,null,null,null,null,null,null,2,"Fire in Commercial Buildings",2,{"$f":"E9","v":""},0,0,0,0,0,1,0,1]
[null,null,null,null,null,null,null,null,null,null,null,null,null,null,null,null,null,null,null,null,null,null,null,null,null,null,null,null,null,null,null,null,null,null,null,null,null,null,null,null,null,null,null,null,null,null,null,null,null,null,null,null,3,"Fire in Residential/Dwelling Building",12,"",1,0,0,1,2,3,0,5]
[null,null,null,null,null,null,null,null,null,null,null,null,null,null,null,null,null,null,null,null,null,null,null,null,null,null,null,null,null,null,null,null,null,null,null,null,null,null,null,null,null,null,null,null,null,null,null,null,null,null,null,null,4,"Fire in Government Buildings",0,"",0,0,0,0,0,0,0,0]
[null,null,null,null,null,null,null,null,null,null,null,null,null,null,null,null,null,null,null,null,null,null,null,null,null,null,null,null,null,null,null,null,null,null,null,null,null,null,null,null,null,null,null,null,null,null,null,null,null,null,null,null,5,"Fire in the Mines",0,"",0,0,0,0,0,0,0,0]
[null,null,null,null,null,null,null,null,null,null,null,null,null,null,null,null,null,null,null,null,null,null,null,null,null,null,null,null,null,null,null,null,null,null,null,null,null,null,null,null,null,null,null,null,null,null,null,null,null,null,null,null,6,"Fire in Factory manufacturing combustible materials including Cracker/Match Box Factories",0,"",0,0,0,0,0,0,0,0]
[null,null,null,null,null,null,null,null,null,null,null,null,null,null,null,null,null,null,null,null,null,null,null,null,null,null,null,null,null,null,null,null,null,null,null,null,null,null,null,null,null,null,null,null,null,null,null,null,null,null,null,null,7,"Fire in the factories (other than Sl.-6)",1,"",0,0,0,0,0,0,0,0]
[null,null,null,null,null,null,null,null,null,null,null,null,null,null,null,null,null,null,null,null,null,null,null,null,null,null,null,null,null,null,null,null,null,null,null,null,null,null,null,null,null,null,null,null,null,null,null,null,null,null,null,null,8,"Accidental Fire in Train(s)",0,"",0,0,0,0,0,0,0,0]
[null,null,null,null,null,null,null,null,null,null,null,null,null,null,null,null,null,null,null,null,null,null,null,null,null,null,null,null,null,null,null,null,null,null,null,null,null,null,null,null,null,null,null,null,null,null,null,null,null,null,null,null,9,"Accidental Fire in Vehicles (Automobiles) (Total) (sum of 9.1 to 9.3)",16,"",0,0,0,0,1,0,0,1]
[null,null,null,null,null,null,null,null,null,null,null,null,null,null,null,null,null,null,null,null,null,null,null,null,null,null,null,null,null,null,null,null,null,null,null,null,null,null,null,null,null,null,null,null,null,null,null,null,null,null,null,null,null,{"$f":"C17","v":"9.1 Passenger Vehicle (e.g. Bus/Taxi/ Auto/etc.)"},0,"",0,0,0,0,0,0,0,0]
[null,null,null,null,null,null,null,null,null,null,null,null,null,null,null,null,null,null,null,null,null,null,null,null,null,null,null,null,null,null,null,null,null,null,null,null,null,null,null,null,null,null,null,null,null,null,null,null,null,null,null,null,null,"9.2 Private Vehicle",15,"",0,0,0,0,0,0,0,0]
[null,null,null,null,null,null,null,null,null,null,null,null,null,null,null,null,null,null,null,null,null,null,null,null,null,null,null,null,null,null,null,null,null,null,null,null,null,null,null,null,null,null,null,null,null,null,null,null,null,null,null,null,null,"9.3 Goods Carriers",1,"",0,0,0,0,1,0,0,1]
[null,null,null,null,null,null,null,null,null,null,null,null,null,null,null,null,null,null,null,null,null,null,null,null,null,null,null,null,null,null,null,null,null,null,null,null,null,null,null,null,null,null,null,null,null,null,null,null,null,null,null,null,{"$f":"B20","v":10},{"$f":"C20","v":"Others"},{"$f":"D20","v":14},"",{"$f":"F20","v":0},{"$f":"G20","v":0},{"$f":"H20","v":0},{"$f":"I20","v":0},{"$f":"J20","v":0},{"$f":"K20","v":2},{"$f":"L20","v":0},{"$f":"M20","v":2}]
[null,null,null,null,null,null,null,null,null,null,null,null,null,null,null,null,null,null,null,null,null,null,null,null,null,null,null,null,null,null,null,null,null,null,null,null,null,null,null,null,null,null,null,null,null,null,null,null,null,null,null,null,{"$f":"B21","v":11},"Total (sum of Sl. 1 to 10)",45,"",1,0,0,1,3,6,0,9]
[null,null,null,null,null,null,null,null,null,null,null,null,null,null,null,null,null,null,null,null,null,null,null,null,null,null,null,null,null,null,null,null,null,null,null,null,null,null,null,null,null,null,null,null,null,null,null,null,null,null,null,null,{"$f":"A22","v":" PROFORMA–II VALUES [Sl.– 9 (Accidental Fire (Total))]"},null,{"$f":"D22","v":45},null,1,0,0,1,3,6,0,9]
[null,null,null,null,null,null,null,null,null,null,null,null,null,null,null,null,null,null,null,null,null,null,null,null,null,null,null,null,null,null,null,null,null,null,null,null,null,null,null,null,null,null,null,null,null,null,null,null,null,null,null,null,{"$f":"A23","v":"VALIDATION WITH PROFORMA–II [Sl.– 9 (Accidental Fire (Total))]"},null,{"$f":"D23","v":""},null,"","","","","","","",""]
[null,null,null,null,null,null,null,null,null,null,null,null,null,null,null,null,null,null,null,null,null,null,null,null,null,null,null,null,null,null,null,null,null,null,null,null,null,null,null,null,null,null,null,null,null,null,null,null,null,null,null,null,{"$f":"A24","v":"SL-10 ABNORMAL VARIATION IN \"OTHERS\" DATA"},null,{"$f":"D24","v":"ABVAR"},null,"","","","","","ABVAR","","ABVAR"]
[]
[]
[]
[]
[]
[]
[]
[]
[]
[]
[]
[]
[]
[]
[]
[]
[]
[]
[]
[]
[]
[]
[]
[]
[]
[]
[]
[]
[]
[]
[]
[]
[]
[]
[]
[]
[]
[]
[]
[]
[]
[]
[]
[]
[]
[]
[]
[]
[]
[]
[]
[]
[]
[]
[]
[]
[]
[]
[]
[]
[]
[]
[]
[]
[]
[]
[]
[]
[]
[]
[]
[]
[]
[]
[]
[]
[]
[]
[]
[]
[]
[]
[]
[]
[]
[]
[]
[]
[]
[]
[]
[]
[]
[]
[]
[]
[]
[]
[]
[]
[]
[]
[]
[]
[]
[]
[]
[]
[]
[]
[]
[]
[]
[]
[]
[]
[]
[]
[]
[]
[]
[]
[]
[]
[]
[]
[]
[]
[]
[]
[]
[]
[]
[]
[]
[]
[]
[]
[]
[]
[]
[]
[]
[]
[]
[]
[]
[]
[]
[]
[]
[]
[]
[]
[]
[]
[]
[]
[]
[]
[]
[]
[]
[]
[]
[]
[]
[]
[]
[]
[]
[]
[]
[]
[]
[]
[]
[]
[]
[]
[]
[]
[]
[]
[]
[]
[]
[]
[]
[]
[]
[]
[]
[]
[]
[]
[]
[]
[]
[]
[]
[]
[]
[]
[]
[]
[]
[]
[]
[]
[]
[]
[]
[]
[]
[]
[]
[]
[]
[]
[]
[]
[]
[]
[]
[]
[]
[]
[]
[]
[]
[]
[]
[]
[]
[]
[]
[]
[]
[]
[]
[]
[]
[]
[]
[]
[]
[]
[]
[]
[]
[]
[]
[]
[]
[]
[]
[]
[]
[]
[]
[]
[]
[]
[]
[]
[]
[]
[]
[]
[]
[]
[]
[]
[]
[]
["StateUTCityCode","DistrictCode","CrimeCode","DataYear","Number of Cases","Injured_Male","Injured_Female","Injured_Trans","Injured_Total","Died_Male","Died_Female","Died_Trans","Died_Total"]
[{"$f":"IF(ADSI!$G$12=\"\",ADSI!$H$16,ADSI!$H$12)","v":6},{"$f":"IF(ADSI!$G$12=\"\",ADSI!$H$16,ADSI!$H$14)","v":""},{"$f":"A8","v":150},{"$f":"ADSI!$K$12","v":2021},{"$f":"D8","v":0},{"$f":"F8","v":0},{"$f":"G8","v":0},0,0,0,0,0,0]
[{"$f":"IF(ADSI!$G$12=\"\",ADSI!$H$16,ADSI!$H$12)","v":6},{"$f":"IF(ADSI!$G$12=\"\",ADSI!$H$16,ADSI!$H$14)","v":""},{"$f":"A9","v":151},{"$f":"ADSI!$K$12","v":2021},{"$f":"D9","v":2},{"$f":"F9","v":0},0,0,0,0,1,0,1]
[{"$f":"IF(ADSI!$G$12=\"\",ADSI!$H$16,ADSI!$H$12)","v":6},{"$f":"IF(ADSI!$G$12=\"\",ADSI!$H$16,ADSI!$H$14)","v":""},152,{"$f":"ADSI!$K$12","v":2021},12,{"$f":"F10","v":1},0,0,1,2,3,0,5]
[{"$f":"IF(ADSI!$G$12=\"\",ADSI!$H$16,ADSI!$H$12)","v":6},{"$f":"IF(ADSI!$G$12=\"\",ADSI!$H$16,ADSI!$H$14)","v":""},153,{"$f":"ADSI!$K$12","v":2021},0,{"$f":"F11","v":0},0,0,0,0,0,0,0]
[{"$f":"IF(ADSI!$G$12=\"\",ADSI!$H$16,ADSI!$H$12)","v":6},{"$f":"IF(ADSI!$G$12=\"\",ADSI!$H$16,ADSI!$H$14)","v":""},154,{"$f":"ADSI!$K$12","v":2021},0,{"$f":"F12","v":0},0,0,0,0,0,0,0]
[{"$f":"IF(ADSI!$G$12=\"\",ADSI!$H$16,ADSI!$H$12)","v":6},{"$f":"IF(ADSI!$G$12=\"\",ADSI!$H$16,ADSI!$H$14)","v":""},155,{"$f":"ADSI!$K$12","v":2021},0,{"$f":"F13","v":0},0,0,0,0,0,0,0]
[{"$f":"IF(ADSI!$G$12=\"\",ADSI!$H$16,ADSI!$H$12)","v":6},{"$f":"IF(ADSI!$G$12=\"\",ADSI!$H$16,ADSI!$H$14)","v":""},156,{"$f":"ADSI!$K$12","v":2021},1,{"$f":"F14","v":0},0,0,0,0,0,0,0]
[{"$f":"IF(ADSI!$G$12=\"\",ADSI!$H$16,ADSI!$H$12)","v":6},{"$f":"IF(ADSI!$G$12=\"\",ADSI!$H$16,ADSI!$H$14)","v":""},157,{"$f":"ADSI!$K$12","v":2021},0,{"$f":"F15","v":0},0,0,0,0,0,0,0]
[{"$f":"IF(ADSI!$G$12=\"\",ADSI!$H$16,ADSI!$H$12)","v":6},{"$f":"IF(ADSI!$G$12=\"\",ADSI!$H$16,ADSI!$H$14)","v":""},158,{"$f":"ADSI!$K$12","v":2021},16,{"$f":"F16","v":0},0,0,0,1,0,0,1]
[{"$f":"IF(ADSI!$G$12=\"\",ADSI!$H$16,ADSI!$H$12)","v":6},{"$f":"IF(ADSI!$G$12=\"\",ADSI!$H$16,ADSI!$H$14)","v":""},159,{"$f":"ADSI!$K$12","v":2021},0,{"$f":"F17","v":0},0,0,0,0,0,0,0]
[{"$f":"IF(ADSI!$G$12=\"\",ADSI!$H$16,ADSI!$H$12)","v":6},{"$f":"IF(ADSI!$G$12=\"\",ADSI!$H$16,ADSI!$H$14)","v":""},160,{"$f":"ADSI!$K$12","v":2021},15,{"$f":"F18","v":0},0,0,0,0,0,0,0]
[{"$f":"IF(ADSI!$G$12=\"\",ADSI!$H$16,ADSI!$H$12)","v":6},{"$f":"IF(ADSI!$G$12=\"\",ADSI!$H$16,ADSI!$H$14)","v":""},161,{"$f":"ADSI!$K$12","v":2021},1,{"$f":"F19","v":0},0,0,0,1,0,0,1]
[{"$f":"IF(ADSI!$G$12=\"\",ADSI!$H$16,ADSI!$H$12)","v":6},{"$f":"IF(ADSI!$G$12=\"\",ADSI!$H$16,ADSI!$H$14)","v":""},162,{"$f":"ADSI!$K$12","v":2021},14,{"$f":"F20","v":0},0,0,0,0,2,0,2]
[{"$f":"IF(ADSI!$G$12=\"\",ADSI!$H$16,ADSI!$H$12)","v":6},{"$f":"IF(ADSI!$G$12=\"\",ADSI!$H$16,ADSI!$H$14)","v":""},180,{"$f":"ADSI!$K$12","v":2021},45,{"$f":"F21","v":1},0,0,1,3,6,0,9]

{"sheet":"P-III","index":5,"n_rows":544,"n_cols":84,"rows_kept":544,"cut":false,"hidden":false,"merged":[[252,52,252,53],[253,52,253,53],[251,52,251,53],[52,0,52,2],[53,0,53,2],[54,0,54,2],[203,81,205,81],[203,82,206,82],[203,83,206,83],[203,52,205,52],[203,53,205,53],[203,54,203,80],[204,54,204,62],[204,63,204,71],[204,72,204,80],[205,79,206,79],[205,80,206,80],[205,70,206,70],[205,71,206,71],[205,61,206,61],[205,62,206,62],[4,31,6,31],[4,32,6,32],[4,1,6,1],[4,2,6,2],[4,30,6,30],[4,0,6,0],[5,3,5,11],[5,12,5,20],[5,21,5,29],[4,3,4,29]]}
[{"$f":"ADSI!$B$1","v":"Goa, , ADSI-2021"}]
["Errors",null,{"$f":"COUNTIF(L9:L52,FALSE)+COUNTIF(U9:U52,FALSE)+COUNTIF(AD9:AD52,FALSE)+COUNTIF(AG9:AG52,FALSE)","v":0},null,"Abnormal Variations",{"$f":"COUNTIF(D53:AG55,\"ABVAR\")","v":0}]
["Proforma–III"]
["Age wise Distribution of Accidental Deaths by Un-Natural Causes"]
["Code","Sl. No.","Causes","N u m b e r       o f      A c c i d e n t a l       D e a t h s",null,null,null,null,null,null,null,null,null,null,null,null,null,null,null,null,null,null,null,null,null,null,null,null,null,null,"Grand Total [sum of (9) + (16) + (23)]"," PROFORMA–II VALUES [Col.–(11) (Total Died)]","VALIDATION  WITH PROFORMA-II [Col.–(11) (Total Died)]"]
[null,null,null,"M a l e",null,null,null,null,null,null,null,null,"F e m a l e",null,null,null,null,null,null,null,null,"Transgender"]
[null,null,null,"below 14 years","14 and above – below 18 yrs","18 and above – below 30 years","30 and above – below 45 years","45 and above – below 60 years","60 years & above"," Total [sum of (3) to (8)]"," PROFORMA–II VALUES [Col.–(8) (Male Died)]","VALIDATION  WITH PROFORMA-II [Col.–(8) (Male Died)]","below 14 years","14 and above – below 18 yrs","18 and above – below 30 years","30 and above – below 45 years","45 and above – below 60 years","60 years & above","Total \n[sum of (10) to (15)]"," PROFORMA–II VALUES [Col.–(9) (Female Died)]","VALIDATION  WITH PROFORMA-II [Col.–(9) (Female Died)]","below 14 years","14 and above – below 18 yrs","18 and above – below 30 years","30 and above – below 45 years","45 and above – below 60 years","60 years & above","Total \n[sum of (17) to (22)]"," PROFORMA–II VALUES [Col.–(10) (Transgender Died)]","VALIDATION  WITH PROFORMA-II [Col.–(10) (Transgender Died)]"]
[null,"(1)","(2)","(3)","(4)","(5)","(6)","(7)","(8)","(9)",null,null,"(10)","(11)","(12)","(13)","(14)","(15)","(16)",null,null,"(17)","(18)","(19)","(20)","(21)","(22)","(23)",null,null,"(24)"]
[200,1,"Air Crash",0,0,0,0,0,0,{"$f":"SUM(D9:I9)","v":0},{"$f":"'P-II'!J8","v":0},{"$f":"IF(J9='P-II'!J8,\"\",FALSE)","v":""},0,0,0,0,0,0,{"$f":"SUM(M9:R9)","v":0},{"$f":"'P-II'!K8","v":0},{"$f":"IF(S9='P-II'!K8,\"\",FALSE)","v":""},0,0,0,0,0,0,{"$f":"SUM(V9:AA9)","v":0},{"$f":"'P-II'!L8","v":0},{"$f":"IF(AB9='P-II'!L8,\"\",FALSE)","v":""},{"$f":"SUM(J9+S9+AB9)","v":0},{"$f":"'P-II'!M8","v":0},{"$f":"IF(AE9='P-II'!M8,\"\",FALSE)","v":""}]
[201,2,"Ship Accidents",0,0,0,0,0,0,0,{"$f":"'P-II'!J9","v":0},{"$f":"IF(J10='P-II'!J9,\"\",FALSE)","v":""},0,0,0,0,0,0,{"$f":"SUM(M10:R10)","v":0},{"$f":"'P-II'!K9","v":0},{"$f":"IF(S10='P-II'!K9,\"\",FALSE)","v":""},0,0,0,0,0,0,{"$f":"SUM(V10:AA10)","v":0},{"$f":"'P-II'!L9","v":0},{"$f":"IF(AB10='P-II'!L9,\"\",FALSE)","v":""},{"$f":"SUM(J10+S10+AB10)","v":0},{"$f":"'P-II'!M9","v":0},{"$f":"IF(AE10='P-II'!M9,\"\",FALSE)","v":""}]
[202,3,"Collapse of Structure (Total) (sum of 3.1 to 3.5)",{"$f":"SUM(D12:D16)","v":0},{"$f":"SUM(E12:E16)","v":0},1,2,{"$f":"SUM(H12:H16)","v":2},{"$f":"SUM(I12:I16)","v":0},5,{"$f":"'P-II'!J10","v":5},{"$f":"IF(J11='P-II'!J10,\"\",FALSE)","v":""},0,{"$f":"SUM(N12:N16)","v":0},{"$f":"SUM(O12:O16)","v":0},{"$f":"SUM(P12:P16)","v":0},{"$f":"SUM(Q12:Q16)","v":0},{"$f":"SUM(R12:R16)","v":0},0,{"$f":"'P-II'!K10","v":0},{"$f":"IF(S11='P-II'!K10,\"\",FALSE)","v":""},0,0,0,0,0,0,0,{"$f":"'P-II'!L10","v":0},{"$f":"IF(AB11='P-II'!L10,\"\",FALSE)","v":""},5,{"$f":"'P-II'!M10","v":5},{"$f":"IF(AE11='P-II'!M10,\"\",FALSE)","v":""}]
[203,null,"3.1 Collapse of Dwelling House/Residential building",0,0,1,0,0,0,1,{"$f":"'P-II'!J11","v":1},{"$f":"IF(J12='P-II'!J11,\"\",FALSE)","v":""},0,0,0,0,0,0,0,{"$f":"'P-II'!K11","v":0},{"$f":"IF(S12='P-II'!K11,\"\",FALSE)","v":""},0,0,0,0,0,0,0,{"$f":"'P-II'!L11","v":0},{"$f":"IF(AB12='P-II'!L11,\"\",FALSE)","v":""},1,{"$f":"'P-II'!M11","v":1},{"$f":"IF(AE12='P-II'!M11,\"\",FALSE)","v":""}]
[204,null,"3.2 Collapse of Official/Commercial Building",0,0,0,0,0,0,0,{"$f":"'P-II'!J12","v":0},{"$f":"IF(J13='P-II'!J12,\"\",FALSE)","v":""},0,0,0,0,0,0,0,{"$f":"'P-II'!K12","v":0},{"$f":"IF(S13='P-II'!K12,\"\",FALSE)","v":""},0,0,0,0,0,0,0,{"$f":"'P-II'!L12","v":0},{"$f":"IF(AB13='P-II'!L12,\"\",FALSE)","v":""},0,{"$f":"'P-II'!M12","v":0},{"$f":"IF(AE13='P-II'!M12,\"\",FALSE)","v":""}]
[205,null,"3.3 Collapse of Dam",0,0,0,0,0,0,0,{"$f":"'P-II'!J13","v":0},{"$f":"IF(J14='P-II'!J13,\"\",FALSE)","v":""},0,0,0,0,0,0,0,{"$f":"'P-II'!K13","v":0},{"$f":"IF(S14='P-II'!K13,\"\",FALSE)","v":""},0,0,0,0,0,0,0,{"$f":"'P-II'!L13","v":0},{"$f":"IF(AB14='P-II'!L13,\"\",FALSE)","v":""},0,{"$f":"'P-II'!M13","v":0},{"$f":"IF(AE14='P-II'!M13,\"\",FALSE)","v":""}]
[206,null,"3.4 Collapse of  Bridge",0,0,0,0,0,0,0,{"$f":"'P-II'!J14","v":0},{"$f":"IF(J15='P-II'!J14,\"\",FALSE)","v":""},0,0,0,0,0,0,0,{"$f":"'P-II'!K14","v":0},{"$f":"IF(S15='P-II'!K14,\"\",FALSE)","v":""},0,0,0,0,0,0,0,{"$f":"'P-II'!L14","v":0},{"$f":"IF(AB15='P-II'!L14,\"\",FALSE)","v":""},0,{"$f":"'P-II'!M14","v":0},{"$f":"IF(AE15='P-II'!M14,\"\",FALSE)","v":""}]
[207,null,"3.5 Others",0,0,0,2,2,0,4,{"$f":"'P-II'!J15","v":4},{"$f":"IF(J16='P-II'!J15,\"\",FALSE)","v":""},0,0,0,0,0,0,0,{"$f":"'P-II'!K15","v":0},{"$f":"IF(S16='P-II'!K15,\"\",FALSE)","v":""},0,0,0,0,0,0,0,{"$f":"'P-II'!L15","v":0},{"$f":"IF(AB16='P-II'!L15,\"\",FALSE)","v":""},4,{"$f":"'P-II'!M15","v":4},{"$f":"IF(AE16='P-II'!M15,\"\",FALSE)","v":""}]
[208,4,"Drowning (Total) (sum of 4.1 to 4.3)",{"$f":"SUM(D18:D20)","v":1},{"$f":"SUM(E18:E20)","v":4},34,33,21,11,104,{"$f":"'P-II'!J16","v":104},{"$f":"IF(J17='P-II'!J16,\"\",FALSE)","v":""},1,{"$f":"SUM(N18:N20)","v":2},{"$f":"SUM(O18:O20)","v":2},{"$f":"SUM(P18:P20)","v":1},{"$f":"SUM(Q18:Q20)","v":3},{"$f":"SUM(R18:R20)","v":2},11,{"$f":"'P-II'!K16","v":11},{"$f":"IF(S17='P-II'!K16,\"\",FALSE)","v":""},{"$f":"SUM(V18:V20)","v":0},{"$f":"SUM(W18:W20)","v":0},0,0,0,0,0,{"$f":"'P-II'!L16","v":0},{"$f":"IF(AB17='P-II'!L16,\"\",FALSE)","v":""},115,{"$f":"'P-II'!M16","v":115},{"$f":"IF(AE17='P-II'!M16,\"\",FALSE)","v":""}]
[209,null,"4.1 Boat Capsize",0,0,0,0,0,0,0,{"$f":"'P-II'!J17","v":0},{"$f":"IF(J18='P-II'!J17,\"\",FALSE)","v":""},0,0,0,0,0,0,0,{"$f":"'P-II'!K17","v":0},{"$f":"IF(S18='P-II'!K17,\"\",FALSE)","v":""},0,0,0,0,0,0,0,{"$f":"'P-II'!L17","v":0},{"$f":"IF(AB18='P-II'!L17,\"\",FALSE)","v":""},0,{"$f":"'P-II'!M17","v":0},{"$f":"IF(AE18='P-II'!M17,\"\",FALSE)","v":""}]
[210,null,"4.2 Accidental Falls into Waterbody",1,4,26,26,20,11,88,{"$f":"'P-II'!J18","v":88},{"$f":"IF(J19='P-II'!J18,\"\",FALSE)","v":""},1,2,1,1,3,2,10,{"$f":"'P-II'!K18","v":10},{"$f":"IF(S19='P-II'!K18,\"\",FALSE)","v":""},0,0,0,0,0,0,0,{"$f":"'P-II'!L18","v":0},{"$f":"IF(AB19='P-II'!L18,\"\",FALSE)","v":""},98,{"$f":"'P-II'!M18","v":98},{"$f":"IF(AE19='P-II'!M18,\"\",FALSE)","v":""}]
[211,null,"4.3 Other Cases",0,0,8,7,1,0,16,{"$f":"'P-II'!J19","v":16},{"$f":"IF(J20='P-II'!J19,\"\",FALSE)","v":""},0,0,1,0,0,0,1,{"$f":"'P-II'!K19","v":1},{"$f":"IF(S20='P-II'!K19,\"\",FALSE)","v":""},0,0,0,0,0,0,0,{"$f":"'P-II'!L19","v":0},{"$f":"IF(AB20='P-II'!L19,\"\",FALSE)","v":""},17,{"$f":"'P-II'!M19","v":17},{"$f":"IF(AE20='P-II'!M19,\"\",FALSE)","v":""}]
[212,5,"Electrocution",0,0,5,10,6,2,23,{"$f":"'P-II'!J20","v":23},{"$f":"IF(J21='P-II'!J20,\"\",FALSE)","v":""},0,0,2,0,0,0,2,{"$f":"'P-II'!K20","v":2},{"$f":"IF(S21='P-II'!K20,\"\",FALSE)","v":""},0,0,0,0,0,0,0,{"$f":"'P-II'!L20","v":0},{"$f":"IF(AB21='P-II'!L20,\"\",FALSE)","v":""},25,{"$f":"'P-II'!M20","v":25},{"$f":"IF(AE21='P-II'!M20,\"\",FALSE)","v":""}]
[213,6,"Accidental Explosion (Total) (sum of 6.1 to 6.4)",{"$f":"SUM(D23:D26)","v":0},{"$f":"SUM(E23:E26)","v":0},1,0,0,0,1,{"$f":"'P-II'!J21","v":1},{"$f":"IF(J22='P-II'!J21,\"\",FALSE)","v":""},{"$f":"SUM(M23:M26)","v":0},{"$f":"SUM(N23:N26)","v":0},{"$f":"SUM(O23:O26)","v":0},{"$f":"SUM(P23:P26)","v":0},{"$f":"SUM(Q23:Q26)","v":0},{"$f":"SUM(R23:R26)","v":0},0,{"$f":"'P-II'!K21","v":0},{"$f":"IF(S22='P-II'!K21,\"\",FALSE)","v":""},{"$f":"SUM(V23:V26)","v":0},{"$f":"SUM(W23:W26)","v":0},0,0,0,0,0,{"$f":"'P-II'!L21","v":0},{"$f":"IF(AB22='P-II'!L21,\"\",FALSE)","v":""},1,{"$f":"'P-II'!M21","v":1},{"$f":"IF(AE22='P-II'!M21,\"\",FALSE)","v":""}]
[214,null,"6.1 Domestic Gas Cylinder",0,0,0,0,0,0,0,{"$f":"'P-II'!J22","v":0},{"$f":"IF(J23='P-II'!J22,\"\",FALSE)","v":""},0,0,0,0,0,0,0,{"$f":"'P-II'!K22","v":0},{"$f":"IF(S23='P-II'!K22,\"\",FALSE)","v":""},0,0,0,0,0,0,0,{"$f":"'P-II'!L22","v":0},{"$f":"IF(AB23='P-II'!L22,\"\",FALSE)","v":""},0,{"$f":"'P-II'!M22","v":0},{"$f":"IF(AE23='P-II'!M22,\"\",FALSE)","v":""}]
[215,null,"6.2 Industrial Boiler/Gas cylinder explosion",0,0,1,0,0,0,1,{"$f":"'P-II'!J23","v":1},{"$f":"IF(J24='P-II'!J23,\"\",FALSE)","v":""},0,0,0,0,0,0,0,{"$f":"'P-II'!K23","v":0},{"$f":"IF(S24='P-II'!K23,\"\",FALSE)","v":""},0,0,0,0,0,0,0,{"$f":"'P-II'!L23","v":0},{"$f":"IF(AB24='P-II'!L23,\"\",FALSE)","v":""},1,{"$f":"'P-II'!M23","v":1},{"$f":"IF(AE24='P-II'!M23,\"\",FALSE)","v":""}]
[216,null,"6.3 Ammunition explosion in Armed Forces/Police/CPMF",0,0,0,0,0,0,0,{"$f":"'P-II'!J24","v":0},{"$f":"IF(J25='P-II'!J24,\"\",FALSE)","v":""},0,0,0,0,0,0,0,{"$f":"'P-II'!K24","v":0},{"$f":"IF(S25='P-II'!K24,\"\",FALSE)","v":""},0,0,0,0,0,0,0,{"$f":"'P-II'!L24","v":0},{"$f":"IF(AB25='P-II'!L24,\"\",FALSE)","v":""},0,{"$f":"'P-II'!M24","v":0},{"$f":"IF(AE25='P-II'!M24,\"\",FALSE)","v":""}]
[217,null,"6.4 Other",0,0,0,0,0,0,0,{"$f":"'P-II'!J25","v":0},{"$f":"IF(J26='P-II'!J25,\"\",FALSE)","v":""},0,0,0,0,0,0,0,{"$f":"'P-II'!K25","v":0},{"$f":"IF(S26='P-II'!K25,\"\",FALSE)","v":""},0,0,0,0,0,0,0,{"$f":"'P-II'!L25","v":0},{"$f":"IF(AB26='P-II'!L25,\"\",FALSE)","v":""},{"$f":"SUM(J26+S26+AB26)","v":0},{"$f":"'P-II'!M25","v":0},{"$f":"IF(AE26='P-II'!M25,\"\",FALSE)","v":""}]
[218,7,"Falls (Total) (sum of 7.1 to 7.6)",{"$f":"SUM(D28:D33)","v":0},{"$f":"SUM(E28:E33)","v":2},19,28,20,24,93,{"$f":"'P-II'!J26","v":93},{"$f":"IF(J27='P-II'!J26,\"\",FALSE)","v":""},{"$f":"SUM(M28:M33)","v":1},{"$f":"SUM(N28:N33)","v":0},{"$f":"SUM(O28:O33)","v":0},{"$f":"SUM(P28:P33)","v":1},{"$f":"SUM(Q28:Q33)","v":1},{"$f":"SUM(R28:R33)","v":6},9,{"$f":"'P-II'!K26","v":9},{"$f":"IF(S27='P-II'!K26,\"\",FALSE)","v":""},{"$f":"SUM(V28:V33)","v":0},{"$f":"SUM(W28:W33)","v":0},0,0,0,0,0,{"$f":"'P-II'!L26","v":0},{"$f":"IF(AB27='P-II'!L26,\"\",FALSE)","v":""},102,{"$f":"'P-II'!M26","v":102},{"$f":"IF(AE27='P-II'!M26,\"\",FALSE)","v":""}]
[219,null,"7.1 Fall from Height",0,1,15,19,18,19,72,{"$f":"'P-II'!J27","v":72},{"$f":"IF(J28='P-II'!J27,\"\",FALSE)","v":""},1,0,0,1,1,2,5,{"$f":"'P-II'!K27","v":5},{"$f":"IF(S28='P-II'!K27,\"\",FALSE)","v":""},0,0,0,0,0,0,0,{"$f":"'P-II'!L27","v":0},{"$f":"IF(AB28='P-II'!L27,\"\",FALSE)","v":""},77,{"$f":"'P-II'!M27","v":77},{"$f":"IF(AE28='P-II'!M27,\"\",FALSE)","v":""}]
[220,null,"7.2 Fall from Vehicles (Automobile like Bus, Trucks, etc.)",0,0,3,1,1,2,7,{"$f":"'P-II'!J28","v":7},{"$f":"IF(J29='P-II'!J28,\"\",FALSE)","v":""},0,0,0,0,0,1,1,{"$f":"'P-II'!K28","v":1},{"$f":"IF(S29='P-II'!K28,\"\",FALSE)","v":""},0,0,0,0,0,0,0,{"$f":"'P-II'!L28","v":0},{"$f":"IF(AB29='P-II'!L28,\"\",FALSE)","v":""},8,{"$f":"'P-II'!M28","v":8},{"$f":"IF(AE29='P-II'!M28,\"\",FALSE)","v":""}]
[221,null,"7.3 Fall into Manhole / Sewer",0,1,0,0,0,0,1,{"$f":"'P-II'!J29","v":1},{"$f":"IF(J30='P-II'!J29,\"\",FALSE)","v":""},0,0,0,0,0,0,0,{"$f":"'P-II'!K29","v":0},{"$f":"IF(S30='P-II'!K29,\"\",FALSE)","v":""},0,0,0,0,0,0,0,{"$f":"'P-II'!L29","v":0},{"$f":"IF(AB30='P-II'!L29,\"\",FALSE)","v":""},1,{"$f":"'P-II'!M29","v":1},{"$f":"IF(AE30='P-II'!M29,\"\",FALSE)","v":""}]
[222,null,"7.4 Fall into Pit",0,0,0,0,0,0,0,{"$f":"'P-II'!J30","v":0},{"$f":"IF(J31='P-II'!J30,\"\",FALSE)","v":""},0,0,0,0,0,0,0,{"$f":"'P-II'!K30","v":0},{"$f":"IF(S31='P-II'!K30,\"\",FALSE)","v":""},0,0,0,0,0,0,0,{"$f":"'P-II'!L30","v":0},{"$f":"IF(AB31='P-II'!L30,\"\",FALSE)","v":""},{"$f":"SUM(J31+S31+AB31)","v":0},{"$f":"'P-II'!M30","v":0},{"$f":"IF(AE31='P-II'!M30,\"\",FALSE)","v":""}]
[223,null,"7.5 Fall into Borewell",0,0,0,0,0,0,0,{"$f":"'P-II'!J31","v":0},{"$f":"IF(J32='P-II'!J31,\"\",FALSE)","v":""},0,0,0,0,0,0,0,{"$f":"'P-II'!K31","v":0},{"$f":"IF(S32='P-II'!K31,\"\",FALSE)","v":""},0,0,0,0,0,0,0,{"$f":"'P-II'!L31","v":0},{"$f":"IF(AB32='P-II'!L31,\"\",FALSE)","v":""},{"$f":"SUM(J32+S32+AB32)","v":0},{"$f":"'P-II'!M31","v":0},{"$f":"IF(AE32='P-II'!M31,\"\",FALSE)","v":""}]
[224,null,"7.6 Others",0,0,1,8,1,3,13,{"$f":"'P-II'!J32","v":13},{"$f":"IF(J33='P-II'!J32,\"\",FALSE)","v":""},0,0,0,0,0,3,3,{"$f":"'P-II'!K32","v":3},{"$f":"IF(S33='P-II'!K32,\"\",FALSE)","v":""},0,0,0,0,0,0,0,{"$f":"'P-II'!L32","v":0},{"$f":"IF(AB33='P-II'!L32,\"\",FALSE)","v":""},16,{"$f":"'P-II'!M32","v":16},{"$f":"IF(AE33='P-II'!M32,\"\",FALSE)","v":""}]
[225,8,"Factory/Machine accidents",0,0,3,0,0,0,3,{"$f":"'P-II'!J33","v":3},{"$f":"IF(J34='P-II'!J33,\"\",FALSE)","v":""},0,0,0,0,0,0,0,{"$f":"'P-II'!K33","v":0},{"$f":"IF(S34='P-II'!K33,\"\",FALSE)","v":""},0,0,0,0,0,0,0,{"$f":"'P-II'!L33","v":0},{"$f":"IF(AB34='P-II'!L33,\"\",FALSE)","v":""},3,{"$f":"'P-II'!M33","v":3},{"$f":"IF(AE34='P-II'!M33,\"\",FALSE)","v":""}]
[226,9,"Accidental Fire (Total) (sum of 9.1 to 9.5)",{"$f":"SUM(D36:D40)","v":0},{"$f":"SUM(E36:E40)","v":0},0,0,0,{"$f":"SUM(I36:I40)","v":3},3,{"$f":"'P-II'!J34","v":3},{"$f":"IF(J35='P-II'!J34,\"\",FALSE)","v":""},{"$f":"SUM(M36:M40)","v":0},{"$f":"SUM(N36:N40)","v":0},{"$f":"SUM(O36:O40)","v":1},{"$f":"SUM(P36:P40)","v":1},{"$f":"SUM(Q36:Q40)","v":1},{"$f":"SUM(R36:R40)","v":3},6,{"$f":"'P-II'!K34","v":6},{"$f":"IF(S35='P-II'!K34,\"\",FALSE)","v":""},{"$f":"SUM(V36:V40)","v":0},0,0,0,0,0,0,{"$f":"'P-II'!L34","v":0},{"$f":"IF(AB35='P-II'!L34,\"\",FALSE)","v":""},9,{"$f":"'P-II'!M34","v":9},{"$f":"IF(AE35='P-II'!M34,\"\",FALSE)","v":""}]
[227,null,"9.1 Electrical Short circuit",0,0,0,0,0,1,1,{"$f":"'P-II'!J35","v":1},{"$f":"IF(J36='P-II'!J35,\"\",FALSE)","v":""},0,0,0,0,0,0,0,{"$f":"'P-II'!K35","v":0},{"$f":"IF(S36='P-II'!K35,\"\",FALSE)","v":""},0,0,0,0,0,0,0,{"$f":"'P-II'!L35","v":0},{"$f":"IF(AB36='P-II'!L35,\"\",FALSE)","v":""},1,{"$f":"'P-II'!M35","v":1},{"$f":"IF(AE36='P-II'!M35,\"\",FALSE)","v":""}]
[228,null,"9.2 Riot/Agitation",0,0,0,0,0,0,0,{"$f":"'P-II'!J36","v":0},{"$f":"IF(J37='P-II'!J36,\"\",FALSE)","v":""},0,0,0,0,0,0,0,{"$f":"'P-II'!K36","v":0},{"$f":"IF(S37='P-II'!K36,\"\",FALSE)","v":""},0,0,0,0,0,0,0,{"$f":"'P-II'!L36","v":0},{"$f":"IF(AB37='P-II'!L36,\"\",FALSE)","v":""},0,{"$f":"'P-II'!M36","v":0},{"$f":"IF(AE37='P-II'!M36,\"\",FALSE)","v":""}]
[229,null,"9.3 Fireworks",0,0,0,0,0,0,0,{"$f":"'P-II'!J37","v":0},{"$f":"IF(J38='P-II'!J37,\"\",FALSE)","v":""},0,0,0,1,0,0,1,{"$f":"'P-II'!K37","v":1},{"$f":"IF(S38='P-II'!K37,\"\",FALSE)","v":""},0,0,0,0,0,0,0,{"$f":"'P-II'!L37","v":0},{"$f":"IF(AB38='P-II'!L37,\"\",FALSE)","v":""},1,{"$f":"'P-II'!M37","v":1},{"$f":"IF(AE38='P-II'!M37,\"\",FALSE)","v":""}]
[230,null,"9.4 Cooking Gas cylinder/stove burst",0,0,0,0,0,2,2,{"$f":"'P-II'!J38","v":2},{"$f":"IF(J39='P-II'!J38,\"\",FALSE)","v":""},0,0,1,0,0,0,1,{"$f":"'P-II'!K38","v":1},{"$f":"IF(S39='P-II'!K38,\"\",FALSE)","v":""},0,0,0,0,0,0,0,{"$f":"'P-II'!L38","v":0},{"$f":"IF(AB39='P-II'!L38,\"\",FALSE)","v":""},3,{"$f":"'P-II'!M38","v":3},{"$f":"IF(AE39='P-II'!M38,\"\",FALSE)","v":""}]
[231,null,"9.5 Other Causes",0,0,0,0,0,0,0,{"$f":"'P-II'!J39","v":0},{"$f":"IF(J40='P-II'!J39,\"\",FALSE)","v":""},0,0,0,0,1,3,4,{"$f":"'P-II'!K39","v":4},{"$f":"IF(S40='P-II'!K39,\"\",FALSE)","v":""},0,0,0,0,0,0,0,{"$f":"'P-II'!L39","v":0},{"$f":"IF(AB40='P-II'!L39,\"\",FALSE)","v":""},4,{"$f":"'P-II'!M39","v":4},{"$f":"IF(AE40='P-II'!M39,\"\",FALSE)","v":""}]
[232,10,"Firearm",1,0,0,0,0,0,1,{"$f":"'P-II'!J40","v":1},{"$f":"IF(J41='P-II'!J40,\"\",FALSE)","v":""},0,0,0,0,0,0,0,{"$f":"'P-II'!K40","v":0},{"$f":"IF(S41='P-II'!K40,\"\",FALSE)","v":""},0,0,0,0,0,0,0,{"$f":"'P-II'!L40","v":0},{"$f":"IF(AB41='P-II'!L40,\"\",FALSE)","v":""},1,{"$f":"'P-II'!M40","v":1},{"$f":"IF(AE41='P-II'!M40,\"\",FALSE)","v":""}]
[233,11,"Mines or Quarry disaster",0,0,0,0,0,0,0,{"$f":"'P-II'!J41","v":0},{"$f":"IF(J42='P-II'!J41,\"\",FALSE)","v":""},0,0,0,0,0,0,0,{"$f":"'P-II'!K41","v":0},{"$f":"IF(S42='P-II'!K41,\"\",FALSE)","v":""},0,0,0,0,0,0,0,{"$f":"'P-II'!L41","v":0},{"$f":"IF(AB42='P-II'!L41,\"\",FALSE)","v":""},0,{"$f":"'P-II'!M41","v":0},{"$f":"IF(AE42='P-II'!M41,\"\",FALSE)","v":""}]
[234,12,"Traffic Accidents (Total) (sum of 12.1, 12.2 and 12.3)",{"$f":"SUM(D44,D47,D48)","v":1},{"$f":"SUM(E44,E47,E48)","v":0},87,74,47,29,238,{"$f":"'P-II'!J42","v":238},{"$f":"IF(J43='P-II'!J42,\"\",FALSE)","v":""},{"$f":"SUM(M44,M47,M48)","v":0},{"$f":"SUM(N44,N47,N48)","v":0},{"$f":"SUM(O44,O47,O48)","v":7},{"$f":"SUM(P44,P47,P48)","v":10},{"$f":"SUM(Q44,Q47,Q48)","v":9},{"$f":"SUM(R44,R47,R48)","v":11},37,{"$f":"'P-II'!K42","v":37},{"$f":"IF(S43='P-II'!K42,\"\",FALSE)","v":""},0,0,0,0,0,0,0,{"$f":"'P-II'!L42","v":0},{"$f":"IF(AB43='P-II'!L42,\"\",FALSE)","v":""},275,{"$f":"'P-II'!M42","v":275},{"$f":"IF(AE43='P-II'!M42,\"\",FALSE)","v":""}]
[235,null,"12.1 Road Accidents Total (sum of 12.1.1 and 12.1.2)",{"$f":"SUM(D45:D46)","v":1},{"$f":"SUM(E45:E46)","v":0},72,55,38,27,193,{"$f":"'P-II'!J43","v":193},{"$f":"IF(J44='P-II'!J43,\"\",FALSE)","v":""},{"$f":"SUM(M45:M46)","v":0},{"$f":"SUM(N45:N46)","v":0},{"$f":"SUM(O45:O46)","v":6},{"$f":"SUM(P45:P46)","v":9},{"$f":"SUM(Q45:Q46)","v":8},{"$f":"SUM(R45:R46)","v":10},33,{"$f":"'P-II'!K43","v":33},{"$f":"IF(S44='P-II'!K43,\"\",FALSE)","v":""},0,0,0,0,0,0,0,{"$f":"'P-II'!L43","v":0},{"$f":"IF(AB44='P-II'!L43,\"\",FALSE)","v":""},226,{"$f":"'P-II'!M43","v":226},{"$f":"IF(AE44='P-II'!M43,\"\",FALSE)","v":""}]
[236,null,"12.1.1 Which led into Road Rage incidents",0,0,0,0,0,0,0,{"$f":"'P-II'!J44","v":0},{"$f":"IF(J45='P-II'!J44,\"\",FALSE)","v":""},0,0,0,0,0,0,0,{"$f":"'P-II'!K44","v":0},{"$f":"IF(S45='P-II'!K44,\"\",FALSE)","v":""},0,0,0,0,0,0,0,{"$f":"'P-II'!L44","v":0},{"$f":"IF(AB45='P-II'!L44,\"\",FALSE)","v":""},0,{"$f":"'P-II'!M44","v":0},{"$f":"IF(AE45='P-II'!M44,\"\",FALSE)","v":""}]
[237,null,"12.1.2 Other Road Accidents",1,0,72,55,38,27,193,{"$f":"'P-II'!J45","v":193},{"$f":"IF(J46='P-II'!J45,\"\",FALSE)","v":""},0,0,6,9,8,10,33,{"$f":"'P-II'!K45","v":33},{"$f":"IF(S46='P-II'!K45,\"\",FALSE)","v":""},0,0,0,0,0,0,0,{"$f":"'P-II'!L45","v":0},{"$f":"IF(AB46='P-II'!L45,\"\",FALSE)","v":""},226,{"$f":"'P-II'!M45","v":226},{"$f":"IF(AE46='P-II'!M45,\"\",FALSE)","v":""}]
[238,null,"12.2 Railway Crossing Accidents",0,0,0,0,0,0,0,{"$f":"'P-II'!J46","v":0},{"$f":"IF(J47='P-II'!J46,\"\",FALSE)","v":""},0,0,0,0,0,0,0,{"$f":"'P-II'!K46","v":0},{"$f":"IF(S47='P-II'!K46,\"\",FALSE)","v":""},0,0,0,0,0,0,0,{"$f":"'P-II'!L46","v":0},{"$f":"IF(AB47='P-II'!L46,\"\",FALSE)","v":""},{"$f":"SUM(J47+S47+AB47)","v":0},{"$f":"'P-II'!M46","v":0},{"$f":"IF(AE47='P-II'!M46,\"\",FALSE)","v":""}]
[239,null,"12.3 Railway Accidents ",0,0,15,19,9,2,45,{"$f":"'P-II'!J47","v":45},{"$f":"IF(J48='P-II'!J47,\"\",FALSE)","v":""},0,0,1,1,1,1,4,{"$f":"'P-II'!K47","v":4},{"$f":"IF(S48='P-II'!K47,\"\",FALSE)","v":""},0,0,0,0,0,0,0,{"$f":"'P-II'!L47","v":0},{"$f":"IF(AB48='P-II'!L47,\"\",FALSE)","v":""},49,{"$f":"'P-II'!M47","v":49},{"$f":"IF(AE48='P-II'!M47,\"\",FALSE)","v":""}]
[240,13,"Stampede",0,0,0,0,0,0,0,{"$f":"'P-II'!J48","v":0},{"$f":"IF(J49='P-II'!J48,\"\",FALSE)","v":""},0,0,0,0,0,0,0,{"$f":"'P-II'!K48","v":0},{"$f":"IF(S49='P-II'!K48,\"\",FALSE)","v":""},0,0,0,0,0,0,0,{"$f":"'P-II'!L48","v":0},{"$f":"IF(AB49='P-II'!L48,\"\",FALSE)","v":""},0,{"$f":"'P-II'!M48","v":0},{"$f":"IF(AE49='P-II'!M48,\"\",FALSE)","v":""}]
[241,14,"Other Unnatural Causes",0,0,1,0,4,0,5,{"$f":"'P-II'!J49","v":5},{"$f":"IF(J50='P-II'!J49,\"\",FALSE)","v":""},0,0,1,3,1,0,5,{"$f":"'P-II'!K49","v":5},{"$f":"IF(S50='P-II'!K49,\"\",FALSE)","v":""},0,0,0,0,0,0,0,{"$f":"'P-II'!L49","v":0},{"$f":"IF(AB50='P-II'!L49,\"\",FALSE)","v":""},10,{"$f":"'P-II'!M49","v":10},{"$f":"IF(AE50='P-II'!M49,\"\",FALSE)","v":""}]
[242,15,"Causes not known",0,0,1,8,3,1,13,{"$f":"'P-II'!J50","v":13},{"$f":"IF(J51='P-II'!J50,\"\",FALSE)","v":""},0,0,1,2,0,0,3,{"$f":"'P-II'!K50","v":3},{"$f":"IF(S51='P-II'!K50,\"\",FALSE)","v":""},0,0,0,0,0,0,{"$f":"SUM(V51:AA51)","v":0},{"$f":"'P-II'!L50","v":0},{"$f":"IF(AB51='P-II'!L50,\"\",FALSE)","v":""},16,{"$f":"'P-II'!M50","v":16},{"$f":"IF(AE51='P-II'!M50,\"\",FALSE)","v":""}]
[270,16,"Total (sum of Sl. 1 to 15)",{"$f":"SUM(D9,D10,D11,D17,D21:D22,D27,D34:D35,D41:D43,D49:D51)","v":3},{"$f":"SUM(E9,E10,E11,E17,E21:E22,E27,E34:E35,E41:E43,E49:E51)","v":6},152,155,103,70,489,{"$f":"'P-II'!J51","v":489},{"$f":"IF(J52='P-II'!J51,\"\",FALSE)","v":""},2,{"$f":"SUM(N9,N10,N11,N17,N21:N22,N27,N34:N35,N41:N43,N49:N51)","v":2},{"$f":"SUM(O9,O10,O11,O17,O21:O22,O27,O34:O35,O41:O43,O49:O51)","v":14},{"$f":"SUM(P9,P10,P11,P17,P21:P22,P27,P34:P35,P41:P43,P49:P51)","v":18},{"$f":"SUM(Q9,Q10,Q11,Q17,Q21:Q22,Q27,Q34:Q35,Q41:Q43,Q49:Q51)","v":15},{"$f":"SUM(R9,R10,R11,R17,R21:R22,R27,R34:R35,R41:R43,R49:R51)","v":22},{"$f":"SUM(S9,S10,S11,S17,S21:S22,S27,S34:S35,S41:S43,S49:S51)","v":73},{"$f":"'P-II'!K51","v":73},{"$f":"IF(S52='P-II'!K51,\"\",FALSE)","v":""},0,0,0,0,0,0,0,{"$f":"'P-II'!L51","v":0},{"$f":"IF(AB52='P-II'!L51,\"\",FALSE)","v":""},562,{"$f":"'P-II'!M51","v":562},{"$f":"IF(AE52='P-II'!M51,\"\",FALSE)","v":""}]
["SL-12.1.1 ABNORMAL VARIATION IN \"ROAD RAGE INCIDENTS\" DATA",null,null,{"$f":"IF(D44>0,IF((D45/D44*100)>10,\"ABVAR\",\"\"),\"\")","v":""},{"$f":"IF(E44>0,IF((E45/E44*100)>10,\"ABVAR\",\"\"),\"\")","v":""},"","","","","","",null,"","","","","","","","",null,"","","","","","","","",null,"",""]
["SL-14 ABNORMAL VARIATION IN \"OTHER UNNATURAL CAUSES\" DATA",null,null,{"$f":"IF(D52>0,IF((D50/D52*100)>20,\"ABVAR\",\"\"),\"\")","v":""},{"$f":"IF(E52>0,IF((E50/E52*100)>20,\"ABVAR\",\"\"),\"\")","v":""},"","","","","","",null,"","","","","","","","",null,"","","","","","","","",null,"",""]
["SL-15 ABNORMAL VARIATION IN \"CAUSES NOT KNOWN\" DATA",null,null,{"$f":"IF(D52>0,IF((D51/D52*100)>20,\"ABVAR\",\"\"),\"\")","v":""},{"$f":"IF(E52>0,IF((E51/E52*100)>20,\"ABVAR\",\"\"),\"\")","v":""},"","","","","","",null,"","","","","","","","",null,"","","","","","","","",null,"",""]
[]
[]
[]
[]
[]
[]
[]
[]
[]
[]
[]
[]
[]
[]
[]
[]
[]
[]
[]
[]
[]
[]
[]
[]
[]
[]
[]
[]
[]
[]
[]
[]
[]
[]
[]
[]
[]
[]
[]
[]
[]
[]
[]
[]
[]
[]
[]
[]
[]
[]
[]
[]
[]
[]
[]
[]
[]
[]
[]
[]
[]
[]
[]
[]
[]
[]
[]
[]
[]
[]
[]
[]
[]
[]
[]
[]
[]
[]
[]
[]
[]
[]
[]
[]
[]
[]
[]
[]
[]
[]
[]
[]
[]
[]
[]
[]
[]
[]
[]
[]
[]
[]
[]
[]
[]
[]
[]
[]
[]
[]
[]
[]
[]
[]
[]
[]
[]
[]
[]
[]
[]
[]
[]
[]
[]
[]
[]
[]
[]
[]
[]
[]
[]
[]
[]
[]
[]
[]
[]
[]
[]
[]
[]
[]
[null,null,null,null,null,null,null,null,null,null,null,null,null,null,null,null,null,null,null,null,null,null,null,null,null,null,null,null,null,null,null,null,null,null,null,null,null,null,null,null,null,null,null,null,null,null,null,null,null,null,null,null,{"$f":"A1","v":"Goa, , ADSI-2021"}]
[null,null,null,null,null,null,null,null,null,null,null,null,null,null,null,null,null,null,null,null,null,null,null,null,null,null,null,null,null,null,null,null,null,null,null,null,null,null,null,null,null,null,null,null,null,null,null,null,null,null,null,null,{"$f":"A2","v":"Errors"},{"$f":"C2","v":0},null,{"$f":"E2","v":"Abnormal Variations"},{"$f":"F2","v":0}]
[null,null,null,null,null,null,null,null,null,null,null,null,null,null,null,null,null,null,null,null,null,null,null,null,null,null,null,null,null,null,null,null,null,null,null,null,null,null,null,null,null,null,null,null,null,null,null,null,null,null,null,null,{"$f":"A3","v":"Proforma–III"}]
[null,null,null,null,null,null,null,null,null,null,null,null,null,null,null,null,null,null,null,null,null,null,null,null,null,null,null,null,null,null,null,null,null,null,null,null,null,null,null,null,null,null,null,null,null,null,null,null,null,null,null,null,{"$f":"A4","v":"Age wise Distribution of Accidental Deaths by Un-Natural Causes"}]
[null,null,null,null,null,null,null,null,null,null,null,null,null,null,null,null,null,null,null,null,null,null,null,null,null,null,null,null,null,null,null,null,null,null,null,null,null,null,null,null,null,null,null,null,null,null,null,null,null,null,null,null,{"$f":"B5","v":"Sl. No."},{"$f":"C5","v":"Causes"},{"$f":"D5","v":"N u m b e r       o f      A c c i d e n t a l       D e a t h s"},null,null,null,null,null,null,null,null,null,null,null,null,null,null,null,null,null,null,null,null,null,null,null,null,null,null,{"$f":"AE5","v":"Grand Total [sum of (9) + (16) + (23)]"},{"$f":"AF5","v":" PROFORMA–II VALUES [Col.–(11) (Total Died)]"},{"$f":"AG5","v":"VALIDATION  WITH PROFORMA-II [Col.–(11) (Total Died)]"}]
[null,null,null,null,null,null,null,null,null,null,null,null,null,null,null,null,null,null,null,null,null,null,null,null,null,null,null,null,null,null,null,null,null,null,null,null,null,null,null,null,null,null,null,null,null,null,null,null,null,null,null,null,null,null,{"$f":"D6","v":"M a l e"},null,null,null,null,null,null,null,null,{"$f":"M6","v":"F e m a l e"},null,null,null,null,null,null,null,null,{"$f":"V6","v":"Transgender"}]
[null,null,null,null,null,null,null,null,null,null,null,null,null,null,null,null,null,null,null,null,null,null,null,null,null,null,null,null,null,null,null,null,null,null,null,null,null,null,null,null,null,null,null,null,null,null,null,null,null,null,null,null,null,null,"below 14 years",{"$f":"E7","v":"14 and above – below 18 yrs"},"18 and above – below 30 years","30 and above – below 45 years","45 and above – below 60 years","60 years & above"," Total [sum of (3) to (8)]"," PROFORMA–II VALUES [Col.–(8) (Male Died)]","VALIDATION  WITH PROFORMA-II [Col.–(8) (Male Died)]","below 14 years",{"$f":"N7","v":"14 and above – below 18 yrs"},"18 and above – below 30 years","30 and above – below 45 years","45 and above – below 60 years","60 years & above","Total \n[sum of (10) to (15)]"," PROFORMA–II VALUES [Col.–(9) (Female Died)]","VALIDATION  WITH PROFORMA-II [Col.–(9) (Female Died)]","below 14 years",{"$f":"W7","v":"14 and above – below 18 yrs"},"18 and above – below 30 years","30 and above – below 45 years","45 and above – below 60 years","60 years & above","Total \n[sum of (17) to (22)]"," PROFORMA–II VALUES [Col.–(10) (Transgender Died)]","VALIDATION  WITH PROFORMA-II [Col.–(10) (Transgender Died)]"]
[null,null,null,null,null,null,null,null,null,null,null,null,null,null,null,null,null,null,null,null,null,null,null,null,null,null,null,null,null,null,null,null,null,null,null,null,null,null,null,null,null,null,null,null,null,null,null,null,null,null,null,null,{"$f":"B8","v":"(1)"},{"$f":"C8","v":"(2)"},"(3)",{"$f":"E8","v":"(4)"},{"$f":"F8","v":"(5)"},{"$f":"G8","v":"(6)"},{"$f":"H8","v":"(7)"},{"$f":"I8","v":"(8)"},{"$f":"J8","v":"(9)"},null,null,"(10)",{"$f":"N8","v":"(11)"},{"$f":"O8","v":"(12)"},{"$f":"P8","v":"(13)"},{"$f":"Q8","v":"(14)"},{"$f":"R8","v":"(15)"},{"$f":"S8","v":"(16)"},null,null,"(17)",{"$f":"W8","v":"(18)"},{"$f":"X8","v":"(19)"},{"$f":"Y8","v":"(20)"},{"$f":"Z8","v":"(21)"},{"$f":"AA8","v":"(22)"},{"$f":"AB8","v":"(23)"},null,null,{"$f":"AE8","v":"(24)"}]
[null,null,null,null,null,null,null,null,null,null,null,null,null,null,null,null,null,null,null,null,null,null,null,null,null,null,null,null,null,null,null,null,null,null,null,null,null,null,null,null,null,null,null,null,null,null,null,null,null,null,null,null,1,"Air Crash",0,0,0,0,0,0,0,{"$f":"K9","v":0},{"$f":"L9","v":""},0,0,0,0,0,0,0,{"$f":"T9","v":0},{"$f":"U9","v":""},0,0,0,0,0,0,0,{"$f":"AC9","v":0},{"$f":"AD9","v":""},0,{"$f":"AF9","v":0},{"$f":"AG9","v":""}]
[null,null,null,null,null,null,null,null,null,null,null,null,null,null,null,null,null,null,null,null,null,null,null,null,null,null,null,null,null,null,null,null,null,null,null,null,null,null,null,null,null,null,null,null,null,null,null,null,null,null,null,null,2,"Ship Accidents",0,0,0,0,0,0,0,0,"",0,0,0,0,0,0,0,0,"",0,0,0,0,0,0,0,0,"",0,0,""]
[null,null,null,null,null,null,null,null,null,null,null,null,null,null,null,null,null,null,null,null,null,null,null,null,null,null,null,null,null,null,null,null,null,null,null,null,null,null,null,null,null,null,null,null,null,null,null,null,null,null,null,null,3,"Collapse of Structure (Total) (sum of 3.1 to 3.5)",0,0,1,2,2,0,5,5,"",0,0,0,0,0,0,0,0,"",0,0,0,0,0,0,0,0,"",5,5,""]
[null,null,null,null,null,null,null,null,null,null,null,null,null,null,null,null,null,null,null,null,null,null,null,null,null,null,null,null,null,null,null,null,null,null,null,null,null,null,null,null,null,null,null,null,null,null,null,null,null,null,null,null,null,"3.1 Collapse of Dwelling House/Residential building",0,0,1,0,0,0,1,1,"",0,0,0,0,0,0,0,0,"",0,0,0,0,0,0,0,0,"",1,1,""]
[null,null,null,null,null,null,null,null,null,null,null,null,null,null,null,null,null,null,null,null,null,null,null,null,null,null,null,null,null,null,null,null,null,null,null,null,null,null,null,null,null,null,null,null,null,null,null,null,null,null,null,null,null,"3.2 Collapse of Official/Commercial Building",0,0,0,0,0,0,0,0,"",0,0,0,0,0,0,0,0,"",0,0,0,0,0,0,0,0,"",0,0,""]
[null,null,null,null,null,null,null,null,null,null,null,null,null,null,null,null,null,null,null,null,null,null,null,null,null,null,null,null,null,null,null,null,null,null,null,null,null,null,null,null,null,null,null,null,null,null,null,null,null,null,null,null,null,"3.3 Collapse of Dam",0,0,0,0,0,0,0,0,"",0,0,0,0,0,0,0,0,"",0,0,0,0,0,0,0,0,"",0,0,""]
[null,null,null,null,null,null,null,null,null,null,null,null,null,null,null,null,null,null,null,null,null,null,null,null,null,null,null,null,null,null,null,null,null,null,null,null,null,null,null,null,null,null,null,null,null,null,null,null,null,null,null,null,null,"3.4 Collapse of  Bridge",0,0,0,0,0,0,0,0,"",0,0,0,0,0,0,0,0,"",0,0,0,0,0,0,0,0,"",0,0,""]
[null,null,null,null,null,null,null,null,null,null,null,null,null,null,null,null,null,null,null,null,null,null,null,null,null,null,null,null,null,null,null,null,null,null,null,null,null,null,null,null,null,null,null,null,null,null,null,null,null,null,null,null,null,"3.5 Others",0,0,0,2,2,0,4,4,"",0,0,0,0,0,0,0,0,"",0,0,0,0,0,0,0,0,"",4,4,""]
[null,null,null,null,null,null,null,null,null,null,null,null,null,null,null,null,null,null,null,null,null,null,null,null,null,null,null,null,null,null,null,null,null,null,null,null,null,null,null,null,null,null,null,null,null,null,null,null,null,null,null,null,4,"Drowning (Total) (sum of 4.1 to 4.3)",1,4,34,33,21,11,104,104,"",1,2,2,1,3,2,11,11,"",0,0,0,0,0,0,0,0,"",115,115,""]
[null,null,null,null,null,null,null,null,null,null,null,null,null,null,null,null,null,null,null,null,null,null,null,null,null,null,null,null,null,null,null,null,null,null,null,null,null,null,null,null,null,null,null,null,null,null,null,null,null,null,null,null,null,"4.1 Boat Capsize",0,0,0,0,0,0,0,0,"",0,0,0,0,0,0,0,0,"",0,0,0,0,0,0,0,0,"",0,0,""]
[null,null,null,null,null,null,null,null,null,null,null,null,null,null,null,null,null,null,null,null,null,null,null,null,null,null,null,null,null,null,null,null,null,null,null,null,null,null,null,null,null,null,null,null,null,null,null,null,null,null,null,null,null,"4.2 Accidental Falls into Waterbody",1,4,26,26,20,11,88,88,"",1,2,1,1,3,2,10,10,"",0,0,0,0,0,0,0,0,"",98,98,""]
[null,null,null,null,null,null,null,null,null,null,null,null,null,null,null,null,null,null,null,null,null,null,null,null,null,null,null,null,null,null,null,null,null,null,null,null,null,null,null,null,null,null,null,null,null,null,null,null,null,null,null,null,null,"4.3 Other Cases",0,0,8,7,1,0,16,16,"",0,0,1,0,0,0,1,1,"",0,0,0,0,0,0,0,0,"",17,17,""]
[null,null,null,null,null,null,null,null,null,null,null,null,null,null,null,null,null,null,null,null,null,null,null,null,null,null,null,null,null,null,null,null,null,null,null,null,null,null,null,null,null,null,null,null,null,null,null,null,null,null,null,null,5,"Electrocution",0,0,5,10,6,2,23,23,"",0,0,2,0,0,0,2,2,"",0,0,0,0,0,0,0,0,"",25,25,""]
[null,null,null,null,null,null,null,null,null,null,null,null,null,null,null,null,null,null,null,null,null,null,null,null,null,null,null,null,null,null,null,null,null,null,null,null,null,null,null,null,null,null,null,null,null,null,null,null,null,null,null,null,6,"Accidental Explosion (Total) (sum of 6.1 to 6.4)",0,0,1,0,0,0,1,1,"",0,0,0,0,0,0,0,0,"",0,0,0,0,0,0,0,0,"",1,1,""]
[null,null,null,null,null,null,null,null,null,null,null,null,null,null,null,null,null,null,null,null,null,null,null,null,null,null,null,null,null,null,null,null,null,null,null,null,null,null,null,null,null,null,null,null,null,null,null,null,null,null,null,null,null,"6.1 Domestic Gas Cylinder",0,0,0,0,0,0,0,0,"",0,0,0,0,0,0,0,0,"",0,0,0,0,0,0,0,0,"",0,0,""]
[null,null,null,null,null,null,null,null,null,null,null,null,null,null,null,null,null,null,null,null,null,null,null,null,null,null,null,null,null,null,null,null,null,null,null,null,null,null,null,null,null,null,null,null,null,null,null,null,null,null,null,null,null,"6.2 Industrial Boiler/Gas cylinder explosion",0,0,1,0,0,0,1,1,"",0,0,0,0,0,0,0,0,"",0,0,0,0,0,0,0,0,"",1,1,""]
[null,null,null,null,null,null,null,null,null,null,null,null,null,null,null,null,null,null,null,null,null,null,null,null,null,null,null,null,null,null,null,null,null,null,null,null,null,null,null,null,null,null,null,null,null,null,null,null,null,null,null,null,null,"6.3 Ammunition explosion in Armed Forces/Police/CPMF",0,0,0,0,0,0,0,0,"",0,0,0,0,0,0,0,0,"",0,0,0,0,0,0,0,0,"",0,0,""]
[null,null,null,null,null,null,null,null,null,null,null,null,null,null,null,null,null,null,null,null,null,null,null,null,null,null,null,null,null,null,null,null,null,null,null,null,null,null,null,null,null,null,null,null,null,null,null,null,null,null,null,null,null,"6.4 Other",0,0,0,0,0,0,0,0,"",0,0,0,0,0,0,0,0,"",0,0,0,0,0,0,0,0,"",0,0,""]
[null,null,null,null,null,null,null,null,null,null,null,null,null,null,null,null,null,null,null,null,null,null,null,null,null,null,null,null,null,null,null,null,null,null,null,null,null,null,null,null,null,null,null,null,null,null,null,null,null,null,null,null,7,"Falls (Total) (sum of 7.1 to 7.6)",0,2,19,28,20,24,93,93,"",1,0,0,1,1,6,9,9,"",0,0,0,0,0,0,0,0,"",102,102,""]
[null,null,null,null,null,null,null,null,null,null,null,null,null,null,null,null,null,null,null,null,null,null,null,null,null,null,null,null,null,null,null,null,null,null,null,null,null,null,null,null,null,null,null,null,null,null,null,null,null,null,null,null,null,"7.1 Fall from Height",0,1,15,19,18,19,72,72,"",1,0,0,1,1,2,5,5,"",0,0,0,0,0,0,0,0,"",77,77,""]
[null,null,null,null,null,null,null,null,null,null,null,null,null,null,null,null,null,null,null,null,null,null,null,null,null,null,null,null,null,null,null,null,null,null,null,null,null,null,null,null,null,null,null,null,null,null,null,null,null,null,null,null,null,"7.2 Fall from Vehicles (Automobile like Bus, Trucks, etc.)",0,0,3,1,1,2,7,7,"",0,0,0,0,0,1,1,1,"",0,0,0,0,0,0,0,0,"",8,8,""]
[null,null,null,null,null,null,null,null,null,null,null,null,null,null,null,null,null,null,null,null,null,null,null,null,null,null,null,null,null,null,null,null,null,null,null,null,null,null,null,null,null,null,null,null,null,null,null,null,null,null,null,null,null,"7.3 Fall into Manhole / Sewer",0,1,0,0,0,0,1,1,"",0,0,0,0,0,0,0,0,"",0,0,0,0,0,0,0,0,"",1,1,""]
[null,null,null,null,null,null,null,null,null,null,null,null,null,null,null,null,null,null,null,null,null,null,null,null,null,null,null,null,null,null,null,null,null,null,null,null,null,null,null,null,null,null,null,null,null,null,null,null,null,null,null,null,null,{"$f":"C31","v":"7.4 Fall into Pit"},0,0,0,0,0,0,0,0,"",0,0,0,0,0,0,0,0,"",0,0,0,0,0,0,0,0,"",0,0,""]
[null,null,null,null,null,null,null,null,null,null,null,null,null,null,null,null,null,null,null,null,null,null,null,null,null,null,null,null,null,null,null,null,null,null,null,null,null,null,null,null,null,null,null,null,null,null,null,null,null,null,null,null,null,{"$f":"C32","v":"7.5 Fall into Borewell"},0,0,0,0,0,0,0,0,null,{"$f":"M32","v":0},0,0,0,0,0,0,0,null,{"$f":"V32","v":0},0,0,0,0,0,0,0,null,{"$f":"AE32","v":0},{"$f":"AF32","v":0}]
[null,null,null,null,null,null,null,null,null,null,null,null,null,null,null,null,null,null,null,null,null,null,null,null,null,null,null,null,null,null,null,null,null,null,null,null,null,null,null,null,null,null,null,null,null,null,null,null,null,null,null,null,null,{"$f":"C33","v":"7.6 Others"},{"$f":"D33","v":0},{"$f":"E33","v":0},{"$f":"F33","v":1},{"$f":"G33","v":8},{"$f":"H33","v":1},{"$f":"I33","v":3},{"$f":"J33","v":13},{"$f":"K33","v":13},{"$f":"L33","v":""},{"$f":"M33","v":0},{"$f":"N33","v":0},{"$f":"O33","v":0},{"$f":"P33","v":0},{"$f":"Q33","v":0},{"$f":"R33","v":3},{"$f":"S33","v":3},{"$f":"T33","v":3},{"$f":"U33","v":""},{"$f":"V33","v":0},{"$f":"W33","v":0},{"$f":"X33","v":0},{"$f":"Y33","v":0},{"$f":"Z33","v":0},{"$f":"AA33","v":0},{"$f":"AB33","v":0},{"$f":"AC33","v":0},{"$f":"AD33","v":""},{"$f":"AE33","v":16},{"$f":"AF33","v":16},{"$f":"AG33","v":""}]
[null,null,null,null,null,null,null,null,null,null,null,null,null,null,null,null,null,null,null,null,null,null,null,null,null,null,null,null,null,null,null,null,null,null,null,null,null,null,null,null,null,null,null,null,null,null,null,null,null,null,null,null,8,"Factory/Machine accidents",0,0,3,0,0,0,3,3,"",0,0,0,0,0,0,0,0,"",0,0,0,0,0,0,0,0,"",3,3,""]
[null,null,null,null,null,null,null,null,null,null,null,null,null,null,null,null,null,null,null,null,null,null,null,null,null,null,null,null,null,null,null,null,null,null,null,null,null,null,null,null,null,null,null,null,null,null,null,null,null,null,null,null,9,"Accidental Fire (Total) (sum of 9.1 to 9.5)",0,0,0,0,0,3,3,3,"",0,0,1,1,1,3,6,6,"",0,0,0,0,0,0,0,0,"",9,9,""]
[null,null,null,null,null,null,null,null,null,null,null,null,null,null,null,null,null,null,null,null,null,null,null,null,null,null,null,null,null,null,null,null,null,null,null,null,null,null,null,null,null,null,null,null,null,null,null,null,null,null,null,null,null,"9.1 Electrical Short circuit",0,0,0,0,0,1,1,1,"",0,0,0,0,0,0,0,0,"",0,0,0,0,0,0,0,0,"",1,1,""]
[null,null,null,null,null,null,null,null,null,null,null,null,null,null,null,null,null,null,null,null,null,null,null,null,null,null,null,null,null,null,null,null,null,null,null,null,null,null,null,null,null,null,null,null,null,null,null,null,null,null,null,null,null,"9.2 Riot/Agitation",0,0,0,0,0,0,0,0,"",0,0,0,0,0,0,0,0,"",0,0,0,0,0,0,0,0,"",0,0,""]
[null,null,null,null,null,null,null,null,null,null,null,null,null,null,null,null,null,null,null,null,null,null,null,null,null,null,null,null,null,null,null,null,null,null,null,null,null,null,null,null,null,null,null,null,null,null,null,null,null,null,null,null,null,"9.3 Fireworks",0,0,0,0,0,0,0,0,"",0,0,0,1,0,0,1,1,"",0,0,0,0,0,0,0,0,"",1,1,""]
[null,null,null,null,null,null,null,null,null,null,null,null,null,null,null,null,null,null,null,null,null,null,null,null,null,null,null,null,null,null,null,null,null,null,null,null,null,null,null,null,null,null,null,null,null,null,null,null,null,null,null,null,null,"9.4 Cooking Gas cylinder/stove burst",0,0,0,0,0,2,2,2,"",0,0,1,0,0,0,1,1,"",0,0,0,0,0,0,0,0,"",3,3,""]
[null,null,null,null,null,null,null,null,null,null,null,null,null,null,null,null,null,null,null,null,null,null,null,null,null,null,null,null,null,null,null,null,null,null,null,null,null,null,null,null,null,null,null,null,null,null,null,null,null,null,null,null,null,"9.5 Other Causes",0,0,0,0,0,0,0,0,"",0,0,0,0,1,3,4,4,"",0,0,0,0,0,0,0,0,"",4,4,""]
[null,null,null,null,null,null,null,null,null,null,null,null,null,null,null,null,null,null,null,null,null,null,null,null,null,null,null,null,null,null,null,null,null,null,null,null,null,null,null,null,null,null,null,null,null,null,null,null,null,null,null,null,10,"Firearm",1,0,0,0,0,0,1,1,"",0,0,0,0,0,0,0,0,"",0,0,0,0,0,0,0,0,"",1,1,""]
[null,null,null,null,null,null,null,null,null,null,null,null,null,null,null,null,null,null,null,null,null,null,null,null,null,null,null,null,null,null,null,null,null,null,null,null,null,null,null,null,null,null,null,null,null,null,null,null,null,null,null,null,11,"Mines or Quarry disaster",0,0,0,0,0,0,0,0,"",0,0,0,0,0,0,0,0,"",0,0,0,0,0,0,0,0,"",0,0,""]
[null,null,null,null,null,null,null,null,null,null,null,null,null,null,null,null,null,null,null,null,null,null,null,null,null,null,null,null,null,null,null,null,null,null,null,null,null,null,null,null,null,null,null,null,null,null,null,null,null,null,null,null,12,"Traffic Accidents (Total) (sum of 12.1, 12.2 and 12.3)",1,0,87,74,47,29,238,238,"",0,0,7,10,9,11,37,37,"",0,0,0,0,0,0,0,0,"",275,275,""]
[null,null,null,null,null,null,null,null,null,null,null,null,null,null,null,null,null,null,null,null,null,null,null,null,null,null,null,null,null,null,null,null,null,null,null,null,null,null,null,null,null,null,null,null,null,null,null,null,null,null,null,null,null,"12.1 Road Accidents Total (sum of 12.1.1 and 12.1.2)",1,0,72,55,38,27,193,193,"",0,0,6,9,8,10,33,33,"",0,0,0,0,0,0,0,0,"",226,226,""]
[null,null,null,null,null,null,null,null,null,null,null,null,null,null,null,null,null,null,null,null,null,null,null,null,null,null,null,null,null,null,null,null,null,null,null,null,null,null,null,null,null,null,null,null,null,null,null,null,null,null,null,null,null,"12.1.1 Which led into Road Rage incidents",0,0,0,0,0,0,0,0,"",0,0,0,0,0,0,0,0,"",0,0,0,0,0,0,0,0,"",0,0,""]
[null,null,null,null,null,null,null,null,null,null,null,null,null,null,null,null,null,null,null,null,null,null,null,null,null,null,null,null,null,null,null,null,null,null,null,null,null,null,null,null,null,null,null,null,null,null,null,null,null,null,null,null,null,"12.1.2 Other Road Accidents",1,0,72,55,38,27,193,193,"",0,0,6,9,8,10,33,33,"",0,0,0,0,0,0,0,0,"",226,226,""]
[null,null,null,null,null,null,null,null,null,null,null,null,null,null,null,null,null,null,null,null,null,null,null,null,null,null,null,null,null,null,null,null,null,null,null,null,null,null,null,null,null,null,null,null,null,null,null,null,null,null,null,null,null,"12.2 Railway Crossing Accidents",0,0,0,0,0,0,0,0,"",0,0,0,0,0,0,0,0,"",0,0,0,0,0,0,0,0,"",0,0,""]
[null,null,null,null,null,null,null,null,null,null,null,null,null,null,null,null,null,null,null,null,null,null,null,null,null,null,null,null,null,null,null,null,null,null,null,null,null,null,null,null,null,null,null,null,null,null,null,null,null,null,null,null,null,"12.3 Railway Accidents ",0,0,15,19,9,2,45,45,"",0,0,1,1,1,1,4,4,"",0,0,0,0,0,0,0,0,"",49,49,""]
[null,null,null,null,null,null,null,null,null,null,null,null,null,null,null,null,null,null,null,null,null,null,null,null,null,null,null,null,null,null,null,null,null,null,null,null,null,null,null,null,null,null,null,null,null,null,null,null,null,null,null,null,13,"Stampede",0,0,0,0,0,0,0,0,"",0,0,0,0,0,0,0,0,"",0,0,0,0,0,0,0,0,"",0,0,""]
[null,null,null,null,null,null,null,null,null,null,null,null,null,null,null,null,null,null,null,null,null,null,null,null,null,null,null,null,null,null,null,null,null,null,null,null,null,null,null,null,null,null,null,null,null,null,null,null,null,null,null,null,14,"Other Unnatural Causes",0,0,1,0,4,0,5,5,"",0,0,1,3,1,0,5,5,"",0,0,0,0,0,0,0,0,"",10,10,""]
[null,null,null,null,null,null,null,null,null,null,null,null,null,null,null,null,null,null,null,null,null,null,null,null,null,null,null,null,null,null,null,null,null,null,null,null,null,null,null,null,null,null,null,null,null,null,null,null,null,null,null,null,15,"Causes not known",0,0,1,8,3,1,13,13,"",0,0,1,2,0,0,3,3,"",0,0,0,0,0,0,0,0,"",16,16,""]
[null,null,null,null,null,null,null,null,null,null,null,null,null,null,null,null,null,null,null,null,null,null,null,null,null,null,null,null,null,null,null,null,null,null,null,null,null,null,null,null,null,null,null,null,null,null,null,null,null,null,null,null,16,"Total (sum of Sl. 1 to 15)",3,6,152,155,103,70,489,489,"",2,2,14,18,15,22,73,73,"",0,0,0,0,0,0,0,0,"",562,562,""]
[null,null,null,null,null,null,null,null,null,null,null,null,null,null,null,null,null,null,null,null,null,null,null,null,null,null,null,null,null,null,null,null,null,null,null,null,null,null,null,null,null,null,null,null,null,null,null,null,null,null,null,null,{"$f":"A53","v":"SL-12.1.1 ABNORMAL VARIATION IN \"ROAD RAGE INCIDENTS\" DATA"},null,{"$f":"D53","v":""},"","","","","","","",null,"","","","","","","","",null,"","","","","","","","",null,"",""]
[null,null,null,null,null,null,null,null,null,null,null,null,null,null,null,null,null,null,null,null,null,null,null,null,null,null,null,null,null,null,null,null,null,null,null,null,null,null,null,null,null,null,null,null,null,null,null,null,null,null,null,null,{"$f":"A54","v":"SL-14 ABNORMAL VARIATION IN \"OTHER UNNATURAL CAUSES\" DATA"},null,{"$f":"D54","v":""},"","","","","","","",null,"","","","","","","","",null,"","","","","","","","",null,{"$f":"AE54","v":""},""]
[null,null,null,null,null,null,null,null,null,null,null,null,null,null,null,null,null,null,null,null,null,null,null,null,null,null,null,null,null,null,null,null,null,null,null,null,null,null,null,null,null,null,null,null,null,null,null,null,null,null,null,null,"SL-15 ABNORMAL VARIATION IN \"CAUSES NOT KNOWN\" DATA",null,"","","","","","","","",null,"","","","","","","","",null,"","","","","","","","",null,"",""]
[]
[]
[]
[]
[]
[]
[]
[]
[]
[]
[]
[]
[]
[]
[]
[]
[]
[]
[]
[]
[]
[]
[]
[]
[]
[]
[]
[]
[]
[]
[]
[]
[]
[]
[]
[]
[]
[]
[]
[]
[]
[]
[]
[]
[]
[]
[]
[]
[]
[]
[]
[]
[]
[]
[]
[]
[]
[]
[]
[]
[]
[]
[]
[]
[]
[]
[]
[]
[]
[]
[]
[]
[]
[]
[]
[]
[]
[]
[]
[]
[]
[]
[]
[]
[]
[]
[]
[]
[]
[]
[]
[]
[]
[]
[]
[]
[]
[]
[]
[]
[]
[]
[]
[]
[]
[]
[]
[]
[]
[]
[]
[]
[]
[]
[]
[]
[]
[]
[]
[]
[]
[]
[]
[]
[]
[]
[]
[]
[]
[]
[]
[]
[]
[]
[]
[]
[]
[]
[]
[]
[]
[]
[]
[]
[]
[]
[]
[]
[]
[]
[]
[]
[]
[]
[]
[]
[]
[]
[]
[]
[]
[]
[]
[]
[]
[]
[]
[]
[]
[]
[]
[]
[]
[]
[]
[]
[]
[]
[]
[]
[]
[]
[]
[]
[]
[]
[]
[]
[]
[]
[]
[]
[]
[]
[]
[]
[]
[]
[]
[]
[]
[]
[]
[]
[]
[]
[]
[]
[]
[]
[]
[]
[]
[]
[]
[]
[]
[]
[]
[]
[]
[]
[]
[]
[]
[]
[]
[]
[]
[]
[]
[]
[]
[]
[]
[]
[]
[]
[]
[]
[]
[]
[]
[]
[]
["StateUTCityCode","DistrictCode","CrimeCode","DataYear","Male_below 14 years","Male_14 and above – below 18 years","Male_18 and above – below 30 years","Male_30 and above – below 45 years","Male_45 and above – below 60 years","Male_60 years & above","Male_Total","Female_below 14 years","Female_14 and above – below 18 years","Female_18 and above – below 30 years","Female_30 and above – below 45 years","Female_45 and above – below 60 years","Female_60 years & above","Female_Total","Trans_below 14 years","Trans_14 and above – below 18 years","Trans_18 and above – below 30 years","Trans_30 and above – below 45 years","Trans_45 and above – below 60 years","Trans_60 years & above","Trans_Total","Grand Total"]
[{"$f":"IF(ADSI!$G$12=\"\",ADSI!$H$16,ADSI!$H$12)","v":6},{"$f":"IF(ADSI!$G$12=\"\",ADSI!$H$16,ADSI!$H$14)","v":""},{"$f":"A9","v":200},{"$f":"ADSI!$K$12","v":2021},{"$f":"D9","v":0},{"$f":"E9","v":0},0,0,0,0,0,{"$f":"M9","v":0},{"$f":"N9","v":0},0,0,0,0,0,{"$f":"V9","v":0},{"$f":"W9","v":0},0,0,0,0,0,{"$f":"AE9","v":0}]
[{"$f":"IF(ADSI!$G$12=\"\",ADSI!$H$16,ADSI!$H$12)","v":6},{"$f":"IF(ADSI!$G$12=\"\",ADSI!$H$16,ADSI!$H$14)","v":""},{"$f":"A10","v":201},{"$f":"ADSI!$K$12","v":2021},{"$f":"D10","v":0},0,0,0,0,0,0,{"$f":"M10","v":0},0,0,0,0,0,0,{"$f":"V10","v":0},{"$f":"W10","v":0},{"$f":"X10","v":0},{"$f":"Y10","v":0},{"$f":"Z10","v":0},{"$f":"AA10","v":0},{"$f":"AB10","v":0},{"$f":"AE10","v":0}]
[{"$f":"IF(ADSI!$G$12=\"\",ADSI!$H$16,ADSI!$H$12)","v":6},{"$f":"IF(ADSI!$G$12=\"\",ADSI!$H$16,ADSI!$H$14)","v":""},202,{"$f":"ADSI!$K$12","v":2021},{"$f":"D11","v":0},0,1,2,2,0,5,{"$f":"M11","v":0},0,0,0,0,0,0,0,0,0,0,0,0,0,5]
[{"$f":"IF(ADSI!$G$12=\"\",ADSI!$H$16,ADSI!$H$12)","v":6},{"$f":"IF(ADSI!$G$12=\"\",ADSI!$H$16,ADSI!$H$14)","v":""},203,{"$f":"ADSI!$K$12","v":2021},{"$f":"D12","v":0},0,1,0,0,0,1,{"$f":"M12","v":0},0,0,0,0,0,0,0,0,0,0,0,0,0,1]
[{"$f":"IF(ADSI!$G$12=\"\",ADSI!$H$16,ADSI!$H$12)","v":6},{"$f":"IF(ADSI!$G$12=\"\",ADSI!$H$16,ADSI!$H$14)","v":""},204,{"$f":"ADSI!$K$12","v":2021},{"$f":"D13","v":0},0,0,0,0,0,0,{"$f":"M13","v":0},0,0,0,0,0,0,0,0,0,0,0,0,0,0]
[{"$f":"IF(ADSI!$G$12=\"\",ADSI!$H$16,ADSI!$H$12)","v":6},{"$f":"IF(ADSI!$G$12=\"\",ADSI!$H$16,ADSI!$H$14)","v":""},205,{"$f":"ADSI!$K$12","v":2021},{"$f":"D14","v":0},0,0,0,0,0,0,{"$f":"M14","v":0},0,0,0,0,0,0,0,0,0,0,0,0,0,0]
[{"$f":"IF(ADSI!$G$12=\"\",ADSI!$H$16,ADSI!$H$12)","v":6},{"$f":"IF(ADSI!$G$12=\"\",ADSI!$H$16,ADSI!$H$14)","v":""},206,{"$f":"ADSI!$K$12","v":2021},{"$f":"D15","v":0},0,0,0,0,0,0,{"$f":"M15","v":0},0,0,0,0,0,0,0,0,0,0,0,0,0,0]
[{"$f":"IF(ADSI!$G$12=\"\",ADSI!$H$16,ADSI!$H$12)","v":6},{"$f":"IF(ADSI!$G$12=\"\",ADSI!$H$16,ADSI!$H$14)","v":""},207,{"$f":"ADSI!$K$12","v":2021},{"$f":"D16","v":0},0,0,2,2,0,4,{"$f":"M16","v":0},0,0,0,0,0,0,0,0,0,0,0,0,0,4]
[{"$f":"IF(ADSI!$G$12=\"\",ADSI!$H$16,ADSI!$H$12)","v":6},{"$f":"IF(ADSI!$G$12=\"\",ADSI!$H$16,ADSI!$H$14)","v":""},208,{"$f":"ADSI!$K$12","v":2021},{"$f":"D17","v":1},4,34,33,21,11,104,{"$f":"M17","v":1},2,2,1,3,2,11,0,0,0,0,0,0,0,115]
[{"$f":"IF(ADSI!$G$12=\"\",ADSI!$H$16,ADSI!$H$12)","v":6},{"$f":"IF(ADSI!$G$12=\"\",ADSI!$H$16,ADSI!$H$14)","v":""},209,{"$f":"ADSI!$K$12","v":2021},{"$f":"D18","v":0},0,0,0,0,0,0,{"$f":"M18","v":0},0,0,0,0,0,0,0,0,0,0,0,0,0,0]
[{"$f":"IF(ADSI!$G$12=\"\",ADSI!$H$16,ADSI!$H$12)","v":6},{"$f":"IF(ADSI!$G$12=\"\",ADSI!$H$16,ADSI!$H$14)","v":""},210,{"$f":"ADSI!$K$12","v":2021},{"$f":"D19","v":1},4,26,26,20,11,88,{"$f":"M19","v":1},2,1,1,3,2,10,0,0,0,0,0,0,0,98]
[{"$f":"IF(ADSI!$G$12=\"\",ADSI!$H$16,ADSI!$H$12)","v":6},{"$f":"IF(ADSI!$G$12=\"\",ADSI!$H$16,ADSI!$H$14)","v":""},211,{"$f":"ADSI!$K$12","v":2021},{"$f":"D20","v":0},0,8,7,1,0,16,{"$f":"M20","v":0},0,1,0,0,0,1,0,0,0,0,0,0,0,17]
[{"$f":"IF(ADSI!$G$12=\"\",ADSI!$H$16,ADSI!$H$12)","v":6},{"$f":"IF(ADSI!$G$12=\"\",ADSI!$H$16,ADSI!$H$14)","v":""},212,{"$f":"ADSI!$K$12","v":2021},{"$f":"D21","v":0},0,5,10,6,2,23,{"$f":"M21","v":0},0,2,0,0,0,2,0,0,0,0,0,0,0,25]
[{"$f":"IF(ADSI!$G$12=\"\",ADSI!$H$16,ADSI!$H$12)","v":6},{"$f":"IF(ADSI!$G$12=\"\",ADSI!$H$16,ADSI!$H$14)","v":""},213,{"$f":"ADSI!$K$12","v":2021},{"$f":"D22","v":0},0,1,0,0,0,1,{"$f":"M22","v":0},0,0,0,0,0,0,0,0,0,0,0,0,0,1]
[{"$f":"IF(ADSI!$G$12=\"\",ADSI!$H$16,ADSI!$H$12)","v":6},{"$f":"IF(ADSI!$G$12=\"\",ADSI!$H$16,ADSI!$H$14)","v":""},214,{"$f":"ADSI!$K$12","v":2021},{"$f":"D23","v":0},0,0,0,0,0,0,{"$f":"M23","v":0},0,0,0,0,0,0,0,0,0,0,0,0,0,0]
[{"$f":"IF(ADSI!$G$12=\"\",ADSI!$H$16,ADSI!$H$12)","v":6},{"$f":"IF(ADSI!$G$12=\"\",ADSI!$H$16,ADSI!$H$14)","v":""},215,{"$f":"ADSI!$K$12","v":2021},{"$f":"D24","v":0},0,1,0,0,0,1,{"$f":"M24","v":0},0,0,0,0,0,0,0,0,0,0,0,0,0,1]
[{"$f":"IF(ADSI!$G$12=\"\",ADSI!$H$16,ADSI!$H$12)","v":6},{"$f":"IF(ADSI!$G$12=\"\",ADSI!$H$16,ADSI!$H$14)","v":""},216,{"$f":"ADSI!$K$12","v":2021},{"$f":"D25","v":0},0,0,0,0,0,0,{"$f":"M25","v":0},0,0,0,0,0,0,0,0,0,0,0,0,0,0]
[{"$f":"IF(ADSI!$G$12=\"\",ADSI!$H$16,ADSI!$H$12)","v":6},{"$f":"IF(ADSI!$G$12=\"\",ADSI!$H$16,ADSI!$H$14)","v":""},217,{"$f":"ADSI!$K$12","v":2021},{"$f":"D26","v":0},0,0,0,0,0,0,{"$f":"M26","v":0},0,0,0,0,0,0,0,0,0,0,0,0,0,0]
[{"$f":"IF(ADSI!$G$12=\"\",ADSI!$H$16,ADSI!$H$12)","v":6},{"$f":"IF(ADSI!$G$12=\"\",ADSI!$H$16,ADSI!$H$14)","v":""},218,{"$f":"ADSI!$K$12","v":2021},{"$f":"D27","v":0},2,19,28,20,24,93,{"$f":"M27","v":1},0,0,1,1,6,9,0,0,0,0,0,0,0,102]
[{"$f":"IF(ADSI!$G$12=\"\",ADSI!$H$16,ADSI!$H$12)","v":6},{"$f":"IF(ADSI!$G$12=\"\",ADSI!$H$16,ADSI!$H$14)","v":""},219,{"$f":"ADSI!$K$12","v":2021},{"$f":"D28","v":0},1,15,19,18,19,72,{"$f":"M28","v":1},0,0,1,1,2,5,0,0,0,0,0,0,0,77]
[{"$f":"IF(ADSI!$G$12=\"\",ADSI!$H$16,ADSI!$H$12)","v":6},{"$f":"IF(ADSI!$G$12=\"\",ADSI!$H$16,ADSI!$H$14)","v":""},220,{"$f":"ADSI!$K$12","v":2021},{"$f":"D29","v":0},0,3,1,1,2,7,{"$f":"M29","v":0},0,0,0,0,1,1,0,0,0,0,0,0,0,8]
[{"$f":"IF(ADSI!$G$12=\"\",ADSI!$H$16,ADSI!$H$12)","v":6},{"$f":"IF(ADSI!$G$12=\"\",ADSI!$H$16,ADSI!$H$14)","v":""},221,{"$f":"ADSI!$K$12","v":2021},{"$f":"D30","v":0},1,0,0,0,0,1,{"$f":"M30","v":0},0,0,0,0,0,0,0,0,0,0,0,0,0,1]
[{"$f":"IF(ADSI!$G$12=\"\",ADSI!$H$16,ADSI!$H$12)","v":6},{"$f":"IF(ADSI!$G$12=\"\",ADSI!$H$16,ADSI!$H$14)","v":""},{"$f":"A31","v":222},{"$f":"ADSI!$K$12","v":2021},{"$f":"D31","v":0},0,0,0,0,0,0,{"$f":"M31","v":0},0,0,0,0,0,0,0,0,0,0,0,0,0,0]
[{"$f":"IF(ADSI!$G$12=\"\",ADSI!$H$16,ADSI!$H$12)","v":6},{"$f":"IF(ADSI!$G$12=\"\",ADSI!$H$16,ADSI!$H$14)","v":""},223,{"$f":"ADSI!$K$12","v":2021},{"$f":"D32","v":0},0,0,0,0,0,0,{"$f":"M32","v":0},0,0,0,0,0,0,0,0,0,0,0,0,0,0]
[{"$f":"IF(ADSI!$G$12=\"\",ADSI!$H$16,ADSI!$H$12)","v":6},{"$f":"IF(ADSI!$G$12=\"\",ADSI!$H$16,ADSI!$H$14)","v":""},224,{"$f":"ADSI!$K$12","v":2021},{"$f":"D33","v":0},0,1,8,1,3,13,{"$f":"M33","v":0},0,0,0,0,3,3,0,0,0,0,0,0,0,16]
[{"$f":"IF(ADSI!$G$12=\"\",ADSI!$H$16,ADSI!$H$12)","v":6},{"$f":"IF(ADSI!$G$12=\"\",ADSI!$H$16,ADSI!$H$14)","v":""},{"$f":"A34","v":225},{"$f":"ADSI!$K$12","v":2021},{"$f":"D34","v":0},0,3,0,0,0,3,{"$f":"M34","v":0},0,0,0,0,0,0,0,0,0,0,0,0,0,3]
[{"$f":"IF(ADSI!$G$12=\"\",ADSI!$H$16,ADSI!$H$12)","v":6},{"$f":"IF(ADSI!$G$12=\"\",ADSI!$H$16,ADSI!$H$14)","v":""},226,{"$f":"ADSI!$K$12","v":2021},{"$f":"D35","v":0},0,0,0,0,3,3,{"$f":"M35","v":0},0,1,1,1,3,6,0,0,0,0,0,0,0,9]
[{"$f":"IF(ADSI!$G$12=\"\",ADSI!$H$16,ADSI!$H$12)","v":6},{"$f":"IF(ADSI!$G$12=\"\",ADSI!$H$16,ADSI!$H$14)","v":""},{"$f":"A36","v":227},{"$f":"ADSI!$K$12","v":2021},{"$f":"D36","v":0},0,0,0,0,1,1,{"$f":"M36","v":0},0,0,0,0,0,0,0,0,0,0,0,0,0,1]
[{"$f":"IF(ADSI!$G$12=\"\",ADSI!$H$16,ADSI!$H$12)","v":6},{"$f":"IF(ADSI!$G$12=\"\",ADSI!$H$16,ADSI!$H$14)","v":""},228,{"$f":"ADSI!$K$12","v":2021},{"$f":"D37","v":0},0,0,0,0,0,0,{"$f":"M37","v":0},0,0,0,0,0,0,0,0,0,0,0,0,0,0]
[{"$f":"IF(ADSI!$G$12=\"\",ADSI!$H$16,ADSI!$H$12)","v":6},{"$f":"IF(ADSI!$G$12=\"\",ADSI!$H$16,ADSI!$H$14)","v":""},229,{"$f":"ADSI!$K$12","v":2021},{"$f":"D38","v":0},0,0,0,0,0,0,{"$f":"M38","v":0},0,0,1,0,0,1,0,0,0,0,0,0,0,1]
[{"$f":"IF(ADSI!$G$12=\"\",ADSI!$H$16,ADSI!$H$12)","v":6},{"$f":"IF(ADSI!$G$12=\"\",ADSI!$H$16,ADSI!$H$14)","v":""},{"$f":"A39","v":230},{"$f":"ADSI!$K$12","v":2021},{"$f":"D39","v":0},0,0,0,0,2,2,{"$f":"M39","v":0},0,1,0,0,0,1,0,0,0,0,0,0,0,3]
[{"$f":"IF(ADSI!$G$12=\"\",ADSI!$H$16,ADSI!$H$12)","v":6},{"$f":"IF(ADSI!$G$12=\"\",ADSI!$H$16,ADSI!$H$14)","v":""},231,{"$f":"ADSI!$K$12","v":2021},{"$f":"D40","v":0},0,0,0,0,0,0,{"$f":"M40","v":0},0,0,0,1,3,4,0,0,0,0,0,0,0,4]
[{"$f":"IF(ADSI!$G$12=\"\",ADSI!$H$16,ADSI!$H$12)","v":6},{"$f":"IF(ADSI!$G$12=\"\",ADSI!$H$16,ADSI!$H$14)","v":""},232,{"$f":"ADSI!$K$12","v":2021},{"$f":"D41","v":1},0,0,0,0,0,1,{"$f":"M41","v":0},0,0,0,0,0,0,0,0,0,0,0,0,0,1]
[{"$f":"IF(ADSI!$G$12=\"\",ADSI!$H$16,ADSI!$H$12)","v":6},{"$f":"IF(ADSI!$G$12=\"\",ADSI!$H$16,ADSI!$H$14)","v":""},{"$f":"A42","v":233},{"$f":"ADSI!$K$12","v":2021},{"$f":"D42","v":0},0,0,0,0,0,0,{"$f":"M42","v":0},0,0,0,0,0,0,0,0,0,0,0,0,0,0]
[{"$f":"IF(ADSI!$G$12=\"\",ADSI!$H$16,ADSI!$H$12)","v":6},{"$f":"IF(ADSI!$G$12=\"\",ADSI!$H$16,ADSI!$H$14)","v":""},234,{"$f":"ADSI!$K$12","v":2021},{"$f":"D43","v":1},0,87,74,47,29,238,{"$f":"M43","v":0},0,7,10,9,11,37,0,0,0,0,0,0,0,275]
[{"$f":"IF(ADSI!$G$12=\"\",ADSI!$H$16,ADSI!$H$12)","v":6},{"$f":"IF(ADSI!$G$12=\"\",ADSI!$H$16,ADSI!$H$14)","v":""},235,{"$f":"ADSI!$K$12","v":2021},{"$f":"D44","v":1},0,72,55,38,27,193,{"$f":"M44","v":0},0,6,9,8,10,33,0,0,0,0,0,0,0,226]
[{"$f":"IF(ADSI!$G$12=\"\",ADSI!$H$16,ADSI!$H$12)","v":6},{"$f":"IF(ADSI!$G$12=\"\",ADSI!$H$16,ADSI!$H$14)","v":""},236,{"$f":"ADSI!$K$12","v":2021},{"$f":"D45","v":0},0,0,0,0,0,0,{"$f":"M45","v":0},0,0,0,0,0,0,0,0,0,0,0,0,0,0]
[{"$f":"IF(ADSI!$G$12=\"\",ADSI!$H$16,ADSI!$H$12)","v":6},{"$f":"IF(ADSI!$G$12=\"\",ADSI!$H$16,ADSI!$H$14)","v":""},237,{"$f":"ADSI!$K$12","v":2021},{"$f":"D46","v":1},0,72,55,38,27,193,{"$f":"M46","v":0},0,6,9,8,10,33,0,0,0,0,0,0,0,226]
[{"$f":"IF(ADSI!$G$12=\"\",ADSI!$H$16,ADSI!$H$12)","v":6},{"$f":"IF(ADSI!$G$12=\"\",ADSI!$H$16,ADSI!$H$14)","v":""},238,{"$f":"ADSI!$K$12","v":2021},{"$f":"D47","v":0},0,0,0,0,0,0,{"$f":"M47","v":0},0,0,0,0,0,0,0,0,0,0,0,0,0,0]
[{"$f":"IF(ADSI!$G$12=\"\",ADSI!$H$16,ADSI!$H$12)","v":6},{"$f":"IF(ADSI!$G$12=\"\",ADSI!$H$16,ADSI!$H$14)","v":""},239,{"$f":"ADSI!$K$12","v":2021},{"$f":"D48","v":0},0,15,19,9,2,45,{"$f":"M48","v":0},0,1,1,1,1,4,0,0,0,0,0,0,0,49]
[{"$f":"IF(ADSI!$G$12=\"\",ADSI!$H$16,ADSI!$H$12)","v":6},{"$f":"IF(ADSI!$G$12=\"\",ADSI!$H$16,ADSI!$H$14)","v":""},240,{"$f":"ADSI!$K$12","v":2021},{"$f":"D49","v":0},0,0,0,0,0,0,{"$f":"M49","v":0},0,0,0,0,0,0,0,0,0,0,0,0,0,0]
[{"$f":"IF(ADSI!$G$12=\"\",ADSI!$H$16,ADSI!$H$12)","v":6},{"$f":"IF(ADSI!$G$12=\"\",ADSI!$H$16,ADSI!$H$14)","v":""},241,{"$f":"ADSI!$K$12","v":2021},{"$f":"D50","v":0},0,1,0,4,0,5,{"$f":"M50","v":0},0,1,3,1,0,5,0,0,0,0,0,0,0,10]
[{"$f":"IF(ADSI!$G$12=\"\",ADSI!$H$16,ADSI!$H$12)","v":6},{"$f":"IF(ADSI!$G$12=\"\",ADSI!$H$16,ADSI!$H$14)","v":""},242,{"$f":"ADSI!$K$12","v":2021},{"$f":"D51","v":0},0,1,8,3,1,13,{"$f":"M51","v":0},0,1,2,0,0,3,0,0,0,0,0,0,0,16]
[{"$f":"IF(ADSI!$G$12=\"\",ADSI!$H$16,ADSI!$H$12)","v":6},{"$f":"IF(ADSI!$G$12=\"\",ADSI!$H$16,ADSI!$H$14)","v":""},270,{"$f":"ADSI!$K$12","v":2021},{"$f":"D52","v":3},6,152,155,103,70,489,{"$f":"M52","v":2},2,14,18,15,22,73,0,0,0,0,0,0,0,562]

{"sheet":"P-IV","index":6,"n_rows":521,"n_cols":64,"rows_kept":521,"cut":false,"hidden":false,"merged":[[203,56,203,59],[203,60,203,63],[4,0,5,0],[4,4,5,4],[203,52,204,52],[203,53,204,53],[203,54,204,54],[4,1,5,1],[4,2,5,2],[4,3,5,3],[4,5,4,8],[4,9,4,12],[203,55,205,55]]}
[{"$f":"ADSI!$B$1","v":"Goa, , ADSI-2021"}]
["Errors",null,{"$f":"COUNTIF(E8:E28,FALSE)","v":0}]
["Proforma–IV"]
["Profile of Accidents due to Other than Un-natural Causes"]
["Code","Sl. No.","Causes","No. of Cases","VALIDATION WITH NUMBER OF CASES","No. of Persons Injured",null,null,null,"No. of Persons Died"]
[null,null,null,null,null,"Male","Female","Transgender","Total (sum of (4) to (6))","Male","Female","Transgender","Total (sum of (8) to (10))"]
[null,"(1)","(2)","(3)",null,"(4)","(5)","(6)","(7)","(8)","(9)","(10)","(11)"]
[300,1,"Sudden Deaths (Total) (sum of 1.1 to 1.3)",{"$f":"SUM(D9:D11)","v":19},{"$f":"IF(AND(OR(I8>0,M8>0),D8=0),FALSE,\"\")","v":""},{"$f":"SUM(F9:F11)","v":0},0,0,{"$f":"SUM(F8:H8)","v":0},17,2,0,{"$f":"SUM(J8:L8)","v":19}]
[301,null,"1.1 Industrial Accidents",0,{"$f":"IF(AND(OR(I9>0,M9>0),D9=0),FALSE,\"\")","v":""},0,0,0,{"$f":"SUM(F9:H9)","v":0},0,0,0,{"$f":"SUM(J9:L9)","v":0}]
[302,null,"1.2 Heart Attack",10,"",0,0,0,0,9,1,0,10]
[303,null,"1.3 Others",9,"",0,0,0,0,8,1,0,9]
[304,2,"Deaths of Women during Pregnancy (Total) (sum of 2.1 and 2.2)",{"$f":"SUM(D13:D14)","v":0},"",{"$f":"SUM(F13:F14)","v":0},0,0,0,0,0,0,0]
[305,null,"2.1 Due  to Abortions",0,"",0,0,0,0,0,0,0,0]
[306,null,"2.2 Due to Other accidents during Pregnancy",0,"",0,0,0,0,0,0,0,0]
[307,3,"Deaths Due to consumption of Illicit/Spurious Liquor",0,"",0,0,0,0,0,0,0,0]
[308,4,"Killed by animals",2,"",0,0,0,0,1,1,0,2]
[309,5,"Poisoning (Total) (sum of 5.1 to 5.3 & 5.4 to 5.6)",{"$f":"SUM(D18:D20,D23:D25)","v":6},"",{"$f":"SUM(F18:F20,F23:F25)","v":0},0,0,0,4,2,0,6]
[310,null,"5.1 Food Poisoning",1,"",0,0,0,0,1,0,0,1]
[311,null,"5.2 Accidental intake of Insecticides/Pesticides",3,"",0,0,0,0,2,1,0,3]
[312,null,"5.3  Poisonous Gases (Total) (sum of 5.3.1 & 5.3.2)",{"$f":"SUM(D21:D22)","v":0},"",{"$f":"SUM(F21:F22)","v":0},0,0,0,0,0,0,0]
[313,null,"5.3.1 Carbon Monoxide (CO) Gas",0,"",0,0,0,0,0,0,0,0]
[314,null,"5.3.2 Other poisonous Gases",0,"",0,0,0,0,0,0,0,0]
[315,null,"5.4 Snake bite ",2,"",0,0,0,0,1,1,0,2]
[316,null,"5.5 Animal/Reptiles/Insects bite",0,"",0,0,0,0,0,0,0,0]
[317,null,"5.6 Other",0,"",0,0,0,0,0,0,0,0]
[318,6,"Suffocation",2,"",0,0,0,0,1,1,0,2]
[319,7,"Drug Overdose",2,"",0,0,0,0,1,1,0,2]
[335,8,"Total (sum of Sl. 1 to 7)",{"$f":"SUM(D8,D12,D15:D17,D26:D27)","v":31},"",{"$f":"SUM(F8,F12,F15:F17,F26:F27)","v":0},{"$f":"SUM(G8,G12,G15:G17,G26:G27)","v":0},{"$f":"SUM(H8,H12,H15:H17,H26:H27)","v":0},0,{"$f":"SUM(J8,J12,J15:J17,J26:J27)","v":24},{"$f":"SUM(K8,K12,K15:K17,K26:K27)","v":7},{"$f":"SUM(L8,L12,L15:L17,L26:L27)","v":0},31]
[]
[]
[]
[]
[]
[]
[]
[]
[]
[]
[]
[]
[]
[]
[]
[]
[]
[]
[]
[]
[]
[]
[]
[]
[]
[]
[]
[]
[]
[]
[]
[]
[]
[]
[]
[]
[]
[]
[]
[]
[]
[]
[]
[]
[]
[]
[]
[]
[]
[]
[]
[]
[]
[]
[]
[]
[]
[]
[]
[]
[]
[]
[]
[]
[]
[]
[]
[]
[]
[]
[]
[]
[]
[]
[]
[]
[]
[]
[]
[]
[]
[]
[]
[]
[]
[]
[]
[]
[]
[]
[]
[]
[]
[]
[]
[]
[]
[]
[]
[]
[]
[]
[]
[]
[]
[]
[]
[]
[]
[]
[]
[]
[]
[]
[]
[]
[]
[]
[]
[]
[]
[]
[]
[]
[]
[]
[]
[]
[]
[]
[]
[]
[]
[]
[]
[]
[]
[]
[]
[]
[]
[]
[]
[]
[]
[]
[]
[]
[]
[]
[]
[]
[]
[]
[]
[]
[]
[]
[]
[]
[]
[]
[]
[]
[]
[]
[]
[]
[]
[]
[]
[null,null,null,null,null,null,null,null,null,null,null,null,null,null,null,null,null,null,null,null,null,null,null,null,null,null,null,null,null,null,null,null,null,null,null,null,null,null,null,null,null,null,null,null,null,null,null,null,null,null,null,null,{"$f":"A1","v":"Goa, , ADSI-2021"}]
[null,null,null,null,null,null,null,null,null,null,null,null,null,null,null,null,null,null,null,null,null,null,null,null,null,null,null,null,null,null,null,null,null,null,null,null,null,null,null,null,null,null,null,null,null,null,null,null,null,null,null,null,{"$f":"A2","v":"Errors"},{"$f":"C2","v":0}]
[null,null,null,null,null,null,null,null,null,null,null,null,null,null,null,null,null,null,null,null,null,null,null,null,null,null,null,null,null,null,null,null,null,null,null,null,null,null,null,null,null,null,null,null,null,null,null,null,null,null,null,null,{"$f":"A3","v":"Proforma–IV"}]
[null,null,null,null,null,null,null,null,null,null,null,null,null,null,null,null,null,null,null,null,null,null,null,null,null,null,null,null,null,null,null,null,null,null,null,null,null,null,null,null,null,null,null,null,null,null,null,null,null,null,null,null,{"$f":"A4","v":"Profile of Accidents due to Other than Un-natural Causes"}]
[null,null,null,null,null,null,null,null,null,null,null,null,null,null,null,null,null,null,null,null,null,null,null,null,null,null,null,null,null,null,null,null,null,null,null,null,null,null,null,null,null,null,null,null,null,null,null,null,null,null,null,null,{"$f":"B5","v":"Sl. No."},{"$f":"C5","v":"Causes"},{"$f":"D5","v":"No. of Cases"},{"$f":"E5","v":"VALIDATION WITH NUMBER OF CASES"},{"$f":"F5","v":"No. of Persons Injured"},null,null,null,{"$f":"J5","v":"No. of Persons Died"}]
[null,null,null,null,null,null,null,null,null,null,null,null,null,null,null,null,null,null,null,null,null,null,null,null,null,null,null,null,null,null,null,null,null,null,null,null,null,null,null,null,null,null,null,null,null,null,null,null,null,null,null,null,null,null,null,null,{"$f":"F6","v":"Male"},{"$f":"G6","v":"Female"},{"$f":"H6","v":"Transgender"},{"$f":"I6","v":"Total (sum of (4) to (6))"},"Male",{"$f":"K6","v":"Female"},{"$f":"L6","v":"Transgender"},{"$f":"M6","v":"Total (sum of (8) to (10))"}]
[null,null,null,null,null,null,null,null,null,null,null,null,null,null,null,null,null,null,null,null,null,null,null,null,null,null,null,null,null,null,null,null,null,null,null,null,null,null,null,null,null,null,null,null,null,null,null,null,null,null,null,null,{"$f":"B7","v":"(1)"},"(2)","(3)",null,"(4)","(5)","(6)","(7)","(8)","(9)","(10)","(11)"]
[null,null,null,null,null,null,null,null,null,null,null,null,null,null,null,null,null,null,null,null,null,null,null,null,null,null,null,null,null,null,null,null,null,null,null,null,null,null,null,null,null,null,null,null,null,null,null,null,null,null,null,null,1,"Sudden Deaths (Total) (sum of 1.1 to 1.3)",19,{"$f":"E8","v":""},0,0,0,0,17,2,0,19]
[null,null,null,null,null,null,null,null,null,null,null,null,null,null,null,null,null,null,null,null,null,null,null,null,null,null,null,null,null,null,null,null,null,null,null,null,null,null,null,null,null,null,null,null,null,null,null,null,null,null,null,null,null,{"$f":"C9","v":"1.1 Industrial Accidents"},{"$f":"D9","v":0},"",0,0,0,0,0,0,0,0]
[null,null,null,null,null,null,null,null,null,null,null,null,null,null,null,null,null,null,null,null,null,null,null,null,null,null,null,null,null,null,null,null,null,null,null,null,null,null,null,null,null,null,null,null,null,null,null,null,null,null,null,null,null,"1.2 Heart Attack",10,"",0,0,0,0,9,1,0,10]
[null,null,null,null,null,null,null,null,null,null,null,null,null,null,null,null,null,null,null,null,null,null,null,null,null,null,null,null,null,null,null,null,null,null,null,null,null,null,null,null,null,null,null,null,null,null,null,null,null,null,null,null,null,"1.3 Others",9,"",0,0,0,0,8,1,0,9]
[null,null,null,null,null,null,null,null,null,null,null,null,null,null,null,null,null,null,null,null,null,null,null,null,null,null,null,null,null,null,null,null,null,null,null,null,null,null,null,null,null,null,null,null,null,null,null,null,null,null,null,null,{"$f":"B12","v":2},"Deaths of Women during Pregnancy (Total) (sum of 2.1 and 2.2)",0,"",0,0,0,0,0,0,0,0]
[null,null,null,null,null,null,null,null,null,null,null,null,null,null,null,null,null,null,null,null,null,null,null,null,null,null,null,null,null,null,null,null,null,null,null,null,null,null,null,null,null,null,null,null,null,null,null,null,null,null,null,null,null,"2.1 Due  to Abortions",0,"",0,0,0,0,0,0,0,0]
[null,null,null,null,null,null,null,null,null,null,null,null,null,null,null,null,null,null,null,null,null,null,null,null,null,null,null,null,null,null,null,null,null,null,null,null,null,null,null,null,null,null,null,null,null,null,null,null,null,null,null,null,null,"2.2 Due to Other accidents during Pregnancy",0,"",0,0,0,0,0,0,0,0]
[null,null,null,null,null,null,null,null,null,null,null,null,null,null,null,null,null,null,null,null,null,null,null,null,null,null,null,null,null,null,null,null,null,null,null,null,null,null,null,null,null,null,null,null,null,null,null,null,null,null,null,null,{"$f":"B15","v":3},"Deaths Due to consumption of Illicit/Spurious Liquor",0,"",0,0,0,0,0,0,0,0]
[null,null,null,null,null,null,null,null,null,null,null,null,null,null,null,null,null,null,null,null,null,null,null,null,null,null,null,null,null,null,null,null,null,null,null,null,null,null,null,null,null,null,null,null,null,null,null,null,null,null,null,null,{"$f":"B16","v":4},"Killed by animals",2,"",0,0,0,0,1,1,0,2]
[null,null,null,null,null,null,null,null,null,null,null,null,null,null,null,null,null,null,null,null,null,null,null,null,null,null,null,null,null,null,null,null,null,null,null,null,null,null,null,null,null,null,null,null,null,null,null,null,null,null,null,null,{"$f":"B17","v":5},"Poisoning (Total) (sum of 5.1 to 5.3 & 5.4 to 5.6)",6,"",0,0,0,0,4,2,0,6]
[null,null,null,null,null,null,null,null,null,null,null,null,null,null,null,null,null,null,null,null,null,null,null,null,null,null,null,null,null,null,null,null,null,null,null,null,null,null,null,null,null,null,null,null,null,null,null,null,null,null,null,null,null,"5.1 Food Poisoning",1,"",0,0,0,0,1,0,0,1]
[null,null,null,null,null,null,null,null,null,null,null,null,null,null,null,null,null,null,null,null,null,null,null,null,null,null,null,null,null,null,null,null,null,null,null,null,null,null,null,null,null,null,null,null,null,null,null,null,null,null,null,null,null,"5.2 Accidental intake of Insecticides/Pesticides",3,"",0,0,0,0,2,1,0,3]
[null,null,null,null,null,null,null,null,null,null,null,null,null,null,null,null,null,null,null,null,null,null,null,null,null,null,null,null,null,null,null,null,null,null,null,null,null,null,null,null,null,null,null,null,null,null,null,null,null,null,null,null,null,"5.3  Poisonous Gases (Total) (sum of 5.3.1 & 5.3.2)",0,"",0,0,0,0,0,0,0,0]
[null,null,null,null,null,null,null,null,null,null,null,null,null,null,null,null,null,null,null,null,null,null,null,null,null,null,null,null,null,null,null,null,null,null,null,null,null,null,null,null,null,null,null,null,null,null,null,null,null,null,null,null,null,"5.3.1 Carbon Monoxide (CO) Gas",0,"",0,0,0,0,0,0,0,0]
[null,null,null,null,null,null,null,null,null,null,null,null,null,null,null,null,null,null,null,null,null,null,null,null,null,null,null,null,null,null,null,null,null,null,null,null,null,null,null,null,null,null,null,null,null,null,null,null,null,null,null,null,null,"5.3.2 Other poisonous Gases",0,"",0,0,0,0,0,0,0,0]
[null,null,null,null,null,null,null,null,null,null,null,null,null,null,null,null,null,null,null,null,null,null,null,null,null,null,null,null,null,null,null,null,null,null,null,null,null,null,null,null,null,null,null,null,null,null,null,null,null,null,null,null,null,"5.4 Snake bite ",2,"",0,0,0,0,1,1,0,2]
[null,null,null,null,null,null,null,null,null,null,null,null,null,null,null,null,null,null,null,null,null,null,null,null,null,null,null,null,null,null,null,null,null,null,null,null,null,null,null,null,null,null,null,null,null,null,null,null,null,null,null,null,null,"5.5 Animal/Reptiles/Insects bite",0,"",0,0,0,0,0,0,0,0]
[null,null,null,null,null,null,null,null,null,null,null,null,null,null,null,null,null,null,null,null,null,null,null,null,null,null,null,null,null,null,null,null,null,null,null,null,null,null,null,null,null,null,null,null,null,null,null,null,null,null,null,null,null,"5.6 Other",0,"",0,0,0,0,0,0,0,0]
[null,null,null,null,null,null,null,null,null,null,null,null,null,null,null,null,null,null,null,null,null,null,null,null,null,null,null,null,null,null,null,null,null,null,null,null,null,null,null,null,null,null,null,null,null,null,null,null,null,null,null,null,{"$f":"B26","v":6},"Suffocation",2,"",0,0,0,0,1,1,0,2]
[null,null,null,null,null,null,null,null,null,null,null,null,null,null,null,null,null,null,null,null,null,null,null,null,null,null,null,null,null,null,null,null,null,null,null,null,null,null,null,null,null,null,null,null,null,null,null,null,null,null,null,null,{"$f":"B27","v":7},"Drug Overdose",2,"",0,0,0,0,1,1,0,2]
[null,null,null,null,null,null,null,null,null,null,null,null,null,null,null,null,null,null,null,null,null,null,null,null,null,null,null,null,null,null,null,null,null,null,null,null,null,null,null,null,null,null,null,null,null,null,null,null,null,null,null,null,{"$f":"B28","v":8},{"$f":"C28","v":"Total (sum of Sl. 1 to 7)"},{"$f":"D28","v":31},{"$f":"E28","v":""},{"$f":"F28","v":0},{"$f":"G28","v":0},{"$f":"H28","v":0},{"$f":"I28","v":0},{"$f":"J28","v":24},{"$f":"K28","v":7},{"$f":"L28","v":0},{"$f":"M28","v":31}]
[]
[]
[]
[]
[]
[]
[]
[]
[]
[]
[]
[]
[]
[]
[]
[]
[]
[]
[]
[]
[]
[]
[]
[]
[]
[]
[]
[]
[]
[]
[]
[]
[]
[]
[]
[]
[]
[]
[]
[]
[]
[]
[]
[]
[]
[]
[]
[]
[]
[]
[]
[]
[]
[]
[]
[]
[]
[]
[]
[]
[]
[]
[]
[]
[]
[]
[]
[]
[]
[]
[]
[]
[]
[]
[]
[]
[]
[]
[]
[]
[]
[]
[]
[]
[]
[]
[]
[]
[]
[]
[]
[]
[]
[]
[]
[]
[]
[]
[]
[]
[]
[]
[]
[]
[]
[]
[]
[]
[]
[]
[]
[]
[]
[]
[]
[]
[]
[]
[]
[]
[]
[]
[]
[]
[]
[]
[]
[]
[]
[]
[]
[]
[]
[]
[]
[]
[]
[]
[]
[]
[]
[]
[]
[]
[]
[]
[]
[]
[]
[]
[]
[]
[]
[]
[]
[]
[]
[]
[]
[]
[]
[]
[]
[]
[]
[]
[]
[]
[]
[]
[]
[]
[]
[]
[]
[]
[]
[]
[]
[]
[]
[]
[]
[]
[]
[]
[]
[]
[]
[]
[]
[]
[]
[]
[]
[]
[]
[]
[]
[]
[]
[]
[]
[]
[]
[]
[]
[]
[]
[]
[]
[]
[]
[]
[]
[]
[]
[]
[]
[]
[]
[]
[]
[]
[]
[]
[]
[]
[]
[]
[]
[]
[]
[]
[]
[]
[]
[]
[]
[]
[]
[]
[]
[]
[]
[]
[]
[]
[]
[]
[]
[]
[]
[]
[]
[]
[]
[]
[]
[]
[]
[]
[]
[]
[]
[]
[]
[]
[]
[]
[]
[]
["StateUTCityCode","DistrictCode","CrimeCode","DataYear","Number of Cases","Injured_Male","Injured_Female","Injured_Trans","Injured_Total","Died_Male","Died_Female","Died_Trans","Died_Total"]
[{"$f":"IF(ADSI!$G$12=\"\",ADSI!$H$16,ADSI!$H$12)","v":6},{"$f":"IF(ADSI!$G$12=\"\",ADSI!$H$16,ADSI!$H$14)","v":""},{"$f":"A8","v":300},{"$f":"ADSI!$K$12","v":2021},{"$f":"D8","v":19},{"$f":"F8","v":0},0,0,0,17,2,0,19]
[{"$f":"IF(ADSI!$G$12=\"\",ADSI!$H$16,ADSI!$H$12)","v":6},{"$f":"IF(ADSI!$G$12=\"\",ADSI!$H$16,ADSI!$H$14)","v":""},301,{"$f":"ADSI!$K$12","v":2021},0,{"$f":"F9","v":0},0,0,0,0,0,0,0]
[{"$f":"IF(ADSI!$G$12=\"\",ADSI!$H$16,ADSI!$H$12)","v":6},{"$f":"IF(ADSI!$G$12=\"\",ADSI!$H$16,ADSI!$H$14)","v":""},302,{"$f":"ADSI!$K$12","v":2021},10,{"$f":"F10","v":0},0,0,0,9,1,0,10]
[{"$f":"IF(ADSI!$G$12=\"\",ADSI!$H$16,ADSI!$H$12)","v":6},{"$f":"IF(ADSI!$G$12=\"\",ADSI!$H$16,ADSI!$H$14)","v":""},303,{"$f":"ADSI!$K$12","v":2021},9,{"$f":"F11","v":0},0,0,0,8,1,0,9]
[{"$f":"IF(ADSI!$G$12=\"\",ADSI!$H$16,ADSI!$H$12)","v":6},{"$f":"IF(ADSI!$G$12=\"\",ADSI!$H$16,ADSI!$H$14)","v":""},304,{"$f":"ADSI!$K$12","v":2021},0,{"$f":"F12","v":0},0,0,0,0,0,0,0]
[{"$f":"IF(ADSI!$G$12=\"\",ADSI!$H$16,ADSI!$H$12)","v":6},{"$f":"IF(ADSI!$G$12=\"\",ADSI!$H$16,ADSI!$H$14)","v":""},305,{"$f":"ADSI!$K$12","v":2021},0,{"$f":"F13","v":0},0,0,0,0,0,0,0]
[{"$f":"IF(ADSI!$G$12=\"\",ADSI!$H$16,ADSI!$H$12)","v":6},{"$f":"IF(ADSI!$G$12=\"\",ADSI!$H$16,ADSI!$H$14)","v":""},306,{"$f":"ADSI!$K$12","v":2021},0,{"$f":"F14","v":0},0,0,0,0,0,0,0]
[{"$f":"IF(ADSI!$G$12=\"\",ADSI!$H$16,ADSI!$H$12)","v":6},{"$f":"IF(ADSI!$G$12=\"\",ADSI!$H$16,ADSI!$H$14)","v":""},307,{"$f":"ADSI!$K$12","v":2021},0,{"$f":"F15","v":0},0,0,0,0,0,0,0]
[{"$f":"IF(ADSI!$G$12=\"\",ADSI!$H$16,ADSI!$H$12)","v":6},{"$f":"IF(ADSI!$G$12=\"\",ADSI!$H$16,ADSI!$H$14)","v":""},308,{"$f":"ADSI!$K$12","v":2021},2,{"$f":"F16","v":0},0,0,0,1,1,0,2]
[{"$f":"IF(ADSI!$G$12=\"\",ADSI!$H$16,ADSI!$H$12)","v":6},{"$f":"IF(ADSI!$G$12=\"\",ADSI!$H$16,ADSI!$H$14)","v":""},309,{"$f":"ADSI!$K$12","v":2021},6,{"$f":"F17","v":0},0,0,0,4,2,0,6]
[{"$f":"IF(ADSI!$G$12=\"\",ADSI!$H$16,ADSI!$H$12)","v":6},{"$f":"IF(ADSI!$G$12=\"\",ADSI!$H$16,ADSI!$H$14)","v":""},310,{"$f":"ADSI!$K$12","v":2021},1,{"$f":"F18","v":0},0,0,0,1,0,0,1]
[{"$f":"IF(ADSI!$G$12=\"\",ADSI!$H$16,ADSI!$H$12)","v":6},{"$f":"IF(ADSI!$G$12=\"\",ADSI!$H$16,ADSI!$H$14)","v":""},311,{"$f":"ADSI!$K$12","v":2021},3,{"$f":"F19","v":0},0,0,0,2,1,0,3]
[{"$f":"IF(ADSI!$G$12=\"\",ADSI!$H$16,ADSI!$H$12)","v":6},{"$f":"IF(ADSI!$G$12=\"\",ADSI!$H$16,ADSI!$H$14)","v":""},312,{"$f":"ADSI!$K$12","v":2021},0,{"$f":"F20","v":0},0,0,0,0,0,0,0]
[{"$f":"IF(ADSI!$G$12=\"\",ADSI!$H$16,ADSI!$H$12)","v":6},{"$f":"IF(ADSI!$G$12=\"\",ADSI!$H$16,ADSI!$H$14)","v":""},313,{"$f":"ADSI!$K$12","v":2021},0,{"$f":"F21","v":0},0,0,0,0,0,0,0]
[{"$f":"IF(ADSI!$G$12=\"\",ADSI!$H$16,ADSI!$H$12)","v":6},{"$f":"IF(ADSI!$G$12=\"\",ADSI!$H$16,ADSI!$H$14)","v":""},314,{"$f":"ADSI!$K$12","v":2021},0,{"$f":"F22","v":0},0,0,0,0,0,0,0]
[{"$f":"IF(ADSI!$G$12=\"\",ADSI!$H$16,ADSI!$H$12)","v":6},{"$f":"IF(ADSI!$G$12=\"\",ADSI!$H$16,ADSI!$H$14)","v":""},315,{"$f":"ADSI!$K$12","v":2021},2,{"$f":"F23","v":0},0,0,0,1,1,0,2]
[{"$f":"IF(ADSI!$G$12=\"\",ADSI!$H$16,ADSI!$H$12)","v":6},{"$f":"IF(ADSI!$G$12=\"\",ADSI!$H$16,ADSI!$H$14)","v":""},316,{"$f":"ADSI!$K$12","v":2021},0,{"$f":"F24","v":0},0,0,0,0,0,0,0]
[{"$f":"IF(ADSI!$G$12=\"\",ADSI!$H$16,ADSI!$H$12)","v":6},{"$f":"IF(ADSI!$G$12=\"\",ADSI!$H$16,ADSI!$H$14)","v":""},317,{"$f":"ADSI!$K$12","v":2021},0,{"$f":"F25","v":0},0,0,0,0,0,0,0]
[{"$f":"IF(ADSI!$G$12=\"\",ADSI!$H$16,ADSI!$H$12)","v":6},{"$f":"IF(ADSI!$G$12=\"\",ADSI!$H$16,ADSI!$H$14)","v":""},318,{"$f":"ADSI!$K$12","v":2021},2,{"$f":"F26","v":0},0,0,0,1,1,0,2]
[{"$f":"IF(ADSI!$G$12=\"\",ADSI!$H$16,ADSI!$H$12)","v":6},{"$f":"IF(ADSI!$G$12=\"\",ADSI!$H$16,ADSI!$H$14)","v":""},319,{"$f":"ADSI!$K$12","v":2021},2,{"$f":"F27","v":0},0,0,0,1,1,0,2]
[{"$f":"IF(ADSI!$G$12=\"\",ADSI!$H$16,ADSI!$H$12)","v":6},{"$f":"IF(ADSI!$G$12=\"\",ADSI!$H$16,ADSI!$H$14)","v":""},335,{"$f":"ADSI!$K$12","v":2021},31,{"$f":"F28","v":0},0,0,0,24,7,0,31]

{"sheet":"P-V","index":7,"n_rows":521,"n_cols":84,"rows_kept":521,"cut":false,"hidden":false,"merged":[[203,52,205,52],[203,81,205,81],[203,82,206,82],[203,83,206,83],[203,54,203,80],[204,72,204,80],[204,63,204,71],[204,54,204,62],[203,53,205,53],[205,80,206,80],[205,79,206,79],[205,70,206,70],[205,71,206,71],[205,61,206,61],[205,62,206,62],[4,32,6,32],[4,0,6,0],[4,1,6,1],[4,2,6,2],[4,30,6,30],[5,3,5,11],[4,3,4,29],[5,21,5,29],[4,31,6,31],[5,12,5,20]]}
[{"$f":"ADSI!$B$1","v":"Goa, , ADSI-2021"}]
["Errors",null,{"$f":"COUNTIF(L9:L29,FALSE)+COUNTIF(U9:U29,FALSE)+COUNTIF(AD9:AD29,FALSE)+COUNTIF(AG9:AG29,FALSE)","v":0}]
["Proforma–V"]
["Age Wise Distribution of Accidental Deaths by Other than Un-natural Causes"]
["Code","Sl. No.","Causes","N u m b e r       o f      A c c i d e n t a l       D e a t h s",null,null,null,null,null,null,null,null,null,null,null,null,null,null,null,null,null,null,null,null,null,null,null,null,null,null,"Grand Total [Col. (9)+(16)+(23)]"," PROFORMA–IV VALUES [Col.–(11) (Total Died)]","VALIDATION  WITH PROFORMA–IV [Col.–(11) (Total Died)]"]
[null,null,null,"M a l e",null,null,null,null,null,null,null,null,"F e m a l e",null,null,null,null,null,null,null,null,"Transgender"]
[null,null,null,"below 14 years","14 and above – below 18 yrs","18 and above-below 30 years","30 and above – below 45 years","45 and above – below 60 years","60 years & above"," Total \n[sum of  (3) to (8)]"," PROFORMA–IV VALUES [Col.–(8) (Male Died)]","VALIDATION  WITH PROFORMA–IV [Col.–(8) (Male Died)]","below 14 years","14 and above – below 18 yrs","18 and above-below 30 years","30 and above – below 45 years","45 and above – below 60 years","60 years & above","Total [sum of (10) to (15)]"," PROFORMA–IV VALUES [Col.–(9) (Female Died)]","VALIDATION  WITH PROFORMA–IV [Col.–(9) (Female Died)]","below 14 years","14 and above – below 18 yrs","18 and above-below 30 years","30 and above – below 45 years","45 and above – below 60 years","60 years & above","Total [sum of (17) to (22)]"," PROFORMA–IV VALUES [Col.–(10) Transgender Died)]","VALIDATION  WITH PROFORMA–IV [Col.–(10) Transgender Died)]"]
[null,"(1)","(2)","(3)","(4)","(5)","(6)","(7)","(8)","(9)",null,null,"(10)","(11)","(12)","(13)","(14)","(15)","(16)",null,null,"(17)","(18)","(19)","(20)","(21)","(22)","(23)",null,null,"(24)"]
[350,1,"Sudden Deaths (Total) (sum of 1.1 to 1.3)",{"$f":"SUM(D10:D12)","v":1},{"$f":"SUM(E10:E12)","v":0},1,5,5,5,{"$f":"SUM(D9:I9)","v":17},{"$f":"'P-IV'!J8","v":17},{"$f":"IF(J9='P-IV'!J8,\"\",FALSE)","v":""},{"$f":"SUM(M10:M12)","v":0},{"$f":"SUM(N10:N12)","v":0},{"$f":"SUM(O10:O12)","v":1},{"$f":"SUM(P10:P12)","v":0},{"$f":"SUM(Q10:Q12)","v":0},{"$f":"SUM(R10:R12)","v":1},{"$f":"SUM(M9:R9)","v":2},{"$f":"'P-IV'!K8","v":2},{"$f":"IF(S9='P-IV'!K8,\"\",FALSE)","v":""},0,0,0,0,0,0,{"$f":"SUM(V9:AA9)","v":0},{"$f":"'P-IV'!L8","v":0},{"$f":"IF(AB9='P-IV'!L8,\"\",FALSE)","v":""},{"$f":"SUM(J9+S9+AB9)","v":19},{"$f":"'P-IV'!M8","v":19},{"$f":"IF(AE9='P-IV'!M8,\"\",FALSE)","v":""}]
[351,null,"1.1 Industrial Accidents",0,0,0,0,0,0,{"$f":"SUM(D10:I10)","v":0},{"$f":"'P-IV'!J9","v":0},{"$f":"IF(J10='P-IV'!J9,\"\",FALSE)","v":""},0,0,0,0,0,0,{"$f":"SUM(M10:R10)","v":0},{"$f":"'P-IV'!K9","v":0},{"$f":"IF(S10='P-IV'!K9,\"\",FALSE)","v":""},0,0,0,0,0,0,{"$f":"SUM(V10:AA10)","v":0},{"$f":"'P-IV'!L9","v":0},{"$f":"IF(AB10='P-IV'!L9,\"\",FALSE)","v":""},{"$f":"SUM(J10+S10+AB10)","v":0},{"$f":"'P-IV'!M9","v":0},{"$f":"IF(AE10='P-IV'!M9,\"\",FALSE)","v":""}]
[352,null,"1.2 Heart Attack",0,0,1,4,2,2,9,{"$f":"'P-IV'!J10","v":9},{"$f":"IF(J11='P-IV'!J10,\"\",FALSE)","v":""},0,0,0,0,0,1,1,{"$f":"'P-IV'!K10","v":1},{"$f":"IF(S11='P-IV'!K10,\"\",FALSE)","v":""},0,0,0,0,0,0,0,{"$f":"'P-IV'!L10","v":0},{"$f":"IF(AB11='P-IV'!L10,\"\",FALSE)","v":""},10,{"$f":"'P-IV'!M10","v":10},{"$f":"IF(AE11='P-IV'!M10,\"\",FALSE)","v":""}]
[353,null,"1.3 Others",1,0,0,1,3,3,8,{"$f":"'P-IV'!J11","v":8},{"$f":"IF(J12='P-IV'!J11,\"\",FALSE)","v":""},0,0,1,0,0,0,1,{"$f":"'P-IV'!K11","v":1},{"$f":"IF(S12='P-IV'!K11,\"\",FALSE)","v":""},0,0,0,0,0,0,0,{"$f":"'P-IV'!L11","v":0},{"$f":"IF(AB12='P-IV'!L11,\"\",FALSE)","v":""},9,{"$f":"'P-IV'!M11","v":9},{"$f":"IF(AE12='P-IV'!M11,\"\",FALSE)","v":""}]
[354,2,"Deaths of Women during Pregnancy (Total) (sum of 2.1 and 2.2)",{"$f":"SUM(D14:D15)","v":0},{"$f":"SUM(E14:E15)","v":0},0,0,0,0,0,{"$f":"'P-IV'!J12","v":0},{"$f":"IF(J13='P-IV'!J12,\"\",FALSE)","v":""},0,0,0,0,0,0,0,{"$f":"'P-IV'!K12","v":0},{"$f":"IF(S13='P-IV'!K12,\"\",FALSE)","v":""},0,0,0,{"$f":"SUM(Y14:Y15)","v":0},{"$f":"SUM(Z14:Z15)","v":0},{"$f":"SUM(AA14:AA15)","v":0},0,{"$f":"'P-IV'!L12","v":0},{"$f":"IF(AB13='P-IV'!L12,\"\",FALSE)","v":""},0,{"$f":"'P-IV'!M12","v":0},{"$f":"IF(AE13='P-IV'!M12,\"\",FALSE)","v":""}]
[355,null,"2.1 Due  to Abortions",0,0,0,0,0,0,0,{"$f":"'P-IV'!J13","v":0},{"$f":"IF(J14='P-IV'!J13,\"\",FALSE)","v":""},0,0,0,0,0,0,0,{"$f":"'P-IV'!K13","v":0},{"$f":"IF(S14='P-IV'!K13,\"\",FALSE)","v":""},0,0,0,0,0,0,0,{"$f":"'P-IV'!L13","v":0},{"$f":"IF(AB14='P-IV'!L13,\"\",FALSE)","v":""},0,{"$f":"'P-IV'!M13","v":0},{"$f":"IF(AE14='P-IV'!M13,\"\",FALSE)","v":""}]
[356,null,"2.2 Due to Other accidents during Pregnancy",0,0,0,0,0,0,0,{"$f":"'P-IV'!J14","v":0},{"$f":"IF(J15='P-IV'!J14,\"\",FALSE)","v":""},0,0,0,0,0,0,0,{"$f":"'P-IV'!K14","v":0},{"$f":"IF(S15='P-IV'!K14,\"\",FALSE)","v":""},0,0,0,0,0,0,0,{"$f":"'P-IV'!L14","v":0},{"$f":"IF(AB15='P-IV'!L14,\"\",FALSE)","v":""},0,{"$f":"'P-IV'!M14","v":0},{"$f":"IF(AE15='P-IV'!M14,\"\",FALSE)","v":""}]
[357,3,"Deaths Due to consumption of Illicit/Spurious Liquor",0,0,0,0,0,0,0,{"$f":"'P-IV'!J15","v":0},{"$f":"IF(J16='P-IV'!J15,\"\",FALSE)","v":""},0,0,0,0,0,0,0,{"$f":"'P-IV'!K15","v":0},{"$f":"IF(S16='P-IV'!K15,\"\",FALSE)","v":""},0,0,0,0,0,0,0,{"$f":"'P-IV'!L15","v":0},{"$f":"IF(AB16='P-IV'!L15,\"\",FALSE)","v":""},0,{"$f":"'P-IV'!M15","v":0},{"$f":"IF(AE16='P-IV'!M15,\"\",FALSE)","v":""}]
[358,4,"Killed by animals",0,0,0,0,1,0,1,{"$f":"'P-IV'!J16","v":1},{"$f":"IF(J17='P-IV'!J16,\"\",FALSE)","v":""},0,0,0,0,0,1,1,{"$f":"'P-IV'!K16","v":1},{"$f":"IF(S17='P-IV'!K16,\"\",FALSE)","v":""},0,0,0,0,0,0,0,{"$f":"'P-IV'!L16","v":0},{"$f":"IF(AB17='P-IV'!L16,\"\",FALSE)","v":""},2,{"$f":"'P-IV'!M16","v":2},{"$f":"IF(AE17='P-IV'!M16,\"\",FALSE)","v":""}]
[359,5,"Poisoning (Total) (sum of 5.1 to 5.3 & 5.4 to 5.6)",{"$f":"SUM(D19:D21,D24:D26)","v":0},{"$f":"SUM(E19:E21,E24:E26)","v":0},0,0,3,1,4,{"$f":"'P-IV'!J17","v":4},{"$f":"IF(J18='P-IV'!J17,\"\",FALSE)","v":""},{"$f":"SUM(M19:M21,M24:M26)","v":0},0,0,0,0,2,2,{"$f":"'P-IV'!K17","v":2},{"$f":"IF(S18='P-IV'!K17,\"\",FALSE)","v":""},{"$f":"SUM(V19:V21,V24:V26)","v":0},0,0,0,0,0,0,{"$f":"'P-IV'!L17","v":0},{"$f":"IF(AB18='P-IV'!L17,\"\",FALSE)","v":""},6,{"$f":"'P-IV'!M17","v":6},{"$f":"IF(AE18='P-IV'!M17,\"\",FALSE)","v":""}]
[360,null,"5.1 Food Poisoning",0,0,0,0,1,0,1,{"$f":"'P-IV'!J18","v":1},{"$f":"IF(J19='P-IV'!J18,\"\",FALSE)","v":""},0,0,0,0,0,0,0,{"$f":"'P-IV'!K18","v":0},{"$f":"IF(S19='P-IV'!K18,\"\",FALSE)","v":""},0,0,0,0,0,0,0,{"$f":"'P-IV'!L18","v":0},{"$f":"IF(AB19='P-IV'!L18,\"\",FALSE)","v":""},1,{"$f":"'P-IV'!M18","v":1},{"$f":"IF(AE19='P-IV'!M18,\"\",FALSE)","v":""}]
[361,null,"5.2 Accidental intake of Insecticides/Pesticides",0,0,0,0,1,1,2,{"$f":"'P-IV'!J19","v":2},{"$f":"IF(J20='P-IV'!J19,\"\",FALSE)","v":""},0,0,0,0,0,1,1,{"$f":"'P-IV'!K19","v":1},{"$f":"IF(S20='P-IV'!K19,\"\",FALSE)","v":""},0,0,0,0,0,0,0,{"$f":"'P-IV'!L19","v":0},{"$f":"IF(AB20='P-IV'!L19,\"\",FALSE)","v":""},3,{"$f":"'P-IV'!M19","v":3},{"$f":"IF(AE20='P-IV'!M19,\"\",FALSE)","v":""}]
[362,null,"5.3  Poisonous Gases (Total) (sum of 5.3.1 & 5.3.2)",{"$f":"SUM(D22:D23)","v":0},{"$f":"SUM(E22:E23)","v":0},0,0,0,0,0,{"$f":"'P-IV'!J20","v":0},{"$f":"IF(J21='P-IV'!J20,\"\",FALSE)","v":""},{"$f":"SUM(M22:M23)","v":0},{"$f":"SUM(N22:N23)","v":0},{"$f":"SUM(O22:O23)","v":0},{"$f":"SUM(P22:P23)","v":0},{"$f":"SUM(Q22:Q23)","v":0},{"$f":"SUM(R22:R23)","v":0},0,{"$f":"'P-IV'!K20","v":0},{"$f":"IF(S21='P-IV'!K20,\"\",FALSE)","v":""},0,0,0,0,0,0,0,{"$f":"'P-IV'!L20","v":0},{"$f":"IF(AB21='P-IV'!L20,\"\",FALSE)","v":""},0,{"$f":"'P-IV'!M20","v":0},{"$f":"IF(AE21='P-IV'!M20,\"\",FALSE)","v":""}]
[363,null,"5.3.1 Carbon Monoxide (CO) Gas",0,0,0,0,0,0,0,{"$f":"'P-IV'!J21","v":0},{"$f":"IF(J22='P-IV'!J21,\"\",FALSE)","v":""},0,0,0,0,0,0,0,{"$f":"'P-IV'!K21","v":0},{"$f":"IF(S22='P-IV'!K21,\"\",FALSE)","v":""},0,0,0,0,0,0,0,{"$f":"'P-IV'!L21","v":0},{"$f":"IF(AB22='P-IV'!L21,\"\",FALSE)","v":""},0,{"$f":"'P-IV'!M21","v":0},{"$f":"IF(AE22='P-IV'!M21,\"\",FALSE)","v":""}]
[364,null,"5.3.2 Other poisonous Gases",0,0,0,0,0,0,0,{"$f":"'P-IV'!J22","v":0},{"$f":"IF(J23='P-IV'!J22,\"\",FALSE)","v":""},0,0,0,0,0,0,0,{"$f":"'P-IV'!K22","v":0},{"$f":"IF(S23='P-IV'!K22,\"\",FALSE)","v":""},0,0,0,0,0,0,0,{"$f":"'P-IV'!L22","v":0},{"$f":"IF(AB23='P-IV'!L22,\"\",FALSE)","v":""},0,{"$f":"'P-IV'!M22","v":0},{"$f":"IF(AE23='P-IV'!M22,\"\",FALSE)","v":""}]
[365,null,"5.4 Snake bite ",0,0,0,0,1,0,1,{"$f":"'P-IV'!J23","v":1},{"$f":"IF(J24='P-IV'!J23,\"\",FALSE)","v":""},0,0,0,0,0,1,1,{"$f":"'P-IV'!K23","v":1},{"$f":"IF(S24='P-IV'!K23,\"\",FALSE)","v":""},0,0,0,0,0,0,0,{"$f":"'P-IV'!L23","v":0},{"$f":"IF(AB24='P-IV'!L23,\"\",FALSE)","v":""},2,{"$f":"'P-IV'!M23","v":2},{"$f":"IF(AE24='P-IV'!M23,\"\",FALSE)","v":""}]
[366,null,"5.5 Animal/Reptiles/Insects bite",0,0,0,0,0,0,0,{"$f":"'P-IV'!J24","v":0},{"$f":"IF(J25='P-IV'!J24,\"\",FALSE)","v":""},0,0,0,0,0,0,0,{"$f":"'P-IV'!K24","v":0},{"$f":"IF(S25='P-IV'!K24,\"\",FALSE)","v":""},0,0,0,0,0,0,0,{"$f":"'P-IV'!L24","v":0},{"$f":"IF(AB25='P-IV'!L24,\"\",FALSE)","v":""},0,{"$f":"'P-IV'!M24","v":0},{"$f":"IF(AE25='P-IV'!M24,\"\",FALSE)","v":""}]
[367,null,"5.6 Other",0,0,0,0,0,0,0,{"$f":"'P-IV'!J25","v":0},{"$f":"IF(J26='P-IV'!J25,\"\",FALSE)","v":""},0,0,0,0,0,0,0,{"$f":"'P-IV'!K25","v":0},{"$f":"IF(S26='P-IV'!K25,\"\",FALSE)","v":""},0,0,0,0,0,0,0,{"$f":"'P-IV'!L25","v":0},{"$f":"IF(AB26='P-IV'!L25,\"\",FALSE)","v":""},0,{"$f":"'P-IV'!M25","v":0},{"$f":"IF(AE26='P-IV'!M25,\"\",FALSE)","v":""}]
[368,6,"Suffocation",1,0,0,0,0,0,1,{"$f":"'P-IV'!J26","v":1},{"$f":"IF(J27='P-IV'!J26,\"\",FALSE)","v":""},1,0,0,0,0,0,1,{"$f":"'P-IV'!K26","v":1},{"$f":"IF(S27='P-IV'!K26,\"\",FALSE)","v":""},0,0,0,0,0,0,0,{"$f":"'P-IV'!L26","v":0},{"$f":"IF(AB27='P-IV'!L26,\"\",FALSE)","v":""},2,{"$f":"'P-IV'!M26","v":2},{"$f":"IF(AE27='P-IV'!M26,\"\",FALSE)","v":""}]
[369,7,"Drug Overdose",0,0,0,0,1,0,1,{"$f":"'P-IV'!J27","v":1},{"$f":"IF(J28='P-IV'!J27,\"\",FALSE)","v":""},0,0,0,1,0,0,1,{"$f":"'P-IV'!K27","v":1},{"$f":"IF(S28='P-IV'!K27,\"\",FALSE)","v":""},0,0,0,0,0,0,0,{"$f":"'P-IV'!L27","v":0},{"$f":"IF(AB28='P-IV'!L27,\"\",FALSE)","v":""},2,{"$f":"'P-IV'!M27","v":2},{"$f":"IF(AE28='P-IV'!M27,\"\",FALSE)","v":""}]
[390,8,"Total (sum of Sl. 1 to 7)",{"$f":"SUM(D9,D13,D16:D18,D27:D28)","v":2},0,1,5,10,6,24,{"$f":"'P-IV'!J28","v":24},{"$f":"IF(J29='P-IV'!J28,\"\",FALSE)","v":""},{"$f":"SUM(M9,M13,M16:M18,M27:M28)","v":1},0,1,1,0,4,7,{"$f":"'P-IV'!K28","v":7},{"$f":"IF(S29='P-IV'!K28,\"\",FALSE)","v":""},{"$f":"SUM(V9,V13,V16:V18,V27:V28)","v":0},0,0,0,0,0,0,{"$f":"'P-IV'!L28","v":0},{"$f":"IF(AB29='P-IV'!L28,\"\",FALSE)","v":""},{"$f":"SUM(AE9,AE13,AE16:AE18,AE27:AE28)","v":31},{"$f":"'P-IV'!M28","v":31},{"$f":"IF(AE29='P-IV'!M28,\"\",FALSE)","v":""}]
[]
[]
[]
[]
[]
[]
[]
[]
[]
[]
[]
[]
[]
[]
[]
[]
[]
[]
[]
[]
[]
[]
[]
[]
[]
[]
[]
[]
[]
[]
[]
[]
[]
[]
[]
[]
[]
[]
[]
[]
[]
[]
[]
[]
[]
[]
[]
[]
[]
[]
[]
[]
[]
[]
[]
[]
[]
[]
[]
[]
[]
[]
[]
[]
[]
[]
[]
[]
[]
[]
[]
[]
[]
[]
[]
[]
[]
[]
[]
[]
[]
[]
[]
[]
[]
[]
[]
[]
[]
[]
[]
[]
[]
[]
[]
[]
[]
[]
[]
[]
[]
[]
[]
[]
[]
[]
[]
[]
[]
[]
[]
[]
[]
[]
[]
[]
[]
[]
[]
[]
[]
[]
[]
[]
[]
[]
[]
[]
[]
[]
[]
[]
[]
[]
[]
[]
[]
[]
[]
[]
[]
[]
[]
[]
[]
[]
[]
[]
[]
[]
[]
[]
[]
[]
[]
[]
[]
[]
[]
[]
[]
[]
[]
[]
[]
[]
[]
[]
[]
[]
[null,null,null,null,null,null,null,null,null,null,null,null,null,null,null,null,null,null,null,null,null,null,null,null,null,null,null,null,null,null,null,null,null,null,null,null,null,null,null,null,null,null,null,null,null,null,null,null,null,null,null,null,{"$f":"A1","v":"Goa, , ADSI-2021"}]
[null,null,null,null,null,null,null,null,null,null,null,null,null,null,null,null,null,null,null,null,null,null,null,null,null,null,null,null,null,null,null,null,null,null,null,null,null,null,null,null,null,null,null,null,null,null,null,null,null,null,null,null,{"$f":"A2","v":"Errors"},{"$f":"C2","v":0}]
[null,null,null,null,null,null,null,null,null,null,null,null,null,null,null,null,null,null,null,null,null,null,null,null,null,null,null,null,null,null,null,null,null,null,null,null,null,null,null,null,null,null,null,null,null,null,null,null,null,null,null,null,{"$f":"A3","v":"Proforma–V"}]
[null,null,null,null,null,null,null,null,null,null,null,null,null,null,null,null,null,null,null,null,null,null,null,null,null,null,null,null,null,null,null,null,null,null,null,null,null,null,null,null,null,null,null,null,null,null,null,null,null,null,null,null,{"$f":"A4","v":"Age Wise Distribution of Accidental Deaths by Other than Un-natural Causes"}]
[null,null,null,null,null,null,null,null,null,null,null,null,null,null,null,null,null,null,null,null,null,null,null,null,null,null,null,null,null,null,null,null,null,null,null,null,null,null,null,null,null,null,null,null,null,null,null,null,null,null,null,null,{"$f":"B5","v":"Sl. No."},{"$f":"C5","v":"Causes"},{"$f":"D5","v":"N u m b e r       o f      A c c i d e n t a l       D e a t h s"},null,null,null,null,null,null,null,null,null,null,null,null,null,null,null,null,null,null,null,null,null,null,null,null,null,null,{"$f":"AE5","v":"Grand Total [Col. (9)+(16)+(23)]"},{"$f":"AF5","v":" PROFORMA–IV VALUES [Col.–(11) (Total Died)]"},{"$f":"AG5","v":"VALIDATION  WITH PROFORMA–IV [Col.–(11) (Total Died)]"}]
[null,null,null,null,null,null,null,null,null,null,null,null,null,null,null,null,null,null,null,null,null,null,null,null,null,null,null,null,null,null,null,null,null,null,null,null,null,null,null,null,null,null,null,null,null,null,null,null,null,null,null,null,null,null,{"$f":"D6","v":"M a l e"},null,null,null,null,null,null,null,null,{"$f":"M6","v":"F e m a l e"},null,null,null,null,null,null,null,null,{"$f":"V6","v":"Transgender"}]
[null,null,null,null,null,null,null,null,null,null,null,null,null,null,null,null,null,null,null,null,null,null,null,null,null,null,null,null,null,null,null,null,null,null,null,null,null,null,null,null,null,null,null,null,null,null,null,null,null,null,null,null,null,null,"below 14 years",{"$f":"E7","v":"14 and above – below 18 yrs"},"18 and above-below 30 years","30 and above – below 45 years","45 and above – below 60 years","60 years & above"," Total \n[sum of  (3) to (8)]"," PROFORMA–IV VALUES [Col.–(8) (Male Died)]","VALIDATION  WITH PROFORMA–IV [Col.–(8) (Male Died)]","below 14 years",{"$f":"N7","v":"14 and above – below 18 yrs"},"18 and above-below 30 years","30 and above – below 45 years","45 and above – below 60 years","60 years & above","Total [sum of (10) to (15)]"," PROFORMA–IV VALUES [Col.–(9) (Female Died)]","VALIDATION  WITH PROFORMA–IV [Col.–(9) (Female Died)]","below 14 years",{"$f":"W7","v":"14 and above – below 18 yrs"},"18 and above-below 30 years","30 and above – below 45 years","45 and above – below 60 years","60 years & above","Total [sum of (17) to (22)]"," PROFORMA–IV VALUES [Col.–(10) Transgender Died)]","VALIDATION  WITH PROFORMA–IV [Col.–(10) Transgender Died)]"]
[null,null,null,null,null,null,null,null,null,null,null,null,null,null,null,null,null,null,null,null,null,null,null,null,null,null,null,null,null,null,null,null,null,null,null,null,null,null,null,null,null,null,null,null,null,null,null,null,null,null,null,null,{"$f":"B8","v":"(1)"},{"$f":"C8","v":"(2)"},"(3)",{"$f":"E8","v":"(4)"},{"$f":"F8","v":"(5)"},{"$f":"G8","v":"(6)"},{"$f":"H8","v":"(7)"},{"$f":"I8","v":"(8)"},{"$f":"J8","v":"(9)"},null,null,"(10)",{"$f":"N8","v":"(11)"},{"$f":"O8","v":"(12)"},{"$f":"P8","v":"(13)"},{"$f":"Q8","v":"(14)"},{"$f":"R8","v":"(15)"},{"$f":"S8","v":"(16)"},null,null,"(17)",{"$f":"W8","v":"(18)"},{"$f":"X8","v":"(19)"},{"$f":"Y8","v":"(20)"},{"$f":"Z8","v":"(21)"},{"$f":"AA8","v":"(22)"},{"$f":"AB8","v":"(23)"},null,null,{"$f":"AE8","v":"(24)"}]
[null,null,null,null,null,null,null,null,null,null,null,null,null,null,null,null,null,null,null,null,null,null,null,null,null,null,null,null,null,null,null,null,null,null,null,null,null,null,null,null,null,null,null,null,null,null,null,null,null,null,null,null,{"$f":"B9","v":1},{"$f":"C9","v":"Sudden Deaths (Total) (sum of 1.1 to 1.3)"},1,0,1,5,5,5,17,{"$f":"K9","v":17},{"$f":"L9","v":""},0,0,1,0,0,1,2,{"$f":"T9","v":2},{"$f":"U9","v":""},0,0,0,0,0,0,0,{"$f":"AC9","v":0},{"$f":"AD9","v":""},19,{"$f":"AF9","v":19},{"$f":"AG9","v":""}]
[null,null,null,null,null,null,null,null,null,null,null,null,null,null,null,null,null,null,null,null,null,null,null,null,null,null,null,null,null,null,null,null,null,null,null,null,null,null,null,null,null,null,null,null,null,null,null,null,null,null,null,null,null,{"$f":"C10","v":"1.1 Industrial Accidents"},0,0,0,0,0,0,0,0,"",0,0,0,0,0,0,0,0,"",0,0,0,0,0,0,0,0,"",0,0,""]
[null,null,null,null,null,null,null,null,null,null,null,null,null,null,null,null,null,null,null,null,null,null,null,null,null,null,null,null,null,null,null,null,null,null,null,null,null,null,null,null,null,null,null,null,null,null,null,null,null,null,null,null,null,"1.2 Heart Attack",0,0,1,4,2,2,9,9,"",0,0,0,0,0,1,1,1,"",0,0,0,0,0,0,0,0,"",10,10,""]
[null,null,null,null,null,null,null,null,null,null,null,null,null,null,null,null,null,null,null,null,null,null,null,null,null,null,null,null,null,null,null,null,null,null,null,null,null,null,null,null,null,null,null,null,null,null,null,null,null,null,null,null,null,"1.3 Others",1,0,0,1,3,3,8,8,"",0,0,1,0,0,0,1,1,"",0,0,0,0,0,0,0,0,"",9,9,""]
[null,null,null,null,null,null,null,null,null,null,null,null,null,null,null,null,null,null,null,null,null,null,null,null,null,null,null,null,null,null,null,null,null,null,null,null,null,null,null,null,null,null,null,null,null,null,null,null,null,null,null,null,{"$f":"B13","v":2},"Deaths of Women during Pregnancy (Total) (sum of 2.1 and 2.2)",0,0,0,0,0,0,0,0,"",0,0,0,0,0,0,0,0,"",0,0,0,0,0,0,0,0,"",0,0,""]
[null,null,null,null,null,null,null,null,null,null,null,null,null,null,null,null,null,null,null,null,null,null,null,null,null,null,null,null,null,null,null,null,null,null,null,null,null,null,null,null,null,null,null,null,null,null,null,null,null,null,null,null,null,"2.1 Due  to Abortions",0,0,0,0,0,0,0,0,"",0,0,0,0,0,0,0,0,"",0,0,0,0,0,0,0,0,"",0,0,""]
[null,null,null,null,null,null,null,null,null,null,null,null,null,null,null,null,null,null,null,null,null,null,null,null,null,null,null,null,null,null,null,null,null,null,null,null,null,null,null,null,null,null,null,null,null,null,null,null,null,null,null,null,null,"2.2 Due to Other accidents during Pregnancy",0,0,0,0,0,0,0,0,"",0,0,0,0,0,0,0,0,"",0,0,0,0,0,0,0,0,"",0,0,""]
[null,null,null,null,null,null,null,null,null,null,null,null,null,null,null,null,null,null,null,null,null,null,null,null,null,null,null,null,null,null,null,null,null,null,null,null,null,null,null,null,null,null,null,null,null,null,null,null,null,null,null,null,{"$f":"B16","v":3},"Deaths Due to consumption of Illicit/Spurious Liquor",0,0,0,0,0,0,0,0,"",0,0,0,0,0,0,0,0,"",0,0,0,0,0,0,0,0,"",0,0,""]
[null,null,null,null,null,null,null,null,null,null,null,null,null,null,null,null,null,null,null,null,null,null,null,null,null,null,null,null,null,null,null,null,null,null,null,null,null,null,null,null,null,null,null,null,null,null,null,null,null,null,null,null,{"$f":"B17","v":4},"Killed by animals",0,0,0,0,1,0,1,1,"",0,0,0,0,0,1,1,1,"",0,0,0,0,0,0,0,0,"",2,2,""]
[null,null,null,null,null,null,null,null,null,null,null,null,null,null,null,null,null,null,null,null,null,null,null,null,null,null,null,null,null,null,null,null,null,null,null,null,null,null,null,null,null,null,null,null,null,null,null,null,null,null,null,null,{"$f":"B18","v":5},"Poisoning (Total) (sum of 5.1 to 5.3 & 5.4 to 5.6)",0,0,0,0,3,1,4,4,"",0,0,0,0,0,2,2,2,"",0,0,0,0,0,0,0,0,"",6,6,""]
[null,null,null,null,null,null,null,null,null,null,null,null,null,null,null,null,null,null,null,null,null,null,null,null,null,null,null,null,null,null,null,null,null,null,null,null,null,null,null,null,null,null,null,null,null,null,null,null,null,null,null,null,null,"5.1 Food Poisoning",0,0,0,0,1,0,1,1,"",0,0,0,0,0,0,0,0,"",0,0,0,0,0,0,0,0,"",1,1,""]
[null,null,null,null,null,null,null,null,null,null,null,null,null,null,null,null,null,null,null,null,null,null,null,null,null,null,null,null,null,null,null,null,null,null,null,null,null,null,null,null,null,null,null,null,null,null,null,null,null,null,null,null,null,"5.2 Accidental intake of Insecticides/Pesticides",0,0,0,0,1,1,2,2,"",0,0,0,0,0,1,1,1,"",0,0,0,0,0,0,0,0,"",3,3,""]
[null,null,null,null,null,null,null,null,null,null,null,null,null,null,null,null,null,null,null,null,null,null,null,null,null,null,null,null,null,null,null,null,null,null,null,null,null,null,null,null,null,null,null,null,null,null,null,null,null,null,null,null,null,"5.3  Poisonous Gases (Total) (sum of 5.3.1 & 5.3.2)",0,0,0,0,0,0,0,0,"",0,0,0,0,0,0,0,0,"",0,0,0,0,0,0,0,0,"",0,0,""]
[null,null,null,null,null,null,null,null,null,null,null,null,null,null,null,null,null,null,null,null,null,null,null,null,null,null,null,null,null,null,null,null,null,null,null,null,null,null,null,null,null,null,null,null,null,null,null,null,null,null,null,null,null,"5.3.1 Carbon Monoxide (CO) Gas",0,0,0,0,0,0,0,0,"",0,0,0,0,0,0,0,0,"",0,0,0,0,0,0,0,0,"",0,0,""]
[null,null,null,null,null,null,null,null,null,null,null,null,null,null,null,null,null,null,null,null,null,null,null,null,null,null,null,null,null,null,null,null,null,null,null,null,null,null,null,null,null,null,null,null,null,null,null,null,null,null,null,null,null,"5.3.2 Other poisonous Gases",0,0,0,0,0,0,0,0,"",0,0,0,0,0,0,0,0,"",0,0,0,0,0,0,0,0,"",0,0,""]
[null,null,null,null,null,null,null,null,null,null,null,null,null,null,null,null,null,null,null,null,null,null,null,null,null,null,null,null,null,null,null,null,null,null,null,null,null,null,null,null,null,null,null,null,null,null,null,null,null,null,null,null,null,"5.4 Snake bite ",0,0,0,0,1,0,1,1,"",0,0,0,0,0,1,1,1,"",0,0,0,0,0,0,0,0,"",2,2,""]
[null,null,null,null,null,null,null,null,null,null,null,null,null,null,null,null,null,null,null,null,null,null,null,null,null,null,null,null,null,null,null,null,null,null,null,null,null,null,null,null,null,null,null,null,null,null,null,null,null,null,null,null,null,"5.5 Animal/Reptiles/Insects bite",0,0,0,0,0,0,0,0,"",0,0,0,0,0,0,0,0,"",0,0,0,0,0,0,0,0,"",0,0,""]
[null,null,null,null,null,null,null,null,null,null,null,null,null,null,null,null,null,null,null,null,null,null,null,null,null,null,null,null,null,null,null,null,null,null,null,null,null,null,null,null,null,null,null,null,null,null,null,null,null,null,null,null,null,"5.6 Other",0,0,0,0,0,0,0,0,"",0,0,0,0,0,0,0,0,"",0,0,0,0,0,0,0,0,"",0,0,""]
[null,null,null,null,null,null,null,null,null,null,null,null,null,null,null,null,null,null,null,null,null,null,null,null,null,null,null,null,null,null,null,null,null,null,null,null,null,null,null,null,null,null,null,null,null,null,null,null,null,null,null,null,{"$f":"B27","v":6},"Suffocation",1,0,0,0,0,0,1,1,"",1,0,0,0,0,0,1,1,"",0,0,0,0,0,0,0,0,"",2,2,""]
[null,null,null,null,null,null,null,null,null,null,null,null,null,null,null,null,null,null,null,null,null,null,null,null,null,null,null,null,null,null,null,null,null,null,null,null,null,null,null,null,null,null,null,null,null,null,null,null,null,null,null,null,{"$f":"B28","v":7},"Drug Overdose",0,0,0,0,1,0,1,1,"",0,0,0,1,0,0,1,1,"",0,0,0,0,0,0,0,0,"",2,2,""]
[null,null,null,null,null,null,null,null,null,null,null,null,null,null,null,null,null,null,null,null,null,null,null,null,null,null,null,null,null,null,null,null,null,null,null,null,null,null,null,null,null,null,null,null,null,null,null,null,null,null,null,null,{"$f":"B29","v":8},{"$f":"C29","v":"Total (sum of Sl. 1 to 7)"},{"$f":"D29","v":2},{"$f":"E29","v":0},{"$f":"F29","v":1},{"$f":"G29","v":5},{"$f":"H29","v":10},{"$f":"I29","v":6},{"$f":"J29","v":24},{"$f":"K29","v":24},{"$f":"L29","v":""},{"$f":"M29","v":1},{"$f":"N29","v":0},{"$f":"O29","v":1},{"$f":"P29","v":1},{"$f":"Q29","v":0},{"$f":"R29","v":4},{"$f":"S29","v":7},{"$f":"T29","v":7},{"$f":"U29","v":""},{"$f":"V29","v":0},{"$f":"W29","v":0},{"$f":"X29","v":0},{"$f":"Y29","v":0},{"$f":"Z29","v":0},{"$f":"AA29","v":0},{"$f":"AB29","v":0},{"$f":"AC29","v":0},{"$f":"AD29","v":""},{"$f":"AE29","v":31},{"$f":"AF29","v":31},{"$f":"AG29","v":""}]
[]
[]
[]
[]
[]
[]
[]
[]
[]
[]
[]
[]
[]
[]
[]
[]
[]
[]
[]
[]
[]
[]
[]
[]
[]
[]
[]
[]
[]
[]
[]
[]
[]
[]
[]
[]
[]
[]
[]
[]
[]
[]
[]
[]
[]
[]
[]
[]
[]
[]
[]
[]
[]
[]
[]
[]
[]
[]
[]
[]
[]
[]
[]
[]
[]
[]
[]
[]
[]
[]
[]
[]
[]
[]
[]
[]
[]
[]
[]
[]
[]
[]
[]
[]
[]
[]
[]
[]
[]
[]
[]
[]
[]
[]
[]
[]
[]
[]
[]
[]
[]
[]
[]
[]
[]
[]
[]
[]
[]
[]
[]
[]
[]
[]
[]
[]
[]
[]
[]
[]
[]
[]
[]
[]
[]
[]
[]
[]
[]
[]
[]
[]
[]
[]
[]
[]
[]
[]
[]
[]
[]
[]
[]
[]
[]
[]
[]
[]
[]
[]
[]
[]
[]
[]
[]
[]
[]
[]
[]
[]
[]
[]
[]
[]
[]
[]
[]
[]
[]
[]
[]
[]
[]
[]
[]
[]
[]
[]
[]
[]
[]
[]
[]
[]
[]
[]
[]
[]
[]
[]
[]
[]
[]
[]
[]
[]
[]
[]
[]
[]
[]
[]
[]
[]
[]
[]
[]
[]
[]
[]
[]
[]
[]
[]
[]
[]
[]
[]
[]
[]
[]
[]
[]
[]
[]
[]
[]
[]
[]
[]
[]
[]
[]
[]
[]
[]
[]
[]
[]
[]
[]
[]
[]
[]
[]
[]
[]
[]
[]
[]
[]
[]
[]
[]
[]
[]
[]
[]
[]
[]
[]
[]
[]
[]
[]
[]
[]
[]
[]
[]
[]
["StateUTCityCode","DistrictCode","CrimeCode","DataYear","Male_below 14 years","Male_14 and above – below 18 years","Male_18 and above – below 30 years","Male_30 and above – below 45 years","Male_45 and above – below 60 years","Male_60 years & above","Male_Total","Female_below 14 years","Female_14 and above – below 18 years","Female_18 and above – below 30 years","Female_30 and above – below 45 years","Female_45 and above – below 60 years","Female_60 years & above","Female_Total","Trans_below 14 years","Trans_14 and above – below 18 years","Trans_18 and above – below 30 years","Trans_30 and above – below 45 years","Trans_45 and above – below 60 years","Trans_60 years & above","Trans_Total","Grand Total"]
[{"$f":"IF(ADSI!$G$12=\"\",ADSI!$H$16,ADSI!$H$12)","v":6},{"$f":"IF(ADSI!$G$12=\"\",ADSI!$H$16,ADSI!$H$14)","v":""},{"$f":"A9","v":350},{"$f":"ADSI!$K$12","v":2021},{"$f":"D9","v":1},0,1,5,5,5,17,{"$f":"M9","v":0},0,1,0,0,1,2,{"$f":"V9","v":0},{"$f":"W9","v":0},{"$f":"X9","v":0},{"$f":"Y9","v":0},{"$f":"Z9","v":0},{"$f":"AA9","v":0},{"$f":"AB9","v":0},{"$f":"AE9","v":19}]
[{"$f":"IF(ADSI!$G$12=\"\",ADSI!$H$16,ADSI!$H$12)","v":6},{"$f":"IF(ADSI!$G$12=\"\",ADSI!$H$16,ADSI!$H$14)","v":""},351,{"$f":"ADSI!$K$12","v":2021},0,0,0,0,0,0,0,0,0,0,0,0,0,0,0,0,0,0,0,0,0,0]
[{"$f":"IF(ADSI!$G$12=\"\",ADSI!$H$16,ADSI!$H$12)","v":6},{"$f":"IF(ADSI!$G$12=\"\",ADSI!$H$16,ADSI!$H$14)","v":""},352,{"$f":"ADSI!$K$12","v":2021},0,0,1,4,2,2,9,0,0,0,0,0,1,1,0,0,0,0,0,0,0,10]
[{"$f":"IF(ADSI!$G$12=\"\",ADSI!$H$16,ADSI!$H$12)","v":6},{"$f":"IF(ADSI!$G$12=\"\",ADSI!$H$16,ADSI!$H$14)","v":""},353,{"$f":"ADSI!$K$12","v":2021},1,0,0,1,3,3,8,0,0,1,0,0,0,1,0,0,0,0,0,0,0,9]
[{"$f":"IF(ADSI!$G$12=\"\",ADSI!$H$16,ADSI!$H$12)","v":6},{"$f":"IF(ADSI!$G$12=\"\",ADSI!$H$16,ADSI!$H$14)","v":""},354,{"$f":"ADSI!$K$12","v":2021},0,0,0,0,0,0,0,0,0,0,0,0,0,0,0,0,0,0,0,0,0,0]
[{"$f":"IF(ADSI!$G$12=\"\",ADSI!$H$16,ADSI!$H$12)","v":6},{"$f":"IF(ADSI!$G$12=\"\",ADSI!$H$16,ADSI!$H$14)","v":""},355,{"$f":"ADSI!$K$12","v":2021},0,0,0,0,0,0,0,0,0,0,0,0,0,0,0,0,0,0,0,0,0,0]
[{"$f":"IF(ADSI!$G$12=\"\",ADSI!$H$16,ADSI!$H$12)","v":6},{"$f":"IF(ADSI!$G$12=\"\",ADSI!$H$16,ADSI!$H$14)","v":""},356,{"$f":"ADSI!$K$12","v":2021},0,0,0,0,0,0,0,0,0,0,0,0,0,0,0,0,0,0,0,0,0,0]
[{"$f":"IF(ADSI!$G$12=\"\",ADSI!$H$16,ADSI!$H$12)","v":6},{"$f":"IF(ADSI!$G$12=\"\",ADSI!$H$16,ADSI!$H$14)","v":""},357,{"$f":"ADSI!$K$12","v":2021},0,0,0,0,0,0,0,0,0,0,0,0,0,0,0,0,0,0,0,0,0,0]
[{"$f":"IF(ADSI!$G$12=\"\",ADSI!$H$16,ADSI!$H$12)","v":6},{"$f":"IF(ADSI!$G$12=\"\",ADSI!$H$16,ADSI!$H$14)","v":""},358,{"$f":"ADSI!$K$12","v":2021},0,0,0,0,1,0,1,0,0,0,0,0,1,1,0,0,0,0,0,0,0,2]
[{"$f":"IF(ADSI!$G$12=\"\",ADSI!$H$16,ADSI!$H$12)","v":6},{"$f":"IF(ADSI!$G$12=\"\",ADSI!$H$16,ADSI!$H$14)","v":""},359,{"$f":"ADSI!$K$12","v":2021},0,0,0,0,3,1,4,0,0,0,0,0,2,2,0,0,0,0,0,0,0,6]
[{"$f":"IF(ADSI!$G$12=\"\",ADSI!$H$16,ADSI!$H$12)","v":6},{"$f":"IF(ADSI!$G$12=\"\",ADSI!$H$16,ADSI!$H$14)","v":""},360,{"$f":"ADSI!$K$12","v":2021},{"$f":"D19","v":0},0,0,0,1,0,1,{"$f":"M19","v":0},0,0,0,0,0,0,0,0,0,0,0,0,0,1]
[{"$f":"IF(ADSI!$G$12=\"\",ADSI!$H$16,ADSI!$H$12)","v":6},{"$f":"IF(ADSI!$G$12=\"\",ADSI!$H$16,ADSI!$H$14)","v":""},361,{"$f":"ADSI!$K$12","v":2021},0,0,0,0,1,1,2,0,0,0,0,0,1,1,0,0,0,0,0,0,0,3]
[{"$f":"IF(ADSI!$G$12=\"\",ADSI!$H$16,ADSI!$H$12)","v":6},{"$f":"IF(ADSI!$G$12=\"\",ADSI!$H$16,ADSI!$H$14)","v":""},362,{"$f":"ADSI!$K$12","v":2021},0,0,0,0,0,0,0,0,0,0,0,0,0,0,0,0,0,0,0,0,0,0]
[{"$f":"IF(ADSI!$G$12=\"\",ADSI!$H$16,ADSI!$H$12)","v":6},{"$f":"IF(ADSI!$G$12=\"\",ADSI!$H$16,ADSI!$H$14)","v":""},363,{"$f":"ADSI!$K$12","v":2021},0,0,0,0,0,0,0,0,0,0,0,0,0,0,0,0,0,0,0,0,0,0]
[{"$f":"IF(ADSI!$G$12=\"\",ADSI!$H$16,ADSI!$H$12)","v":6},{"$f":"IF(ADSI!$G$12=\"\",ADSI!$H$16,ADSI!$H$14)","v":""},364,{"$f":"ADSI!$K$12","v":2021},0,0,0,0,0,0,0,0,0,0,0,0,0,0,0,0,0,0,0,0,0,0]
[{"$f":"IF(ADSI!$G$12=\"\",ADSI!$H$16,ADSI!$H$12)","v":6},{"$f":"IF(ADSI!$G$12=\"\",ADSI!$H$16,ADSI!$H$14)","v":""},365,{"$f":"ADSI!$K$12","v":2021},0,0,0,0,1,0,1,0,0,0,0,0,1,1,0,0,0,0,0,0,0,2]
[{"$f":"IF(ADSI!$G$12=\"\",ADSI!$H$16,ADSI!$H$12)","v":6},{"$f":"IF(ADSI!$G$12=\"\",ADSI!$H$16,ADSI!$H$14)","v":""},366,{"$f":"ADSI!$K$12","v":2021},0,0,0,0,0,0,0,0,0,0,0,0,0,0,0,0,0,0,0,0,0,0]
[{"$f":"IF(ADSI!$G$12=\"\",ADSI!$H$16,ADSI!$H$12)","v":6},{"$f":"IF(ADSI!$G$12=\"\",ADSI!$H$16,ADSI!$H$14)","v":""},367,{"$f":"ADSI!$K$12","v":2021},0,0,0,0,0,0,0,0,0,0,0,0,0,0,0,0,0,0,0,0,0,0]
[{"$f":"IF(ADSI!$G$12=\"\",ADSI!$H$16,ADSI!$H$12)","v":6},{"$f":"IF(ADSI!$G$12=\"\",ADSI!$H$16,ADSI!$H$14)","v":""},368,{"$f":"ADSI!$K$12","v":2021},1,0,0,0,0,0,1,1,0,0,0,0,0,1,0,0,0,0,0,0,0,2]
[{"$f":"IF(ADSI!$G$12=\"\",ADSI!$H$16,ADSI!$H$12)","v":6},{"$f":"IF(ADSI!$G$12=\"\",ADSI!$H$16,ADSI!$H$14)","v":""},369,{"$f":"ADSI!$K$12","v":2021},0,0,0,0,1,0,1,0,0,0,1,0,0,1,0,0,0,0,0,0,0,2]
[{"$f":"IF(ADSI!$G$12=\"\",ADSI!$H$16,ADSI!$H$12)","v":6},{"$f":"IF(ADSI!$G$12=\"\",ADSI!$H$16,ADSI!$H$14)","v":""},390,{"$f":"ADSI!$K$12","v":2021},{"$f":"D29","v":2},0,1,5,10,6,24,{"$f":"M29","v":1},0,1,1,0,4,7,0,0,0,0,0,0,0,31]

{"sheet":"P-VI","index":8,"n_rows":517,"n_cols":47,"rows_kept":517,"cut":false,"hidden":false,"merged":[[0,7,2,11],[6,8,6,11],[4,2,7,3],[8,2,8,3],[6,4,6,7],[4,4,5,11],[209,36,209,38],[211,36,211,38],[205,36,206,38],[207,36,207,38],[208,36,208,38],[210,36,210,38],[185,43,185,46],[196,37,196,38],[204,37,204,38],[203,37,203,38],[202,37,202,38],[201,37,201,38],[200,37,200,38],[199,37,199,38],[198,37,198,38],[197,37,197,38],[192,37,194,37],[187,37,187,38],[184,43,184,46],[17,2,17,3],[13,2,15,2],[16,2,16,3],[18,2,18,3],[20,2,20,3],[22,2,22,3],[23,2,23,3],[19,2,19,3],[21,2,21,3],[24,2,24,3],[25,2,25,3],[183,36,186,36],[183,37,186,38],[183,39,183,46],[185,39,185,42],[184,39,184,42],[30,0,30,3],[32,0,32,3],[31,0,31,3],[28,0,28,3],[29,0,29,3],[26,8,26,11],[26,4,26,7],[4,0,7,0],[13,1,15,1],[4,1,7,1],[26,0,27,3],[9,2,9,3],[10,2,10,3],[11,2,11,3],[12,2,12,3]]}
[{"$f":"ADSI!$B$1","v":"Goa, , ADSI-2021"}]
["Errors",null,{"$f":"COUNTIF(E31:L33,FALSE)","v":0}]
["Proforma–VI"]
["Details of Road Accident According to Type of Vehicle and Mode of Transport involved (Culpability vis-à-vis Fatality)"]
["Code","Sl. No.","Mode of Transport",null,"Number of Persons Travelling in the Involved mode of Transport"]
[]
[null,null,null,null,"Injured",null,null,null,"Died"]
[null,null,null,null,"Male","Female","Transgender","Total [sum of (11) to (13)]","Male","Female","Transgender","Total [sum of (15) to (17)]"]
[null,"(1)","(2)",null,"(11)","(12)","(13)","(14)","(15)","(16)","(17)","(18)"]
[400,1,"Truck/Lorry/Mini Truck",null,16,3,0,{"$f":"SUM(E10:G10)","v":19},5,1,0,{"$f":"SUM(I10:K10)","v":6}]
[405,2,"Bus",null,20,10,0,{"$f":"SUM(E11:G11)","v":30},0,0,0,{"$f":"SUM(I11:K11)","v":0}]
[409,3,"SUV / Car / Jeep / etc.",null,129,35,0,164,26,3,0,29]
[420,4,"Tractor",null,0,0,0,0,0,0,0,0]
[421,5,"Three Wheeler/Auto rickshaw","Total (sum of 7.1 & 7.2)",{"$f":"SUM(E15:E16)","v":2},1,0,3,0,0,0,0]
[422,null,null,"5.1 Passenger Carriers",0,1,0,1,0,0,0,0]
[423,null,null,"5.2 Goods Carriers",2,0,0,2,0,0,0,0]
[424,6,"Two Wheeler",null,486,90,0,576,132,19,0,151]
[428,7,"Other Motor Vehicles",null,0,0,0,0,0,0,0,0]
[429,8,"Sub-Total (sum of Sl. 1 to 7)",null,{"$f":"SUM(E10:E14,E17:E18)","v":653},{"$f":"SUM(F10:F14,F17:F18)","v":139},0,792,{"$f":"SUM(I10:I14,I17:I18)","v":163},23,0,186]
[430,9,"Bicycle",null,11,0,0,11,6,0,0,6]
[431,10,"Hand Drawn Vehicle/Cycle rickshaw",null,0,0,0,0,0,0,0,0]
[432,11,"Animal Drawn Vehicle",null,0,0,0,0,0,0,0,0]
[433,12,"Pedestrian",null,32,21,0,53,24,10,0,34]
[434,13,"Others",null,0,0,0,0,0,0,0,0]
[435,14,"Sub-Total (sum of Sl. 9 to 13)",null,{"$f":"SUM(E20:E24)","v":43},21,0,64,30,10,0,40]
[450,null,"Total (sum of Sl. 8 & 14)",null,{"$f":"SUM(E19+E25)","v":696},160,0,856,193,33,0,226]
["VALIDATION  WITH PROFORMA–II [Sl.–12.1 (Road Accidents Total)]",null,null,null,"No. of Persons Injured",null,null,null,"No. of Persons Died"]
[null,null,null,null,"Male","Female","Transgender"," Total"," Male"," Female","Transgender","Total"]
[" PROFORMA–II VALUES [Sl.– 12.1 (Road Accidents Total)]",null,null,null,{"$f":"'P-II'!F43","v":696},{"$f":"'P-II'!G43","v":160},{"$f":"'P-II'!H43","v":0},{"$f":"'P-II'!I43","v":856},{"$f":"'P-II'!J43","v":193},{"$f":"'P-II'!K43","v":33},{"$f":"'P-II'!L43","v":0},{"$f":"'P-II'!M43","v":226}]
["VALIDATION FOR INJURED and DIED [sum of Offending Driver/Pedestrian and Victims]",null,null,null,{"$f":"IF(E26=E29,\"\",FALSE)","v":""},{"$f":"IF(F26=F29,\"\",FALSE)","v":""},"","","","","",""]
["SL-7 ABNORMAL VARIATION  IN \"OTHER MOTOR VEHICLES\" DATA",null,null,null,{"$f":"IF(E19>0,IF((E18/E19*100)>10,\"ABVAR\",\"\"),\"\")","v":""},"","","","","","",""]
["SL-12 ABNORMAL VARIATION  IN \"PEDESTRIAN\" DATA",null,null,null,{"$f":"IF(E25>0,IF((E23/E26*100)>15,\"RE-CHECK\",\"\"),\"\")","v":""},"","","","","RE-CHECK","","RE-CHECK"]
["SL-12 ABNORMAL VARIATION  IN \"OTHERS\" DATA",null,null,null,{"$f":"IF(E25>0,IF((E24/E25*100)>10,\"ABVAR\",\"\"),\"\")","v":""},"","","","","","",""]
[]
[]
[]
[]
[]
[]
[]
[]
[]
[]
[]
[]
[]
[]
[]
[]
[]
[]
[]
[]
[]
[]
[]
[]
[]
[]
[]
[]
[]
[]
[]
[]
[]
[]
[]
[]
[]
[]
[]
[]
[]
[]
[]
[]
[]
[]
[]
[]
[]
[]
[]
[]
[]
[]
[]
[]
[]
[]
[]
[]
[]
[]
[]
[]
[]
[]
[]
[]
[]
[]
[]
[]
[]
[]
[]
[]
[]
[]
[]
[]
[]
[]
[]
[]
[]
[]
[]
[]
[]
[]
[]
[]
[]
[]
[]
[]
[]
[]
[]
[]
[]
[]
[]
[]
[]
[]
[]
[]
[]
[]
[]
[]
[]
[]
[]
[]
[]
[]
[]
[]
[]
[]
[]
[]
[]
[]
[]
[]
[]
[]
[]
[]
[]
[]
[]
[]
[]
[]
[]
[]
[]
[]
[]
[]
[]
[]
[null,null,null,null,null,null,null,null,null,null,null,null,null,null,null,null,null,null,null,null,null,null,null,null,null,null,null,null,null,null,null,null,null,null,null,null,{"$f":"A1","v":"Goa, , ADSI-2021"}]
[null,null,null,null,null,null,null,null,null,null,null,null,null,null,null,null,null,null,null,null,null,null,null,null,null,null,null,null,null,null,null,null,null,null,null,null,{"$f":"A2","v":"Errors"},{"$f":"C2","v":0}]
[null,null,null,null,null,null,null,null,null,null,null,null,null,null,null,null,null,null,null,null,null,null,null,null,null,null,null,null,null,null,null,null,null,null,null,null,{"$f":"A3","v":"Proforma–VI"}]
[null,null,null,null,null,null,null,null,null,null,null,null,null,null,null,null,null,null,null,null,null,null,null,null,null,null,null,null,null,null,null,null,null,null,null,null,{"$f":"A4","v":"Details of Road Accident According to Type of Vehicle and Mode of Transport involved (Culpability vis-à-vis Fatality)"}]
[null,null,null,null,null,null,null,null,null,null,null,null,null,null,null,null,null,null,null,null,null,null,null,null,null,null,null,null,null,null,null,null,null,null,null,null,{"$f":"B5","v":"Sl. No."},{"$f":"C5","v":"Mode of Transport"}]
[null,null,null,null,null,null,null,null,null,null,null,null,null,null,null,null,null,null,null,null,null,null,null,null,null,null,null,null,null,null,null,null,null,null,null,null,null,null,null,{"$f":"E5","v":"Number of Persons Travelling in the Involved mode of Transport"},null,null,null,"Victims"]
[null,null,null,null,null,null,null,null,null,null,null,null,null,null,null,null,null,null,null,null,null,null,null,null,null,null,null,null,null,null,null,null,null,null,null,null,null,null,null,{"$f":"E7","v":"Injured"},null,null,null,{"$f":"I7","v":"Died"}]
[null,null,null,null,null,null,null,null,null,null,null,null,null,null,null,null,null,null,null,null,null,null,null,null,null,null,null,null,null,null,null,null,null,null,null,null,null,null,null,"Male",{"$f":"F8","v":"Female"},{"$f":"G8","v":"Transgender"},{"$f":"H8","v":"Total [sum of (11) to (13)]"},"Male",{"$f":"J8","v":"Female"},{"$f":"K8","v":"Transgender"},{"$f":"L8","v":"Total [sum of (15) to (17)]"}]
[null,null,null,null,null,null,null,null,null,null,null,null,null,null,null,null,null,null,null,null,null,null,null,null,null,null,null,null,null,null,null,null,null,null,null,null,{"$f":"B9","v":"(1)"},"(2)",null,"(11)","(12)","(13)","(14)","(15)","(16)","(17)","(18)"]
[null,null,null,null,null,null,null,null,null,null,null,null,null,null,null,null,null,null,null,null,null,null,null,null,null,null,null,null,null,null,null,null,null,null,null,null,1,"Truck/Lorry/Mini Truck",{"$f":"D10","v":0},16,3,0,19,5,1,0,6]
[null,null,null,null,null,null,null,null,null,null,null,null,null,null,null,null,null,null,null,null,null,null,null,null,null,null,null,null,null,null,null,null,null,null,null,null,2,"Bus",0,20,10,0,30,0,0,0,0]
[null,null,null,null,null,null,null,null,null,null,null,null,null,null,null,null,null,null,null,null,null,null,null,null,null,null,null,null,null,null,null,null,null,null,null,null,3,"SUV / Car / Jeep / etc.",0,129,35,0,164,26,3,0,29]
[null,null,null,null,null,null,null,null,null,null,null,null,null,null,null,null,null,null,null,null,null,null,null,null,null,null,null,null,null,null,null,null,null,null,null,null,4,"Tractor",0,0,0,0,0,0,0,0,0]
[null,null,null,null,null,null,null,null,null,null,null,null,null,null,null,null,null,null,null,null,null,null,null,null,null,null,null,null,null,null,null,null,null,null,null,null,5,"Three Wheeler/Auto rickshaw","Total (sum of 7.1 & 7.2)",2,1,0,3,0,0,0,0]
[null,null,null,null,null,null,null,null,null,null,null,null,null,null,null,null,null,null,null,null,null,null,null,null,null,null,null,null,null,null,null,null,null,null,null,null,null,null,"5.1 Passenger Carriers",0,1,0,1,0,0,0,0]
[null,null,null,null,null,null,null,null,null,null,null,null,null,null,null,null,null,null,null,null,null,null,null,null,null,null,null,null,null,null,null,null,null,null,null,null,null,null,"5.2 Goods Carriers",2,0,0,2,0,0,0,0]
[null,null,null,null,null,null,null,null,null,null,null,null,null,null,null,null,null,null,null,null,null,null,null,null,null,null,null,null,null,null,null,null,null,null,null,null,{"$f":"B17","v":6},{"$f":"C17","v":"Two Wheeler"},0,486,90,0,576,132,19,0,151]
[null,null,null,null,null,null,null,null,null,null,null,null,null,null,null,null,null,null,null,null,null,null,null,null,null,null,null,null,null,null,null,null,null,null,null,null,7,"Other Motor Vehicles",null,0,0,0,0,0,0,0,0]
[null,null,null,null,null,null,null,null,null,null,null,null,null,null,null,null,null,null,null,null,null,null,null,null,null,null,null,null,null,null,null,null,null,null,null,null,8,"Sub-Total (sum of Sl. 1 to 7)",null,653,139,0,792,163,23,0,186]
[null,null,null,null,null,null,null,null,null,null,null,null,null,null,null,null,null,null,null,null,null,null,null,null,null,null,null,null,null,null,null,null,null,null,null,null,9,"Bicycle",null,11,0,0,11,6,0,0,6]
[null,null,null,null,null,null,null,null,null,null,null,null,null,null,null,null,null,null,null,null,null,null,null,null,null,null,null,null,null,null,null,null,null,null,null,null,10,"Hand Drawn Vehicle/Cycle rickshaw",null,0,0,0,0,0,0,0,0]
[null,null,null,null,null,null,null,null,null,null,null,null,null,null,null,null,null,null,null,null,null,null,null,null,null,null,null,null,null,null,null,null,null,null,null,null,11,"Animal Drawn Vehicle",null,0,0,0,0,0,0,0,0]
[null,null,null,null,null,null,null,null,null,null,null,null,null,null,null,null,null,null,null,null,null,null,null,null,null,null,null,null,null,null,null,null,null,null,null,null,12,"Pedestrian",null,32,21,0,53,24,10,0,34]
[null,null,null,null,null,null,null,null,null,null,null,null,null,null,null,null,null,null,null,null,null,null,null,null,null,null,null,null,null,null,null,null,null,null,null,null,13,"Others",null,0,0,0,0,0,0,0,0]
[null,null,null,null,null,null,null,null,null,null,null,null,null,null,null,null,null,null,null,null,null,null,null,null,null,null,null,null,null,null,null,null,null,null,null,null,14,"Sub-Total (sum of Sl. 9 to 13)",null,43,21,0,64,30,10,0,40]
[null,null,null,null,null,null,null,null,null,null,null,null,null,null,null,null,null,null,null,null,null,null,null,null,null,null,null,null,null,null,null,null,null,null,null,null,0,"Total (sum of Sl. 8 & 14)",null,696,160,0,856,193,33,0,226]
[null,null,null,null,null,null,null,null,null,null,null,null,null,null,null,null,null,null,null,null,null,null,null,null,null,null,null,null,null,null,null,null,null,null,null,null,{"$f":"A27","v":"VALIDATION  WITH PROFORMA–II [Sl.–12.1 (Road Accidents Total)]"}]
[]
[null,null,null,null,null,null,null,null,null,null,null,null,null,null,null,null,null,null,null,null,null,null,null,null,null,null,null,null,null,null,null,null,null,null,null,null,{"$f":"A29","v":" PROFORMA–II VALUES [Sl.– 12.1 (Road Accidents Total)]"}]
[null,null,null,null,null,null,null,null,null,null,null,null,null,null,null,null,null,null,null,null,null,null,null,null,null,null,null,null,null,null,null,null,null,null,null,null,{"$f":"A30","v":"VALIDATION FOR INJURED and DIED [sum of Offending Driver/Pedestrian and Victims]"}]
[null,null,null,null,null,null,null,null,null,null,null,null,null,null,null,null,null,null,null,null,null,null,null,null,null,null,null,null,null,null,null,null,null,null,null,null,{"$f":"A31","v":"SL-7 ABNORMAL VARIATION  IN \"OTHER MOTOR VEHICLES\" DATA"},null,null,{"$f":"E31","v":""},"","","","","","",""]
[null,null,null,null,null,null,null,null,null,null,null,null,null,null,null,null,null,null,null,null,null,null,null,null,null,null,null,null,null,null,null,null,null,null,null,null,{"$f":"A32","v":"SL-12 ABNORMAL VARIATION  IN \"PEDESTRIAN\" DATA"},null,null,{"$f":"E32","v":""},{"$f":"F32","v":""},{"$f":"G32","v":""},{"$f":"H32","v":""},{"$f":"I32","v":""},{"$f":"J32","v":"RE-CHECK"},{"$f":"K32","v":""},{"$f":"L32","v":"RE-CHECK"}]
[null,null,null,null,null,null,null,null,null,null,null,null,null,null,null,null,null,null,null,null,null,null,null,null,null,null,null,null,null,null,null,null,null,null,null,null,{"$f":"A33","v":"SL-12 ABNORMAL VARIATION  IN \"OTHERS\" DATA"},null,null,{"$f":"E33","v":""},"","","","","","",""]
[]
[]
[]
[]
[]
[]
[]
[]
[]
[]
[]
[]
[]
[]
[]
[]
[]
[]
[]
[]
[]
[]
[]
[]
[]
[]
[]
[]
[]
[]
[]
[]
[]
[]
[]
[]
[]
[]
[]
[]
[]
[]
[]
[]
[]
[]
[]
[]
[]
[]
[]
[]
[]
[]
[]
[]
[]
[]
[]
[]
[]
[]
[]
[]
[]
[]
[]
[]
[]
[]
[]
[]
[]
[]
[]
[]
[]
[]
[]
[]
[]
[]
[]
[]
[]
[]
[]
[]
[]
[]
[]
[]
[]
[]
[]
[]
[]
[]
[]
[]
[]
[]
[]
[]
[]
[]
[]
[]
[]
[]
[]
[]
[]
[]
[]
[]
[]
[]
[]
[]
[]
[]
[]
[]
[]
[]
[]
[]
[]
[]
[]
[]
[]
[]
[]
[]
[]
[]
[]
[]
[]
[]
[]
[]
[]
[]
[]
[]
[]
[]
[]
[]
[]
[]
[]
[]
[]
[]
[]
[]
[]
[]
[]
[]
[]
[]
[]
[]
[]
[]
[]
[]
[]
[]
[]
[]
[]
[]
[]
[]
[]
[]
[]
[]
[]
[]
[]
[]
[]
[]
[]
[]
[]
[]
[]
[]
[]
[]
[]
[]
[]
[]
[]
[]
[]
[]
[]
[]
[]
[]
[]
[]
[]
[]
[]
[]
[]
[]
[]
[]
[]
[]
[]
[]
[]
[]
[]
[]
[]
[]
[]
[]
[]
[]
[]
[]
[]
[]
[]
[]
[]
[]
[]
[]
[]
[]
[]
[]
[]
[]
[]
[]
[]
[]
[]
[]
[]
[]
[]
[]
[]
[]
[]
[]
[]
[]
[]
["StateUTCityCode","DistrictCode","CrimeCode","DataYear","Victims Died_Male","Victims Died_Female","Victims Died_Trans","Victims Died_Total","Victims Injured_Male","Victims Injured_Female","Victims Injured_Trans","Victims Injured_Total"]
[{"$f":"IF(ADSI!$G$12=\"\",ADSI!$H$16,ADSI!$H$12)","v":6},{"$f":"IF(ADSI!$G$12=\"\",ADSI!$H$16,ADSI!$H$14)","v":""},{"$f":"A10","v":400},{"$f":"ADSI!$K$12","v":2021},{"$f":"E10","v":16},3,0,19,5,1,0,6]
[{"$f":"IF(ADSI!$G$12=\"\",ADSI!$H$16,ADSI!$H$12)","v":6},{"$f":"IF(ADSI!$G$12=\"\",ADSI!$H$16,ADSI!$H$14)","v":""},405,{"$f":"ADSI!$K$12","v":2021},20,10,0,30,0,0,0,0]
[{"$f":"IF(ADSI!$G$12=\"\",ADSI!$H$16,ADSI!$H$12)","v":6},{"$f":"IF(ADSI!$G$12=\"\",ADSI!$H$16,ADSI!$H$14)","v":""},409,{"$f":"ADSI!$K$12","v":2021},129,35,0,164,26,3,0,29]
[{"$f":"IF(ADSI!$G$12=\"\",ADSI!$H$16,ADSI!$H$12)","v":6},{"$f":"IF(ADSI!$G$12=\"\",ADSI!$H$16,ADSI!$H$14)","v":""},420,{"$f":"ADSI!$K$12","v":2021},0,0,0,0,0,0,0,0]
[{"$f":"IF(ADSI!$G$12=\"\",ADSI!$H$16,ADSI!$H$12)","v":6},{"$f":"IF(ADSI!$G$12=\"\",ADSI!$H$16,ADSI!$H$14)","v":""},421,{"$f":"ADSI!$K$12","v":2021},2,1,0,3,0,0,0,0]
[{"$f":"IF(ADSI!$G$12=\"\",ADSI!$H$16,ADSI!$H$12)","v":6},{"$f":"IF(ADSI!$G$12=\"\",ADSI!$H$16,ADSI!$H$14)","v":""},422,{"$f":"ADSI!$K$12","v":2021},0,1,0,1,0,0,0,0]
[{"$f":"IF(ADSI!$G$12=\"\",ADSI!$H$16,ADSI!$H$12)","v":6},{"$f":"IF(ADSI!$G$12=\"\",ADSI!$H$16,ADSI!$H$14)","v":""},423,{"$f":"ADSI!$K$12","v":2021},2,0,0,2,0,0,0,0]
[{"$f":"IF(ADSI!$G$12=\"\",ADSI!$H$16,ADSI!$H$12)","v":6},{"$f":"IF(ADSI!$G$12=\"\",ADSI!$H$16,ADSI!$H$14)","v":""},424,{"$f":"ADSI!$K$12","v":2021},486,90,0,576,132,19,0,151]
[{"$f":"IF(ADSI!$G$12=\"\",ADSI!$H$16,ADSI!$H$12)","v":6},{"$f":"IF(ADSI!$G$12=\"\",ADSI!$H$16,ADSI!$H$14)","v":""},{"$f":"A18","v":428},{"$f":"ADSI!$K$12","v":2021},{"$f":"E18","v":0},0,0,0,0,0,0,0]
[{"$f":"IF(ADSI!$G$12=\"\",ADSI!$H$16,ADSI!$H$12)","v":6},{"$f":"IF(ADSI!$G$12=\"\",ADSI!$H$16,ADSI!$H$14)","v":""},429,{"$f":"ADSI!$K$12","v":2021},{"$f":"E19","v":653},139,0,792,163,23,0,186]
[{"$f":"IF(ADSI!$G$12=\"\",ADSI!$H$16,ADSI!$H$12)","v":6},{"$f":"IF(ADSI!$G$12=\"\",ADSI!$H$16,ADSI!$H$14)","v":""},430,{"$f":"ADSI!$K$12","v":2021},{"$f":"E20","v":11},0,0,11,6,0,0,6]
[{"$f":"IF(ADSI!$G$12=\"\",ADSI!$H$16,ADSI!$H$12)","v":6},{"$f":"IF(ADSI!$G$12=\"\",ADSI!$H$16,ADSI!$H$14)","v":""},431,{"$f":"ADSI!$K$12","v":2021},{"$f":"E21","v":0},0,0,0,0,0,0,0]
[{"$f":"IF(ADSI!$G$12=\"\",ADSI!$H$16,ADSI!$H$12)","v":6},{"$f":"IF(ADSI!$G$12=\"\",ADSI!$H$16,ADSI!$H$14)","v":""},432,{"$f":"ADSI!$K$12","v":2021},{"$f":"E22","v":0},0,0,0,0,0,0,0]
[{"$f":"IF(ADSI!$G$12=\"\",ADSI!$H$16,ADSI!$H$12)","v":6},{"$f":"IF(ADSI!$G$12=\"\",ADSI!$H$16,ADSI!$H$14)","v":""},{"$f":"A23","v":433},{"$f":"ADSI!$K$12","v":2021},{"$f":"E23","v":32},21,0,53,24,10,0,34]
[{"$f":"IF(ADSI!$G$12=\"\",ADSI!$H$16,ADSI!$H$12)","v":6},{"$f":"IF(ADSI!$G$12=\"\",ADSI!$H$16,ADSI!$H$14)","v":""},434,{"$f":"ADSI!$K$12","v":2021},{"$f":"E24","v":0},0,0,0,0,0,0,0]
[{"$f":"IF(ADSI!$G$12=\"\",ADSI!$H$16,ADSI!$H$12)","v":6},{"$f":"IF(ADSI!$G$12=\"\",ADSI!$H$16,ADSI!$H$14)","v":""},435,{"$f":"ADSI!$K$12","v":2021},{"$f":"E25","v":43},21,0,64,30,10,0,40]
[{"$f":"IF(ADSI!$G$12=\"\",ADSI!$H$16,ADSI!$H$12)","v":6},{"$f":"IF(ADSI!$G$12=\"\",ADSI!$H$16,ADSI!$H$14)","v":""},450,{"$f":"ADSI!$K$12","v":2021},{"$f":"E26","v":696},160,0,856,193,33,0,226]
[]
[]
["StateUTCityCode","DistrictCode","CrimeCode","DataYear","Victims Injured_Male","Victims Injured_Female","Victims Injured_Trans","Victims Injured_Total","Victims Died_Male","Victims Died_Female","Victims Died_Trans","Victims Died_Total"]
[{"$f":"IF(ADSI!$G$12=\"\",ADSI!$H$16,ADSI!$H$12)","v":6},{"$f":"IF(ADSI!$G$12=\"\",ADSI!$H$16,ADSI!$H$14)","v":""},{"$f":"A10","v":400},{"$f":"ADSI!$K$12","v":2021},{"$f":"E10","v":16},{"$f":"F10","v":3},0,19,5,1,0,6]
[{"$f":"IF(ADSI!$G$12=\"\",ADSI!$H$16,ADSI!$H$12)","v":6},{"$f":"IF(ADSI!$G$12=\"\",ADSI!$H$16,ADSI!$H$14)","v":""},{"$f":"A11","v":405},{"$f":"ADSI!$K$12","v":2021},{"$f":"E11","v":20},10,0,30,0,0,0,0]
[{"$f":"IF(ADSI!$G$12=\"\",ADSI!$H$16,ADSI!$H$12)","v":6},{"$f":"IF(ADSI!$G$12=\"\",ADSI!$H$16,ADSI!$H$14)","v":""},409,{"$f":"ADSI!$K$12","v":2021},129,35,0,164,26,3,0,29]
[{"$f":"IF(ADSI!$G$12=\"\",ADSI!$H$16,ADSI!$H$12)","v":6},{"$f":"IF(ADSI!$G$12=\"\",ADSI!$H$16,ADSI!$H$14)","v":""},420,{"$f":"ADSI!$K$12","v":2021},0,0,0,0,0,0,0,0]
[{"$f":"IF(ADSI!$G$12=\"\",ADSI!$H$16,ADSI!$H$12)","v":6},{"$f":"IF(ADSI!$G$12=\"\",ADSI!$H$16,ADSI!$H$14)","v":""},421,{"$f":"ADSI!$K$12","v":2021},2,1,0,3,0,0,0,0]
[{"$f":"IF(ADSI!$G$12=\"\",ADSI!$H$16,ADSI!$H$12)","v":6},{"$f":"IF(ADSI!$G$12=\"\",ADSI!$H$16,ADSI!$H$14)","v":""},422,{"$f":"ADSI!$K$12","v":2021},0,1,0,1,0,0,0,0]
[{"$f":"IF(ADSI!$G$12=\"\",ADSI!$H$16,ADSI!$H$12)","v":6},{"$f":"IF(ADSI!$G$12=\"\",ADSI!$H$16,ADSI!$H$14)","v":""},423,{"$f":"ADSI!$K$12","v":2021},2,0,0,2,0,0,0,0]
[{"$f":"IF(ADSI!$G$12=\"\",ADSI!$H$16,ADSI!$H$12)","v":6},{"$f":"IF(ADSI!$G$12=\"\",ADSI!$H$16,ADSI!$H$14)","v":""},424,{"$f":"ADSI!$K$12","v":2021},486,90,0,576,132,19,0,151]
[{"$f":"IF(ADSI!$G$12=\"\",ADSI!$H$16,ADSI!$H$12)","v":6},{"$f":"IF(ADSI!$G$12=\"\",ADSI!$H$16,ADSI!$H$14)","v":""},428,{"$f":"ADSI!$K$12","v":2021},0,0,0,0,0,0,0,0]
[{"$f":"IF(ADSI!$G$12=\"\",ADSI!$H$16,ADSI!$H$12)","v":6},{"$f":"IF(ADSI!$G$12=\"\",ADSI!$H$16,ADSI!$H$14)","v":""},429,{"$f":"ADSI!$K$12","v":2021},653,139,0,792,163,23,0,186]
[{"$f":"IF(ADSI!$G$12=\"\",ADSI!$H$16,ADSI!$H$12)","v":6},{"$f":"IF(ADSI!$G$12=\"\",ADSI!$H$16,ADSI!$H$14)","v":""},430,{"$f":"ADSI!$K$12","v":2021},11,0,0,11,6,0,0,6]
[{"$f":"IF(ADSI!$G$12=\"\",ADSI!$H$16,ADSI!$H$12)","v":6},{"$f":"IF(ADSI!$G$12=\"\",ADSI!$H$16,ADSI!$H$14)","v":""},431,{"$f":"ADSI!$K$12","v":2021},0,0,0,0,0,0,0,0]
[{"$f":"IF(ADSI!$G$12=\"\",ADSI!$H$16,ADSI!$H$12)","v":6},{"$f":"IF(ADSI!$G$12=\"\",ADSI!$H$16,ADSI!$H$14)","v":""},432,{"$f":"ADSI!$K$12","v":2021},0,0,0,0,0,0,0,0]
[{"$f":"IF(ADSI!$G$12=\"\",ADSI!$H$16,ADSI!$H$12)","v":6},{"$f":"IF(ADSI!$G$12=\"\",ADSI!$H$16,ADSI!$H$14)","v":""},433,{"$f":"ADSI!$K$12","v":2021},32,21,0,53,24,10,0,34]
[{"$f":"IF(ADSI!$G$12=\"\",ADSI!$H$16,ADSI!$H$12)","v":6},{"$f":"IF(ADSI!$G$12=\"\",ADSI!$H$16,ADSI!$H$14)","v":""},434,{"$f":"ADSI!$K$12","v":2021},0,0,0,0,0,0,0,0]
[{"$f":"IF(ADSI!$G$12=\"\",ADSI!$H$16,ADSI!$H$12)","v":6},{"$f":"IF(ADSI!$G$12=\"\",ADSI!$H$16,ADSI!$H$14)","v":""},435,{"$f":"ADSI!$K$12","v":2021},43,21,0,64,30,10,0,40]
[{"$f":"IF(ADSI!$G$12=\"\",ADSI!$H$16,ADSI!$H$12)","v":6},{"$f":"IF(ADSI!$G$12=\"\",ADSI!$H$16,ADSI!$H$14)","v":""},450,{"$f":"ADSI!$K$12","v":2021},696,160,0,856,193,33,0,226]

{"sheet":"P-VII","index":9,"n_rows":505,"n_cols":64,"rows_kept":505,"cut":false,"hidden":false,"merged":[[12,0,12,2],[4,9,4,12],[13,0,13,2],[4,1,5,1],[4,2,5,2],[4,3,5,3],[4,5,4,8],[4,0,5,0],[4,4,5,4],[211,52,211,53],[212,52,212,53],[203,60,203,63],[203,56,203,59],[203,54,204,54],[203,53,204,53],[203,52,204,52],[203,55,205,55]]}
[{"$f":"ADSI!$B$1","v":"Goa, , ADSI-2021"}]
["Errors",null,{"$f":"COUNTIF(D14:M14,FALSE)+COUNTIF(E8:E12,FALSE)","v":0}]
["Proforma–VII"]
["Road Accidents Classified According to classification of Road"]
["Code","Sl. No.","Classification of Roads","No. of Cases","VALIDATION WITH NUMBER OF CASES","No. of Persons Injured",null,null,null,"No. of Persons Died"]
[null,null,null,null,null,"Male","Female","Transgender"," Total\n[sum of (4) to (6)]"," Male"," Female","Transgender","Total\n[sum of (8) to (10)]"]
[null,"(1)","(2)","(3)",null,"(4)","(5)","(6)","(7)","(8)","(9)","(10)","(11)"]
[476,1,"National Highways",1069,{"$f":"IF(AND(OR(I8>0,M8>0),D8=0),FALSE,\"\")","v":""},228,44,0,{"$f":"SUM(F8:H8)","v":272},82,11,0,{"$f":"SUM(J8:L8)","v":93}]
[477,2,"State Highways",366,{"$f":"IF(AND(OR(I9>0,M9>0),D9=0),FALSE,\"\")","v":""},82,28,0,{"$f":"SUM(F9:H9)","v":110},27,5,0,{"$f":"SUM(J9:L9)","v":32}]
[478,3,"Expressways",0,"",0,0,0,0,0,0,0,0]
[479,4,"Other Roads",1415,{"$f":"IF(AND(OR(I11>0,M11>0),D11=0),FALSE,\"\")","v":""},386,88,0,474,84,17,0,101]
[490,5,"Total (sum of Sl. 1 to 4)",{"$f":"SUM(D8:D11)","v":2850},{"$f":"IF(AND(OR(I12>0,M12>0),D12=0),FALSE,\"\")","v":""},{"$f":"SUM(F8:F11)","v":696},160,0,856,193,33,0,226]
[" PROFORMA–II VALUES [Sl.– 12.1 (Road Accidents Total)]",null,null,{"$f":"'P-II'!D43","v":2850},null,{"$f":"'P-II'!F43","v":696},{"$f":"'P-II'!G43","v":160},{"$f":"'P-II'!H43","v":0},{"$f":"'P-II'!I43","v":856},{"$f":"'P-II'!J43","v":193},{"$f":"'P-II'!K43","v":33},{"$f":"'P-II'!L43","v":0},{"$f":"'P-II'!M43","v":226}]
["VALIDATION  WITH PROFORMA–II [Sl.– 12.1 (Road Accidents Total)]",null,null,{"$f":"IF(D12='P-II'!D43,\"\",FALSE)","v":""},null,{"$f":"IF(F12='P-II'!F43,\"\",FALSE)","v":""},{"$f":"IF(G12='P-II'!G43,\"\",FALSE)","v":""},{"$f":"IF(H12='P-II'!H43,\"\",FALSE)","v":""},{"$f":"IF(I12='P-II'!I43,\"\",FALSE)","v":""},{"$f":"IF(J12='P-II'!J43,\"\",FALSE)","v":""},{"$f":"IF(K12='P-II'!K43,\"\",FALSE)","v":""},{"$f":"IF(L12='P-II'!L43,\"\",FALSE)","v":""},{"$f":"IF(M12='P-II'!M43,\"\",FALSE)","v":""}]
[]
[]
[]
[]
[]
[]
[]
[]
[]
[]
[]
[]
[]
[]
[]
[]
[]
[]
[]
[]
[]
[]
[]
[]
[]
[]
[]
[]
[]
[]
[]
[]
[]
[]
[]
[]
[]
[]
[]
[]
[]
[]
[]
[]
[]
[]
[]
[]
[]
[]
[]
[]
[]
[]
[]
[]
[]
[]
[]
[]
[]
[]
[]
[]
[]
[]
[]
[]
[]
[]
[]
[]
[]
[]
[]
[]
[]
[]
[]
[]
[]
[]
[]
[]
[]
[]
[]
[]
[]
[]
[]
[]
[]
[]
[]
[]
[]
[]
[]
[]
[]
[]
[]
[]
[]
[]
[]
[]
[]
[]
[]
[]
[]
[]
[]
[]
[]
[]
[]
[]
[]
[]
[]
[]
[]
[]
[]
[]
[]
[]
[]
[]
[]
[]
[]
[]
[]
[]
[]
[]
[]
[]
[]
[]
[]
[]
[]
[]
[]
[]
[]
[]
[]
[]
[]
[]
[]
[]
[]
[]
[]
[]
[]
[]
[]
[]
[]
[]
[]
[]
[]
[]
[]
[]
[]
[]
[]
[]
[]
[]
[]
[]
[]
[]
[]
[null,null,null,null,null,null,null,null,null,null,null,null,null,null,null,null,null,null,null,null,null,null,null,null,null,null,null,null,null,null,null,null,null,null,null,null,null,null,null,null,null,null,null,null,null,null,null,null,null,null,null,null,{"$f":"A1","v":"Goa, , ADSI-2021"}]
[null,null,null,null,null,null,null,null,null,null,null,null,null,null,null,null,null,null,null,null,null,null,null,null,null,null,null,null,null,null,null,null,null,null,null,null,null,null,null,null,null,null,null,null,null,null,null,null,null,null,null,null,{"$f":"A2","v":"Errors"},{"$f":"C2","v":0}]
[null,null,null,null,null,null,null,null,null,null,null,null,null,null,null,null,null,null,null,null,null,null,null,null,null,null,null,null,null,null,null,null,null,null,null,null,null,null,null,null,null,null,null,null,null,null,null,null,null,null,null,null,{"$f":"A3","v":"Proforma–VII"}]
[null,null,null,null,null,null,null,null,null,null,null,null,null,null,null,null,null,null,null,null,null,null,null,null,null,null,null,null,null,null,null,null,null,null,null,null,null,null,null,null,null,null,null,null,null,null,null,null,null,null,null,null,{"$f":"A4","v":"Road Accidents Classified According to classification of Road"}]
[null,null,null,null,null,null,null,null,null,null,null,null,null,null,null,null,null,null,null,null,null,null,null,null,null,null,null,null,null,null,null,null,null,null,null,null,null,null,null,null,null,null,null,null,null,null,null,null,null,null,null,null,{"$f":"B5","v":"Sl. No."},{"$f":"C5","v":"Classification of Roads"},{"$f":"D5","v":"No. of Cases"},{"$f":"E5","v":"VALIDATION WITH NUMBER OF CASES"},{"$f":"F5","v":"No. of Persons Injured"},null,null,null,{"$f":"J5","v":"No. of Persons Died"}]
[null,null,null,null,null,null,null,null,null,null,null,null,null,null,null,null,null,null,null,null,null,null,null,null,null,null,null,null,null,null,null,null,null,null,null,null,null,null,null,null,null,null,null,null,null,null,null,null,null,null,null,null,null,null,null,null,"Male",{"$f":"G6","v":"Female"},{"$f":"H6","v":"Transgender"},{"$f":"I6","v":" Total\n[sum of (4) to (6)]"}," Male",{"$f":"K6","v":" Female"},{"$f":"L6","v":"Transgender"},{"$f":"M6","v":"Total\n[sum of (8) to (10)]"}]
[null,null,null,null,null,null,null,null,null,null,null,null,null,null,null,null,null,null,null,null,null,null,null,null,null,null,null,null,null,null,null,null,null,null,null,null,null,null,null,null,null,null,null,null,null,null,null,null,null,null,null,null,{"$f":"B7","v":"(1)"},"(2)","(3)",null,"(4)","(5)","(6)","(7)","(8)","(9)","(10)","(11)"]
[null,null,null,null,null,null,null,null,null,null,null,null,null,null,null,null,null,null,null,null,null,null,null,null,null,null,null,null,null,null,null,null,null,null,null,null,null,null,null,null,null,null,null,null,null,null,null,null,null,null,null,null,1,"National Highways",1069,{"$f":"E8","v":""},228,44,0,272,82,11,0,93]
[null,null,null,null,null,null,null,null,null,null,null,null,null,null,null,null,null,null,null,null,null,null,null,null,null,null,null,null,null,null,null,null,null,null,null,null,null,null,null,null,null,null,null,null,null,null,null,null,null,null,null,null,2,"State Highways",366,{"$f":"E9","v":""},82,28,0,110,27,5,0,32]
[null,null,null,null,null,null,null,null,null,null,null,null,null,null,null,null,null,null,null,null,null,null,null,null,null,null,null,null,null,null,null,null,null,null,null,null,null,null,null,null,null,null,null,null,null,null,null,null,null,null,null,null,3,"Expressways",0,"",0,0,0,0,0,0,0,0]
[null,null,null,null,null,null,null,null,null,null,null,null,null,null,null,null,null,null,null,null,null,null,null,null,null,null,null,null,null,null,null,null,null,null,null,null,null,null,null,null,null,null,null,null,null,null,null,null,null,null,null,null,4,"Other Roads",1415,"",386,88,0,474,84,17,0,101]
[null,null,null,null,null,null,null,null,null,null,null,null,null,null,null,null,null,null,null,null,null,null,null,null,null,null,null,null,null,null,null,null,null,null,null,null,null,null,null,null,null,null,null,null,null,null,null,null,null,null,null,null,5,"Total (sum of Sl. 1 to 4)",2850,"",696,160,0,856,193,33,0,226]
[null,null,null,null,null,null,null,null,null,null,null,null,null,null,null,null,null,null,null,null,null,null,null,null,null,null,null,null,null,null,null,null,null,null,null,null,null,null,null,null,null,null,null,null,null,null,null,null,null,null,null,null,{"$f":"A13","v":" PROFORMA–II VALUES [Sl.– 12.1 (Road Accidents Total)]"},null,2850,null,696,160,0,856,193,33,0,226]
[null,null,null,null,null,null,null,null,null,null,null,null,null,null,null,null,null,null,null,null,null,null,null,null,null,null,null,null,null,null,null,null,null,null,null,null,null,null,null,null,null,null,null,null,null,null,null,null,null,null,null,null,{"$f":"A14","v":"VALIDATION  WITH PROFORMA–II [Sl.– 12.1 (Road Accidents Total)]"},null,"",null,"","","","","","","",""]
[]
[]
[]
[]
[]
[]
[]
[]
[]
[]
[]
[]
[]
[]
[]
[]
[]
[]
[]
[]
[]
[]
[]
[]
[]
[]
[]
[]
[]
[]
[]
[]
[]
[]
[]
[]
[]
[]
[]
[]
[]
[]
[]
[]
[]
[]
[]
[]
[]
[]
[]
[]
[]
[]
[]
[]
[]
[]
[]
[]
[]
[]
[]
[]
[]
[]
[]
[]
[]
[]
[]
[]
[]
[]
[]
[]
[]
[]
[]
[]
[]
[]
[]
[]
[]
[]
[]
[]
[]
[]
[]
[]
[]
[]
[]
[]
[]
[]
[]
[]
[]
[]
[]
[]
[]
[]
[]
[]
[]
[]
[]
[]
[]
[]
[]
[]
[]
[]
[]
[]
[]
[]
[]
[]
[]
[]
[]
[]
[]
[]
[]
[]
[]
[]
[]
[]
[]
[]
[]
[]
[]
[]
[]
[]
[]
[]
[]
[]
[]
[]
[]
[]
[]
[]
[]
[]
[]
[]
[]
[]
[]
[]
[]
[]
[]
[]
[]
[]
[]
[]
[]
[]
[]
[]
[]
[]
[]
[]
[]
[]
[]
[]
[]
[]
[]
[]
[]
[]
[]
[]
[]
[]
[]
[]
[]
[]
[]
[]
[]
[]
[]
[]
[]
[]
[]
[]
[]
[]
[]
[]
[]
[]
[]
[]
[]
[]
[]
[]
[]
[]
[]
[]
[]
[]
[]
[]
[]
[]
[]
[]
[]
[]
[]
[]
[]
[]
[]
[]
[]
[]
[]
[]
[]
[]
[]
[]
[]
[]
[]
[]
[]
[]
[]
[]
[]
[]
[]
[]
[]
[]
[]
[]
[]
[]
[]
[]
[]
[]
[]
[]
[]
[]
[]
[]
[]
[]
[]
[]
[]
[]
[]
[]
[]
[]
[]
[]
["StateUTCityCode","DistrictCode","CrimeCode","DataYear","Number of Cases","Injured_Male","Injured_Female","Injured_Trans","Injured_Total","Died_Male","Died_Female","Died_Trans","Died_Total"]
[{"$f":"IF(ADSI!$G$12=\"\",ADSI!$H$16,ADSI!$H$12)","v":6},{"$f":"IF(ADSI!$G$12=\"\",ADSI!$H$16,ADSI!$H$14)","v":""},{"$f":"A8","v":476},{"$f":"ADSI!$K$12","v":2021},{"$f":"D8","v":1069},{"$f":"F8","v":228},{"$f":"G8","v":44},0,272,82,11,0,93]
[{"$f":"IF(ADSI!$G$12=\"\",ADSI!$H$16,ADSI!$H$12)","v":6},{"$f":"IF(ADSI!$G$12=\"\",ADSI!$H$16,ADSI!$H$14)","v":""},{"$f":"A9","v":477},{"$f":"ADSI!$K$12","v":2021},{"$f":"D9","v":366},{"$f":"F9","v":82},28,0,110,27,5,0,32]
[{"$f":"IF(ADSI!$G$12=\"\",ADSI!$H$16,ADSI!$H$12)","v":6},{"$f":"IF(ADSI!$G$12=\"\",ADSI!$H$16,ADSI!$H$14)","v":""},478,{"$f":"ADSI!$K$12","v":2021},0,{"$f":"F10","v":0},0,0,0,0,0,0,0]
[{"$f":"IF(ADSI!$G$12=\"\",ADSI!$H$16,ADSI!$H$12)","v":6},{"$f":"IF(ADSI!$G$12=\"\",ADSI!$H$16,ADSI!$H$14)","v":""},479,{"$f":"ADSI!$K$12","v":2021},1415,{"$f":"F11","v":386},88,0,474,84,17,0,101]
[{"$f":"IF(ADSI!$G$12=\"\",ADSI!$H$16,ADSI!$H$12)","v":6},{"$f":"IF(ADSI!$G$12=\"\",ADSI!$H$16,ADSI!$H$14)","v":""},490,{"$f":"ADSI!$K$12","v":2021},2850,{"$f":"F12","v":696},160,0,856,193,33,0,226]

{"sheet":"P-VIII","index":10,"n_rows":516,"n_cols":64,"rows_kept":516,"cut":false,"hidden":false,"merged":[[26,0,26,2],[7,0,7,12],[15,0,15,12],[4,1,5,1],[4,2,5,2],[4,3,5,3],[4,5,4,8],[4,9,4,12],[25,0,25,2],[4,4,5,4],[214,56,214,63],[203,56,203,59],[203,60,203,63],[206,52,206,54],[206,56,206,63],[203,55,206,55],[203,52,204,52],[203,53,204,53],[203,54,204,54],[214,52,214,54],[227,52,227,53],[226,52,226,53],[228,52,228,53],[27,0,27,2],[29,0,29,2],[224,52,224,53],[225,52,225,53],[28,0,28,2]]}
[{"$f":"ADSI!$B$1","v":"Goa, , ADSI-2021"}]
["Errors",null,{"$f":"COUNTIF(D27:M27,FALSE)+COUNTIF(E9:E15,FALSE)+COUNTIF(E17:E25,FALSE)","v":0},null,"Abnormal Variations/Re-check",{"$f":"COUNTIF(D28:M30,\"ABVAR\")+COUNTIF(D28:M30,\"RE-CHECK\")","v":9},"Place of occurrence refers to the nearest point from the spot of accident occurred."]
["Proforma–VIII"]
["Road Accidents Classified According to Place of Occurence"]
["Code","Sl. No.","Place of Occurence","No. of Cases","VALIDATION WITH NUMBER OF CASES","No. of Persons Injured",null,null,null,"No. of Persons Died"]
[null,null,null,null,null,"Male","Female","Transgender"," Total [sum of \n(4) to (6)]"," Male"," Female","Transgender","Total \n[sum of (8) to (10)]"]
[null,"(1)","(2)","(3)",null,"(4)","(5)","(6)","(7)","(8)","(9)","(10)","(11)"]
["Rural Area"]
[500,1,"Near School/College/Educational institution",73,{"$f":"IF(AND(OR(I9>0,M9>0),D9=0),FALSE,\"\")","v":""},30,4,0,{"$f":"SUM(F9:H9)","v":34},8,3,0,{"$f":"SUM(J9:L9)","v":11}]
[501,2,"Near Residential area",1251,{"$f":"IF(AND(OR(I10>0,M10>0),D10=0),FALSE,\"\")","v":""},278,64,0,{"$f":"SUM(F10:H10)","v":342},89,14,0,{"$f":"SUM(J10:L10)","v":103}]
[502,3,"Near religious place",143,"",38,7,0,45,8,2,0,10]
[503,4,"Near recreation place/cinema hall",45,"",13,2,0,15,4,0,0,4]
[504,5,"Near Factory",77,"",9,1,0,10,10,0,0,10]
[505,6,"Other Rural Area",462,"",78,20,0,98,38,4,0,42]
[515,7,"Sub-Total (Rural) (sum of Sl. 1 to 6)",{"$f":"SUM(D9:D14)","v":2051},"",{"$f":"SUM(F9:F14)","v":446},98,0,544,157,23,0,180]
["Urban Area"]
[525,8,"Near School/College/Educational institution",39,"",15,6,0,{"$f":"SUM(F17:H17)","v":21},0,1,0,{"$f":"SUM(J17:L17)","v":1}]
[526,9,"Near Residential area",527,"",150,32,0,{"$f":"SUM(F18:H18)","v":182},19,6,0,{"$f":"SUM(J18:L18)","v":25}]
[527,10,"Near religious place",52,"",14,4,0,18,5,1,0,6]
[528,11,"Near recreation place/cinema hall",69,"",37,7,0,44,2,0,0,2]
[529,12,"Near Factory/Industrial area",41,"",20,9,0,{"$f":"SUM(F21:H21)","v":29},6,1,0,7]
[530,13,"At Pedestrian crossing",5,"",0,0,0,0,0,0,0,0]
[531,14,"Other Urban Area",66,"",14,4,0,18,4,1,0,5]
[532,15,"Sub-Total (Urban) (sum of Sl. 8 to 14)",{"$f":"SUM(D17:D23)","v":799},"",{"$f":"SUM(F17:F23)","v":250},62,0,312,36,10,0,46]
[545,16,"Grand Total (sum of Sl. 7 & 15)",{"$f":"D24+D15","v":2850},"",{"$f":"F24+F15","v":696},160,0,856,193,33,0,{"$f":"SUM(J25:L25)","v":226}]
["PROFORMA–II VALUES [Sl.– 12.1 (Road Accidents Total)]",null,null,{"$f":"'P-II'!D43","v":2850},null,{"$f":"'P-II'!F43","v":696},{"$f":"'P-II'!G43","v":160},{"$f":"'P-II'!H43","v":0},{"$f":"'P-II'!I43","v":856},{"$f":"'P-II'!J43","v":193},{"$f":"'P-II'!K43","v":33},{"$f":"'P-II'!L43","v":0},{"$f":"'P-II'!M43","v":226}]
["VALIDATION  WITH PROFORMA–II [Sl.– 12.1 (Road Accidents Total)]",null,null,{"$f":"IF(D25='P-II'!D43,\"\",FALSE)","v":""},null,{"$f":"IF(F25='P-II'!F43,\"\",FALSE)","v":""},{"$f":"IF(G25='P-II'!G43,\"\",FALSE)","v":""},{"$f":"IF(H25='P-II'!H43,\"\",FALSE)","v":""},{"$f":"IF(I25='P-II'!I43,\"\",FALSE)","v":""},{"$f":"IF(J25='P-II'!J43,\"\",FALSE)","v":""},{"$f":"IF(K25='P-II'!K43,\"\",FALSE)","v":""},{"$f":"IF(L25='P-II'!L43,\"\",FALSE)","v":""},{"$f":"IF(M25='P-II'!M43,\"\",FALSE)","v":""}]
["SL-6 ABNORMAL VARIATION IN \"OTHER RURAL AREA\" DATA",null,null,{"$f":"IF(D15>0,IF((D14/D15*100)>10,\"ABVAR\",\"\"),\"\")","v":"ABVAR"},null,{"$f":"IF(F15>0,IF((F14/F15*100)>10,\"ABVAR\",\"\"),\"\")","v":"ABVAR"},{"$f":"IF(G15>0,IF((G14/G15*100)>10,\"ABVAR\",\"\"),\"\")","v":"ABVAR"},"","ABVAR","ABVAR","ABVAR","","ABVAR"]
["SL-13 ABNORMAL VARIATION IN \"PEDESTRIAN CROSSING\" DATA WITH PROFORMA-VI \"PEDESTRIAN\" DATA",null,null,null,null,null,null,null,{"$f":"IF(I22<='P-VI'!#REF!,\"\",\"RE-CHECK\")","v":{"$error":"#REF!"}},null,null,null,{"$f":"IF(M22<='P-VI'!#REF!,\"\",\"RE-CHECK\")","v":{"$error":"#REF!"}}]
["SL-14 ABNORMAL VARIATION IN \"OTHER URBAN AREA\" DATA",null,null,{"$f":"IF(D24>0,IF((D23/D24*100)>10,\"ABVAR\",\"\"),\"\")","v":""},null,{"$f":"IF(F24>0,IF((F23/F24*100)>10,\"ABVAR\",\"\"),\"\")","v":""},{"$f":"IF(G24>0,IF((G23/G24*100)>10,\"ABVAR\",\"\"),\"\")","v":""},"",{"$f":"IF(I24>0,IF((I23/I24*100)>10,\"ABVAR\",\"\"),\"\")","v":""},"ABVAR","","","ABVAR"]
[]
[]
[]
[]
[]
[]
[]
[]
[]
[]
[]
[]
[]
[]
[]
[]
[]
[]
[]
[]
[]
[]
[]
[]
[]
[]
[]
[]
[]
[]
[]
[]
[]
[]
[]
[]
[]
[]
[]
[]
[]
[]
[]
[]
[]
[]
[]
[]
[]
[]
[]
[]
[]
[]
[]
[]
[]
[]
[]
[]
[]
[]
[]
[]
[]
[]
[]
[]
[]
[]
[]
[]
[]
[]
[]
[]
[]
[]
[]
[]
[]
[]
[]
[]
[]
[]
[]
[]
[]
[]
[]
[]
[]
[]
[]
[]
[]
[]
[]
[]
[]
[]
[]
[]
[]
[]
[]
[]
[]
[]
[]
[]
[]
[]
[]
[]
[]
[]
[]
[]
[]
[]
[]
[]
[]
[]
[]
[]
[]
[]
[]
[]
[]
[]
[]
[]
[]
[]
[]
[]
[]
[]
[]
[]
[]
[]
[]
[]
[]
[]
[]
[]
[]
[]
[]
[]
[]
[]
[]
[]
[]
[]
[]
[]
[]
[]
[]
[]
[]
[null,null,null,null,null,null,null,null,null,null,null,null,null,null,null,null,null,null,null,null,null,null,null,null,null,null,null,null,null,null,null,null,null,null,null,null,null,null,null,null,null,null,null,null,null,null,null,null,null,null,null,null,{"$f":"A1","v":"Goa, , ADSI-2021"}]
[null,null,null,null,null,null,null,null,null,null,null,null,null,null,null,null,null,null,null,null,null,null,null,null,null,null,null,null,null,null,null,null,null,null,null,null,null,null,null,null,null,null,null,null,null,null,null,null,null,null,null,null,{"$f":"A2","v":"Errors"},{"$f":"C2","v":0},null,{"$f":"E2","v":"Abnormal Variations/Re-check"},{"$f":"F2","v":9}]
[null,null,null,null,null,null,null,null,null,null,null,null,null,null,null,null,null,null,null,null,null,null,null,null,null,null,null,null,null,null,null,null,null,null,null,null,null,null,null,null,null,null,null,null,null,null,null,null,null,null,null,null,{"$f":"A3","v":"Proforma–VIII"}]
[null,null,null,null,null,null,null,null,null,null,null,null,null,null,null,null,null,null,null,null,null,null,null,null,null,null,null,null,null,null,null,null,null,null,null,null,null,null,null,null,null,null,null,null,null,null,null,null,null,null,null,null,{"$f":"A4","v":"Road Accidents Classified According to Place of Occurence"}]
[null,null,null,null,null,null,null,null,null,null,null,null,null,null,null,null,null,null,null,null,null,null,null,null,null,null,null,null,null,null,null,null,null,null,null,null,null,null,null,null,null,null,null,null,null,null,null,null,null,null,null,null,{"$f":"B5","v":"Sl. No."},{"$f":"C5","v":"Place of Occurence"},{"$f":"D5","v":"No. of Cases"},{"$f":"E5","v":"VALIDATION WITH NUMBER OF CASES"},{"$f":"F5","v":"No. of Persons Injured"},null,null,null,{"$f":"J5","v":"No. of Persons Died"}]
[null,null,null,null,null,null,null,null,null,null,null,null,null,null,null,null,null,null,null,null,null,null,null,null,null,null,null,null,null,null,null,null,null,null,null,null,null,null,null,null,null,null,null,null,null,null,null,null,null,null,null,null,null,null,null,null,{"$f":"F6","v":"Male"},"Female","Transgender"," Total [sum of \n(4) to (6)]",{"$f":"J6","v":" Male"},{"$f":"K6","v":" Female"},"Transgender","Total \n[sum of (8) to (10)]"]
[null,null,null,null,null,null,null,null,null,null,null,null,null,null,null,null,null,null,null,null,null,null,null,null,null,null,null,null,null,null,null,null,null,null,null,null,null,null,null,null,null,null,null,null,null,null,null,null,null,null,null,null,{"$f":"B7","v":"(1)"},{"$f":"C7","v":"(2)"},{"$f":"D7","v":"(3)"},null,"(4)","(5)","(6)","(7)",{"$f":"J7","v":"(8)"},"(9)","(10)","(11)"]
[null,null,null,null,null,null,null,null,null,null,null,null,null,null,null,null,null,null,null,null,null,null,null,null,null,null,null,null,null,null,null,null,null,null,null,null,null,null,null,null,null,null,null,null,null,null,null,null,null,null,null,null,{"$f":"A8","v":"Rural Area"}]
[null,null,null,null,null,null,null,null,null,null,null,null,null,null,null,null,null,null,null,null,null,null,null,null,null,null,null,null,null,null,null,null,null,null,null,null,null,null,null,null,null,null,null,null,null,null,null,null,null,null,null,null,{"$f":"B9","v":1},"Near School/College/Educational institution",73,"",30,4,0,34,8,3,0,11]
[null,null,null,null,null,null,null,null,null,null,null,null,null,null,null,null,null,null,null,null,null,null,null,null,null,null,null,null,null,null,null,null,null,null,null,null,null,null,null,null,null,null,null,null,null,null,null,null,null,null,null,null,2,"Near Residential area",1251,"",278,64,0,342,89,14,0,103]
[null,null,null,null,null,null,null,null,null,null,null,null,null,null,null,null,null,null,null,null,null,null,null,null,null,null,null,null,null,null,null,null,null,null,null,null,null,null,null,null,null,null,null,null,null,null,null,null,null,null,null,null,3,"Near religious place",143,"",38,7,0,45,8,2,0,10]
[null,null,null,null,null,null,null,null,null,null,null,null,null,null,null,null,null,null,null,null,null,null,null,null,null,null,null,null,null,null,null,null,null,null,null,null,null,null,null,null,null,null,null,null,null,null,null,null,null,null,null,null,4,"Near recreation place/cinema hall",45,"",13,2,0,15,4,0,0,4]
[null,null,null,null,null,null,null,null,null,null,null,null,null,null,null,null,null,null,null,null,null,null,null,null,null,null,null,null,null,null,null,null,null,null,null,null,null,null,null,null,null,null,null,null,null,null,null,null,null,null,null,null,5,"Near Factory",77,"",9,1,0,10,10,0,0,10]
[null,null,null,null,null,null,null,null,null,null,null,null,null,null,null,null,null,null,null,null,null,null,null,null,null,null,null,null,null,null,null,null,null,null,null,null,null,null,null,null,null,null,null,null,null,null,null,null,null,null,null,null,6,"Other Rural Area",462,"",78,20,0,98,38,4,0,42]
[null,null,null,null,null,null,null,null,null,null,null,null,null,null,null,null,null,null,null,null,null,null,null,null,null,null,null,null,null,null,null,null,null,null,null,null,null,null,null,null,null,null,null,null,null,null,null,null,null,null,null,null,7,"Sub-Total (Rural) (sum of Sl. 1 to 6)",2051,"",446,98,0,544,157,23,0,180]
[null,null,null,null,null,null,null,null,null,null,null,null,null,null,null,null,null,null,null,null,null,null,null,null,null,null,null,null,null,null,null,null,null,null,null,null,null,null,null,null,null,null,null,null,null,null,null,null,null,null,null,null,{"$f":"A16","v":"Urban Area"}]
[null,null,null,null,null,null,null,null,null,null,null,null,null,null,null,null,null,null,null,null,null,null,null,null,null,null,null,null,null,null,null,null,null,null,null,null,null,null,null,null,null,null,null,null,null,null,null,null,null,null,null,null,{"$f":"B17","v":8},{"$f":"C17","v":"Near School/College/Educational institution"},{"$f":"D17","v":39},{"$f":"E17","v":""},{"$f":"F17","v":15},{"$f":"G17","v":6},{"$f":"H17","v":0},{"$f":"I17","v":21},{"$f":"J17","v":0},{"$f":"K17","v":1},{"$f":"L17","v":0},{"$f":"M17","v":1}]
[null,null,null,null,null,null,null,null,null,null,null,null,null,null,null,null,null,null,null,null,null,null,null,null,null,null,null,null,null,null,null,null,null,null,null,null,null,null,null,null,null,null,null,null,null,null,null,null,null,null,null,null,9,"Near Residential area",527,"",150,32,0,182,19,6,0,25]
[null,null,null,null,null,null,null,null,null,null,null,null,null,null,null,null,null,null,null,null,null,null,null,null,null,null,null,null,null,null,null,null,null,null,null,null,null,null,null,null,null,null,null,null,null,null,null,null,null,null,null,null,10,"Near religious place",52,"",14,4,0,18,5,1,0,6]
[null,null,null,null,null,null,null,null,null,null,null,null,null,null,null,null,null,null,null,null,null,null,null,null,null,null,null,null,null,null,null,null,null,null,null,null,null,null,null,null,null,null,null,null,null,null,null,null,null,null,null,null,11,"Near recreation place/cinema hall",69,"",37,7,0,44,2,0,0,2]
[null,null,null,null,null,null,null,null,null,null,null,null,null,null,null,null,null,null,null,null,null,null,null,null,null,null,null,null,null,null,null,null,null,null,null,null,null,null,null,null,null,null,null,null,null,null,null,null,null,null,null,null,12,"Near Factory/Industrial area",41,"",20,9,0,29,6,1,0,7]
[null,null,null,null,null,null,null,null,null,null,null,null,null,null,null,null,null,null,null,null,null,null,null,null,null,null,null,null,null,null,null,null,null,null,null,null,null,null,null,null,null,null,null,null,null,null,null,null,null,null,null,null,13,"At Pedestrian crossing",5,"",0,0,0,0,0,0,0,0]
[null,null,null,null,null,null,null,null,null,null,null,null,null,null,null,null,null,null,null,null,null,null,null,null,null,null,null,null,null,null,null,null,null,null,null,null,null,null,null,null,null,null,null,null,null,null,null,null,null,null,null,null,14,"Other Urban Area",66,"",14,4,0,18,4,1,0,5]
[null,null,null,null,null,null,null,null,null,null,null,null,null,null,null,null,null,null,null,null,null,null,null,null,null,null,null,null,null,null,null,null,null,null,null,null,null,null,null,null,null,null,null,null,null,null,null,null,null,null,null,null,15,"Sub-Total (Urban) (sum of Sl. 8 to 14)",799,"",250,62,0,312,36,10,0,46]
[null,null,null,null,null,null,null,null,null,null,null,null,null,null,null,null,null,null,null,null,null,null,null,null,null,null,null,null,null,null,null,null,null,null,null,null,null,null,null,null,null,null,null,null,null,null,null,null,null,null,null,null,16,"Grand Total (sum of Sl. 7 & 15)",2850,"",696,160,0,856,193,33,0,226]
[null,null,null,null,null,null,null,null,null,null,null,null,null,null,null,null,null,null,null,null,null,null,null,null,null,null,null,null,null,null,null,null,null,null,null,null,null,null,null,null,null,null,null,null,null,null,null,null,null,null,null,null,{"$f":"A26","v":"PROFORMA–II VALUES [Sl.– 12.1 (Road Accidents Total)]"},null,{"$f":"D26","v":2850},null,{"$f":"F26","v":696},160,0,856,193,33,0,226]
[null,null,null,null,null,null,null,null,null,null,null,null,null,null,null,null,null,null,null,null,null,null,null,null,null,null,null,null,null,null,null,null,null,null,null,null,null,null,null,null,null,null,null,null,null,null,null,null,null,null,null,null,{"$f":"A27","v":"VALIDATION  WITH PROFORMA–II [Sl.– 12.1 (Road Accidents Total)]"},null,{"$f":"D27","v":""},null,"","","","","","","",""]
[null,null,null,null,null,null,null,null,null,null,null,null,null,null,null,null,null,null,null,null,null,null,null,null,null,null,null,null,null,null,null,null,null,null,null,null,null,null,null,null,null,null,null,null,null,null,null,null,null,null,null,null,{"$f":"A28","v":"SL-6 ABNORMAL VARIATION IN \"OTHER RURAL AREA\" DATA"},null,{"$f":"D28","v":"ABVAR"},null,"ABVAR","ABVAR","","ABVAR","ABVAR","ABVAR","","ABVAR"]
[null,null,null,null,null,null,null,null,null,null,null,null,null,null,null,null,null,null,null,null,null,null,null,null,null,null,null,null,null,null,null,null,null,null,null,null,null,null,null,null,null,null,null,null,null,null,null,null,null,null,null,null,{"$f":"A29","v":"SL-13 ABNORMAL VARIATION IN \"PEDESTRIAN CROSSING\" DATA WITH PROFORMA-VI \"PEDESTRIAN\" DATA"},null,null,null,null,null,null,{"$f":"I29","v":{"$error":"#REF!"}},null,null,null,{"$f":"M29","v":{"$error":"#REF!"}}]
[null,null,null,null,null,null,null,null,null,null,null,null,null,null,null,null,null,null,null,null,null,null,null,null,null,null,null,null,null,null,null,null,null,null,null,null,null,null,null,null,null,null,null,null,null,null,null,null,null,null,null,null,{"$f":"A30","v":"SL-14 ABNORMAL VARIATION IN \"OTHER URBAN AREA\" DATA"},null,{"$f":"D30","v":""},null,{"$f":"F30","v":""},"","","","ABVAR","","","ABVAR"]
[]
[]
[]
[]
[]
[]
[]
[]
[]
[]
[]
[]
[]
[]
[]
[]
[]
[]
[]
[]
[]
[]
[]
[]
[]
[]
[]
[]
[]
[]
[]
[]
[]
[]
[]
[]
[]
[]
[]
[]
[]
[]
[]
[]
[]
[]
[]
[]
[]
[]
[]
[]
[]
[]
[]
[]
[]
[]
[]
[]
[]
[]
[]
[]
[]
[]
[]
[]
[]
[]
[]
[]
[]
[]
[]
[]
[]
[]
[]
[]
[]
[]
[]
[]
[]
[]
[]
[]
[]
[]
[]
[]
[]
[]
[]
[]
[]
[]
[]
[]
[]
[]
[]
[]
[]
[]
[]
[]
[]
[]
[]
[]
[]
[]
[]
[]
[]
[]
[]
[]
[]
[]
[]
[]
[]
[]
[]
[]
[]
[]
[]
[]
[]
[]
[]
[]
[]
[]
[]
[]
[]
[]
[]
[]
[]
[]
[]
[]
[]
[]
[]
[]
[]
[]
[]
[]
[]
[]
[]
[]
[]
[]
[]
[]
[]
[]
[]
[]
[]
[]
[]
[]
[]
[]
[]
[]
[]
[]
[]
[]
[]
[]
[]
[]
[]
[]
[]
[]
[]
[]
[]
[]
[]
[]
[]
[]
[]
[]
[]
[]
[]
[]
[]
[]
[]
[]
[]
[]
[]
[]
[]
[]
[]
[]
[]
[]
[]
[]
[]
[]
[]
[]
[]
[]
[]
[]
[]
[]
[]
[]
[]
[]
[]
[]
[]
[]
[]
[]
[]
[]
[]
[]
[]
[]
[]
[]
[]
[]
[]
[]
[]
[]
[]
[]
[]
[]
[]
[]
[]
[]
[]
[]
[]
[]
[]
[]
[]
[]
[]
[]
["StateUTCityCode","DistrictCode","CrimeCode","DataYear","Number of Cases","Injured_Male","Injured_Female","Injured_Trans","Injured_Total","Died_Male","Died_Female","Died_Trans","Died_Total"]
[{"$f":"IF(ADSI!$G$12=\"\",ADSI!$H$16,ADSI!$H$12)","v":6},{"$f":"IF(ADSI!$G$12=\"\",ADSI!$H$16,ADSI!$H$14)","v":""},{"$f":"A9","v":500},{"$f":"ADSI!$K$12","v":2021},{"$f":"D9","v":73},{"$f":"F9","v":30},{"$f":"G9","v":4},0,34,8,3,0,11]
[{"$f":"IF(ADSI!$G$12=\"\",ADSI!$H$16,ADSI!$H$12)","v":6},{"$f":"IF(ADSI!$G$12=\"\",ADSI!$H$16,ADSI!$H$14)","v":""},{"$f":"A10","v":501},{"$f":"ADSI!$K$12","v":2021},{"$f":"D10","v":1251},{"$f":"F10","v":278},64,0,342,89,14,0,103]
[{"$f":"IF(ADSI!$G$12=\"\",ADSI!$H$16,ADSI!$H$12)","v":6},{"$f":"IF(ADSI!$G$12=\"\",ADSI!$H$16,ADSI!$H$14)","v":""},502,{"$f":"ADSI!$K$12","v":2021},143,{"$f":"F11","v":38},7,0,45,8,2,0,10]
[{"$f":"IF(ADSI!$G$12=\"\",ADSI!$H$16,ADSI!$H$12)","v":6},{"$f":"IF(ADSI!$G$12=\"\",ADSI!$H$16,ADSI!$H$14)","v":""},503,{"$f":"ADSI!$K$12","v":2021},45,{"$f":"F12","v":13},2,0,15,4,0,0,4]
[{"$f":"IF(ADSI!$G$12=\"\",ADSI!$H$16,ADSI!$H$12)","v":6},{"$f":"IF(ADSI!$G$12=\"\",ADSI!$H$16,ADSI!$H$14)","v":""},504,{"$f":"ADSI!$K$12","v":2021},77,{"$f":"F13","v":9},1,0,10,10,0,0,10]
[{"$f":"IF(ADSI!$G$12=\"\",ADSI!$H$16,ADSI!$H$12)","v":6},{"$f":"IF(ADSI!$G$12=\"\",ADSI!$H$16,ADSI!$H$14)","v":""},505,{"$f":"ADSI!$K$12","v":2021},462,{"$f":"F14","v":78},20,0,98,38,4,0,42]
[{"$f":"IF(ADSI!$G$12=\"\",ADSI!$H$16,ADSI!$H$12)","v":6},{"$f":"IF(ADSI!$G$12=\"\",ADSI!$H$16,ADSI!$H$14)","v":""},515,{"$f":"ADSI!$K$12","v":2021},2051,{"$f":"F15","v":446},98,0,544,157,23,0,180]
[{"$f":"IF(ADSI!$G$12=\"\",ADSI!$H$16,ADSI!$H$12)","v":6},{"$f":"IF(ADSI!$G$12=\"\",ADSI!$H$16,ADSI!$H$14)","v":""},{"$f":"A17","v":525},{"$f":"ADSI!$K$12","v":2021},{"$f":"D17","v":39},{"$f":"F17","v":15},{"$f":"G17","v":6},0,21,0,1,0,1]
[{"$f":"IF(ADSI!$G$12=\"\",ADSI!$H$16,ADSI!$H$12)","v":6},{"$f":"IF(ADSI!$G$12=\"\",ADSI!$H$16,ADSI!$H$14)","v":""},{"$f":"A18","v":526},{"$f":"ADSI!$K$12","v":2021},{"$f":"D18","v":527},{"$f":"F18","v":150},32,0,182,19,6,0,25]
[{"$f":"IF(ADSI!$G$12=\"\",ADSI!$H$16,ADSI!$H$12)","v":6},{"$f":"IF(ADSI!$G$12=\"\",ADSI!$H$16,ADSI!$H$14)","v":""},527,{"$f":"ADSI!$K$12","v":2021},52,{"$f":"F19","v":14},4,0,18,5,1,0,6]
[{"$f":"IF(ADSI!$G$12=\"\",ADSI!$H$16,ADSI!$H$12)","v":6},{"$f":"IF(ADSI!$G$12=\"\",ADSI!$H$16,ADSI!$H$14)","v":""},528,{"$f":"ADSI!$K$12","v":2021},69,{"$f":"F20","v":37},7,0,44,2,0,0,2]
[{"$f":"IF(ADSI!$G$12=\"\",ADSI!$H$16,ADSI!$H$12)","v":6},{"$f":"IF(ADSI!$G$12=\"\",ADSI!$H$16,ADSI!$H$14)","v":""},529,{"$f":"ADSI!$K$12","v":2021},41,{"$f":"F21","v":20},9,0,29,6,1,0,7]
[{"$f":"IF(ADSI!$G$12=\"\",ADSI!$H$16,ADSI!$H$12)","v":6},{"$f":"IF(ADSI!$G$12=\"\",ADSI!$H$16,ADSI!$H$14)","v":""},530,{"$f":"ADSI!$K$12","v":2021},5,{"$f":"F22","v":0},0,0,0,0,0,0,0]
[{"$f":"IF(ADSI!$G$12=\"\",ADSI!$H$16,ADSI!$H$12)","v":6},{"$f":"IF(ADSI!$G$12=\"\",ADSI!$H$16,ADSI!$H$14)","v":""},531,{"$f":"ADSI!$K$12","v":2021},66,{"$f":"F23","v":14},4,0,18,4,1,0,5]
[{"$f":"IF(ADSI!$G$12=\"\",ADSI!$H$16,ADSI!$H$12)","v":6},{"$f":"IF(ADSI!$G$12=\"\",ADSI!$H$16,ADSI!$H$14)","v":""},532,{"$f":"ADSI!$K$12","v":2021},799,{"$f":"F24","v":250},62,0,312,36,10,0,46]
[{"$f":"IF(ADSI!$G$12=\"\",ADSI!$H$16,ADSI!$H$12)","v":6},{"$f":"IF(ADSI!$G$12=\"\",ADSI!$H$16,ADSI!$H$14)","v":""},545,{"$f":"ADSI!$K$12","v":2021},2850,{"$f":"F25","v":696},160,0,856,193,33,0,226]

{"sheet":"P-IX","index":11,"n_rows":515,"n_cols":64,"rows_kept":515,"cut":false,"hidden":false,"merged":[[203,54,204,54],[225,52,225,53],[226,52,226,53],[203,56,203,59],[203,60,203,63],[221,52,221,53],[203,55,205,55],[203,52,204,52],[203,53,204,53],[224,52,224,53],[23,0,23,2],[24,0,24,2],[222,52,222,53],[223,52,223,53],[4,0,5,0],[4,9,4,12],[4,1,5,1],[4,2,5,2],[4,3,5,3],[4,5,4,8],[4,4,5,4],[27,0,27,2],[26,0,26,2],[25,0,25,2]]}
[{"$f":"ADSI!$B$1","v":"Goa, , ADSI-2021"}]
["Errors",null,{"$f":"COUNTIF(D25:M26,FALSE)+COUNTIF(E8:E22,FALSE)","v":0},null,"Abnormal Variations",{"$f":"COUNTIF(D27:M28,\"ABVAR\")","v":0}]
["Proforma–IX"]
["Road Accidents Classified According to Causes and Unmanned Railway Crossing Accidents"]
["Code","Sl. No.","Causes","No. of Cases","VALIDATION WITH NUMBER OF CASES","No. of Persons Injured",null,null,null,"No. of Persons Died"]
[null,null,null,null,null,"Male","Female","Transgender"," Total [sum of (4) to (6)]"," Male"," Female","Transgender","Total [sum of (8) to (10)]"]
[null,"(1)","(2)","(3)",null,"(4)","(5)","(6)","(7)","(8)","(9)","(10)","(11)"]
[550,1,"Dangerous/Over-taking/Careless/etc.",1752,{"$f":"IF(AND(OR(I8>0,M8>0),D8=0),FALSE,\"\")","v":""},417,103,0,{"$f":"SUM(F8:H8)","v":520},117,17,0,{"$f":"SUM(J8:L8)","v":134}]
[551,2,"Over speeding",957,{"$f":"IF(AND(OR(I9>0,M9>0),D9=0),FALSE,\"\")","v":""},258,55,0,{"$f":"SUM(F9:H9)","v":313},62,12,0,{"$f":"SUM(J9:L9)","v":74}]
[552,3,"Driving under influence of drug/alcohol",122,"",19,2,0,21,8,2,0,10]
[553,4,"Physical fatigue of Drivers",1,"",0,0,0,0,1,0,0,1]
[554,5,"Defect in Mechanical condition of Motor Vehicle",5,"",0,0,0,0,2,0,0,2]
[555,6,"Animal Crossing",6,"",1,0,0,1,2,0,0,2]
[556,7,"Weather condition (sum of 7.1 & 7.2)",{"$f":"SUM(D15:D16)","v":0},"",{"$f":"SUM(F15:F16)","v":0},0,0,0,{"$f":"SUM(J15:J16)","v":0},{"$f":"SUM(K15:K16)","v":0},0,0]
[557,null,"7.1 Poor visibility",0,"",0,0,0,0,0,0,0,0]
[558,null,"7.2 Others causes of weather condition",0,"",0,0,0,0,0,0,0,0]
[559,8,"Lack of road infrastructure",0,"",0,0,0,0,0,0,0,0]
[560,9,"Vehicles Parking at road shoulders",2,"",1,0,0,1,0,0,0,0]
[561,10,"Unmanned Railway Crossing",0,"",0,0,0,0,0,0,0,0]
[562,11,"Causes not known",0,"",0,0,0,0,0,0,0,0]
[563,12,"Other Causes",5,"",0,0,0,0,1,2,0,3]
[580,13,"Total (sum of Sl. 1 to 12)",{"$f":"SUM(D8:D14)+D17+D18+D19+D20+D21","v":2850},"",{"$f":"SUM(F8:F14)+F17+F18+F19+F20+F21","v":696},160,0,856,193,33,0,226]
[null,14,"ROAD ACCIDENTS TOTAL (EXCLUDING Unmanned Railway Crossing Accidents; Sl.–10)",{"$f":"D22-D19","v":2850},null,{"$f":"F22-F19","v":696},160,0,856,193,33,0,226]
[" PROFORMA–II VALUES [Sl.– 12.1 (Road Accidents Total)]",null,null,{"$f":"'P-II'!D43","v":2850},null,{"$f":"'P-II'!F43","v":696},{"$f":"'P-II'!G43","v":160},{"$f":"'P-II'!H43","v":0},{"$f":"'P-II'!I43","v":856},{"$f":"'P-II'!J43","v":193},{"$f":"'P-II'!K43","v":33},{"$f":"'P-II'!L43","v":0},{"$f":"'P-II'!M43","v":226}]
["VALIDATION  WITH PROFORMA–II [Sl.– 12.1 (Road Accidents Total)]",null,null,{"$f":"IF(D24=D23,\"\",FALSE)","v":""},null,{"$f":"IF(F24=F23,\"\",FALSE)","v":""},"","","","","","",""]
["VALIDATION  WITH PROFORMA–II [Sl.– 12.2 (Railway Crossing) with \"Unmanned Railway Crossing\"]",null,null,{"$f":"IF(D19<='P-II'!D46,\"\",FALSE)","v":""},null,{"$f":"IF(F19<='P-II'!F46,\"\",FALSE)","v":""},{"$f":"IF(G19<='P-II'!G46,\"\",FALSE)","v":""},{"$f":"IF(H19<='P-II'!H46,\"\",FALSE)","v":""},{"$f":"IF(I19<='P-II'!I46,\"\",FALSE)","v":""},{"$f":"IF(J19<='P-II'!J46,\"\",FALSE)","v":""},{"$f":"IF(K19<='P-II'!K46,\"\",FALSE)","v":""},{"$f":"IF(L19<='P-II'!L46,\"\",FALSE)","v":""},{"$f":"IF(M19<='P-II'!M46,\"\",FALSE)","v":""}]
["SL-11 ABNORMAL VARIATION IN \"CAUSES NOT KNOWN\" DATA",null,null,{"$f":"IF(D22>0,IF((D20/D22*100)>20,\"ABVAR\",\"\"),\"\")","v":""},null,{"$f":"IF(F22>0,IF((F20/F22*100)>20,\"ABVAR\",\"\"),\"\")","v":""},"","","","","","",""]
["SL-12 ABNORMAL VARIATION IN \"OTHER CAUSES\" DATA",null,null,{"$f":"IF(D22>0,IF((D21/D22*100)>20,\"ABVAR\",\"\"),\"\")","v":""},null,{"$f":"IF(F22>0,IF((F21/F22*100)>20,\"ABVAR\",\"\"),\"\")","v":""},"","","","","","",""]
[]
[]
[]
[]
[]
[]
[]
[]
[]
[]
[]
[]
[]
[]
[]
[]
[]
[]
[]
[]
[]
[]
[]
[]
[]
[]
[]
[]
[]
[]
[]
[]
[]
[]
[]
[]
[]
[]
[]
[]
[]
[]
[]
[]
[]
[]
[]
[]
[]
[]
[]
[]
[]
[]
[]
[]
[]
[]
[]
[]
[]
[]
[]
[]
[]
[]
[]
[]
[]
[]
[]
[]
[]
[]
[]
[]
[]
[]
[]
[]
[]
[]
[]
[]
[]
[]
[]
[]
[]
[]
[]
[]
[]
[]
[]
[]
[]
[]
[]
[]
[]
[]
[]
[]
[]
[]
[]
[]
[]
[]
[]
[]
[]
[]
[]
[]
[]
[]
[]
[]
[]
[]
[]
[]
[]
[]
[]
[]
[]
[]
[]
[]
[]
[]
[]
[]
[]
[]
[]
[]
[]
[]
[]
[]
[]
[]
[]
[]
[]
[]
[]
[]
[]
[]
[]
[]
[]
[]
[]
[]
[]
[]
[]
[]
[]
[]
[]
[]
[]
[]
[]
[null,null,null,null,null,null,null,null,null,null,null,null,null,null,null,null,null,null,null,null,null,null,null,null,null,null,null,null,null,null,null,null,null,null,null,null,null,null,null,null,null,null,null,null,null,null,null,null,null,null,null,null,{"$f":"A1","v":"Goa, , ADSI-2021"},null,null,{"$f":"E2","v":"Abnormal Variations"},{"$f":"F2","v":0}]
[null,null,null,null,null,null,null,null,null,null,null,null,null,null,null,null,null,null,null,null,null,null,null,null,null,null,null,null,null,null,null,null,null,null,null,null,null,null,null,null,null,null,null,null,null,null,null,null,null,null,null,null,{"$f":"A2","v":"Errors"},{"$f":"C2","v":0}]
[null,null,null,null,null,null,null,null,null,null,null,null,null,null,null,null,null,null,null,null,null,null,null,null,null,null,null,null,null,null,null,null,null,null,null,null,null,null,null,null,null,null,null,null,null,null,null,null,null,null,null,null,{"$f":"A3","v":"Proforma–IX"}]
[null,null,null,null,null,null,null,null,null,null,null,null,null,null,null,null,null,null,null,null,null,null,null,null,null,null,null,null,null,null,null,null,null,null,null,null,null,null,null,null,null,null,null,null,null,null,null,null,null,null,null,null,{"$f":"A4","v":"Road Accidents Classified According to Causes and Unmanned Railway Crossing Accidents"}]
[null,null,null,null,null,null,null,null,null,null,null,null,null,null,null,null,null,null,null,null,null,null,null,null,null,null,null,null,null,null,null,null,null,null,null,null,null,null,null,null,null,null,null,null,null,null,null,null,null,null,null,null,{"$f":"B5","v":"Sl. No."},{"$f":"C5","v":"Causes"},{"$f":"D5","v":"No. of Cases"},{"$f":"E5","v":"VALIDATION WITH NUMBER OF CASES"},{"$f":"F5","v":"No. of Persons Injured"},null,null,null,{"$f":"J5","v":"No. of Persons Died"}]
[null,null,null,null,null,null,null,null,null,null,null,null,null,null,null,null,null,null,null,null,null,null,null,null,null,null,null,null,null,null,null,null,null,null,null,null,null,null,null,null,null,null,null,null,null,null,null,null,null,null,null,null,null,null,null,null,{"$f":"F6","v":"Male"},{"$f":"G6","v":"Female"},{"$f":"H6","v":"Transgender"},{"$f":"I6","v":" Total [sum of (4) to (6)]"}," Male",{"$f":"K6","v":" Female"},{"$f":"L6","v":"Transgender"},{"$f":"M6","v":"Total [sum of (8) to (10)]"}]
[null,null,null,null,null,null,null,null,null,null,null,null,null,null,null,null,null,null,null,null,null,null,null,null,null,null,null,null,null,null,null,null,null,null,null,null,null,null,null,null,null,null,null,null,null,null,null,null,null,null,null,null,{"$f":"B7","v":"(1)"},"(2)","(3)",null,"(4)","(5)","(6)","(7)","(8)","(9)","(10)","(11)"]
[null,null,null,null,null,null,null,null,null,null,null,null,null,null,null,null,null,null,null,null,null,null,null,null,null,null,null,null,null,null,null,null,null,null,null,null,null,null,null,null,null,null,null,null,null,null,null,null,null,null,null,null,1,"Dangerous/Over-taking/Careless/etc.",1752,{"$f":"E8","v":""},417,103,0,520,117,17,0,134]
[null,null,null,null,null,null,null,null,null,null,null,null,null,null,null,null,null,null,null,null,null,null,null,null,null,null,null,null,null,null,null,null,null,null,null,null,null,null,null,null,null,null,null,null,null,null,null,null,null,null,null,null,2,"Over speeding",957,"",258,55,0,313,62,12,0,74]
[null,null,null,null,null,null,null,null,null,null,null,null,null,null,null,null,null,null,null,null,null,null,null,null,null,null,null,null,null,null,null,null,null,null,null,null,null,null,null,null,null,null,null,null,null,null,null,null,null,null,null,null,3,"Driving under influence of drug/alcohol",122,"",19,2,0,21,8,2,0,10]
[null,null,null,null,null,null,null,null,null,null,null,null,null,null,null,null,null,null,null,null,null,null,null,null,null,null,null,null,null,null,null,null,null,null,null,null,null,null,null,null,null,null,null,null,null,null,null,null,null,null,null,null,4,"Physical fatigue of Drivers",1,"",0,0,0,0,1,0,0,1]
[null,null,null,null,null,null,null,null,null,null,null,null,null,null,null,null,null,null,null,null,null,null,null,null,null,null,null,null,null,null,null,null,null,null,null,null,null,null,null,null,null,null,null,null,null,null,null,null,null,null,null,null,5,"Defect in Mechanical condition of Motor Vehicle",5,"",0,0,0,0,2,0,0,2]
[null,null,null,null,null,null,null,null,null,null,null,null,null,null,null,null,null,null,null,null,null,null,null,null,null,null,null,null,null,null,null,null,null,null,null,null,null,null,null,null,null,null,null,null,null,null,null,null,null,null,null,null,6,"Animal Crossing",6,"",1,0,0,1,2,0,0,2]
[null,null,null,null,null,null,null,null,null,null,null,null,null,null,null,null,null,null,null,null,null,null,null,null,null,null,null,null,null,null,null,null,null,null,null,null,null,null,null,null,null,null,null,null,null,null,null,null,null,null,null,null,7,"Weather condition (sum of 7.1 & 7.2)",0,"",0,0,0,0,0,0,0,0]
[null,null,null,null,null,null,null,null,null,null,null,null,null,null,null,null,null,null,null,null,null,null,null,null,null,null,null,null,null,null,null,null,null,null,null,null,null,null,null,null,null,null,null,null,null,null,null,null,null,null,null,null,null,{"$f":"C15","v":"7.1 Poor visibility"},0,"",0,0,0,0,0,0,0,0]
[null,null,null,null,null,null,null,null,null,null,null,null,null,null,null,null,null,null,null,null,null,null,null,null,null,null,null,null,null,null,null,null,null,null,null,null,null,null,null,null,null,null,null,null,null,null,null,null,null,null,null,null,null,"7.2 Others causes of weather condition",0,"",0,0,0,0,0,0,0,0]
[null,null,null,null,null,null,null,null,null,null,null,null,null,null,null,null,null,null,null,null,null,null,null,null,null,null,null,null,null,null,null,null,null,null,null,null,null,null,null,null,null,null,null,null,null,null,null,null,null,null,null,null,{"$f":"B17","v":8},"Lack of road infrastructure",0,"",0,0,0,0,0,0,0,0]
[null,null,null,null,null,null,null,null,null,null,null,null,null,null,null,null,null,null,null,null,null,null,null,null,null,null,null,null,null,null,null,null,null,null,null,null,null,null,null,null,null,null,null,null,null,null,null,null,null,null,null,null,9,"Vehicles Parking at road shoulders",2,"",1,0,0,1,0,0,0,0]
[null,null,null,null,null,null,null,null,null,null,null,null,null,null,null,null,null,null,null,null,null,null,null,null,null,null,null,null,null,null,null,null,null,null,null,null,null,null,null,null,null,null,null,null,null,null,null,null,null,null,null,null,10,"Unmanned Railway Crossing",0,"",0,0,0,0,0,0,0,0]
[null,null,null,null,null,null,null,null,null,null,null,null,null,null,null,null,null,null,null,null,null,null,null,null,null,null,null,null,null,null,null,null,null,null,null,null,null,null,null,null,null,null,null,null,null,null,null,null,null,null,null,null,11,"Causes not known",0,"",0,0,0,0,0,0,0,0]
[null,null,null,null,null,null,null,null,null,null,null,null,null,null,null,null,null,null,null,null,null,null,null,null,null,null,null,null,null,null,null,null,null,null,null,null,null,null,null,null,null,null,null,null,null,null,null,null,null,null,null,null,12,"Other Causes",5,"",0,0,0,0,1,2,0,3]
[null,null,null,null,null,null,null,null,null,null,null,null,null,null,null,null,null,null,null,null,null,null,null,null,null,null,null,null,null,null,null,null,null,null,null,null,null,null,null,null,null,null,null,null,null,null,null,null,null,null,null,null,13,"Total (sum of Sl. 1 to 12)",2850,"",696,160,0,856,193,33,0,226]
[null,null,null,null,null,null,null,null,null,null,null,null,null,null,null,null,null,null,null,null,null,null,null,null,null,null,null,null,null,null,null,null,null,null,null,null,null,null,null,null,null,null,null,null,null,null,null,null,null,null,null,null,{"$f":"C23","v":"ROAD ACCIDENTS TOTAL (EXCLUDING Unmanned Railway Crossing Accidents; Sl.–10)"},null,{"$f":"D23","v":2850},null,{"$f":"F23","v":696},160,0,856,193,33,0,226]
[null,null,null,null,null,null,null,null,null,null,null,null,null,null,null,null,null,null,null,null,null,null,null,null,null,null,null,null,null,null,null,null,null,null,null,null,null,null,null,null,null,null,null,null,null,null,null,null,null,null,null,null,{"$f":"A24","v":" PROFORMA–II VALUES [Sl.– 12.1 (Road Accidents Total)]"},null,2850,null,{"$f":"F24","v":696},160,0,856,193,33,0,226]
[null,null,null,null,null,null,null,null,null,null,null,null,null,null,null,null,null,null,null,null,null,null,null,null,null,null,null,null,null,null,null,null,null,null,null,null,null,null,null,null,null,null,null,null,null,null,null,null,null,null,null,null,{"$f":"A25","v":"VALIDATION  WITH PROFORMA–II [Sl.– 12.1 (Road Accidents Total)]"},null,"",null,"","","","","","","",""]
[null,null,null,null,null,null,null,null,null,null,null,null,null,null,null,null,null,null,null,null,null,null,null,null,null,null,null,null,null,null,null,null,null,null,null,null,null,null,null,null,null,null,null,null,null,null,null,null,null,null,null,null,{"$f":"A26","v":"VALIDATION  WITH PROFORMA–II [Sl.– 12.2 (Railway Crossing) with \"Unmanned Railway Crossing\"]"},null,"",null,"","","","","","","",""]
[null,null,null,null,null,null,null,null,null,null,null,null,null,null,null,null,null,null,null,null,null,null,null,null,null,null,null,null,null,null,null,null,null,null,null,null,null,null,null,null,null,null,null,null,null,null,null,null,null,null,null,null,{"$f":"A27","v":"SL-11 ABNORMAL VARIATION IN \"CAUSES NOT KNOWN\" DATA"},null,"",null,{"$f":"F27","v":""},{"$f":"G27","v":""},{"$f":"H27","v":""},{"$f":"I27","v":""},{"$f":"J27","v":""},{"$f":"K27","v":""},{"$f":"L27","v":""},{"$f":"M27","v":""}]
[null,null,null,null,null,null,null,null,null,null,null,null,null,null,null,null,null,null,null,null,null,null,null,null,null,null,null,null,null,null,null,null,null,null,null,null,null,null,null,null,null,null,null,null,null,null,null,null,null,null,null,null,{"$f":"A28","v":"SL-12 ABNORMAL VARIATION IN \"OTHER CAUSES\" DATA"},null,"",null,"","","","","","","",""]
[]
[]
[]
[]
[]
[]
[]
[]
[]
[]
[]
[]
[]
[]
[]
[]
[]
[]
[]
[]
[]
[]
[]
[]
[]
[]
[]
[]
[]
[]
[]
[]
[]
[]
[]
[]
[]
[]
[]
[]
[]
[]
[]
[]
[]
[]
[]
[]
[]
[]
[]
[]
[]
[]
[]
[]
[]
[]
[]
[]
[]
[]
[]
[]
[]
[]
[]
[]
[]
[]
[]
[]
[]
[]
[]
[]
[]
[]
[]
[]
[]
[]
[]
[]
[]
[]
[]
[]
[]
[]
[]
[]
[]
[]
[]
[]
[]
[]
[]
[]
[]
[]
[]
[]
[]
[]
[]
[]
[]
[]
[]
[]
[]
[]
[]
[]
[]
[]
[]
[]
[]
[]
[]
[]
[]
[]
[]
[]
[]
[]
[]
[]
[]
[]
[]
[]
[]
[]
[]
[]
[]
[]
[]
[]
[]
[]
[]
[]
[]
[]
[]
[]
[]
[]
[]
[]
[]
[]
[]
[]
[]
[]
[]
[]
[]
[]
[]
[]
[]
[]
[]
[]
[]
[]
[]
[]
[]
[]
[]
[]
[]
[]
[]
[]
[]
[]
[]
[]
[]
[]
[]
[]
[]
[]
[]
[]
[]
[]
[]
[]
[]
[]
[]
[]
[]
[]
[]
[]
[]
[]
[]
[]
[]
[]
[]
[]
[]
[]
[]
[]
[]
[]
[]
[]
[]
[]
[]
[]
[]
[]
[]
[]
[]
[]
[]
[]
[]
[]
[]
[]
[]
[]
[]
[]
[]
[]
[]
[]
[]
[]
[]
[]
[]
[]
[]
[]
[]
[]
[]
[]
[]
[]
[]
[]
[]
[]
[]
[]
[]
[]
[]
[]
["StateUTCityCode","DistrictCode","CrimeCode","DataYear","Number of Cases","Injured_Male","Injured_Female","Injured_Trans","Injured_Total","Died_Male","Died_Female","Died_Trans","Died_Total"]
[{"$f":"IF(ADSI!$G$12=\"\",ADSI!$H$16,ADSI!$H$12)","v":6},{"$f":"IF(ADSI!$G$12=\"\",ADSI!$H$16,ADSI!$H$14)","v":""},{"$f":"A8","v":550},{"$f":"ADSI!$K$12","v":2021},{"$f":"D8","v":1752},{"$f":"F8","v":417},{"$f":"G8","v":103},0,520,117,17,0,134]
[{"$f":"IF(ADSI!$G$12=\"\",ADSI!$H$16,ADSI!$H$12)","v":6},{"$f":"IF(ADSI!$G$12=\"\",ADSI!$H$16,ADSI!$H$14)","v":""},{"$f":"A9","v":551},{"$f":"ADSI!$K$12","v":2021},{"$f":"D9","v":957},{"$f":"F9","v":258},55,0,313,62,12,0,74]
[{"$f":"IF(ADSI!$G$12=\"\",ADSI!$H$16,ADSI!$H$12)","v":6},{"$f":"IF(ADSI!$G$12=\"\",ADSI!$H$16,ADSI!$H$14)","v":""},552,{"$f":"ADSI!$K$12","v":2021},122,{"$f":"F10","v":19},2,0,21,8,2,0,10]
[{"$f":"IF(ADSI!$G$12=\"\",ADSI!$H$16,ADSI!$H$12)","v":6},{"$f":"IF(ADSI!$G$12=\"\",ADSI!$H$16,ADSI!$H$14)","v":""},553,{"$f":"ADSI!$K$12","v":2021},1,{"$f":"F11","v":0},0,0,0,1,0,0,1]
[{"$f":"IF(ADSI!$G$12=\"\",ADSI!$H$16,ADSI!$H$12)","v":6},{"$f":"IF(ADSI!$G$12=\"\",ADSI!$H$16,ADSI!$H$14)","v":""},554,{"$f":"ADSI!$K$12","v":2021},5,{"$f":"F12","v":0},0,0,0,2,0,0,2]
[{"$f":"IF(ADSI!$G$12=\"\",ADSI!$H$16,ADSI!$H$12)","v":6},{"$f":"IF(ADSI!$G$12=\"\",ADSI!$H$16,ADSI!$H$14)","v":""},555,{"$f":"ADSI!$K$12","v":2021},6,{"$f":"F13","v":1},0,0,1,2,0,0,2]
[{"$f":"IF(ADSI!$G$12=\"\",ADSI!$H$16,ADSI!$H$12)","v":6},{"$f":"IF(ADSI!$G$12=\"\",ADSI!$H$16,ADSI!$H$14)","v":""},556,{"$f":"ADSI!$K$12","v":2021},0,{"$f":"F14","v":0},0,0,0,0,0,0,0]
[{"$f":"IF(ADSI!$G$12=\"\",ADSI!$H$16,ADSI!$H$12)","v":6},{"$f":"IF(ADSI!$G$12=\"\",ADSI!$H$16,ADSI!$H$14)","v":""},557,{"$f":"ADSI!$K$12","v":2021},0,{"$f":"F15","v":0},0,0,0,0,0,0,0]
[{"$f":"IF(ADSI!$G$12=\"\",ADSI!$H$16,ADSI!$H$12)","v":6},{"$f":"IF(ADSI!$G$12=\"\",ADSI!$H$16,ADSI!$H$14)","v":""},558,{"$f":"ADSI!$K$12","v":2021},0,{"$f":"F16","v":0},0,0,0,0,0,0,0]
[{"$f":"IF(ADSI!$G$12=\"\",ADSI!$H$16,ADSI!$H$12)","v":6},{"$f":"IF(ADSI!$G$12=\"\",ADSI!$H$16,ADSI!$H$14)","v":""},559,{"$f":"ADSI!$K$12","v":2021},0,{"$f":"F17","v":0},0,0,0,0,0,0,0]
[{"$f":"IF(ADSI!$G$12=\"\",ADSI!$H$16,ADSI!$H$12)","v":6},{"$f":"IF(ADSI!$G$12=\"\",ADSI!$H$16,ADSI!$H$14)","v":""},560,{"$f":"ADSI!$K$12","v":2021},2,{"$f":"F18","v":1},0,0,1,0,0,0,0]
[{"$f":"IF(ADSI!$G$12=\"\",ADSI!$H$16,ADSI!$H$12)","v":6},{"$f":"IF(ADSI!$G$12=\"\",ADSI!$H$16,ADSI!$H$14)","v":""},561,{"$f":"ADSI!$K$12","v":2021},0,{"$f":"F19","v":0},0,0,0,0,0,0,0]
[{"$f":"IF(ADSI!$G$12=\"\",ADSI!$H$16,ADSI!$H$12)","v":6},{"$f":"IF(ADSI!$G$12=\"\",ADSI!$H$16,ADSI!$H$14)","v":""},562,{"$f":"ADSI!$K$12","v":2021},0,{"$f":"F20","v":0},0,0,0,0,0,0,0]
[{"$f":"IF(ADSI!$G$12=\"\",ADSI!$H$16,ADSI!$H$12)","v":6},{"$f":"IF(ADSI!$G$12=\"\",ADSI!$H$16,ADSI!$H$14)","v":""},563,{"$f":"ADSI!$K$12","v":2021},5,{"$f":"F21","v":0},0,0,0,1,2,0,3]
[{"$f":"IF(ADSI!$G$12=\"\",ADSI!$H$16,ADSI!$H$12)","v":6},{"$f":"IF(ADSI!$G$12=\"\",ADSI!$H$16,ADSI!$H$14)","v":""},580,{"$f":"ADSI!$K$12","v":2021},2850,{"$f":"F22","v":696},160,0,856,193,33,0,226]

{"sheet":"P-X","index":12,"n_rows":513,"n_cols":69,"rows_kept":513,"cut":false,"hidden":false,"merged":[[220,52,220,53],[219,52,219,53],[204,55,205,55],[204,59,205,59],[204,63,205,63],[203,66,203,68],[21,0,21,2],[4,2,5,2],[4,1,5,1],[4,15,4,17],[4,11,4,14],[4,7,4,10],[4,3,4,6],[20,0,20,2],[4,0,5,0],[203,62,203,65],[203,58,203,61],[203,54,203,57],[203,53,204,53],[203,52,204,52]]}
[{"$f":"ADSI!$B$1","v":"Goa, , ADSI-2021"}]
["Errors",null,{"$f":"COUNTIF(D22:R22,FALSE)+COUNTIF(E8:E20,FALSE)+COUNTIF(I8:I20,FALSE)+COUNTIF(M8:M20,FALSE)","v":0}]
["Proforma–X"]
["Month wise occurence of Traffic Accidents"]
["Code","Sl. No.","Month","Road Accidents",null,null,null,"Railways Crossing Accidents",null,null,null,"Railway Accidents",null,null,null,"Total"]
[null,null,null,"No. of Cases","VALIDATION WITH NUMBER OF CASES","No. of Persons Injured","No. of Persons Died","No. of Cases","VALIDATION WITH NUMBER OF CASES","No. of Persons Injured","No. of Persons Died","No. of Cases","VALIDATION WITH NUMBER OF CASES","No. of Persons Injured","No. of Persons Died","No. of Cases [Col. (3)+(6)+(9)]","No. of Persons Injured \n[Col. (4)+(7)+(10)]","No. of Persons Died \n[Col. (5)+(8)+(11)]"]
[null,"(1)","(2)","(3)",null,"(4)","(5)","(6)",null,"(7)","(8)","(9)",null,"(10)","(11)","(12)","(13)","(14)"]
[600,1,"January",301,{"$f":"IF(AND(OR(F8>0,G8>0),D8=0),FALSE,\"\")","v":""},105,25,0,{"$f":"IF(AND(OR(J8>0,K8>0),H8=0),FALSE,\"\")","v":""},0,0,5,{"$f":"IF(AND(OR(N8>0,O8>0),L8=0),FALSE,\"\")","v":""},0,5,{"$f":"SUM(D8+H8+L8)","v":306},{"$f":"SUM(F8+J8+N8)","v":105},{"$f":"SUM(G8+K8+O8)","v":30}]
[601,2,"February",235,{"$f":"IF(AND(OR(F9>0,G9>0),D9=0),FALSE,\"\")","v":""},75,12,0,{"$f":"IF(AND(OR(J9>0,K9>0),H9=0),FALSE,\"\")","v":""},0,0,1,{"$f":"IF(AND(OR(N9>0,O9>0),L9=0),FALSE,\"\")","v":""},0,1,{"$f":"SUM(D9+H9+L9)","v":236},75,13]
[602,3,"March",285,"",84,20,0,"",0,0,5,"",0,5,290,84,25]
[603,4,"April",210,"",61,22,0,"",0,0,6,"",0,6,216,61,28]
[604,5," May",131,"",35,10,0,"",0,0,2,"",0,2,133,35,12]
[605,6,"June",169,"",53,16,0,"",0,0,6,"",0,6,175,53,22]
[606,7,"July",199,"",56,16,0,"",0,0,7,"",0,7,206,56,23]
[607,8,"August",212,"",59,18,0,"",0,0,0,"",0,0,212,59,18]
[608,9,"September",227,"",52,20,0,"",0,0,6,"",0,6,233,52,26]
[609,10,"October",252,"",76,12,0,"",0,0,3,"",0,3,255,76,15]
[610,11,"November",287,"",100,24,0,"",0,0,4,"",0,4,291,100,28]
[611,12,"December",342,"",100,31,0,"",0,0,4,"",0,4,346,100,35]
[612,13,"Total (sum of Sl. 1 to 12)",{"$f":"SUM(D8:D19)","v":2850},"",{"$f":"SUM(F8:F19)","v":856},226,0,"",0,0,49,"",0,49,2899,{"$f":"SUM(Q8:Q19)","v":856},{"$f":"SUM(R8:R19)","v":275}]
["PROFORMA–II VALUES [Sl.– 12.1 (Road), Sl.– 12.2 (Railway Crossing) and Sl.– 12.3 (Railway) Accidents]",null,null,{"$f":"'P-II'!D43","v":2850},null,{"$f":"'P-II'!I43","v":856},{"$f":"'P-II'!M43","v":226},{"$f":"'P-II'!D46","v":0},null,{"$f":"'P-II'!I46","v":0},{"$f":"'P-II'!M46","v":0},{"$f":"'P-II'!D47","v":49},null,{"$f":"'P-II'!I47","v":0},{"$f":"'P-II'!M47","v":49},{"$f":"'P-II'!D42","v":2899},{"$f":"'P-II'!I42","v":856},{"$f":"'P-II'!M42","v":275}]
["VALIDATION  WITH PROFORMA–II [Sl.– 12.1 (Road), Sl.– 12.2 (Railway Crossing) and Sl.– 12.3 (Railway) Accidents]",null,null,{"$f":"IF(D20='P-II'!D43,\"\",FALSE)","v":""},null,{"$f":"IF(F20='P-II'!I43,\"\",FALSE)","v":""},{"$f":"IF(G20='P-II'!M43,\"\",FALSE)","v":""},{"$f":"IF(H20='P-II'!D46,\"\",FALSE)","v":""},null,{"$f":"IF(J20='P-II'!I46,\"\",FALSE)","v":""},{"$f":"IF(K20='P-II'!M46,\"\",FALSE)","v":""},{"$f":"IF(L20='P-II'!D47,\"\",FALSE)","v":""},null,{"$f":"IF(N20='P-II'!I47,\"\",FALSE)","v":""},{"$f":"IF(O20='P-II'!M47,\"\",FALSE)","v":""},{"$f":"IF(P20='P-II'!D42,\"\",FALSE)","v":""},{"$f":"IF(Q20='P-II'!I42,\"\",FALSE)","v":""},{"$f":"IF(R20='P-II'!M42,\"\",FALSE)","v":""}]
[]
[]
[]
[]
[]
[]
[]
[]
[]
[]
[]
[]
[]
[]
[]
[]
[]
[]
[]
[]
[]
[]
[]
[]
[]
[]
[]
[]
[]
[]
[]
[]
[]
[]
[]
[]
[]
[]
[]
[]
[]
[]
[]
[]
[]
[]
[]
[]
[]
[]
[]
[]
[]
[]
[]
[]
[]
[]
[]
[]
[]
[]
[]
[]
[]
[]
[]
[]
[]
[]
[]
[]
[]
[]
[]
[]
[]
[]
[]
[]
[]
[]
[]
[]
[]
[]
[]
[]
[]
[]
[]
[]
[]
[]
[]
[]
[]
[]
[]
[]
[]
[]
[]
[]
[]
[]
[]
[]
[]
[]
[]
[]
[]
[]
[]
[]
[]
[]
[]
[]
[]
[]
[]
[]
[]
[]
[]
[]
[]
[]
[]
[]
[]
[]
[]
[]
[]
[]
[]
[]
[]
[]
[]
[]
[]
[]
[]
[]
[]
[]
[]
[]
[]
[]
[]
[]
[]
[]
[]
[]
[]
[]
[]
[]
[]
[]
[]
[]
[]
[]
[]
[]
[]
[]
[]
[]
[]
[null,null,null,null,null,null,null,null,null,null,null,null,null,null,null,null,null,null,null,null,null,null,null,null,null,null,null,null,null,null,null,null,null,null,null,null,null,null,null,null,null,null,null,null,null,null,null,null,null,null,null,null,{"$f":"A1","v":"Goa, , ADSI-2021"}]
[null,null,null,null,null,null,null,null,null,null,null,null,null,null,null,null,null,null,null,null,null,null,null,null,null,null,null,null,null,null,null,null,null,null,null,null,null,null,null,null,null,null,null,null,null,null,null,null,null,null,null,null,{"$f":"A2","v":"Errors"},{"$f":"C2","v":0}]
[null,null,null,null,null,null,null,null,null,null,null,null,null,null,null,null,null,null,null,null,null,null,null,null,null,null,null,null,null,null,null,null,null,null,null,null,null,null,null,null,null,null,null,null,null,null,null,null,null,null,null,null,{"$f":"A3","v":"Proforma–X"}]
[null,null,null,null,null,null,null,null,null,null,null,null,null,null,null,null,null,null,null,null,null,null,null,null,null,null,null,null,null,null,null,null,null,null,null,null,null,null,null,null,null,null,null,null,null,null,null,null,null,null,null,null,{"$f":"A4","v":"Month wise occurence of Traffic Accidents"}]
[null,null,null,null,null,null,null,null,null,null,null,null,null,null,null,null,null,null,null,null,null,null,null,null,null,null,null,null,null,null,null,null,null,null,null,null,null,null,null,null,null,null,null,null,null,null,null,null,null,null,null,null,{"$f":"B5","v":"Sl. No."},{"$f":"C5","v":"Month"},{"$f":"D5","v":"Road Accidents"},null,null,null,{"$f":"H5","v":"Railways Crossing Accidents"},null,null,null,{"$f":"L5","v":"Railway Accidents"},null,null,null,{"$f":"P5","v":"Total"}]
[null,null,null,null,null,null,null,null,null,null,null,null,null,null,null,null,null,null,null,null,null,null,null,null,null,null,null,null,null,null,null,null,null,null,null,null,null,null,null,null,null,null,null,null,null,null,null,null,null,null,null,null,null,null,{"$f":"D6","v":"No. of Cases"},{"$f":"E6","v":"VALIDATION WITH NUMBER OF CASES"},{"$f":"F6","v":"No. of Persons Injured"},{"$f":"G6","v":"No. of Persons Died"},"No. of Cases",{"$f":"I6","v":"VALIDATION WITH NUMBER OF CASES"},{"$f":"J6","v":"No. of Persons Injured"},{"$f":"K6","v":"No. of Persons Died"},"No. of Cases",{"$f":"M6","v":"VALIDATION WITH NUMBER OF CASES"},{"$f":"N6","v":"No. of Persons Injured"},{"$f":"O6","v":"No. of Persons Died"},"No. of Cases [Col. (3)+(6)+(9)]",{"$f":"Q6","v":"No. of Persons Injured \n[Col. (4)+(7)+(10)]"},{"$f":"R6","v":"No. of Persons Died \n[Col. (5)+(8)+(11)]"}]
[null,null,null,null,null,null,null,null,null,null,null,null,null,null,null,null,null,null,null,null,null,null,null,null,null,null,null,null,null,null,null,null,null,null,null,null,null,null,null,null,null,null,null,null,null,null,null,null,null,null,null,null,{"$f":"B7","v":"(1)"},{"$f":"C7","v":"(2)"},{"$f":"D7","v":"(3)"},null,{"$f":"F7","v":"(4)"},{"$f":"G7","v":"(5)"},"(6)",null,{"$f":"J7","v":"(7)"},{"$f":"K7","v":"(8)"},"(9)",null,{"$f":"N7","v":"(10)"},{"$f":"O7","v":"(11)"},"(12)","(13)","(14)"]
[null,null,null,null,null,null,null,null,null,null,null,null,null,null,null,null,null,null,null,null,null,null,null,null,null,null,null,null,null,null,null,null,null,null,null,null,null,null,null,null,null,null,null,null,null,null,null,null,null,null,null,null,1,"January",301,{"$f":"E8","v":""},105,25,0,{"$f":"I8","v":""},0,0,5,{"$f":"M8","v":""},0,5,306,105,30]
[null,null,null,null,null,null,null,null,null,null,null,null,null,null,null,null,null,null,null,null,null,null,null,null,null,null,null,null,null,null,null,null,null,null,null,null,null,null,null,null,null,null,null,null,null,null,null,null,null,null,null,null,2,"February",235,{"$f":"E9","v":""},75,12,0,{"$f":"I9","v":""},0,0,1,{"$f":"M9","v":""},0,1,236,75,13]
[null,null,null,null,null,null,null,null,null,null,null,null,null,null,null,null,null,null,null,null,null,null,null,null,null,null,null,null,null,null,null,null,null,null,null,null,null,null,null,null,null,null,null,null,null,null,null,null,null,null,null,null,3,"March",285,"",84,20,0,"",0,0,5,"",0,5,290,84,25]
[null,null,null,null,null,null,null,null,null,null,null,null,null,null,null,null,null,null,null,null,null,null,null,null,null,null,null,null,null,null,null,null,null,null,null,null,null,null,null,null,null,null,null,null,null,null,null,null,null,null,null,null,4,"April",210,"",61,22,0,"",0,0,6,"",0,6,216,61,28]
[null,null,null,null,null,null,null,null,null,null,null,null,null,null,null,null,null,null,null,null,null,null,null,null,null,null,null,null,null,null,null,null,null,null,null,null,null,null,null,null,null,null,null,null,null,null,null,null,null,null,null,null,5," May",131,"",35,10,0,"",0,0,2,"",0,2,133,35,12]
[null,null,null,null,null,null,null,null,null,null,null,null,null,null,null,null,null,null,null,null,null,null,null,null,null,null,null,null,null,null,null,null,null,null,null,null,null,null,null,null,null,null,null,null,null,null,null,null,null,null,null,null,6,"June",169,"",53,16,0,"",0,0,6,"",0,6,175,53,22]
[null,null,null,null,null,null,null,null,null,null,null,null,null,null,null,null,null,null,null,null,null,null,null,null,null,null,null,null,null,null,null,null,null,null,null,null,null,null,null,null,null,null,null,null,null,null,null,null,null,null,null,null,7,"July",199,"",56,16,0,"",0,0,7,"",0,7,206,56,23]
[null,null,null,null,null,null,null,null,null,null,null,null,null,null,null,null,null,null,null,null,null,null,null,null,null,null,null,null,null,null,null,null,null,null,null,null,null,null,null,null,null,null,null,null,null,null,null,null,null,null,null,null,8,"August",212,"",59,18,0,"",0,0,0,"",0,0,212,59,18]
[null,null,null,null,null,null,null,null,null,null,null,null,null,null,null,null,null,null,null,null,null,null,null,null,null,null,null,null,null,null,null,null,null,null,null,null,null,null,null,null,null,null,null,null,null,null,null,null,null,null,null,null,9,"September",227,"",52,20,0,"",0,0,6,"",0,6,233,52,26]
[null,null,null,null,null,null,null,null,null,null,null,null,null,null,null,null,null,null,null,null,null,null,null,null,null,null,null,null,null,null,null,null,null,null,null,null,null,null,null,null,null,null,null,null,null,null,null,null,null,null,null,null,10,"October",252,"",76,12,0,"",0,0,3,"",0,3,255,76,15]
[null,null,null,null,null,null,null,null,null,null,null,null,null,null,null,null,null,null,null,null,null,null,null,null,null,null,null,null,null,null,null,null,null,null,null,null,null,null,null,null,null,null,null,null,null,null,null,null,null,null,null,null,11,"November",287,"",100,24,0,"",0,0,4,"",0,4,291,100,28]
[null,null,null,null,null,null,null,null,null,null,null,null,null,null,null,null,null,null,null,null,null,null,null,null,null,null,null,null,null,null,null,null,null,null,null,null,null,null,null,null,null,null,null,null,null,null,null,null,null,null,null,null,12,"December",342,"",100,31,0,"",0,0,4,"",0,4,346,100,35]
[null,null,null,null,null,null,null,null,null,null,null,null,null,null,null,null,null,null,null,null,null,null,null,null,null,null,null,null,null,null,null,null,null,null,null,null,null,null,null,null,null,null,null,null,null,null,null,null,null,null,null,null,13,"Total (sum of Sl. 1 to 12)",2850,"",856,226,0,"",0,0,49,"",0,49,2899,856,275]
[null,null,null,null,null,null,null,null,null,null,null,null,null,null,null,null,null,null,null,null,null,null,null,null,null,null,null,null,null,null,null,null,null,null,null,null,null,null,null,null,null,null,null,null,null,null,null,null,null,null,null,null,{"$f":"A21","v":"PROFORMA–II VALUES [Sl.– 12.1 (Road), Sl.– 12.2 (Railway Crossing) and Sl.– 12.3 (Railway) Accidents]"},null,{"$f":"D21","v":2850},null,856,226,0,null,0,0,49,null,0,49,2899,856,275]
[null,null,null,null,null,null,null,null,null,null,null,null,null,null,null,null,null,null,null,null,null,null,null,null,null,null,null,null,null,null,null,null,null,null,null,null,null,null,null,null,null,null,null,null,null,null,null,null,null,null,null,null,{"$f":"A22","v":"VALIDATION  WITH PROFORMA–II [Sl.– 12.1 (Road), Sl.– 12.2 (Railway Crossing) and Sl.– 12.3 (Railway) Accidents]"},null,{"$f":"D22","v":""},null,"","","",null,"","","",null,"","","","",""]
[]
[]
[]
[]
[]
[]
[]
[]
[]
[]
[]
[]
[]
[]
[]
[]
[]
[]
[]
[]
[]
[]
[]
[]
[]
[]
[]
[]
[]
[]
[]
[]
[]
[]
[]
[]
[]
[]
[]
[]
[]
[]
[]
[]
[]
[]
[]
[]
[]
[]
[]
[]
[]
[]
[]
[]
[]
[]
[]
[]
[]
[]
[]
[]
[]
[]
[]
[]
[]
[]
[]
[]
[]
[]
[]
[]
[]
[]
[]
[]
[]
[]
[]
[]
[]
[]
[]
[]
[]
[]
[]
[]
[]
[]
[]
[]
[]
[]
[]
[]
[]
[]
[]
[]
[]
[]
[]
[]
[]
[]
[]
[]
[]
[]
[]
[]
[]
[]
[]
[]
[]
[]
[]
[]
[]
[]
[]
[]
[]
[]
[]
[]
[]
[]
[]
[]
[]
[]
[]
[]
[]
[]
[]
[]
[]
[]
[]
[]
[]
[]
[]
[]
[]
[]
[]
[]
[]
[]
[]
[]
[]
[]
[]
[]
[]
[]
[]
[]
[]
[]
[]
[]
[]
[]
[]
[]
[]
[]
[]
[]
[]
[]
[]
[]
[]
[]
[]
[]
[]
[]
[]
[]
[]
[]
[]
[]
[]
[]
[]
[]
[]
[]
[]
[]
[]
[]
[]
[]
[]
[]
[]
[]
[]
[]
[]
[]
[]
[]
[]
[]
[]
[]
[]
[]
[]
[]
[]
[]
[]
[]
[]
[]
[]
[]
[]
[]
[]
[]
[]
[]
[]
[]
[]
[]
[]
[]
[]
[]
[]
[]
[]
[]
[]
[]
[]
[]
[]
[]
[]
[]
[]
[]
[]
[]
[]
[]
[]
[]
[]
[]
[]
[]
[]
[]
[]
[]
[]
[]
["StateUTCityCode","DistrictCode","CrimeCode","DataYear","Road Accident_Cases","Road Accident_Injured","Road Accident_Died","Railway Crossing_Cases","Railway Crossing_Injured","Railway Crossing_Died","Railway Accident_Cases","Railway Accident_Injured","Railway Accident_Died","Total Traffic_Cases","Total Traffic_Injured","Total Traffic_Died"]
[{"$f":"IF(ADSI!$G$12=\"\",ADSI!$H$16,ADSI!$H$12)","v":6},{"$f":"IF(ADSI!$G$12=\"\",ADSI!$H$16,ADSI!$H$14)","v":""},{"$f":"A8","v":600},{"$f":"ADSI!$K$12","v":2021},{"$f":"D8","v":301},{"$f":"F8","v":105},{"$f":"G8","v":25},{"$f":"H8","v":0},{"$f":"J8","v":0},{"$f":"K8","v":0},{"$f":"L8","v":5},{"$f":"N8","v":0},{"$f":"O8","v":5},{"$f":"P8","v":306},{"$f":"Q8","v":105},30]
[{"$f":"IF(ADSI!$G$12=\"\",ADSI!$H$16,ADSI!$H$12)","v":6},{"$f":"IF(ADSI!$G$12=\"\",ADSI!$H$16,ADSI!$H$14)","v":""},{"$f":"A9","v":601},{"$f":"ADSI!$K$12","v":2021},{"$f":"D9","v":235},{"$f":"F9","v":75},12,0,{"$f":"J9","v":0},0,1,{"$f":"N9","v":0},1,236,{"$f":"Q9","v":75},{"$f":"R9","v":13}]
[{"$f":"IF(ADSI!$G$12=\"\",ADSI!$H$16,ADSI!$H$12)","v":6},{"$f":"IF(ADSI!$G$12=\"\",ADSI!$H$16,ADSI!$H$14)","v":""},602,{"$f":"ADSI!$K$12","v":2021},285,{"$f":"F10","v":84},20,0,{"$f":"J10","v":0},0,5,{"$f":"N10","v":0},5,290,84,25]
[{"$f":"IF(ADSI!$G$12=\"\",ADSI!$H$16,ADSI!$H$12)","v":6},{"$f":"IF(ADSI!$G$12=\"\",ADSI!$H$16,ADSI!$H$14)","v":""},603,{"$f":"ADSI!$K$12","v":2021},210,{"$f":"F11","v":61},22,0,{"$f":"J11","v":0},0,6,{"$f":"N11","v":0},6,216,61,28]
[{"$f":"IF(ADSI!$G$12=\"\",ADSI!$H$16,ADSI!$H$12)","v":6},{"$f":"IF(ADSI!$G$12=\"\",ADSI!$H$16,ADSI!$H$14)","v":""},604,{"$f":"ADSI!$K$12","v":2021},131,{"$f":"F12","v":35},10,0,{"$f":"J12","v":0},0,2,{"$f":"N12","v":0},2,133,35,12]
[{"$f":"IF(ADSI!$G$12=\"\",ADSI!$H$16,ADSI!$H$12)","v":6},{"$f":"IF(ADSI!$G$12=\"\",ADSI!$H$16,ADSI!$H$14)","v":""},605,{"$f":"ADSI!$K$12","v":2021},169,{"$f":"F13","v":53},16,0,{"$f":"J13","v":0},0,6,{"$f":"N13","v":0},6,175,53,22]
[{"$f":"IF(ADSI!$G$12=\"\",ADSI!$H$16,ADSI!$H$12)","v":6},{"$f":"IF(ADSI!$G$12=\"\",ADSI!$H$16,ADSI!$H$14)","v":""},606,{"$f":"ADSI!$K$12","v":2021},199,{"$f":"F14","v":56},16,0,{"$f":"J14","v":0},0,7,{"$f":"N14","v":0},7,206,56,23]
[{"$f":"IF(ADSI!$G$12=\"\",ADSI!$H$16,ADSI!$H$12)","v":6},{"$f":"IF(ADSI!$G$12=\"\",ADSI!$H$16,ADSI!$H$14)","v":""},607,{"$f":"ADSI!$K$12","v":2021},212,{"$f":"F15","v":59},18,0,{"$f":"J15","v":0},0,0,{"$f":"N15","v":0},0,212,59,18]
[{"$f":"IF(ADSI!$G$12=\"\",ADSI!$H$16,ADSI!$H$12)","v":6},{"$f":"IF(ADSI!$G$12=\"\",ADSI!$H$16,ADSI!$H$14)","v":""},608,{"$f":"ADSI!$K$12","v":2021},227,{"$f":"F16","v":52},20,0,{"$f":"J16","v":0},0,6,{"$f":"N16","v":0},6,233,52,26]
[{"$f":"IF(ADSI!$G$12=\"\",ADSI!$H$16,ADSI!$H$12)","v":6},{"$f":"IF(ADSI!$G$12=\"\",ADSI!$H$16,ADSI!$H$14)","v":""},609,{"$f":"ADSI!$K$12","v":2021},252,{"$f":"F17","v":76},12,0,{"$f":"J17","v":0},0,3,{"$f":"N17","v":0},3,255,76,15]
[{"$f":"IF(ADSI!$G$12=\"\",ADSI!$H$16,ADSI!$H$12)","v":6},{"$f":"IF(ADSI!$G$12=\"\",ADSI!$H$16,ADSI!$H$14)","v":""},610,{"$f":"ADSI!$K$12","v":2021},287,{"$f":"F18","v":100},24,0,{"$f":"J18","v":0},0,4,{"$f":"N18","v":0},4,291,100,28]
[{"$f":"IF(ADSI!$G$12=\"\",ADSI!$H$16,ADSI!$H$12)","v":6},{"$f":"IF(ADSI!$G$12=\"\",ADSI!$H$16,ADSI!$H$14)","v":""},611,{"$f":"ADSI!$K$12","v":2021},342,{"$f":"F19","v":100},31,0,{"$f":"J19","v":0},0,4,{"$f":"N19","v":0},4,346,100,35]
[{"$f":"IF(ADSI!$G$12=\"\",ADSI!$H$16,ADSI!$H$12)","v":6},{"$f":"IF(ADSI!$G$12=\"\",ADSI!$H$16,ADSI!$H$14)","v":""},612,{"$f":"ADSI!$K$12","v":2021},2850,{"$f":"F20","v":856},226,0,{"$f":"J20","v":0},0,49,{"$f":"N20","v":0},49,2899,856,275]

{"sheet":"P-XI","index":13,"n_rows":509,"n_cols":69,"rows_kept":509,"cut":false,"hidden":false,"merged":[[17,0,17,2],[4,15,4,17],[4,1,5,1],[4,2,5,2],[4,3,4,6],[4,7,4,10],[4,11,4,14],[16,0,16,2],[4,0,5,0],[203,66,203,68],[215,52,215,53],[216,52,216,53],[203,52,204,52],[203,53,204,53],[203,54,203,57],[203,58,203,61],[203,62,203,65],[204,55,205,55],[204,59,205,59],[204,63,205,63]]}
[{"$f":"ADSI!$B$1","v":"Goa, , ADSI-2021"}]
["Errors",null,{"$f":"COUNTIF(D18:R18,FALSE)+COUNTIF(E8:E16,FALSE)+COUNTIF(I8:I16,FALSE)+COUNTIF(M8:M16,FALSE)","v":0}]
["Proforma–XI"]
["Time wise occurence of Traffic Accidents"]
["Code","Sl. No.","Time","Road Accidents",null,null,null,"Railways Crossing Accidents",null,null,null,"Railway Accidents",null,null,null,"Total"]
[null,null,null,"No. of Cases","VALIDATION WITH NUMBER OF CASES","No. of Persons Injured","No. of Persons Died","No. of Cases","VALIDATION WITH NUMBER OF CASES","No. of Persons Injured","No. of Persons Died","No. of Cases","VALIDATION WITH NUMBER OF CASES","No. of Persons Injured","No. of Persons Died","No. of Cases\n[col. (3)+(6)+(9)]","No. of Persons Injured\n[co. (4)+(7)+(10)]","No. of Persons Died\n[col. (5)+(8)+(11)]"]
[null,"(1)","(2)","(3)",null,"(4)","(5)","(6)",null,"(7)","(8)","(9)",null,"(10)","(11)","(12)","(13)","(14)"]
[625,1,"00:00 hrs. to 03:00 hrs. (Night)",237,{"$f":"IF(AND(OR(F8>0,G8>0),D8=0),FALSE,\"\")","v":""},49,14,0,{"$f":"IF(AND(OR(J8>0,K8>0),H8=0),FALSE,\"\")","v":""},0,0,9,{"$f":"IF(AND(OR(N8>0,O8>0),L8=0),FALSE,\"\")","v":""},0,9,{"$f":"SUM(D8+H8+L8)","v":246},{"$f":"SUM(F8+J8+N8)","v":49},23]
[626,2,"03:00 hrs. to 06:00 hrs. (Night)",164,"",35,14,0,{"$f":"IF(AND(OR(J9>0,K9>0),H9=0),FALSE,\"\")","v":""},0,0,5,{"$f":"IF(AND(OR(N9>0,O9>0),L9=0),FALSE,\"\")","v":""},0,5,{"$f":"SUM(D9+H9+L9)","v":169},35,19]
[627,3,"06:00 hrs. to 09:00 hrs. (Day)",263,"",88,14,0,"",0,0,5,"",0,5,268,88,19]
[628,4,"09:00 hrs. to 12:00 hrs. (Day)",402,"",119,35,0,"",0,0,4,"",0,4,406,119,39]
[629,5,"12:00 hrs. to 15:00 hrs. (Day)",453,"",149,34,0,"",0,0,3,"",0,3,456,149,37]
[630,6,"15:00 hrs. to  18:00 hrs. (Day)",463,"",165,35,0,"",0,0,4,"",0,4,467,165,39]
[631,7,"18:00 hrs. to 21;00 hrs. (Night)",521,"",152,50,0,"",0,0,10,"",0,10,531,152,60]
[632,8,"21:00 hrs. to 24:00 hrs. (Night)",347,"",99,30,0,"",0,0,9,"",0,9,356,99,39]
[633,9,"Total (sum of (Sl. 1 to 8))",{"$f":"SUM(D8:D15)","v":2850},{"$f":"IF(AND(OR(F16>0,G16>0),D16=0),FALSE,\"\")","v":""},{"$f":"SUM(F8:F15)","v":856},{"$f":"SUM(G8:G15)","v":226},{"$f":"SUM(H8:H15)","v":0},"",0,0,49,"",0,49,2899,856,275]
["PROFORMA–II VALUES [Sl.– 12.1 (Road), Sl.– 12.2 (Railway Crossing) and Sl.– 12.3 (Railway) Accidents]",null,null,{"$f":"'P-II'!D43","v":2850},null,{"$f":"'P-II'!I43","v":856},{"$f":"'P-II'!M43","v":226},{"$f":"'P-II'!D46","v":0},null,{"$f":"'P-II'!I46","v":0},{"$f":"'P-II'!M46","v":0},{"$f":"'P-II'!D47","v":49},null,{"$f":"'P-II'!I47","v":0},{"$f":"'P-II'!M47","v":49},{"$f":"'P-II'!D42","v":2899},{"$f":"'P-II'!I42","v":856},{"$f":"'P-II'!M42","v":275}]
["VALIDATION  WITH PROFORMA–II [Sl.– 12.1 (Road), Sl.– 12.2 (Railway Crossing) and Sl.– 12.3 (Railway) Accidents]",null,null,{"$f":"IF(D16='P-II'!D43,\"\",FALSE)","v":""},null,{"$f":"IF(F16='P-II'!I43,\"\",FALSE)","v":""},{"$f":"IF(G16='P-II'!M43,\"\",FALSE)","v":""},{"$f":"IF(H16='P-II'!D46,\"\",FALSE)","v":""},null,{"$f":"IF(J16='P-II'!I46,\"\",FALSE)","v":""},{"$f":"IF(K16='P-II'!M46,\"\",FALSE)","v":""},{"$f":"IF(L16='P-II'!D47,\"\",FALSE)","v":""},null,{"$f":"IF(N16='P-II'!I47,\"\",FALSE)","v":""},{"$f":"IF(O16='P-II'!M47,\"\",FALSE)","v":""},{"$f":"IF(P16='P-II'!D42,\"\",FALSE)","v":""},{"$f":"IF(Q16='P-II'!I42,\"\",FALSE)","v":""},{"$f":"IF(R16='P-II'!M42,\"\",FALSE)","v":""}]
[]
[]
[]
[]
[]
[]
[]
[]
[]
[]
[]
[]
[]
[]
[]
[]
[]
[]
[]
[]
[]
[]
[]
[]
[]
[]
[]
[]
[]
[]
[]
[]
[]
[]
[]
[]
[]
[]
[]
[]
[]
[]
[]
[]
[]
[]
[]
[]
[]
[]
[]
[]
[]
[]
[]
[]
[]
[]
[]
[]
[]
[]
[]
[]
[]
[]
[]
[]
[]
[]
[]
[]
[]
[]
[]
[]
[]
[]
[]
[]
[]
[]
[]
[]
[]
[]
[]
[]
[]
[]
[]
[]
[]
[]
[]
[]
[]
[]
[]
[]
[]
[]
[]
[]
[]
[]
[]
[]
[]
[]
[]
[]
[]
[]
[]
[]
[]
[]
[]
[]
[]
[]
[]
[]
[]
[]
[]
[]
[]
[]
[]
[]
[]
[]
[]
[]
[]
[]
[]
[]
[]
[]
[]
[]
[]
[]
[]
[]
[]
[]
[]
[]
[]
[]
[]
[]
[]
[]
[]
[]
[]
[]
[]
[]
[]
[]
[]
[]
[]
[]
[]
[]
[]
[]
[]
[]
[]
[]
[]
[]
[]
[null,null,null,null,null,null,null,null,null,null,null,null,null,null,null,null,null,null,null,null,null,null,null,null,null,null,null,null,null,null,null,null,null,null,null,null,null,null,null,null,null,null,null,null,null,null,null,null,null,null,null,null,{"$f":"A1","v":"Goa, , ADSI-2021"}]
[null,null,null,null,null,null,null,null,null,null,null,null,null,null,null,null,null,null,null,null,null,null,null,null,null,null,null,null,null,null,null,null,null,null,null,null,null,null,null,null,null,null,null,null,null,null,null,null,null,null,null,null,{"$f":"A2","v":"Errors"},{"$f":"C2","v":0}]
[null,null,null,null,null,null,null,null,null,null,null,null,null,null,null,null,null,null,null,null,null,null,null,null,null,null,null,null,null,null,null,null,null,null,null,null,null,null,null,null,null,null,null,null,null,null,null,null,null,null,null,null,{"$f":"A3","v":"Proforma–XI"}]
[null,null,null,null,null,null,null,null,null,null,null,null,null,null,null,null,null,null,null,null,null,null,null,null,null,null,null,null,null,null,null,null,null,null,null,null,null,null,null,null,null,null,null,null,null,null,null,null,null,null,null,null,{"$f":"A4","v":"Time wise occurence of Traffic Accidents"}]
[null,null,null,null,null,null,null,null,null,null,null,null,null,null,null,null,null,null,null,null,null,null,null,null,null,null,null,null,null,null,null,null,null,null,null,null,null,null,null,null,null,null,null,null,null,null,null,null,null,null,null,null,{"$f":"B5","v":"Sl. No."},{"$f":"C5","v":"Time"},{"$f":"D5","v":"Road Accidents"},null,null,null,{"$f":"H5","v":"Railways Crossing Accidents"},null,null,null,{"$f":"L5","v":"Railway Accidents"},null,null,null,{"$f":"P5","v":"Total"}]
[null,null,null,null,null,null,null,null,null,null,null,null,null,null,null,null,null,null,null,null,null,null,null,null,null,null,null,null,null,null,null,null,null,null,null,null,null,null,null,null,null,null,null,null,null,null,null,null,null,null,null,null,null,null,"No. of Cases",{"$f":"E6","v":"VALIDATION WITH NUMBER OF CASES"},{"$f":"F6","v":"No. of Persons Injured"},{"$f":"G6","v":"No. of Persons Died"},"No. of Cases",{"$f":"I6","v":"VALIDATION WITH NUMBER OF CASES"},{"$f":"J6","v":"No. of Persons Injured"},{"$f":"K6","v":"No. of Persons Died"},"No. of Cases",{"$f":"M6","v":"VALIDATION WITH NUMBER OF CASES"},{"$f":"N6","v":"No. of Persons Injured"},{"$f":"O6","v":"No. of Persons Died"},"No. of Cases\n[col. (3)+(6)+(9)]",{"$f":"Q6","v":"No. of Persons Injured\n[co. (4)+(7)+(10)]"},{"$f":"R6","v":"No. of Persons Died\n[col. (5)+(8)+(11)]"}]
[null,null,null,null,null,null,null,null,null,null,null,null,null,null,null,null,null,null,null,null,null,null,null,null,null,null,null,null,null,null,null,null,null,null,null,null,null,null,null,null,null,null,null,null,null,null,null,null,null,null,null,null,{"$f":"B7","v":"(1)"},"(2)","(3)",null,"(4)","(5)","(6)",null,"(7)","(8)","(9)",null,"(10)","(11)","(12)","(13)","(14)"]
[null,null,null,null,null,null,null,null,null,null,null,null,null,null,null,null,null,null,null,null,null,null,null,null,null,null,null,null,null,null,null,null,null,null,null,null,null,null,null,null,null,null,null,null,null,null,null,null,null,null,null,null,1,"00:00 hrs. to 03:00 hrs. (Night)",237,{"$f":"E8","v":""},{"$f":"F8","v":49},{"$f":"G8","v":14},0,{"$f":"I8","v":""},0,0,9,{"$f":"M8","v":""},0,9,246,49,23]
[null,null,null,null,null,null,null,null,null,null,null,null,null,null,null,null,null,null,null,null,null,null,null,null,null,null,null,null,null,null,null,null,null,null,null,null,null,null,null,null,null,null,null,null,null,null,null,null,null,null,null,null,2,"03:00 hrs. to 06:00 hrs. (Night)",164,{"$f":"E9","v":""},35,14,0,{"$f":"I9","v":""},0,0,5,{"$f":"M9","v":""},0,5,169,35,19]
[null,null,null,null,null,null,null,null,null,null,null,null,null,null,null,null,null,null,null,null,null,null,null,null,null,null,null,null,null,null,null,null,null,null,null,null,null,null,null,null,null,null,null,null,null,null,null,null,null,null,null,null,3,"06:00 hrs. to 09:00 hrs. (Day)",263,"",88,14,0,"",0,0,5,"",0,5,268,88,19]
[null,null,null,null,null,null,null,null,null,null,null,null,null,null,null,null,null,null,null,null,null,null,null,null,null,null,null,null,null,null,null,null,null,null,null,null,null,null,null,null,null,null,null,null,null,null,null,null,null,null,null,null,4,"09:00 hrs. to 12:00 hrs. (Day)",402,"",119,35,0,"",0,0,4,"",0,4,406,119,39]
[null,null,null,null,null,null,null,null,null,null,null,null,null,null,null,null,null,null,null,null,null,null,null,null,null,null,null,null,null,null,null,null,null,null,null,null,null,null,null,null,null,null,null,null,null,null,null,null,null,null,null,null,5,"12:00 hrs. to 15:00 hrs. (Day)",453,"",149,34,0,"",0,0,3,"",0,3,456,149,37]
[null,null,null,null,null,null,null,null,null,null,null,null,null,null,null,null,null,null,null,null,null,null,null,null,null,null,null,null,null,null,null,null,null,null,null,null,null,null,null,null,null,null,null,null,null,null,null,null,null,null,null,null,6,"15:00 hrs. to  18:00 hrs. (Day)",463,"",165,35,0,"",0,0,4,"",0,4,467,165,39]
[null,null,null,null,null,null,null,null,null,null,null,null,null,null,null,null,null,null,null,null,null,null,null,null,null,null,null,null,null,null,null,null,null,null,null,null,null,null,null,null,null,null,null,null,null,null,null,null,null,null,null,null,7,"18:00 hrs. to 21;00 hrs. (Night)",521,"",152,50,0,"",0,0,10,"",0,10,531,152,60]
[null,null,null,null,null,null,null,null,null,null,null,null,null,null,null,null,null,null,null,null,null,null,null,null,null,null,null,null,null,null,null,null,null,null,null,null,null,null,null,null,null,null,null,null,null,null,null,null,null,null,null,null,8,"21:00 hrs. to 24:00 hrs. (Night)",347,"",99,30,0,"",0,0,9,"",0,9,356,99,39]
[null,null,null,null,null,null,null,null,null,null,null,null,null,null,null,null,null,null,null,null,null,null,null,null,null,null,null,null,null,null,null,null,null,null,null,null,null,null,null,null,null,null,null,null,null,null,null,null,null,null,null,null,9,{"$f":"C16","v":"Total (sum of (Sl. 1 to 8))"},{"$f":"D16","v":2850},"",856,226,{"$f":"H16","v":0},"",{"$f":"J16","v":0},0,49,"",{"$f":"N16","v":0},49,2899,856,275]
[null,null,null,null,null,null,null,null,null,null,null,null,null,null,null,null,null,null,null,null,null,null,null,null,null,null,null,null,null,null,null,null,null,null,null,null,null,null,null,null,null,null,null,null,null,null,null,null,null,null,null,null,{"$f":"A17","v":"PROFORMA–II VALUES [Sl.– 12.1 (Road), Sl.– 12.2 (Railway Crossing) and Sl.– 12.3 (Railway) Accidents]"},null,{"$f":"D17","v":2850},null,856,226,{"$f":"H17","v":0},null,0,0,49,null,{"$f":"N17","v":0},49,2899,856,275]
[null,null,null,null,null,null,null,null,null,null,null,null,null,null,null,null,null,null,null,null,null,null,null,null,null,null,null,null,null,null,null,null,null,null,null,null,null,null,null,null,null,null,null,null,null,null,null,null,null,null,null,null,{"$f":"A18","v":"VALIDATION  WITH PROFORMA–II [Sl.– 12.1 (Road), Sl.– 12.2 (Railway Crossing) and Sl.– 12.3 (Railway) Accidents]"},null,{"$f":"D18","v":""},null,"","",{"$f":"H18","v":""},null,"","","",null,"","","","",""]
[]
[]
[]
[]
[]
[]
[]
[]
[]
[]
[]
[]
[]
[]
[]
[]
[]
[]
[]
[]
[]
[]
[]
[]
[]
[]
[]
[]
[]
[]
[]
[]
[]
[]
[]
[]
[]
[]
[]
[]
[]
[]
[]
[]
[]
[]
[]
[]
[]
[]
[]
[]
[]
[]
[]
[]
[]
[]
[]
[]
[]
[]
[]
[]
[]
[]
[]
[]
[]
[]
[]
[]
[]
[]
[]
[]
[]
[]
[]
[]
[]
[]
[]
[]
[]
[]
[]
[]
[]
[]
[]
[]
[]
[]
[]
[]
[]
[]
[]
[]
[]
[]
[]
[]
[]
[]
[]
[]
[]
[]
[]
[]
[]
[]
[]
[]
[]
[]
[]
[]
[]
[]
[]
[]
[]
[]
[]
[]
[]
[]
[]
[]
[]
[]
[]
[]
[]
[]
[]
[]
[]
[]
[]
[]
[]
[]
[]
[]
[]
[]
[]
[]
[]
[]
[]
[]
[]
[]
[]
[]
[]
[]
[]
[]
[]
[]
[]
[]
[]
[]
[]
[]
[]
[]
[]
[]
[]
[]
[]
[]
[]
[]
[]
[]
[]
[]
[]
[]
[]
[]
[]
[]
[]
[]
[]
[]
[]
[]
[]
[]
[]
[]
[]
[]
[]
[]
[]
[]
[]
[]
[]
[]
[]
[]
[]
[]
[]
[]
[]
[]
[]
[]
[]
[]
[]
[]
[]
[]
[]
[]
[]
[]
[]
[]
[]
[]
[]
[]
[]
[]
[]
[]
[]
[]
[]
[]
[]
[]
[]
[]
[]
[]
[]
[]
[]
[]
[]
[]
[]
[]
[]
[]
[]
[]
[]
[]
[]
[]
[]
[]
[]
[]
[]
[]
[]
[]
[]
[]
[]
[]
[]
[]
["StateUTCityCode","DistrictCode","CrimeCode","DataYear","Road Accident_Cases","Road Accident_Injured","Road Accident_Died","Railway Crossing_Cases","Railway Crossing_Injured","Railway Crossing_Died","Railway Accident_Cases","Railway Accident_Injured","Railway Accident_Died","Total Traffic_Cases","Total Traffic_Injured","Total Traffic_Died"]
[{"$f":"IF(ADSI!$G$12=\"\",ADSI!$H$16,ADSI!$H$12)","v":6},{"$f":"IF(ADSI!$G$12=\"\",ADSI!$H$16,ADSI!$H$14)","v":""},{"$f":"A8","v":625},{"$f":"ADSI!$K$12","v":2021},{"$f":"D8","v":237},{"$f":"F8","v":49},{"$f":"G8","v":14},{"$f":"H8","v":0},{"$f":"J8","v":0},{"$f":"K8","v":0},{"$f":"L8","v":9},{"$f":"N8","v":0},{"$f":"O8","v":9},{"$f":"P8","v":246},{"$f":"Q8","v":49},23]
[{"$f":"IF(ADSI!$G$12=\"\",ADSI!$H$16,ADSI!$H$12)","v":6},{"$f":"IF(ADSI!$G$12=\"\",ADSI!$H$16,ADSI!$H$14)","v":""},{"$f":"A9","v":626},{"$f":"ADSI!$K$12","v":2021},{"$f":"D9","v":164},{"$f":"F9","v":35},14,0,{"$f":"J9","v":0},0,5,{"$f":"N9","v":0},5,169,{"$f":"Q9","v":35},{"$f":"R9","v":19}]
[{"$f":"IF(ADSI!$G$12=\"\",ADSI!$H$16,ADSI!$H$12)","v":6},{"$f":"IF(ADSI!$G$12=\"\",ADSI!$H$16,ADSI!$H$14)","v":""},627,{"$f":"ADSI!$K$12","v":2021},263,{"$f":"F10","v":88},14,0,{"$f":"J10","v":0},0,5,{"$f":"N10","v":0},5,268,88,19]
[{"$f":"IF(ADSI!$G$12=\"\",ADSI!$H$16,ADSI!$H$12)","v":6},{"$f":"IF(ADSI!$G$12=\"\",ADSI!$H$16,ADSI!$H$14)","v":""},628,{"$f":"ADSI!$K$12","v":2021},402,{"$f":"F11","v":119},35,0,{"$f":"J11","v":0},0,4,{"$f":"N11","v":0},4,406,119,39]
[{"$f":"IF(ADSI!$G$12=\"\",ADSI!$H$16,ADSI!$H$12)","v":6},{"$f":"IF(ADSI!$G$12=\"\",ADSI!$H$16,ADSI!$H$14)","v":""},629,{"$f":"ADSI!$K$12","v":2021},453,{"$f":"F12","v":149},34,0,{"$f":"J12","v":0},0,3,{"$f":"N12","v":0},3,456,149,37]
[{"$f":"IF(ADSI!$G$12=\"\",ADSI!$H$16,ADSI!$H$12)","v":6},{"$f":"IF(ADSI!$G$12=\"\",ADSI!$H$16,ADSI!$H$14)","v":""},630,{"$f":"ADSI!$K$12","v":2021},463,{"$f":"F13","v":165},35,0,{"$f":"J13","v":0},0,4,{"$f":"N13","v":0},4,467,165,39]
[{"$f":"IF(ADSI!$G$12=\"\",ADSI!$H$16,ADSI!$H$12)","v":6},{"$f":"IF(ADSI!$G$12=\"\",ADSI!$H$16,ADSI!$H$14)","v":""},631,{"$f":"ADSI!$K$12","v":2021},521,{"$f":"F14","v":152},50,0,{"$f":"J14","v":0},0,10,{"$f":"N14","v":0},10,531,152,60]
[{"$f":"IF(ADSI!$G$12=\"\",ADSI!$H$16,ADSI!$H$12)","v":6},{"$f":"IF(ADSI!$G$12=\"\",ADSI!$H$16,ADSI!$H$14)","v":""},632,{"$f":"ADSI!$K$12","v":2021},347,{"$f":"F15","v":99},30,0,{"$f":"J15","v":0},0,9,{"$f":"N15","v":0},9,356,99,39]
[{"$f":"IF(ADSI!$G$12=\"\",ADSI!$H$16,ADSI!$H$12)","v":6},{"$f":"IF(ADSI!$G$12=\"\",ADSI!$H$16,ADSI!$H$14)","v":""},633,{"$f":"ADSI!$K$12","v":2021},2850,{"$f":"F16","v":856},226,0,{"$f":"J16","v":0},0,49,{"$f":"N16","v":0},49,2899,856,275]

{"sheet":"P-XII","index":14,"n_rows":512,"n_cols":64,"rows_kept":512,"cut":false,"hidden":false,"merged":[[227,52,227,53],[228,52,228,53],[4,0,5,0],[25,0,25,2],[7,0,7,12],[16,0,16,12],[15,0,15,2],[24,0,24,2],[14,0,14,2],[23,0,23,2],[4,1,5,1],[4,2,5,2],[4,3,5,3],[4,5,4,8],[4,9,4,12],[4,4,5,4],[215,56,215,63],[222,52,222,53],[223,52,223,53],[206,52,206,54],[206,56,206,63],[203,55,206,55],[203,52,204,52],[203,56,203,59],[203,60,203,63],[203,54,204,54],[203,53,204,53],[225,52,225,53],[226,52,226,53],[26,0,26,2],[27,0,27,2],[28,0,28,2],[29,0,29,2],[224,52,224,53],[215,52,215,54]]}
[{"$f":"ADSI!$B$1","v":"Goa, , ADSI-2021"}]
["Errors",null,{"$f":"COUNTIF(D16:M16,FALSE)+COUNTIF(D24:M24,FALSE)+COUNTIF(D26:M26,FALSE)+COUNTIF(E9:E14,FALSE)+COUNTIF(E18:E23,FALSE)","v":0},null,"Abnormal Variations",{"$f":"COUNTIF(D27:M30,\"ABVAR\")","v":4}]
["Proforma–XII"]
["Classification of Railway Accidents and Causes of Railway Accidents"]
["Code","Sl. No.","Classification/Causes","No. of Cases","VALIDATION WITH NUMBER OF CASES","No. of Persons Injured",null,null,null,"No. of Persons Died"]
[null,null,null,null,null,"Male","Female","Transgender"," Total\n[sum of (4) to (6)]"," Male"," Female","Transgender","Total\n[sum of (8) to (10)]"]
[null,"(1)","(2)","(3)",null,"(4)","(5)","(6)","(7)","(8)","(9)","(10)","(11)"]
["Part-I; Classification of Railway Accidents"]
[650,1,"Train Collisions",0,{"$f":"IF(AND(OR(I9>0,M9>0),D9=0),FALSE,\"\")","v":""},0,0,0,{"$f":"SUM(F9:H9)","v":0},0,0,0,{"$f":"SUM(J9:L9)","v":0}]
[651,2,"Train Derailments",0,{"$f":"IF(AND(OR(I10>0,M10>0),D10=0),FALSE,\"\")","v":""},0,0,0,{"$f":"SUM(F10:H10)","v":0},0,0,0,{"$f":"SUM(J10:L10)","v":0}]
[652,3,"Fall from train/Collision with people at tracks",49,"",0,0,0,0,45,4,0,49]
[653,4,"Explosion/Fire in Train",0,"",0,0,0,0,0,0,0,0]
[654,5,"Other Classifications",0,"",0,0,0,0,0,0,0,0]
[665,6,"Total (Classification) (sum of Sl. 1 to 5)",{"$f":"SUM(D9:D13)","v":49},"",{"$f":"SUM(F9:F13)","v":0},0,0,0,{"$f":"SUM(J9:J13)","v":45},{"$f":"SUM(K9:K13)","v":4},0,49]
[" PROFORMA–II VALUES [Sl.– 12.3 (Railway Accidents)]",null,null,{"$f":"'P-II'!D47","v":49},null,{"$f":"'P-II'!F47","v":0},{"$f":"'P-II'!G47","v":0},{"$f":"'P-II'!H47","v":0},{"$f":"'P-II'!I47","v":0},{"$f":"'P-II'!J47","v":45},{"$f":"'P-II'!K47","v":4},{"$f":"'P-II'!L47","v":0},{"$f":"'P-II'!M47","v":49}]
["VALIDATION  FOR PART-I WITH PROFORMA–II [Sl.– 12.3 (Railway Accidents)]",null,null,{"$f":"IF(D14='P-II'!D47,\"\",FALSE)","v":""},null,{"$f":"IF(F14='P-II'!F47,\"\",FALSE)","v":""},{"$f":"IF(G14='P-II'!G47,\"\",FALSE)","v":""},{"$f":"IF(H14='P-II'!H47,\"\",FALSE)","v":""},{"$f":"IF(I14='P-II'!I47,\"\",FALSE)","v":""},{"$f":"IF(J14='P-II'!J47,\"\",FALSE)","v":""},{"$f":"IF(K14='P-II'!K47,\"\",FALSE)","v":""},{"$f":"IF(L14='P-II'!L47,\"\",FALSE)","v":""},{"$f":"IF(M14='P-II'!M47,\"\",FALSE)","v":""}]
["Part-II; Causes of Railway Accidents"]
[675,7,"Fault of Driver",0,{"$f":"IF(AND(OR(I18>0,M18>0),D18=0),FALSE,\"\")","v":""},0,0,0,{"$f":"SUM(F18:H18)","v":0},0,0,0,{"$f":"SUM(J18:L18)","v":0}]
[676,8,"Sabotage by Extremist/Terrorist/others",0,{"$f":"IF(AND(OR(I19>0,M19>0),D19=0),FALSE,\"\")","v":""},0,0,0,{"$f":"SUM(F19:H19)","v":0},0,0,0,{"$f":"SUM(J19:L19)","v":0}]
[677,9,"Signalmen's  Error",0,"",0,0,0,0,0,0,0,0]
[678,10,"Mechanical Failures (like poor design, track faults, bridge/tunnel collapse, etc.)",1,"",0,0,0,0,0,1,0,1]
[679,11,"Other Causes",48,"",0,0,0,{"$f":"SUM(F22:H22)","v":0},45,3,0,{"$f":"SUM(J22:L22)","v":48}]
[690,12,"Total (Causes) (sum of Sl. 7 to 11)",{"$f":"SUM(D18:D22)","v":49},"",{"$f":"SUM(F18:F22)","v":0},0,0,0,45,4,0,49]
["VALIDATION  WITHIN PROFORMA–XII PART–I & PART–II",null,null,{"$f":"IF(D23=D14,\"\",FALSE)","v":""},null,{"$f":"IF(F23=F14,\"\",FALSE)","v":""},"","","","","","",""]
[" PROFORMA–II VALUES [Sl.– 12.3 (Railway Accidents)]",null,null,{"$f":"'P-II'!D47","v":49},null,{"$f":"'P-II'!F47","v":0},{"$f":"'P-II'!G47","v":0},{"$f":"'P-II'!H47","v":0},{"$f":"'P-II'!I47","v":0},{"$f":"'P-II'!J47","v":45},{"$f":"'P-II'!K47","v":4},{"$f":"'P-II'!L47","v":0},{"$f":"'P-II'!M47","v":49}]
["VALIDATION  FOR PART–II WITH PROFORMA–II [Sl.– 12.3 (Railway Accidents)]",null,null,{"$f":"IF(D23='P-II'!D47,\"\",FALSE)","v":""},null,{"$f":"IF(F23='P-II'!F47,\"\",FALSE)","v":""},{"$f":"IF(G23='P-II'!G47,\"\",FALSE)","v":""},{"$f":"IF(H23='P-II'!H47,\"\",FALSE)","v":""},{"$f":"IF(I23='P-II'!I47,\"\",FALSE)","v":""},{"$f":"IF(J23='P-II'!J47,\"\",FALSE)","v":""},{"$f":"IF(K23='P-II'!K47,\"\",FALSE)","v":""},{"$f":"IF(L23='P-II'!L47,\"\",FALSE)","v":""},{"$f":"IF(M23='P-II'!M47,\"\",FALSE)","v":""}]
["SL-1 ABNORMAL VARIATION IN \"TRAIN COLLISIONS\" DATA",null,null,{"$f":"IF(D9>0,IF((M9>D9),\"\",\"ABVAR\"),\"\")","v":""},null,null,null,null,{"$f":"IF(I9>0,IF((I9>D9),\"\",\"ABVAR\"),\"\")","v":""},null,null,null,{"$f":"IF(M9>0,IF((M9>D9),\"\",\"ABVAR\"),\"\")","v":""}]
["SL-2 ABNORMAL VARIATION IN \"TRAIN DERAILMENTS\" DATA",null,null,{"$f":"IF(D10>0,IF((M10>D10),\"\",\"ABVAR\"),\"\")","v":""},null,null,null,null,{"$f":"IF(I10>0,IF((I10>D10),\"\",\"ABVAR\"),\"\")","v":""},null,null,null,{"$f":"IF(M10>0,IF((M10>D10),\"\",\"ABVAR\"),\"\")","v":""}]
["SL-5 ABNORMAL VARIATION IN \"OTHER CLASSIFICATIONS\" DATA",null,null,{"$f":"IF(D14>0,IF((D13/D14*100)>20,\"ABVAR\",\"\"),\"\")","v":""},null,{"$f":"IF(F14>0,IF((F13/F14*100)>20,\"ABVAR\",\"\"),\"\")","v":""},"","","","","","",""]
["SL-11 ABNORMAL VARIATION IN \"OTHER CAUSES\" DATA",null,null,{"$f":"IF(D23>0,IF((D22/D23*100)>20,\"ABVAR\",\"\"),\"\")","v":"ABVAR"},null,{"$f":"IF(F23>0,IF((F22/F23*100)>20,\"ABVAR\",\"\"),\"\")","v":""},"","","","ABVAR","ABVAR","","ABVAR"]
[]
[]
[]
[]
[]
[]
[]
[]
[]
[]
[]
[]
[]
[]
[]
[]
[]
[]
[]
[]
[]
[]
[]
[]
[]
[]
[]
[]
[]
[]
[]
[]
[]
[]
[]
[]
[]
[]
[]
[]
[]
[]
[]
[]
[]
[]
[]
[]
[]
[]
[]
[]
[]
[]
[]
[]
[]
[]
[]
[]
[]
[]
[]
[]
[]
[]
[]
[]
[]
[]
[]
[]
[]
[]
[]
[]
[]
[]
[]
[]
[]
[]
[]
[]
[]
[]
[]
[]
[]
[]
[]
[]
[]
[]
[]
[]
[]
[]
[]
[]
[]
[]
[]
[]
[]
[]
[]
[]
[]
[]
[]
[]
[]
[]
[]
[]
[]
[]
[]
[]
[]
[]
[]
[]
[]
[]
[]
[]
[]
[]
[]
[]
[]
[]
[]
[]
[]
[]
[]
[]
[]
[]
[]
[]
[]
[]
[]
[]
[]
[]
[]
[]
[]
[]
[]
[]
[]
[]
[]
[]
[]
[]
[]
[]
[]
[]
[]
[]
[]
[null,null,null,null,null,null,null,null,null,null,null,null,null,null,null,null,null,null,null,null,null,null,null,null,null,null,null,null,null,null,null,null,null,null,null,null,null,null,null,null,null,null,null,null,null,null,null,null,null,null,null,null,{"$f":"A1","v":"Goa, , ADSI-2021"}]
[null,null,null,null,null,null,null,null,null,null,null,null,null,null,null,null,null,null,null,null,null,null,null,null,null,null,null,null,null,null,null,null,null,null,null,null,null,null,null,null,null,null,null,null,null,null,null,null,null,null,null,null,{"$f":"A2","v":"Errors"},{"$f":"C2","v":0},null,{"$f":"E2","v":"Abnormal Variations"},{"$f":"F2","v":4}]
[null,null,null,null,null,null,null,null,null,null,null,null,null,null,null,null,null,null,null,null,null,null,null,null,null,null,null,null,null,null,null,null,null,null,null,null,null,null,null,null,null,null,null,null,null,null,null,null,null,null,null,null,{"$f":"A3","v":"Proforma–XII"}]
[null,null,null,null,null,null,null,null,null,null,null,null,null,null,null,null,null,null,null,null,null,null,null,null,null,null,null,null,null,null,null,null,null,null,null,null,null,null,null,null,null,null,null,null,null,null,null,null,null,null,null,null,{"$f":"A4","v":"Classification of Railway Accidents and Causes of Railway Accidents"}]
[null,null,null,null,null,null,null,null,null,null,null,null,null,null,null,null,null,null,null,null,null,null,null,null,null,null,null,null,null,null,null,null,null,null,null,null,null,null,null,null,null,null,null,null,null,null,null,null,null,null,null,null,{"$f":"B5","v":"Sl. No."},{"$f":"C5","v":"Classification/Causes"},{"$f":"D5","v":"No. of Cases"},{"$f":"E5","v":"VALIDATION WITH NUMBER OF CASES"},{"$f":"F5","v":"No. of Persons Injured"},null,null,null,{"$f":"J5","v":"No. of Persons Died"}]
[null,null,null,null,null,null,null,null,null,null,null,null,null,null,null,null,null,null,null,null,null,null,null,null,null,null,null,null,null,null,null,null,null,null,null,null,null,null,null,null,null,null,null,null,null,null,null,null,null,null,null,null,null,null,null,null,{"$f":"F6","v":"Male"},"Female","Transgender"," Total\n[sum of (4) to (6)]",{"$f":"J6","v":" Male"},{"$f":"K6","v":" Female"},"Transgender","Total\n[sum of (8) to (10)]"]
[null,null,null,null,null,null,null,null,null,null,null,null,null,null,null,null,null,null,null,null,null,null,null,null,null,null,null,null,null,null,null,null,null,null,null,null,null,null,null,null,null,null,null,null,null,null,null,null,null,null,null,null,{"$f":"B7","v":"(1)"},{"$f":"C7","v":"(2)"},{"$f":"D7","v":"(3)"},null,"(4)","(5)","(6)","(7)",{"$f":"J7","v":"(8)"},"(9)","(10)","(11)"]
[null,null,null,null,null,null,null,null,null,null,null,null,null,null,null,null,null,null,null,null,null,null,null,null,null,null,null,null,null,null,null,null,null,null,null,null,null,null,null,null,null,null,null,null,null,null,null,null,null,null,null,null,{"$f":"A8","v":"Part-I; Classification of Railway Accidents"}]
[null,null,null,null,null,null,null,null,null,null,null,null,null,null,null,null,null,null,null,null,null,null,null,null,null,null,null,null,null,null,null,null,null,null,null,null,null,null,null,null,null,null,null,null,null,null,null,null,null,null,null,null,{"$f":"B9","v":1},"Train Collisions",0,"",0,0,0,0,0,0,0,0]
[null,null,null,null,null,null,null,null,null,null,null,null,null,null,null,null,null,null,null,null,null,null,null,null,null,null,null,null,null,null,null,null,null,null,null,null,null,null,null,null,null,null,null,null,null,null,null,null,null,null,null,null,2,"Train Derailments",0,"",0,0,0,0,0,0,0,0]
[null,null,null,null,null,null,null,null,null,null,null,null,null,null,null,null,null,null,null,null,null,null,null,null,null,null,null,null,null,null,null,null,null,null,null,null,null,null,null,null,null,null,null,null,null,null,null,null,null,null,null,null,3,"Fall from train/Collision with people at tracks",49,"",0,0,0,0,45,4,0,49]
[null,null,null,null,null,null,null,null,null,null,null,null,null,null,null,null,null,null,null,null,null,null,null,null,null,null,null,null,null,null,null,null,null,null,null,null,null,null,null,null,null,null,null,null,null,null,null,null,null,null,null,null,4,"Explosion/Fire in Train",0,"",0,0,0,0,0,0,0,0]
[null,null,null,null,null,null,null,null,null,null,null,null,null,null,null,null,null,null,null,null,null,null,null,null,null,null,null,null,null,null,null,null,null,null,null,null,null,null,null,null,null,null,null,null,null,null,null,null,null,null,null,null,5,"Other Classifications",0,"",0,0,0,0,0,0,0,0]
[null,null,null,null,null,null,null,null,null,null,null,null,null,null,null,null,null,null,null,null,null,null,null,null,null,null,null,null,null,null,null,null,null,null,null,null,null,null,null,null,null,null,null,null,null,null,null,null,null,null,null,null,6,"Total (Classification) (sum of Sl. 1 to 5)",49,"",0,0,0,0,45,4,0,49]
[null,null,null,null,null,null,null,null,null,null,null,null,null,null,null,null,null,null,null,null,null,null,null,null,null,null,null,null,null,null,null,null,null,null,null,null,null,null,null,null,null,null,null,null,null,null,null,null,null,null,null,null,{"$f":"A15","v":" PROFORMA–II VALUES [Sl.– 12.3 (Railway Accidents)]"},null,{"$f":"D15","v":49},null,{"$f":"F15","v":0},0,0,0,45,4,0,49]
[null,null,null,null,null,null,null,null,null,null,null,null,null,null,null,null,null,null,null,null,null,null,null,null,null,null,null,null,null,null,null,null,null,null,null,null,null,null,null,null,null,null,null,null,null,null,null,null,null,null,null,null,{"$f":"A16","v":"VALIDATION  FOR PART-I WITH PROFORMA–II [Sl.– 12.3 (Railway Accidents)]"},null,{"$f":"D16","v":""},null,"","","","","","","",""]
[null,null,null,null,null,null,null,null,null,null,null,null,null,null,null,null,null,null,null,null,null,null,null,null,null,null,null,null,null,null,null,null,null,null,null,null,null,null,null,null,null,null,null,null,null,null,null,null,null,null,null,null,{"$f":"A17","v":"Part-II; Causes of Railway Accidents"}]
[null,null,null,null,null,null,null,null,null,null,null,null,null,null,null,null,null,null,null,null,null,null,null,null,null,null,null,null,null,null,null,null,null,null,null,null,null,null,null,null,null,null,null,null,null,null,null,null,null,null,null,null,{"$f":"B18","v":7},"Fault of Driver",0,"",0,0,0,0,0,0,0,0]
[null,null,null,null,null,null,null,null,null,null,null,null,null,null,null,null,null,null,null,null,null,null,null,null,null,null,null,null,null,null,null,null,null,null,null,null,null,null,null,null,null,null,null,null,null,null,null,null,null,null,null,null,8,"Sabotage by Extremist/Terrorist/others",0,"",0,0,0,0,0,0,0,0]
[null,null,null,null,null,null,null,null,null,null,null,null,null,null,null,null,null,null,null,null,null,null,null,null,null,null,null,null,null,null,null,null,null,null,null,null,null,null,null,null,null,null,null,null,null,null,null,null,null,null,null,null,9,"Signalmen's  Error",0,"",0,0,0,0,0,0,0,0]
[null,null,null,null,null,null,null,null,null,null,null,null,null,null,null,null,null,null,null,null,null,null,null,null,null,null,null,null,null,null,null,null,null,null,null,null,null,null,null,null,null,null,null,null,null,null,null,null,null,null,null,null,10,"Mechanical Failures (like poor design, track faults, bridge/tunnel collapse, etc.)",1,"",0,0,0,0,0,1,0,1]
[null,null,null,null,null,null,null,null,null,null,null,null,null,null,null,null,null,null,null,null,null,null,null,null,null,null,null,null,null,null,null,null,null,null,null,null,null,null,null,null,null,null,null,null,null,null,null,null,null,null,null,null,11,"Other Causes",48,"",0,0,0,0,45,3,0,48]
[null,null,null,null,null,null,null,null,null,null,null,null,null,null,null,null,null,null,null,null,null,null,null,null,null,null,null,null,null,null,null,null,null,null,null,null,null,null,null,null,null,null,null,null,null,null,null,null,null,null,null,null,12,"Total (Causes) (sum of Sl. 7 to 11)",49,"",0,0,0,0,45,4,0,49]
[null,null,null,null,null,null,null,null,null,null,null,null,null,null,null,null,null,null,null,null,null,null,null,null,null,null,null,null,null,null,null,null,null,null,null,null,null,null,null,null,null,null,null,null,null,null,null,null,null,null,null,null,{"$f":"A24","v":"VALIDATION  WITHIN PROFORMA–XII PART–I & PART–II"},null,{"$f":"D24","v":""},null,{"$f":"F24","v":""},"","","","","","",""]
[null,null,null,null,null,null,null,null,null,null,null,null,null,null,null,null,null,null,null,null,null,null,null,null,null,null,null,null,null,null,null,null,null,null,null,null,null,null,null,null,null,null,null,null,null,null,null,null,null,null,null,null," PROFORMA–II VALUES [Sl.– 12.3 (Railway Accidents)]",null,49,null,0,0,0,0,45,4,0,49]
[null,null,null,null,null,null,null,null,null,null,null,null,null,null,null,null,null,null,null,null,null,null,null,null,null,null,null,null,null,null,null,null,null,null,null,null,null,null,null,null,null,null,null,null,null,null,null,null,null,null,null,null,"VALIDATION  FOR PART–II WITH PROFORMA–II [Sl.– 12.3 (Railway Accidents)]",null,"",null,"","","","","","","",""]
[null,null,null,null,null,null,null,null,null,null,null,null,null,null,null,null,null,null,null,null,null,null,null,null,null,null,null,null,null,null,null,null,null,null,null,null,null,null,null,null,null,null,null,null,null,null,null,null,null,null,null,null,"SL-1 ABNORMAL VARIATION IN \"TRAIN COLLISIONS\" DATA",null,"",null,null,null,null,"",null,null,null,""]
[null,null,null,null,null,null,null,null,null,null,null,null,null,null,null,null,null,null,null,null,null,null,null,null,null,null,null,null,null,null,null,null,null,null,null,null,null,null,null,null,null,null,null,null,null,null,null,null,null,null,null,null,"SL-2 ABNORMAL VARIATION IN \"TRAIN DERAILMENTS\" DATA",null,"",null,null,null,null,{"$f":"I28","v":""},null,null,null,{"$f":"M28","v":""}]
[null,null,null,null,null,null,null,null,null,null,null,null,null,null,null,null,null,null,null,null,null,null,null,null,null,null,null,null,null,null,null,null,null,null,null,null,null,null,null,null,null,null,null,null,null,null,null,null,null,null,null,null,"SL-5 ABNORMAL VARIATION IN \"OTHER CLASSIFICATIONS\" DATA",null,"",null,{"$f":"F29","v":""},"","","","","","",""]
[null,null,null,null,null,null,null,null,null,null,null,null,null,null,null,null,null,null,null,null,null,null,null,null,null,null,null,null,null,null,null,null,null,null,null,null,null,null,null,null,null,null,null,null,null,null,null,null,null,null,null,null,"SL-11 ABNORMAL VARIATION IN \"OTHER CAUSES\" DATA",null,"ABVAR",null,"","","","","ABVAR","ABVAR","","ABVAR"]
[]
[]
[]
[]
[]
[]
[]
[]
[]
[]
[]
[]
[]
[]
[]
[]
[]
[]
[]
[]
[]
[]
[]
[]
[]
[]
[]
[]
[]
[]
[]
[]
[]
[]
[]
[]
[]
[]
[]
[]
[]
[]
[]
[]
[]
[]
[]
[]
[]
[]
[]
[]
[]
[]
[]
[]
[]
[]
[]
[]
[]
[]
[]
[]
[]
[]
[]
[]
[]
[]
[]
[]
[]
[]
[]
[]
[]
[]
[]
[]
[]
[]
[]
[]
[]
[]
[]
[]
[]
[]
[]
[]
[]
[]
[]
[]
[]
[]
[]
[]
[]
[]
[]
[]
[]
[]
[]
[]
[]
[]
[]
[]
[]
[]
[]
[]
[]
[]
[]
[]
[]
[]
[]
[]
[]
[]
[]
[]
[]
[]
[]
[]
[]
[]
[]
[]
[]
[]
[]
[]
[]
[]
[]
[]
[]
[]
[]
[]
[]
[]
[]
[]
[]
[]
[]
[]
[]
[]
[]
[]
[]
[]
[]
[]
[]
[]
[]
[]
[]
[]
[]
[]
[]
[]
[]
[]
[]
[]
[]
[]
[]
[]
[]
[]
[]
[]
[]
[]
[]
[]
[]
[]
[]
[]
[]
[]
[]
[]
[]
[]
[]
[]
[]
[]
[]
[]
[]
[]
[]
[]
[]
[]
[]
[]
[]
[]
[]
[]
[]
[]
[]
[]
[]
[]
[]
[]
[]
[]
[]
[]
[]
[]
[]
[]
[]
[]
[]
[]
[]
[]
[]
[]
[]
[]
[]
[]
[]
[]
[]
[]
[]
[]
[]
[]
[]
[]
[]
[]
[]
[]
[]
[]
[]
[]
[]
[]
[]
[]
[]
[]
["StateUTCityCode","DistrictCode","CrimeCode","DataYear","Number of Cases","Injured_Male","Injured_Female","Injured_Trans","Injured_Total","Died_Male","Died_Female","Died_Trans","Died_Total"]
[{"$f":"IF(ADSI!$G$12=\"\",ADSI!$H$16,ADSI!$H$12)","v":6},{"$f":"IF(ADSI!$G$12=\"\",ADSI!$H$16,ADSI!$H$14)","v":""},{"$f":"A9","v":650},{"$f":"ADSI!$K$12","v":2021},{"$f":"D9","v":0},{"$f":"F9","v":0},{"$f":"G9","v":0},0,0,0,0,0,0]
[{"$f":"IF(ADSI!$G$12=\"\",ADSI!$H$16,ADSI!$H$12)","v":6},{"$f":"IF(ADSI!$G$12=\"\",ADSI!$H$16,ADSI!$H$14)","v":""},{"$f":"A10","v":651},{"$f":"ADSI!$K$12","v":2021},{"$f":"D10","v":0},{"$f":"F10","v":0},0,0,0,0,0,0,0]
[{"$f":"IF(ADSI!$G$12=\"\",ADSI!$H$16,ADSI!$H$12)","v":6},{"$f":"IF(ADSI!$G$12=\"\",ADSI!$H$16,ADSI!$H$14)","v":""},652,{"$f":"ADSI!$K$12","v":2021},49,{"$f":"F11","v":0},0,0,0,45,4,0,49]
[{"$f":"IF(ADSI!$G$12=\"\",ADSI!$H$16,ADSI!$H$12)","v":6},{"$f":"IF(ADSI!$G$12=\"\",ADSI!$H$16,ADSI!$H$14)","v":""},653,{"$f":"ADSI!$K$12","v":2021},0,{"$f":"F12","v":0},0,0,0,0,0,0,0]
[{"$f":"IF(ADSI!$G$12=\"\",ADSI!$H$16,ADSI!$H$12)","v":6},{"$f":"IF(ADSI!$G$12=\"\",ADSI!$H$16,ADSI!$H$14)","v":""},654,{"$f":"ADSI!$K$12","v":2021},0,{"$f":"F13","v":0},0,0,0,0,0,0,0]
[{"$f":"IF(ADSI!$G$12=\"\",ADSI!$H$16,ADSI!$H$12)","v":6},{"$f":"IF(ADSI!$G$12=\"\",ADSI!$H$16,ADSI!$H$14)","v":""},665,{"$f":"ADSI!$K$12","v":2021},49,{"$f":"F14","v":0},0,0,0,45,4,0,49]
[{"$f":"IF(ADSI!$G$12=\"\",ADSI!$H$16,ADSI!$H$12)","v":6},{"$f":"IF(ADSI!$G$12=\"\",ADSI!$H$16,ADSI!$H$14)","v":""},{"$f":"A18","v":675},{"$f":"ADSI!$K$12","v":2021},{"$f":"D18","v":0},{"$f":"F18","v":0},{"$f":"G18","v":0},0,0,0,0,0,0]
[{"$f":"IF(ADSI!$G$12=\"\",ADSI!$H$16,ADSI!$H$12)","v":6},{"$f":"IF(ADSI!$G$12=\"\",ADSI!$H$16,ADSI!$H$14)","v":""},{"$f":"A19","v":676},{"$f":"ADSI!$K$12","v":2021},{"$f":"D19","v":0},{"$f":"F19","v":0},0,0,0,0,0,0,0]
[{"$f":"IF(ADSI!$G$12=\"\",ADSI!$H$16,ADSI!$H$12)","v":6},{"$f":"IF(ADSI!$G$12=\"\",ADSI!$H$16,ADSI!$H$14)","v":""},677,{"$f":"ADSI!$K$12","v":2021},0,{"$f":"F20","v":0},0,0,0,0,0,0,0]
[{"$f":"IF(ADSI!$G$12=\"\",ADSI!$H$16,ADSI!$H$12)","v":6},{"$f":"IF(ADSI!$G$12=\"\",ADSI!$H$16,ADSI!$H$14)","v":""},678,{"$f":"ADSI!$K$12","v":2021},1,{"$f":"F21","v":0},0,0,0,0,1,0,1]
[{"$f":"IF(ADSI!$G$12=\"\",ADSI!$H$16,ADSI!$H$12)","v":6},{"$f":"IF(ADSI!$G$12=\"\",ADSI!$H$16,ADSI!$H$14)","v":""},679,{"$f":"ADSI!$K$12","v":2021},48,{"$f":"F22","v":0},0,0,0,45,3,0,48]
[{"$f":"IF(ADSI!$G$12=\"\",ADSI!$H$16,ADSI!$H$12)","v":6},{"$f":"IF(ADSI!$G$12=\"\",ADSI!$H$16,ADSI!$H$14)","v":""},690,{"$f":"ADSI!$K$12","v":2021},49,{"$f":"F23","v":0},0,0,0,45,4,0,49]

{"sheet":"P-XIII","index":15,"n_rows":507,"n_cols":70,"rows_kept":507,"cut":false,"hidden":false,"merged":[[5,8,5,12],[4,18,6,18],[4,1,6,1],[4,2,6,2],[5,3,5,7],[4,3,4,17],[5,13,5,17],[15,0,15,2],[204,54,204,58],[203,52,205,52],[203,53,205,53],[203,54,203,68],[16,0,16,2],[18,3,18,13],[17,0,17,2],[214,52,214,53],[215,52,215,53],[216,52,216,53],[217,52,217,69],[203,69,205,69],[204,64,204,68],[204,59,204,63]]}
[{"$f":"ADSI!$B$1","v":"Goa, , ADSI-2021"}]
["Errors",null,{"$f":"COUNTIF(D17:S17,FALSE)","v":0},null,"Abnormal Variations",{"$f":"COUNTIF(D18:S18,\"ABVAR\")","v":0}]
["Proforma–XIII"]
["Details on Deaths of Central Armed Police Force (CAPF) Personnel"]
["Code","Sl. No.","Causes","Number of Accidental Deaths",null,null,null,null,null,null,null,null,null,null,null,null,null,null,"Grand Total [col. (7)+(12)+(17)]"]
[null,null,null,"Male",null,null,null,null,"Female",null,null,null,null,"Transgender"]
[null,null,null,"18 and above – below 30 years","30 and above – below 45 years","45 and above – below 60 years","60 years & above"," Total [(sum of (3) to (6)]","18 and above – below 30 years","30 and above – below 45 years","45 and above – below 60 years","60 years & above","Total [sum of (8) to (11)]","18 and above – below 30 years","30 and above – below 45 years","45 and above – below 60 years","60 years & above","Total [sum of (13) to (16)]"]
[null,"(1)","(2)","(3)","(4)","(5)","(6)","(7)","(8)","(9)","(10)","(11)","(12)","(13)","(14)","(15)","(16)","(17)","(18)"]
[700,1,"Fratricide",0,0,0,0,{"$f":"SUM(D9:G9)","v":0},0,0,0,0,{"$f":"SUM(I9:L9)","v":0},0,0,0,0,{"$f":"SUM(N9:Q9)","v":0},{"$f":"SUM(H9+M9+R9)","v":0}]
[701,1,"Deaths due to Road/Railway Accidents",0,0,0,0,{"$f":"SUM(D10:G10)","v":0},0,0,0,0,{"$f":"SUM(I10:L10)","v":0},0,0,0,0,{"$f":"SUM(N10:Q10)","v":0},{"$f":"SUM(H10+M10+R10)","v":0}]
[702,2,"Deaths due to Natural Calamities",0,0,0,0,0,0,0,0,0,0,0,0,0,0,0,0]
[703,3,"Deaths Due to Unnatural Causes (Except Road/Railway Accidents)",0,0,0,0,0,0,0,0,0,0,0,0,0,0,0,0]
[704,4,"Killed in Action/Operation/ Encounters/etc.",0,0,0,0,0,0,0,0,0,0,0,0,0,0,0,0]
[705,5,"Other/Unknown Causes",0,0,0,0,0,0,0,0,0,0,0,0,0,0,0,0]
[715,6,"Total (sum of Sl. 1 to 6)",{"$f":"SUM(D9:D14)","v":0},{"$f":"SUM(E9:E14)","v":0},0,0,{"$f":"SUM(H9:H14)","v":0},{"$f":"SUM(I9:I14)","v":0},{"$f":"SUM(J9:J14)","v":0},{"$f":"SUM(K9:K14)","v":0},{"$f":"SUM(L9:L14)","v":0},{"$f":"SUM(M9:M14)","v":0},{"$f":"SUM(N9:N14)","v":0},{"$f":"SUM(O9:O14)","v":0},{"$f":"SUM(P9:P14)","v":0},{"$f":"SUM(Q9:Q14)","v":0},{"$f":"SUM(R9:R14)","v":0},0]
["PROFORMA–III VALUES [Sl.– 16  (Total)]",null,null,{"$f":"'P-III'!F52","v":152},{"$f":"'P-III'!G52","v":155},{"$f":"'P-III'!H52","v":103},{"$f":"'P-III'!I52","v":70},{"$f":"'P-III'!J52","v":489},{"$f":"'P-III'!O52","v":14},{"$f":"'P-III'!P52","v":18},{"$f":"'P-III'!Q52","v":15},{"$f":"'P-III'!R52","v":22},{"$f":"'P-III'!S52","v":73},{"$f":"'P-III'!X52","v":0},{"$f":"'P-III'!Y52","v":0},{"$f":"'P-III'!Z52","v":0},{"$f":"'P-III'!AA52","v":0},{"$f":"'P-III'!AB52","v":0},{"$f":"'P-III'!AE52","v":562}]
["VALIDATION  WITH PROFORMA–III [Sl.– 16 (Total)]",null,null,{"$f":"IF(D15<='P-III'!F52,\"\",FALSE)","v":""},{"$f":"IF(E15<='P-III'!G52,\"\",FALSE)","v":""},{"$f":"IF(F15<='P-III'!H52,\"\",FALSE)","v":""},{"$f":"IF(G15<='P-III'!I52,\"\",FALSE)","v":""},{"$f":"IF(H15<='P-III'!J52,\"\",FALSE)","v":""},{"$f":"IF(I15<='P-III'!O52,\"\",FALSE)","v":""},{"$f":"IF(J15<='P-III'!P52,\"\",FALSE)","v":""},{"$f":"IF(K15<='P-III'!Q52,\"\",FALSE)","v":""},{"$f":"IF(L15<='P-III'!R52,\"\",FALSE)","v":""},{"$f":"IF(M15<='P-III'!S52,\"\",FALSE)","v":""},{"$f":"IF(N15<='P-III'!X52,\"\",FALSE)","v":""},{"$f":"IF(O15<='P-III'!Y52,\"\",FALSE)","v":""},{"$f":"IF(P15<='P-III'!Z52,\"\",FALSE)","v":""},{"$f":"IF(Q15<='P-III'!AA52,\"\",FALSE)","v":""},{"$f":"IF(R15<='P-III'!AB52,\"\",FALSE)","v":""},{"$f":"IF(S15<='P-III'!AE52,\"\",FALSE)","v":""}]
["SL-6 ABNORMAL VARIATION IN \"OTHER/UNKNOWN CAUSES\" DATA",null,null,{"$f":"IF(D15>0,IF((D14/D15*100)>10,\"ABVAR\",\"\"),\"\")","v":""},{"$f":"IF(E15>0,IF((E14/E15*100)>10,\"ABVAR\",\"\"),\"\")","v":""},"","","","","","","","","","","","","","",""]
[null,null,null,"Central Armed Police Force (CAPF) includes Assam Rifles (AR), Border Security Force (BSF), Central Industrial Security Force (CISF), Central Reserve Police Force (CRPF), Indo Tibetan Border Police (ITBP), National Security Guard (NSG) and Sashastra Seema Bal (SSB)"]
[]
[]
[]
[]
[]
[]
[]
[]
[]
[]
[]
[]
[]
[]
[]
[]
[]
[]
[]
[]
[]
[]
[]
[]
[]
[]
[]
[]
[]
[]
[]
[]
[]
[]
[]
[]
[]
[]
[]
[]
[]
[]
[]
[]
[]
[]
[]
[]
[]
[]
[]
[]
[]
[]
[]
[]
[]
[]
[]
[]
[]
[]
[]
[]
[]
[]
[]
[]
[]
[]
[]
[]
[]
[]
[]
[]
[]
[]
[]
[]
[]
[]
[]
[]
[]
[]
[]
[]
[]
[]
[]
[]
[]
[]
[]
[]
[]
[]
[]
[]
[]
[]
[]
[]
[]
[]
[]
[]
[]
[]
[]
[]
[]
[]
[]
[]
[]
[]
[]
[]
[]
[]
[]
[]
[]
[]
[]
[]
[]
[]
[]
[]
[]
[]
[]
[]
[]
[]
[]
[]
[]
[]
[]
[]
[]
[]
[]
[]
[]
[]
[]
[]
[]
[]
[]
[]
[]
[]
[]
[]
[]
[]
[]
[]
[]
[]
[]
[]
[]
[]
[]
[]
[]
[]
[]
[]
[]
[]
[]
[]
[null,null,null,null,null,null,null,null,null,null,null,null,null,null,null,null,null,null,null,null,null,null,null,null,null,null,null,null,null,null,null,null,null,null,null,null,null,null,null,null,null,null,null,null,null,null,null,null,null,null,null,null,{"$f":"A1","v":"Goa, , ADSI-2021"}]
[null,null,null,null,null,null,null,null,null,null,null,null,null,null,null,null,null,null,null,null,null,null,null,null,null,null,null,null,null,null,null,null,null,null,null,null,null,null,null,null,null,null,null,null,null,null,null,null,null,null,null,null,{"$f":"A2","v":"Errors"},{"$f":"C2","v":0},null,{"$f":"E2","v":"Abnormal Variations"},{"$f":"F2","v":0}]
[null,null,null,null,null,null,null,null,null,null,null,null,null,null,null,null,null,null,null,null,null,null,null,null,null,null,null,null,null,null,null,null,null,null,null,null,null,null,null,null,null,null,null,null,null,null,null,null,null,null,null,null,{"$f":"A3","v":"Proforma–XIII"}]
[null,null,null,null,null,null,null,null,null,null,null,null,null,null,null,null,null,null,null,null,null,null,null,null,null,null,null,null,null,null,null,null,null,null,null,null,null,null,null,null,null,null,null,null,null,null,null,null,null,null,null,null,{"$f":"A4","v":"Details on Deaths of Central Armed Police Force (CAPF) Personnel"}]
[null,null,null,null,null,null,null,null,null,null,null,null,null,null,null,null,null,null,null,null,null,null,null,null,null,null,null,null,null,null,null,null,null,null,null,null,null,null,null,null,null,null,null,null,null,null,null,null,null,null,null,null,{"$f":"B5","v":"Sl. No."},{"$f":"C5","v":"Causes"},{"$f":"D5","v":"Number of Accidental Deaths"},null,null,null,null,null,null,null,null,null,null,null,null,null,null,{"$f":"S5","v":"Grand Total [col. (7)+(12)+(17)]"}]
[null,null,null,null,null,null,null,null,null,null,null,null,null,null,null,null,null,null,null,null,null,null,null,null,null,null,null,null,null,null,null,null,null,null,null,null,null,null,null,null,null,null,null,null,null,null,null,null,null,null,null,null,null,null,{"$f":"D6","v":"Male"},null,null,null,null,{"$f":"I6","v":"Female"},null,null,null,null,{"$f":"N6","v":"Transgender"}]
[null,null,null,null,null,null,null,null,null,null,null,null,null,null,null,null,null,null,null,null,null,null,null,null,null,null,null,null,null,null,null,null,null,null,null,null,null,null,null,null,null,null,null,null,null,null,null,null,null,null,null,null,null,null,"18 and above – below 30 years",{"$f":"E7","v":"30 and above – below 45 years"},"45 and above – below 60 years","60 years & above"," Total [(sum of (3) to (6)]","18 and above – below 30 years",{"$f":"J7","v":"30 and above – below 45 years"},"45 and above – below 60 years","60 years & above","Total [sum of (8) to (11)]","18 and above – below 30 years",{"$f":"O7","v":"30 and above – below 45 years"},"45 and above – below 60 years","60 years & above","Total [sum of (13) to (16)]"]
[null,null,null,null,null,null,null,null,null,null,null,null,null,null,null,null,null,null,null,null,null,null,null,null,null,null,null,null,null,null,null,null,null,null,null,null,null,null,null,null,null,null,null,null,null,null,null,null,null,null,null,null,{"$f":"B8","v":"(1)"},"(2)","(3)","(4)","(5)","(6)","(7)","(8)","(9)","(10)","(11)","(12)","(13)","(14)","(15)","(16)","(17)",{"$f":"S8","v":"(18)"}]
[null,null,null,null,null,null,null,null,null,null,null,null,null,null,null,null,null,null,null,null,null,null,null,null,null,null,null,null,null,null,null,null,null,null,null,null,null,null,null,null,null,null,null,null,null,null,null,null,null,null,null,null,1,"Fratricide",0,0,0,0,0,0,0,0,0,0,0,0,0,0,0,{"$f":"S9","v":0}]
[null,null,null,null,null,null,null,null,null,null,null,null,null,null,null,null,null,null,null,null,null,null,null,null,null,null,null,null,null,null,null,null,null,null,null,null,null,null,null,null,null,null,null,null,null,null,null,null,null,null,null,null,1,"Deaths due to Road/Railway Accidents",0,0,0,0,0,0,0,0,0,0,0,0,0,0,0,{"$f":"S10","v":0}]
[null,null,null,null,null,null,null,null,null,null,null,null,null,null,null,null,null,null,null,null,null,null,null,null,null,null,null,null,null,null,null,null,null,null,null,null,null,null,null,null,null,null,null,null,null,null,null,null,null,null,null,null,2,"Deaths due to Natural Calamities",0,0,0,0,0,0,0,0,0,0,0,0,0,0,0,{"$f":"S11","v":0}]
[null,null,null,null,null,null,null,null,null,null,null,null,null,null,null,null,null,null,null,null,null,null,null,null,null,null,null,null,null,null,null,null,null,null,null,null,null,null,null,null,null,null,null,null,null,null,null,null,null,null,null,null,3,"Deaths Due to Unnatural Causes (Except Road/Railway Accidents)",0,0,0,0,0,0,0,0,0,0,0,0,0,0,0,{"$f":"S12","v":0}]
[null,null,null,null,null,null,null,null,null,null,null,null,null,null,null,null,null,null,null,null,null,null,null,null,null,null,null,null,null,null,null,null,null,null,null,null,null,null,null,null,null,null,null,null,null,null,null,null,null,null,null,null,{"$f":"B13","v":4},"Killed in Action/Operation/ Encounters/etc.",{"$f":"D13","v":0},{"$f":"E13","v":0},0,0,0,{"$f":"I13","v":0},{"$f":"J13","v":0},0,0,0,{"$f":"N13","v":0},{"$f":"O13","v":0},0,0,0,{"$f":"S13","v":0}]
[null,null,null,null,null,null,null,null,null,null,null,null,null,null,null,null,null,null,null,null,null,null,null,null,null,null,null,null,null,null,null,null,null,null,null,null,null,null,null,null,null,null,null,null,null,null,null,null,null,null,null,null,5,{"$f":"C14","v":"Other/Unknown Causes"},0,0,0,0,0,0,0,0,0,0,0,0,0,0,0,0]
[null,null,null,null,null,null,null,null,null,null,null,null,null,null,null,null,null,null,null,null,null,null,null,null,null,null,null,null,null,null,null,null,null,null,null,null,null,null,null,null,null,null,null,null,null,null,null,null,null,null,null,null,{"$f":"B15","v":6},{"$f":"C15","v":"Total (sum of Sl. 1 to 6)"},0,0,0,0,0,0,0,0,0,0,0,0,0,{"$f":"Q15","v":0},{"$f":"R15","v":0},{"$f":"S15","v":0}]
[null,null,null,null,null,null,null,null,null,null,null,null,null,null,null,null,null,null,null,null,null,null,null,null,null,null,null,null,null,null,null,null,null,null,null,null,null,null,null,null,null,null,null,null,null,null,null,null,null,null,null,null,{"$f":"A16","v":"PROFORMA–III VALUES [Sl.– 16  (Total)]"},null,{"$f":"D16","v":152},155,103,70,489,14,18,15,22,73,0,0,0,0,0,562]
[null,null,null,null,null,null,null,null,null,null,null,null,null,null,null,null,null,null,null,null,null,null,null,null,null,null,null,null,null,null,null,null,null,null,null,null,null,null,null,null,null,null,null,null,null,null,null,null,null,null,null,null,{"$f":"A17","v":"VALIDATION  WITH PROFORMA–III [Sl.– 16 (Total)]"},null,{"$f":"D17","v":""},"","","","","","","","","","","","","","",""]
[null,null,null,null,null,null,null,null,null,null,null,null,null,null,null,null,null,null,null,null,null,null,null,null,null,null,null,null,null,null,null,null,null,null,null,null,null,null,null,null,null,null,null,null,null,null,null,null,null,null,null,null,{"$f":"A18","v":"SL-6 ABNORMAL VARIATION IN \"OTHER/UNKNOWN CAUSES\" DATA"},null,{"$f":"D18","v":""},"","","","","","","","","","","","","","",""]
[null,null,null,null,null,null,null,null,null,null,null,null,null,null,null,null,null,null,null,null,null,null,null,null,null,null,null,null,null,null,null,null,null,null,null,null,null,null,null,null,null,null,null,null,null,null,null,null,null,null,null,null,{"$f":"D19","v":"Central Armed Police Force (CAPF) includes Assam Rifles (AR), Border Security Force (BSF), Central Industrial Security Force (CISF), Central Reserve Police Force (CRPF), Indo Tibetan Border Police (ITBP), National Security Guard (NSG) and Sashastra Seema Bal (SSB)"}]
[]
[]
[]
[]
[]
[]
[]
[]
[]
[]
[]
[]
[]
[]
[]
[]
[]
[]
[]
[]
[]
[]
[]
[]
[]
[]
[]
[]
[]
[]
[]
[]
[]
[]
[]
[]
[]
[]
[]
[]
[]
[]
[]
[]
[]
[]
[]
[]
[]
[]
[]
[]
[]
[]
[]
[]
[]
[]
[]
[]
[]
[]
[]
[]
[]
[]
[]
[]
[]
[]
[]
[]
[]
[]
[]
[]
[]
[]
[]
[]
[]
[]
[]
[]
[]
[]
[]
[]
[]
[]
[]
[]
[]
[]
[]
[]
[]
[]
[]
[]
[]
[]
[]
[]
[]
[]
[]
[]
[]
[]
[]
[]
[]
[]
[]
[]
[]
[]
[]
[]
[]
[]
[]
[]
[]
[]
[]
[]
[]
[]
[]
[]
[]
[]
[]
[]
[]
[]
[]
[]
[]
[]
[]
[]
[]
[]
[]
[]
[]
[]
[]
[]
[]
[]
[]
[]
[]
[]
[]
[]
[]
[]
[]
[]
[]
[]
[]
[]
[]
[]
[]
[]
[]
[]
[]
[]
[]
[]
[]
[]
[]
[]
[]
[]
[]
[]
[]
[]
[]
[]
[]
[]
[]
[]
[]
[]
[]
[]
[]
[]
[]
[]
[]
[]
[]
[]
[]
[]
[]
[]
[]
[]
[]
[]
[]
[]
[]
[]
[]
[]
[]
[]
[]
[]
[]
[]
[]
[]
[]
[]
[]
[]
[]
[]
[]
[]
[]
[]
[]
[]
[]
[]
[]
[]
[]
[]
[]
[]
[]
[]
[]
[]
[]
[]
[]
[]
[]
[]
[]
[]
[]
[]
[]
[]
[]
[]
[]
[]
[]
[]
[]
[]
[]
[]
[]
[]
[]
[]
[]
[]
[]
["StateUTCityCode","DistrictCode","CrimeCode","DataYear","Male_18 and above – below 30 years","Male_30 and above – below 45 years","Male_45 and above – below 60 years","Male_60 years & above","Male_Total","Female_18 and above – below 30 years","Female_30 and above – below 45 years","Female_45 and above – below 60 years","Female_60 years & above","Female_Total","Trans_18 and above – below 30 years","Trans_30 and above – below 45 years","Trans_45 and above – below 60 years","Trans_60 years & above","Trans_Total","Grand Total"]
[{"$f":"IF(ADSI!$G$12=\"\",ADSI!$H$16,ADSI!$H$12)","v":6},{"$f":"IF(ADSI!$G$12=\"\",ADSI!$H$16,ADSI!$H$14)","v":""},{"$f":"A9","v":700},{"$f":"ADSI!$K$12","v":2021},{"$f":"D9","v":0},0,0,0,0,0,0,0,0,0,0,0,0,0,0,0]
[{"$f":"IF(ADSI!$G$12=\"\",ADSI!$H$16,ADSI!$H$12)","v":6},{"$f":"IF(ADSI!$G$12=\"\",ADSI!$H$16,ADSI!$H$14)","v":""},701,{"$f":"ADSI!$K$12","v":2021},{"$f":"D10","v":0},0,0,0,0,0,0,0,0,0,0,0,0,0,0,0]
[{"$f":"IF(ADSI!$G$12=\"\",ADSI!$H$16,ADSI!$H$12)","v":6},{"$f":"IF(ADSI!$G$12=\"\",ADSI!$H$16,ADSI!$H$14)","v":""},702,{"$f":"ADSI!$K$12","v":2021},{"$f":"D11","v":0},0,0,0,0,0,0,0,0,0,0,0,0,0,0,0]
[{"$f":"IF(ADSI!$G$12=\"\",ADSI!$H$16,ADSI!$H$12)","v":6},{"$f":"IF(ADSI!$G$12=\"\",ADSI!$H$16,ADSI!$H$14)","v":""},703,{"$f":"ADSI!$K$12","v":2021},{"$f":"D12","v":0},0,0,0,0,0,0,0,0,0,0,0,0,0,0,0]
[{"$f":"IF(ADSI!$G$12=\"\",ADSI!$H$16,ADSI!$H$12)","v":6},{"$f":"IF(ADSI!$G$12=\"\",ADSI!$H$16,ADSI!$H$14)","v":""},704,{"$f":"ADSI!$K$12","v":2021},{"$f":"D13","v":0},0,0,0,0,0,0,0,0,0,0,0,0,0,0,0]
[{"$f":"IF(ADSI!$G$12=\"\",ADSI!$H$16,ADSI!$H$12)","v":6},{"$f":"IF(ADSI!$G$12=\"\",ADSI!$H$16,ADSI!$H$14)","v":""},705,{"$f":"ADSI!$K$12","v":2021},{"$f":"D14","v":0},0,0,0,0,0,0,0,0,0,0,0,0,0,0,0]
[{"$f":"IF(ADSI!$G$12=\"\",ADSI!$H$16,ADSI!$H$12)","v":6},{"$f":"IF(ADSI!$G$12=\"\",ADSI!$H$16,ADSI!$H$14)","v":""},715,{"$f":"ADSI!$K$12","v":2021},{"$f":"D15","v":0},0,0,0,0,0,0,0,0,0,0,0,0,0,0,0]

{"sheet":"P-XIV","index":16,"n_rows":531,"n_cols":76,"rows_kept":531,"cut":false,"hidden":false,"merged":[[4,17,4,23],[3,3,3,23],[3,0,5,0],[3,24,5,24],[4,3,4,9],[4,10,4,16],[3,1,5,1],[3,2,5,2],[38,0,38,2],[39,0,39,2],[40,0,40,2],[202,75,204,75],[203,61,203,67],[203,54,203,60],[202,52,204,52],[202,53,204,53],[202,54,202,67],[202,68,202,74],[203,68,203,74],[237,52,237,53],[238,52,238,53],[239,52,239,53],[240,52,240,53],[41,0,41,2]]}
[{"$f":"ADSI!$B$1","v":"Goa, , ADSI-2021"}]
["Proforma–XIV",null,null,null,"Abnormal Variations",{"$f":"COUNTIF(D39:Y42,\"ABVAR\")","v":15}]
["Distribution of Suicides by Causes"]
["Code","Sl. No.","Causes","Number of Suicidal Deaths",null,null,null,null,null,null,null,null,null,null,null,null,null,null,null,null,null,null,null,null,"Grand Total \n[col. (9)+(16)+(23)]"]
[null,null,null,"Male",null,null,null,null,null,null,"Female",null,null,null,null,null,null,"Transgender"]
[null,null,null,"below 14 years","14 and above – below 18 yrs","18 and above – below 30 years","30 and above – below 45 years","45 and above – below 60 years","60 years & above"," Total [sum of (3) to (8)]","below 14 years","14 and above – below 18 yrs","18 and above – below 30 years","30 and above – below 45 years","45 and above – below 60 years","60 years & above","Total [sum of (10) to (15)","below 14 years","14 and above – below 18 yrs","18 and above – below 30 years","30 and above – below 45 years","45 and above – below 60 years","60 years & above","Total [sum of (17) to (22)"]
[null,"(1)","(2)","(3)","(4)","(5)","(6)","(7)","(8)","(9)","(10)","(11)","(12)","(13)","(14)","(15)","(16)","(17)","(18)","(19)","(20)","(21)","(22)","(23)","(24)"]
[725,1,"Bankruptcy or indebtedness",0,0,2,3,3,0,{"$f":"SUM(D8:I8)","v":8},0,0,0,1,0,0,{"$f":"SUM(K8:P8)","v":1},0,0,0,0,0,0,{"$f":"SUM(R8:W8)","v":0},{"$f":"SUM(J8+Q8+X8)","v":9}]
[726,2,"Marriage Related Issues (sum of 2.1 to 2.5)",{"$f":"SUM(D10:D14)","v":0},0,2,0,1,0,3,{"$f":"SUM(K10:K14)","v":0},0,1,0,0,0,1,{"$f":"SUM(R10:R14)","v":0},0,0,0,0,0,0,4]
[727,null,"2.1 Non Settlement of Marriage",0,0,2,0,0,0,2,0,0,1,0,0,0,1,0,0,0,0,0,0,0,3]
[728,null,"2.2 Dowry Related Issues",0,0,0,0,0,0,0,0,0,0,0,0,0,0,0,0,0,0,0,0,0,0]
[729,null,"2.3 Extra Marital affairs",0,0,0,0,1,0,1,0,0,0,0,0,0,0,0,0,0,0,0,0,0,1]
[730,null,"2.4 Divorce",0,0,0,0,0,0,0,0,0,0,0,0,0,0,0,0,0,0,0,0,0,0]
[731,null,"2.5 Others",0,0,0,0,0,0,0,0,0,0,0,0,0,0,0,0,0,0,0,0,0,0]
[732,3,"Failure in Examination",0,0,1,0,0,0,1,0,1,0,0,0,0,1,0,0,0,0,0,0,0,2]
[733,4,"Impotency/Infertility",0,0,0,0,0,0,0,0,0,0,0,0,0,0,0,0,0,0,0,0,0,0]
[734,5,"Family problems",0,3,22,21,27,5,78,0,1,5,6,6,7,25,0,0,0,0,0,0,0,103]
[735,6,"Illness (sum of 6.1 to 6.5)",{"$f":"SUM(D19:D23)","v":0},0,9,10,23,10,52,{"$f":"SUM(K19:K23)","v":0},0,4,8,3,6,21,{"$f":"SUM(R19:R23)","v":0},0,0,0,0,0,0,73]
[736,null,"6.1 AIDS/STD",0,0,0,0,1,0,1,0,0,0,0,0,0,0,0,0,0,0,0,0,0,1]
[737,null,"6.2 Cancer",0,0,0,1,2,1,4,0,0,0,0,0,0,0,0,0,0,0,0,0,0,4]
[738,null,"6.3 Paralysis",0,0,0,0,1,0,1,0,0,0,0,0,0,0,0,0,0,0,0,0,0,1]
[739,null,"6.4 Insanity/Mental illness",0,0,9,8,11,5,33,0,0,2,6,3,3,14,0,0,0,0,0,0,0,47]
[740,null,"6.5 Other prolonged illness",0,0,0,1,8,4,13,0,0,2,2,0,3,7,0,0,0,0,0,0,0,20]
[741,7,"Death of dear person",0,0,1,1,2,0,4,0,0,0,1,0,1,2,0,0,0,0,0,0,0,6]
[742,8,"Drug abuse/Alcoholic addiction",0,0,2,20,12,0,34,0,0,0,1,0,0,1,0,0,0,0,0,0,0,35]
[743,9,"Fall in social reputation",0,0,0,0,0,0,0,0,0,0,0,0,0,0,0,0,0,0,0,0,0,0]
[744,10,"Ideological causes/Hero worshipping",0,0,0,0,0,0,0,0,0,0,0,0,0,0,0,0,0,0,0,0,0,0]
[745,11,"Love affairs",0,1,13,1,0,0,15,0,0,3,1,0,0,4,0,0,0,0,0,0,0,19]
[746,12,"Poverty",0,0,0,1,0,1,2,0,0,0,0,2,1,3,0,0,0,0,0,0,0,5]
[747,13,"Unemployment",0,0,8,9,6,0,23,0,0,0,0,0,0,0,0,0,0,0,0,0,0,23]
[748,14,"Property dispute",0,0,0,0,0,0,0,0,0,0,0,0,0,0,0,0,0,0,0,0,0,0]
[749,15,"Suspected/Illicit relation (other than item 2.3)",0,0,0,1,0,0,1,0,0,0,0,0,0,0,0,0,0,0,0,0,0,1]
[750,16,"Illegitimate Pregnancy (other than item 2.3)",0,0,0,0,0,0,0,0,0,0,0,0,0,0,0,0,0,0,0,0,0,0]
[751,17,"Physical Abuse (Rape, etc.)",1,0,0,0,0,0,1,0,0,0,0,0,0,0,0,0,0,0,0,0,0,1]
[752,18,"Professional/Career Problem",0,0,1,3,2,0,6,0,0,0,1,0,0,1,0,0,0,0,0,0,0,7]
[753,19,"Causes not known",0,1,1,5,2,0,9,1,0,4,0,0,1,6,0,0,0,0,0,0,0,15]
[754,20,"Other causes",1,1,3,4,3,0,12,0,2,2,2,0,0,6,0,0,0,0,0,0,0,18]
[780,21,"Total (sum of Sl. 1 to 20)",{"$f":"SUM(D8:D9,D15:D18,D24:D37)","v":2},6,65,79,81,16,249,{"$f":"SUM(K8:K9,K15:K18,K24:K37)","v":1},4,19,21,11,16,72,{"$f":"SUM(R8:R9,R15:R18,R24:R37)","v":0},0,0,0,0,0,0,321]
["SL-2.5 ABNORMAL VARIATION IN \"OTHERS\" DATA",null,null,{"$f":"IF(D9>0,IF((D14/D9*100)>10,\"ABVAR\",\"\"),\"\")","v":""},{"$f":"IF(E9>0,IF((E14/E9*100)>10,\"ABVAR\",\"\"),\"\")","v":""},"","","","","","","","","","","","","","","","","","","",""]
["SL-6.5 ABNORMAL VARIATION IN \"OTHER PROLONGED ILLNESS\" DATA",null,null,{"$f":"IF(D18>0,IF((D23/D18*100)>10,\"ABVAR\",\"\"),\"\")","v":""},{"$f":"IF(E18>0,IF((E23/E18*100)>10,\"ABVAR\",\"\"),\"\")","v":""},"","","ABVAR","ABVAR","ABVAR","","","ABVAR","ABVAR","","ABVAR","ABVAR","","","","","","","","ABVAR"]
["SL-19 ABNORMAL VARIATION IN \"CAUSES NOT KNOWN\" DATA",null,null,{"$f":"IF(D38>0,IF((D36/D38*100)>10,\"ABVAR\",\"\"),\"\")","v":""},{"$f":"IF(E38>0,IF((E36/E38*100)>10,\"ABVAR\",\"\"),\"\")","v":"ABVAR"},"","","","","","ABVAR","","ABVAR","","","","","","","","","","","",""]
["SL-20 ABNORMAL VARIATION IN \"OTHER CAUSES\" DATA",null,null,{"$f":"IF(D38>0,IF((D37/D38*100)>10,\"ABVAR\",\"\"),\"\")","v":"ABVAR"},{"$f":"IF(E38>0,IF((E37/E38*100)>10,\"ABVAR\",\"\"),\"\")","v":"ABVAR"},"","","","","","","ABVAR","ABVAR","","","","","","","","","","","",""]
[]
["Note: If causes of suicides is found as more than one, the most immediate cause of suicides should be considered."]
[]
[]
[]
[]
[]
[]
[]
[]
[]
[]
[]
[]
[]
[]
[]
[]
[]
[]
[]
[]
[]
[]
[]
[]
[]
[]
[]
[]
[]
[]
[]
[]
[]
[]
[]
[]
[]
[]
[]
[]
[]
[]
[]
[]
[]
[]
[]
[]
[]
[]
[]
[]
[]
[]
[]
[]
[]
[]
[]
[]
[]
[]
[]
[]
[]
[]
[]
[]
[]
[]
[]
[]
[]
[]
[]
[]
[]
[]
[]
[]
[]
[]
[]
[]
[]
[]
[]
[]
[]
[]
[]
[]
[]
[]
[]
[]
[]
[]
[]
[]
[]
[]
[]
[]
[]
[]
[]
[]
[]
[]
[]
[]
[]
[]
[]
[]
[]
[]
[]
[]
[]
[]
[]
[]
[]
[]
[]
[]
[]
[]
[]
[]
[]
[]
[]
[]
[]
[]
[]
[]
[]
[]
[]
[]
[]
[]
[]
[]
[]
[]
[]
[]
[]
[]
[]
[null,null,null,null,null,null,null,null,null,null,null,null,null,null,null,null,null,null,null,null,null,null,null,null,null,null,null,null,null,null,null,null,null,null,null,null,null,null,null,null,null,null,null,null,null,null,null,null,null,null,null,null,{"$f":"A1","v":"Goa, , ADSI-2021"}]
[null,null,null,null,null,null,null,null,null,null,null,null,null,null,null,null,null,null,null,null,null,null,null,null,null,null,null,null,null,null,null,null,null,null,null,null,null,null,null,null,null,null,null,null,null,null,null,null,null,null,null,null,{"$f":"A2","v":"Proforma–XIV"},null,null,null,{"$f":"E2","v":"Abnormal Variations"},{"$f":"F2","v":15}]
[null,null,null,null,null,null,null,null,null,null,null,null,null,null,null,null,null,null,null,null,null,null,null,null,null,null,null,null,null,null,null,null,null,null,null,null,null,null,null,null,null,null,null,null,null,null,null,null,null,null,null,null,{"$f":"A3","v":"Distribution of Suicides by Causes"}]
[null,null,null,null,null,null,null,null,null,null,null,null,null,null,null,null,null,null,null,null,null,null,null,null,null,null,null,null,null,null,null,null,null,null,null,null,null,null,null,null,null,null,null,null,null,null,null,null,null,null,null,null,{"$f":"B4","v":"Sl. No."},{"$f":"C4","v":"Causes"},{"$f":"D4","v":"Number of Suicidal Deaths"},null,null,null,null,null,null,null,null,null,null,null,null,null,"Number of Suicidal Deaths",null,null,null,null,null,null,{"$f":"Y4","v":"Grand Total \n[col. (9)+(16)+(23)]"}]
[null,null,null,null,null,null,null,null,null,null,null,null,null,null,null,null,null,null,null,null,null,null,null,null,null,null,null,null,null,null,null,null,null,null,null,null,null,null,null,null,null,null,null,null,null,null,null,null,null,null,null,null,null,null,{"$f":"D5","v":"Male"},null,null,null,null,null,null,{"$f":"K5","v":"Female"},null,null,null,null,null,null,{"$f":"R5","v":"Transgender"}]
[null,null,null,null,null,null,null,null,null,null,null,null,null,null,null,null,null,null,null,null,null,null,null,null,null,null,null,null,null,null,null,null,null,null,null,null,null,null,null,null,null,null,null,null,null,null,null,null,null,null,null,null,null,null,"below 14 years",{"$f":"E6","v":"14 and above – below 18 yrs"},{"$f":"F6","v":"18 and above – below 30 years"},{"$f":"G6","v":"30 and above – below 45 years"},{"$f":"H6","v":"45 and above – below 60 years"},{"$f":"I6","v":"60 years & above"},{"$f":"J6","v":" Total [sum of (3) to (8)]"},"below 14 years",{"$f":"L6","v":"14 and above – below 18 yrs"},{"$f":"M6","v":"18 and above – below 30 years"},{"$f":"N6","v":"30 and above – below 45 years"},{"$f":"O6","v":"45 and above – below 60 years"},{"$f":"P6","v":"60 years & above"},{"$f":"Q6","v":"Total [sum of (10) to (15)"},"below 14 years",{"$f":"S6","v":"14 and above – below 18 yrs"},{"$f":"T6","v":"18 and above – below 30 years"},{"$f":"U6","v":"30 and above – below 45 years"},{"$f":"V6","v":"45 and above – below 60 years"},{"$f":"W6","v":"60 years & above"},{"$f":"X6","v":"Total [sum of (17) to (22)"}]
[null,null,null,null,null,null,null,null,null,null,null,null,null,null,null,null,null,null,null,null,null,null,null,null,null,null,null,null,null,null,null,null,null,null,null,null,null,null,null,null,null,null,null,null,null,null,null,null,null,null,null,null,{"$f":"B7","v":"(1)"},{"$f":"C7","v":"(2)"},"(3)","(4)","(5)","(6)","(7)","(8)","(9)","(10)","(11)","(12)","(13)","(14)","(15)","(16)","(17)","(18)","(19)","(20)","(21)","(22)","(23)",{"$f":"Y7","v":"(24)"}]
[null,null,null,null,null,null,null,null,null,null,null,null,null,null,null,null,null,null,null,null,null,null,null,null,null,null,null,null,null,null,null,null,null,null,null,null,null,null,null,null,null,null,null,null,null,null,null,null,null,null,null,null,1,"Bankruptcy or indebtedness",0,0,2,3,3,0,8,0,0,0,1,0,0,1,0,0,0,0,0,0,0,9]
[null,null,null,null,null,null,null,null,null,null,null,null,null,null,null,null,null,null,null,null,null,null,null,null,null,null,null,null,null,null,null,null,null,null,null,null,null,null,null,null,null,null,null,null,null,null,null,null,null,null,null,null,2,"Marriage Related Issues (sum of 2.1 to 2.5)",0,0,2,0,1,0,3,0,0,1,0,0,0,1,0,0,0,0,0,0,0,4]
[null,null,null,null,null,null,null,null,null,null,null,null,null,null,null,null,null,null,null,null,null,null,null,null,null,null,null,null,null,null,null,null,null,null,null,null,null,null,null,null,null,null,null,null,null,null,null,null,null,null,null,null,null,"2.1 Non Settlement of Marriage",0,0,2,0,0,0,2,0,0,1,0,0,0,1,0,0,0,0,0,0,0,3]
[null,null,null,null,null,null,null,null,null,null,null,null,null,null,null,null,null,null,null,null,null,null,null,null,null,null,null,null,null,null,null,null,null,null,null,null,null,null,null,null,null,null,null,null,null,null,null,null,null,null,null,null,null,"2.2 Dowry Related Issues",0,0,0,0,0,0,0,0,0,0,0,0,0,0,0,0,0,0,0,0,0,0]
[null,null,null,null,null,null,null,null,null,null,null,null,null,null,null,null,null,null,null,null,null,null,null,null,null,null,null,null,null,null,null,null,null,null,null,null,null,null,null,null,null,null,null,null,null,null,null,null,null,null,null,null,null,"2.3 Extra Marital affairs",0,0,0,0,1,0,1,0,0,0,0,0,0,0,0,0,0,0,0,0,0,1]
[null,null,null,null,null,null,null,null,null,null,null,null,null,null,null,null,null,null,null,null,null,null,null,null,null,null,null,null,null,null,null,null,null,null,null,null,null,null,null,null,null,null,null,null,null,null,null,null,null,null,null,null,null,"2.4 Divorce",0,0,0,0,0,0,0,0,0,0,0,0,0,0,0,0,0,0,0,0,0,0]
[null,null,null,null,null,null,null,null,null,null,null,null,null,null,null,null,null,null,null,null,null,null,null,null,null,null,null,null,null,null,null,null,null,null,null,null,null,null,null,null,null,null,null,null,null,null,null,null,null,null,null,null,null,"2.5 Others",0,0,0,0,0,0,0,0,0,0,0,0,0,0,0,0,0,0,0,0,0,0]
[null,null,null,null,null,null,null,null,null,null,null,null,null,null,null,null,null,null,null,null,null,null,null,null,null,null,null,null,null,null,null,null,null,null,null,null,null,null,null,null,null,null,null,null,null,null,null,null,null,null,null,null,3,"Failure in Examination",0,0,1,0,0,0,1,0,1,0,0,0,0,1,0,0,0,0,0,0,0,2]
[null,null,null,null,null,null,null,null,null,null,null,null,null,null,null,null,null,null,null,null,null,null,null,null,null,null,null,null,null,null,null,null,null,null,null,null,null,null,null,null,null,null,null,null,null,null,null,null,null,null,null,null,4,"Impotency/Infertility",0,0,0,0,0,0,0,0,0,0,0,0,0,0,0,0,0,0,0,0,0,0]
[null,null,null,null,null,null,null,null,null,null,null,null,null,null,null,null,null,null,null,null,null,null,null,null,null,null,null,null,null,null,null,null,null,null,null,null,null,null,null,null,null,null,null,null,null,null,null,null,null,null,null,null,5,"Family problems",0,3,22,21,27,5,78,0,1,5,6,6,7,25,0,0,0,0,0,0,0,103]
[null,null,null,null,null,null,null,null,null,null,null,null,null,null,null,null,null,null,null,null,null,null,null,null,null,null,null,null,null,null,null,null,null,null,null,null,null,null,null,null,null,null,null,null,null,null,null,null,null,null,null,null,6,"Illness (sum of 6.1 to 6.5)",0,0,9,10,23,10,52,0,0,4,8,3,6,21,0,0,0,0,0,0,0,73]
[null,null,null,null,null,null,null,null,null,null,null,null,null,null,null,null,null,null,null,null,null,null,null,null,null,null,null,null,null,null,null,null,null,null,null,null,null,null,null,null,null,null,null,null,null,null,null,null,null,null,null,null,null,"6.1 AIDS/STD",0,0,0,0,1,0,1,0,0,0,0,0,0,0,0,0,0,0,0,0,0,1]
[null,null,null,null,null,null,null,null,null,null,null,null,null,null,null,null,null,null,null,null,null,null,null,null,null,null,null,null,null,null,null,null,null,null,null,null,null,null,null,null,null,null,null,null,null,null,null,null,null,null,null,null,null,"6.2 Cancer",0,0,0,1,2,1,4,0,0,0,0,0,0,0,0,0,0,0,0,0,0,4]
[null,null,null,null,null,null,null,null,null,null,null,null,null,null,null,null,null,null,null,null,null,null,null,null,null,null,null,null,null,null,null,null,null,null,null,null,null,null,null,null,null,null,null,null,null,null,null,null,null,null,null,null,null,"6.3 Paralysis",0,0,0,0,1,0,1,0,0,0,0,0,0,0,0,0,0,0,0,0,0,1]
[null,null,null,null,null,null,null,null,null,null,null,null,null,null,null,null,null,null,null,null,null,null,null,null,null,null,null,null,null,null,null,null,null,null,null,null,null,null,null,null,null,null,null,null,null,null,null,null,null,null,null,null,null,"6.4 Insanity/Mental illness",0,0,9,8,11,5,33,0,0,2,6,3,3,14,0,0,0,0,0,0,0,47]
[null,null,null,null,null,null,null,null,null,null,null,null,null,null,null,null,null,null,null,null,null,null,null,null,null,null,null,null,null,null,null,null,null,null,null,null,null,null,null,null,null,null,null,null,null,null,null,null,null,null,null,null,null,"6.5 Other prolonged illness",0,0,0,1,8,4,13,0,0,2,2,0,3,7,0,0,0,0,0,0,0,20]
[null,null,null,null,null,null,null,null,null,null,null,null,null,null,null,null,null,null,null,null,null,null,null,null,null,null,null,null,null,null,null,null,null,null,null,null,null,null,null,null,null,null,null,null,null,null,null,null,null,null,null,null,7,"Death of dear person",0,0,1,1,2,0,4,0,0,0,1,0,1,2,0,0,0,0,0,0,0,6]
[null,null,null,null,null,null,null,null,null,null,null,null,null,null,null,null,null,null,null,null,null,null,null,null,null,null,null,null,null,null,null,null,null,null,null,null,null,null,null,null,null,null,null,null,null,null,null,null,null,null,null,null,8,"Drug abuse/Alcoholic addiction",0,0,2,20,12,0,34,0,0,0,1,0,0,1,0,0,0,0,0,0,0,35]
[null,null,null,null,null,null,null,null,null,null,null,null,null,null,null,null,null,null,null,null,null,null,null,null,null,null,null,null,null,null,null,null,null,null,null,null,null,null,null,null,null,null,null,null,null,null,null,null,null,null,null,null,9,"Fall in social reputation",0,0,0,0,0,0,0,0,0,0,0,0,0,0,0,0,0,0,0,0,0,0]
[null,null,null,null,null,null,null,null,null,null,null,null,null,null,null,null,null,null,null,null,null,null,null,null,null,null,null,null,null,null,null,null,null,null,null,null,null,null,null,null,null,null,null,null,null,null,null,null,null,null,null,null,10,"Ideological causes/Hero worshipping",0,0,0,0,0,0,0,0,0,0,0,0,0,0,0,0,0,0,0,0,0,0]
[null,null,null,null,null,null,null,null,null,null,null,null,null,null,null,null,null,null,null,null,null,null,null,null,null,null,null,null,null,null,null,null,null,null,null,null,null,null,null,null,null,null,null,null,null,null,null,null,null,null,null,null,11,"Love affairs",0,1,13,1,0,0,15,0,0,3,1,0,0,4,0,0,0,0,0,0,0,19]
[null,null,null,null,null,null,null,null,null,null,null,null,null,null,null,null,null,null,null,null,null,null,null,null,null,null,null,null,null,null,null,null,null,null,null,null,null,null,null,null,null,null,null,null,null,null,null,null,null,null,null,null,12,"Poverty",0,0,0,1,0,1,2,0,0,0,0,2,1,3,0,0,0,0,0,0,0,5]
[null,null,null,null,null,null,null,null,null,null,null,null,null,null,null,null,null,null,null,null,null,null,null,null,null,null,null,null,null,null,null,null,null,null,null,null,null,null,null,null,null,null,null,null,null,null,null,null,null,null,null,null,13,"Unemployment",0,0,8,9,6,0,23,0,0,0,0,0,0,0,0,0,0,0,0,0,0,23]
[null,null,null,null,null,null,null,null,null,null,null,null,null,null,null,null,null,null,null,null,null,null,null,null,null,null,null,null,null,null,null,null,null,null,null,null,null,null,null,null,null,null,null,null,null,null,null,null,null,null,null,null,14,"Property dispute",0,0,0,0,0,0,0,0,0,0,0,0,0,0,0,0,0,0,0,0,0,0]
[null,null,null,null,null,null,null,null,null,null,null,null,null,null,null,null,null,null,null,null,null,null,null,null,null,null,null,null,null,null,null,null,null,null,null,null,null,null,null,null,null,null,null,null,null,null,null,null,null,null,null,null,15,"Suspected/Illicit relation (other than item 2.3)",0,0,0,1,0,0,1,0,0,0,0,0,0,0,0,0,0,0,0,0,0,1]
[null,null,null,null,null,null,null,null,null,null,null,null,null,null,null,null,null,null,null,null,null,null,null,null,null,null,null,null,null,null,null,null,null,null,null,null,null,null,null,null,null,null,null,null,null,null,null,null,null,null,null,null,16,"Illegitimate Pregnancy (other than item 2.3)",0,0,0,0,0,0,0,0,0,0,0,0,0,0,0,0,0,0,0,0,0,0]
[null,null,null,null,null,null,null,null,null,null,null,null,null,null,null,null,null,null,null,null,null,null,null,null,null,null,null,null,null,null,null,null,null,null,null,null,null,null,null,null,null,null,null,null,null,null,null,null,null,null,null,null,17,"Physical Abuse (Rape, etc.)",1,0,0,0,0,0,1,0,0,0,0,0,0,0,0,0,0,0,0,0,0,1]
[null,null,null,null,null,null,null,null,null,null,null,null,null,null,null,null,null,null,null,null,null,null,null,null,null,null,null,null,null,null,null,null,null,null,null,null,null,null,null,null,null,null,null,null,null,null,null,null,null,null,null,null,18,"Professional/Career Problem",0,0,1,3,2,0,6,0,0,0,1,0,0,1,0,0,0,0,0,0,0,7]
[null,null,null,null,null,null,null,null,null,null,null,null,null,null,null,null,null,null,null,null,null,null,null,null,null,null,null,null,null,null,null,null,null,null,null,null,null,null,null,null,null,null,null,null,null,null,null,null,null,null,null,null,19,"Causes not known",0,1,1,5,2,0,9,1,0,4,0,0,1,6,0,0,0,0,0,0,0,15]
[null,null,null,null,null,null,null,null,null,null,null,null,null,null,null,null,null,null,null,null,null,null,null,null,null,null,null,null,null,null,null,null,null,null,null,null,null,null,null,null,null,null,null,null,null,null,null,null,null,null,null,null,20,"Other causes",1,1,3,4,3,0,12,0,2,2,2,0,0,6,0,0,0,0,0,0,0,18]
[null,null,null,null,null,null,null,null,null,null,null,null,null,null,null,null,null,null,null,null,null,null,null,null,null,null,null,null,null,null,null,null,null,null,null,null,null,null,null,null,null,null,null,null,null,null,null,null,null,null,null,null,21,"Total (sum of Sl. 1 to 20)",2,6,65,79,81,16,249,1,4,19,21,11,16,72,0,0,0,0,0,0,0,321]
[null,null,null,null,null,null,null,null,null,null,null,null,null,null,null,null,null,null,null,null,null,null,null,null,null,null,null,null,null,null,null,null,null,null,null,null,null,null,null,null,null,null,null,null,null,null,null,null,null,null,null,null,{"$f":"A39","v":"SL-2.5 ABNORMAL VARIATION IN \"OTHERS\" DATA"},null,{"$f":"D39","v":""},"","","","","","","","","","","","","","","","","","","","",""]
[null,null,null,null,null,null,null,null,null,null,null,null,null,null,null,null,null,null,null,null,null,null,null,null,null,null,null,null,null,null,null,null,null,null,null,null,null,null,null,null,null,null,null,null,null,null,null,null,null,null,null,null,{"$f":"A40","v":"SL-6.5 ABNORMAL VARIATION IN \"OTHER PROLONGED ILLNESS\" DATA"},null,{"$f":"D40","v":""},"","","","ABVAR","ABVAR","ABVAR","","","ABVAR","ABVAR","","ABVAR","ABVAR","","","","","","","","ABVAR"]
[null,null,null,null,null,null,null,null,null,null,null,null,null,null,null,null,null,null,null,null,null,null,null,null,null,null,null,null,null,null,null,null,null,null,null,null,null,null,null,null,null,null,null,null,null,null,null,null,null,null,null,null,"SL-19 ABNORMAL VARIATION IN \"CAUSES NOT KNOWN\" DATA",null,"","ABVAR","","","","","","ABVAR","","ABVAR","","","","","","","","","","","",""]
[null,null,null,null,null,null,null,null,null,null,null,null,null,null,null,null,null,null,null,null,null,null,null,null,null,null,null,null,null,null,null,null,null,null,null,null,null,null,null,null,null,null,null,null,null,null,null,null,null,null,null,null,"SL-20 ABNORMAL VARIATION IN \"OTHER CAUSES\" DATA",null,"ABVAR","ABVAR","","","","","","","ABVAR","ABVAR","","","","","","","","","","","",""]
[]
[]
[]
[]
[]
[]
[]
[]
[]
[]
[]
[]
[]
[]
[]
[]
[]
[]
[]
[]
[]
[]
[]
[]
[]
[]
[]
[]
[]
[]
[]
[]
[]
[]
[]
[]
[]
[]
[]
[]
[]
[]
[]
[]
[]
[]
[]
[]
[]
[]
[]
[]
[]
[]
[]
[]
[]
[]
[]
[]
[]
[]
[]
[]
[]
[]
[]
[]
[]
[]
[]
[]
[]
[]
[]
[]
[]
[]
[]
[]
[]
[]
[]
[]
[]
[]
[]
[]
[]
[]
[]
[]
[]
[]
[]
[]
[]
[]
[]
[]
[]
[]
[]
[]
[]
[]
[]
[]
[]
[]
[]
[]
[]
[]
[]
[]
[]
[]
[]
[]
[]
[]
[]
[]
[]
[]
[]
[]
[]
[]
[]
[]
[]
[]
[]
[]
[]
[]
[]
[]
[]
[]
[]
[]
[]
[]
[]
[]
[]
[]
[]
[]
[]
[]
[]
[]
[]
[]
[]
[]
[]
[]
[]
[]
[]
[]
[]
[]
[]
[]
[]
[]
[]
[]
[]
[]
[]
[]
[]
[]
[]
[]
[]
[]
[]
[]
[]
[]
[]
[]
[]
[]
[]
[]
[]
[]
[]
[]
[]
[]
[]
[]
[]
[]
[]
[]
[]
[]
[]
[]
[]
[]
[]
[]
[]
[]
[]
[]
[]
[]
[]
[]
[]
[]
[]
[]
[]
[]
[]
[]
[]
[]
[]
[]
[]
[]
[]
[]
[]
[]
[]
[]
[]
[]
[]
[]
[]
[]
[]
[]
[]
[]
[]
[]
[]
[]
[]
[]
["StateUTCityCode","DistrictCode","CrimeCode","DataYear","Male_below 14 years","Male_14 and above – below 18 years","Male_18 and above – below 30 years","Male_30 and above – below 45 years","Male_45 and above – below 60 years","Male_60 years & above","Male_Total","Female_below 14 years","Female_14 and above – below 18 years","Female_18 and above – below 30 years","Female_30 and above – below 45 years","Female_45 and above – below 60 years","Female_60 years & above","Female_Total","Trans_below 14 years","Trans_14 and above – below 18 years","Trans_18 and above – below 30 years","Trans_30 and above – below 45 years","Trans_45 and above – below 60 years","Trans_60 years & above","Trans_Total","Grand Total"]
[{"$f":"IF(ADSI!$G$12=\"\",ADSI!$H$16,ADSI!$H$12)","v":6},{"$f":"IF(ADSI!$G$12=\"\",ADSI!$H$16,ADSI!$H$14)","v":""},{"$f":"A8","v":725},{"$f":"ADSI!$K$12","v":2021},{"$f":"D8","v":0},{"$f":"E8","v":0},2,3,3,0,8,0,0,0,1,0,0,1,0,0,0,0,0,0,0,9]
[{"$f":"IF(ADSI!$G$12=\"\",ADSI!$H$16,ADSI!$H$12)","v":6},{"$f":"IF(ADSI!$G$12=\"\",ADSI!$H$16,ADSI!$H$14)","v":""},{"$f":"A9","v":726},{"$f":"ADSI!$K$12","v":2021},{"$f":"D9","v":0},0,2,0,1,0,3,0,0,1,0,0,0,1,0,0,0,0,0,0,0,4]
[{"$f":"IF(ADSI!$G$12=\"\",ADSI!$H$16,ADSI!$H$12)","v":6},{"$f":"IF(ADSI!$G$12=\"\",ADSI!$H$16,ADSI!$H$14)","v":""},727,{"$f":"ADSI!$K$12","v":2021},{"$f":"D10","v":0},0,2,0,0,0,2,0,0,1,0,0,0,1,0,0,0,0,0,0,0,3]
[{"$f":"IF(ADSI!$G$12=\"\",ADSI!$H$16,ADSI!$H$12)","v":6},{"$f":"IF(ADSI!$G$12=\"\",ADSI!$H$16,ADSI!$H$14)","v":""},728,{"$f":"ADSI!$K$12","v":2021},{"$f":"D11","v":0},0,0,0,0,0,0,0,0,0,0,0,0,0,0,0,0,0,0,0,0,0]
[{"$f":"IF(ADSI!$G$12=\"\",ADSI!$H$16,ADSI!$H$12)","v":6},{"$f":"IF(ADSI!$G$12=\"\",ADSI!$H$16,ADSI!$H$14)","v":""},729,{"$f":"ADSI!$K$12","v":2021},{"$f":"D12","v":0},0,0,0,1,0,1,0,0,0,0,0,0,0,0,0,0,0,0,0,0,1]
[{"$f":"IF(ADSI!$G$12=\"\",ADSI!$H$16,ADSI!$H$12)","v":6},{"$f":"IF(ADSI!$G$12=\"\",ADSI!$H$16,ADSI!$H$14)","v":""},730,{"$f":"ADSI!$K$12","v":2021},{"$f":"D13","v":0},0,0,0,0,0,0,0,0,0,0,0,0,0,0,0,0,0,0,0,0,0]
[{"$f":"IF(ADSI!$G$12=\"\",ADSI!$H$16,ADSI!$H$12)","v":6},{"$f":"IF(ADSI!$G$12=\"\",ADSI!$H$16,ADSI!$H$14)","v":""},731,{"$f":"ADSI!$K$12","v":2021},{"$f":"D14","v":0},0,0,0,0,0,0,0,0,0,0,0,0,0,0,0,0,0,0,0,0,0]
[{"$f":"IF(ADSI!$G$12=\"\",ADSI!$H$16,ADSI!$H$12)","v":6},{"$f":"IF(ADSI!$G$12=\"\",ADSI!$H$16,ADSI!$H$14)","v":""},732,{"$f":"ADSI!$K$12","v":2021},{"$f":"D15","v":0},0,1,0,0,0,1,0,1,0,0,0,0,1,0,0,0,0,0,0,0,2]
[{"$f":"IF(ADSI!$G$12=\"\",ADSI!$H$16,ADSI!$H$12)","v":6},{"$f":"IF(ADSI!$G$12=\"\",ADSI!$H$16,ADSI!$H$14)","v":""},733,{"$f":"ADSI!$K$12","v":2021},{"$f":"D16","v":0},0,0,0,0,0,0,0,0,0,0,0,0,0,0,0,0,0,0,0,0,0]
[{"$f":"IF(ADSI!$G$12=\"\",ADSI!$H$16,ADSI!$H$12)","v":6},{"$f":"IF(ADSI!$G$12=\"\",ADSI!$H$16,ADSI!$H$14)","v":""},734,{"$f":"ADSI!$K$12","v":2021},{"$f":"D17","v":0},3,22,21,27,5,78,0,1,5,6,6,7,25,0,0,0,0,0,0,0,103]
[{"$f":"IF(ADSI!$G$12=\"\",ADSI!$H$16,ADSI!$H$12)","v":6},{"$f":"IF(ADSI!$G$12=\"\",ADSI!$H$16,ADSI!$H$14)","v":""},735,{"$f":"ADSI!$K$12","v":2021},{"$f":"D18","v":0},0,9,10,23,10,52,0,0,4,8,3,6,21,0,0,0,0,0,0,0,73]
[{"$f":"IF(ADSI!$G$12=\"\",ADSI!$H$16,ADSI!$H$12)","v":6},{"$f":"IF(ADSI!$G$12=\"\",ADSI!$H$16,ADSI!$H$14)","v":""},736,{"$f":"ADSI!$K$12","v":2021},{"$f":"D19","v":0},0,0,0,1,0,1,0,0,0,0,0,0,0,0,0,0,0,0,0,0,1]
[{"$f":"IF(ADSI!$G$12=\"\",ADSI!$H$16,ADSI!$H$12)","v":6},{"$f":"IF(ADSI!$G$12=\"\",ADSI!$H$16,ADSI!$H$14)","v":""},737,{"$f":"ADSI!$K$12","v":2021},{"$f":"D20","v":0},0,0,1,2,1,4,0,0,0,0,0,0,0,0,0,0,0,0,0,0,4]
[{"$f":"IF(ADSI!$G$12=\"\",ADSI!$H$16,ADSI!$H$12)","v":6},{"$f":"IF(ADSI!$G$12=\"\",ADSI!$H$16,ADSI!$H$14)","v":""},738,{"$f":"ADSI!$K$12","v":2021},{"$f":"D21","v":0},0,0,0,1,0,1,0,0,0,0,0,0,0,0,0,0,0,0,0,0,1]
[{"$f":"IF(ADSI!$G$12=\"\",ADSI!$H$16,ADSI!$H$12)","v":6},{"$f":"IF(ADSI!$G$12=\"\",ADSI!$H$16,ADSI!$H$14)","v":""},739,{"$f":"ADSI!$K$12","v":2021},{"$f":"D22","v":0},0,9,8,11,5,33,0,0,2,6,3,3,14,0,0,0,0,0,0,0,47]
[{"$f":"IF(ADSI!$G$12=\"\",ADSI!$H$16,ADSI!$H$12)","v":6},{"$f":"IF(ADSI!$G$12=\"\",ADSI!$H$16,ADSI!$H$14)","v":""},740,{"$f":"ADSI!$K$12","v":2021},{"$f":"D23","v":0},0,0,1,8,4,13,0,0,2,2,0,3,7,0,0,0,0,0,0,0,20]
[{"$f":"IF(ADSI!$G$12=\"\",ADSI!$H$16,ADSI!$H$12)","v":6},{"$f":"IF(ADSI!$G$12=\"\",ADSI!$H$16,ADSI!$H$14)","v":""},741,{"$f":"ADSI!$K$12","v":2021},{"$f":"D24","v":0},0,1,1,2,0,4,0,0,0,1,0,1,2,0,0,0,0,0,0,0,6]
[{"$f":"IF(ADSI!$G$12=\"\",ADSI!$H$16,ADSI!$H$12)","v":6},{"$f":"IF(ADSI!$G$12=\"\",ADSI!$H$16,ADSI!$H$14)","v":""},742,{"$f":"ADSI!$K$12","v":2021},{"$f":"D25","v":0},0,2,20,12,0,34,0,0,0,1,0,0,1,0,0,0,0,0,0,0,35]
[{"$f":"IF(ADSI!$G$12=\"\",ADSI!$H$16,ADSI!$H$12)","v":6},{"$f":"IF(ADSI!$G$12=\"\",ADSI!$H$16,ADSI!$H$14)","v":""},743,{"$f":"ADSI!$K$12","v":2021},{"$f":"D26","v":0},0,0,0,0,0,0,0,0,0,0,0,0,0,0,0,0,0,0,0,0,0]
[{"$f":"IF(ADSI!$G$12=\"\",ADSI!$H$16,ADSI!$H$12)","v":6},{"$f":"IF(ADSI!$G$12=\"\",ADSI!$H$16,ADSI!$H$14)","v":""},744,{"$f":"ADSI!$K$12","v":2021},{"$f":"D27","v":0},0,0,0,0,0,0,0,0,0,0,0,0,0,0,0,0,0,0,0,0,0]
[{"$f":"IF(ADSI!$G$12=\"\",ADSI!$H$16,ADSI!$H$12)","v":6},{"$f":"IF(ADSI!$G$12=\"\",ADSI!$H$16,ADSI!$H$14)","v":""},745,{"$f":"ADSI!$K$12","v":2021},{"$f":"D28","v":0},1,13,1,0,0,15,0,0,3,1,0,0,4,0,0,0,0,0,0,0,19]
[{"$f":"IF(ADSI!$G$12=\"\",ADSI!$H$16,ADSI!$H$12)","v":6},{"$f":"IF(ADSI!$G$12=\"\",ADSI!$H$16,ADSI!$H$14)","v":""},746,{"$f":"ADSI!$K$12","v":2021},{"$f":"D29","v":0},0,0,1,0,1,2,0,0,0,0,2,1,3,0,0,0,0,0,0,0,5]
[{"$f":"IF(ADSI!$G$12=\"\",ADSI!$H$16,ADSI!$H$12)","v":6},{"$f":"IF(ADSI!$G$12=\"\",ADSI!$H$16,ADSI!$H$14)","v":""},747,{"$f":"ADSI!$K$12","v":2021},{"$f":"D30","v":0},0,8,9,6,0,23,0,0,0,0,0,0,0,0,0,0,0,0,0,0,23]
[{"$f":"IF(ADSI!$G$12=\"\",ADSI!$H$16,ADSI!$H$12)","v":6},{"$f":"IF(ADSI!$G$12=\"\",ADSI!$H$16,ADSI!$H$14)","v":""},748,{"$f":"ADSI!$K$12","v":2021},{"$f":"D31","v":0},0,0,0,0,0,0,0,0,0,0,0,0,0,0,0,0,0,0,0,0,0]
[{"$f":"IF(ADSI!$G$12=\"\",ADSI!$H$16,ADSI!$H$12)","v":6},{"$f":"IF(ADSI!$G$12=\"\",ADSI!$H$16,ADSI!$H$14)","v":""},749,{"$f":"ADSI!$K$12","v":2021},{"$f":"D32","v":0},0,0,1,0,0,1,0,0,0,0,0,0,0,0,0,0,0,0,0,0,1]
[{"$f":"IF(ADSI!$G$12=\"\",ADSI!$H$16,ADSI!$H$12)","v":6},{"$f":"IF(ADSI!$G$12=\"\",ADSI!$H$16,ADSI!$H$14)","v":""},750,{"$f":"ADSI!$K$12","v":2021},{"$f":"D33","v":0},0,0,0,0,0,0,0,0,0,0,0,0,0,0,0,0,0,0,0,0,0]
[{"$f":"IF(ADSI!$G$12=\"\",ADSI!$H$16,ADSI!$H$12)","v":6},{"$f":"IF(ADSI!$G$12=\"\",ADSI!$H$16,ADSI!$H$14)","v":""},751,{"$f":"ADSI!$K$12","v":2021},{"$f":"D34","v":1},0,0,0,0,0,1,0,0,0,0,0,0,0,0,0,0,0,0,0,0,1]
[{"$f":"IF(ADSI!$G$12=\"\",ADSI!$H$16,ADSI!$H$12)","v":6},{"$f":"IF(ADSI!$G$12=\"\",ADSI!$H$16,ADSI!$H$14)","v":""},752,{"$f":"ADSI!$K$12","v":2021},{"$f":"D35","v":0},0,1,3,2,0,6,0,0,0,1,0,0,1,0,0,0,0,0,0,0,7]
[{"$f":"IF(ADSI!$G$12=\"\",ADSI!$H$16,ADSI!$H$12)","v":6},{"$f":"IF(ADSI!$G$12=\"\",ADSI!$H$16,ADSI!$H$14)","v":""},753,{"$f":"ADSI!$K$12","v":2021},{"$f":"D36","v":0},1,1,5,2,0,9,1,0,4,0,0,1,6,0,0,0,0,0,0,0,15]
[{"$f":"IF(ADSI!$G$12=\"\",ADSI!$H$16,ADSI!$H$12)","v":6},{"$f":"IF(ADSI!$G$12=\"\",ADSI!$H$16,ADSI!$H$14)","v":""},754,{"$f":"ADSI!$K$12","v":2021},{"$f":"D37","v":1},1,3,4,3,0,12,0,2,2,2,0,0,6,0,0,0,0,0,0,0,18]
[{"$f":"IF(ADSI!$G$12=\"\",ADSI!$H$16,ADSI!$H$12)","v":6},{"$f":"IF(ADSI!$G$12=\"\",ADSI!$H$16,ADSI!$H$14)","v":""},780,{"$f":"ADSI!$K$12","v":2021},{"$f":"D38","v":2},6,65,79,81,16,249,1,4,19,21,11,16,72,0,0,0,0,0,0,0,321]

{"sheet":"P-XV","index":17,"n_rows":525,"n_cols":77,"rows_kept":525,"cut":false,"hidden":false,"merged":[[4,0,6,0],[33,0,33,3],[34,0,34,3],[203,76,205,76],[204,69,204,75],[203,69,203,75],[204,55,204,61],[203,55,203,68],[204,62,204,68],[19,2,19,3],[20,2,20,3],[21,2,21,3],[22,2,22,3],[24,2,24,3],[29,2,29,3],[30,2,30,3],[23,2,23,3],[230,53,230,54],[206,53,206,54],[203,53,205,54],[227,53,227,54],[203,52,205,52],[221,53,221,54],[218,53,218,54],[219,53,219,54],[220,53,220,54],[207,53,207,54],[208,53,208,54],[209,53,212,53],[215,53,215,54],[217,53,217,54],[223,53,223,54],[31,2,31,3],[32,2,32,3],[25,2,25,3],[26,2,26,3],[27,2,27,3],[28,2,28,3],[15,2,15,3],[16,2,16,3],[17,2,17,3],[18,2,18,3],[8,2,8,3],[9,2,9,3],[10,2,13,2],[14,2,14,3],[7,2,7,3],[5,18,5,24],[4,1,6,1],[4,25,6,25],[5,4,5,10],[5,11,5,17],[4,2,6,3],[4,4,4,24],[234,52,234,54],[235,52,235,54],[236,52,236,54],[35,0,35,3],[36,0,36,3],[37,0,37,3],[232,52,232,54],[233,52,233,54],[224,53,224,54],[222,53,222,54],[225,53,225,54],[226,53,226,54]]}
[{"$f":"ADSI!$B$1","v":"Goa, , ADSI-2021"},null,null,null,null,null,"Note1: 'Farmer/Cultivator' are those whose profession is farming and include those who cultivate on their own land as well as those who cultivate on leased land/other's land with or without the assistance of agricultural labourers irrespective of causes of suicides."]
["Errors",null,{"$f":"COUNTIF(E35:Z35,FALSE)","v":0},null,"Abnormal Variations",{"$f":"COUNTIF(E36:Z38,\"ABVAR\")","v":8},"Note2: 'Agricultural labourer' person who primarily work in farming sector (agriculture/horticulture) whose main source of income is from agriculture labour activities."]
["Proforma–XV"]
["Profession Profile of Suicide Victims"]
["Code","Sl. No.","Profession",null,"Number of Suicidal Deaths",null,null,null,null,null,null,null,null,null,null,null,null,null,null,null,null,null,null,null,null,"Grand Total\n[col. (9)+(16)+(23)]"]
[null,null,null,null,"Male",null,null,null,null,null,null,"Female",null,null,null,null,null,null,"Transgender"]
[null,null,null,null,"below 14 years","14 and above – below 18 yrs","18 and above – below 30 years","30 and above – below 45 years","45 and above – below 60 years","60 years & above"," Total [sum of  (3) to (8)]","below 14 years","14 and above – below 18 yrs","18 and above – below 30 years","30 and above – below 45 years","45 and above – below 60 years","60 years & above","Total [sum of (10) to (15)]","below 14 years","14 and above – below 18 yrs","18 and above – below 30 years","30 and above – below 45 years","45 and above – below 60 years","60 years & above","Total [sum of (10) to (15)]"]
[null,"(1)","(2)",null,"(3)","(4)","(5)","(6)","(7)","(8)","(9)","(10)","(11)","(12)","(13)","(14)","(15)","(16)","(17)","(18)","(19)","(20)","(21)","(22)","(23)","(24)"]
[800,1,"Housewife",null,0,0,0,0,0,0,{"$f":"SUM(E9:J9)","v":0},0,1,9,17,10,15,{"$f":"SUM(L9:Q9)","v":52},0,0,0,0,0,0,{"$f":"SUM(S9:X9)","v":0},{"$f":"SUM(K9+R9+Y9)","v":52}]
[801,2,"Professional/Salaried Persons (Total) (sum of 2.1 to 2.3)",null,{"$f":"SUM(E11,E15:E16)","v":0},{"$f":"SUM(F11,F15:F16)","v":0},26,33,26,2,{"$f":"SUM(E10:J10)","v":87},{"$f":"SUM(L11,L15:L16)","v":0},0,3,2,0,0,{"$f":"SUM(L10:Q10)","v":5},{"$f":"SUM(S11,S15:S16)","v":0},0,0,0,0,0,{"$f":"SUM(S10:X10)","v":0},{"$f":"SUM(K10+R10+Y10)","v":92}]
[802,null,"2.1. Govt.","Govt. Servants (Total) (sum of 2.1.1 to 2.1.3)",{"$f":"SUM(E12:E14)","v":0},{"$f":"SUM(F12:F14)","v":0},1,6,5,0,12,{"$f":"SUM(L12:L14)","v":0},0,0,1,0,0,1,{"$f":"SUM(S12:S14)","v":0},0,0,0,0,0,0,13]
[803,null,null,"2.1.1 Central/UT Govt. Servants",0,0,0,0,0,0,0,0,0,0,0,0,0,0,0,0,0,0,0,0,0,0]
[804,null,null,"2.1.2 State Govt. Servants",0,0,0,5,2,0,7,0,0,0,1,0,0,1,0,0,0,0,0,0,0,8]
[805,null,null,"2.1.3 Other Statutory Body/etc.",0,0,1,1,3,0,5,0,0,0,0,0,0,0,0,0,0,0,0,0,0,5]
[806,null,"2.2 Private Sector Enterprises",null,0,0,24,25,20,1,70,0,0,3,1,0,0,4,0,0,0,0,0,0,0,74]
[807,null,"2.3 Public Sector Undertaking",null,0,0,1,2,1,1,5,0,0,0,0,0,0,0,0,0,0,0,0,0,0,5]
[808,3,"Students",null,2,6,8,0,0,0,16,1,3,6,1,0,0,11,0,0,0,0,0,0,0,27]
[809,4,"Unemployed Persons",null,0,0,18,28,26,9,81,0,0,1,1,0,1,3,0,0,0,0,0,0,0,84]
[810,5,"Self-employed Persons (Total) \n(sum of 5.1 & 5.2)",null,{"$f":"SUM(E20,E24)","v":0},{"$f":"SUM(F20,F24)","v":0},6,0,15,0,21,{"$f":"SUM(L20,L24)","v":0},{"$f":"SUM(M20,M24)","v":0},{"$f":"SUM(N20,N24)","v":0},{"$f":"SUM(O20,O24)","v":0},{"$f":"SUM(P20,P24)","v":1},{"$f":"SUM(Q20,Q24)","v":0},1,{"$f":"SUM(S20,S24)","v":0},{"$f":"SUM(T20,T24)","v":0},{"$f":"SUM(U20,U24)","v":0},{"$f":"SUM(V20,V24)","v":0},{"$f":"SUM(W20,W24)","v":0},{"$f":"SUM(X20,X24)","v":0},0,22]
[811,null,"5.1 Business (Total) (sum of 5.1.1 to 5.1.3)",null,{"$f":"SUM(E21:E23)","v":0},{"$f":"SUM(F21:F23)","v":0},2,0,10,0,12,{"$f":"SUM(L21:L23)","v":0},0,0,0,1,0,1,{"$f":"SUM(S21:S23)","v":0},{"$f":"SUM(T21:T23)","v":0},0,0,0,0,0,13]
[812,null,"5.1.1 Vendor",null,0,0,0,0,3,0,3,0,0,0,0,1,0,1,0,0,0,0,0,0,0,4]
[813,null,"5.1.2 Tradesmen",null,0,0,0,0,4,0,4,0,0,0,0,0,0,0,0,0,0,0,0,0,0,4]
[814,null,"5.1.3 Other Business",null,0,0,2,0,3,0,5,0,0,0,0,0,0,0,0,0,0,0,0,0,0,5]
[815,null,"5.2 Other Self-employed Persons",null,0,0,4,0,5,0,{"$f":"SUM(E24:J24)","v":9},0,0,0,0,0,0,{"$f":"SUM(L24:Q24)","v":0},0,0,0,0,0,0,{"$f":"SUM(S24:X24)","v":0},{"$f":"SUM(K24+R24+Y24)","v":9}]
[816,6,"Persons engaged in Farming Sector (Total) (sum of 6.1 & 6.2)",null,{"$f":"SUM(E26,E29)","v":0},{"$f":"SUM(F26,F29)","v":0},0,1,1,0,2,0,{"$f":"SUM(M26,M29)","v":0},{"$f":"SUM(N26,N29)","v":0},{"$f":"SUM(O26,O29)","v":0},{"$f":"SUM(P26,P29)","v":0},{"$f":"SUM(Q26,Q29)","v":0},0,0,{"$f":"SUM(T26,T29)","v":0},{"$f":"SUM(U26,U29)","v":0},{"$f":"SUM(V26,V29)","v":0},{"$f":"SUM(W26,W29)","v":0},{"$f":"SUM(X26,X29)","v":0},0,2]
[817,null,"6.1 Farmers/Cultivators (Sub-Total) (sum of 6.1.1 & 6.1.2)",null,{"$f":"SUM(E27:E28)","v":0},{"$f":"SUM(F27:F28)","v":0},0,0,0,0,0,0,{"$f":"SUM(M27:M28)","v":0},{"$f":"SUM(N27:N28)","v":0},{"$f":"SUM(O27:O28)","v":0},{"$f":"SUM(P27:P28)","v":0},{"$f":"SUM(Q27:Q28)","v":0},0,0,{"$f":"SUM(T27:T28)","v":0},{"$f":"SUM(U27:U28)","v":0},{"$f":"SUM(V27:V28)","v":0},{"$f":"SUM(W27:W28)","v":0},{"$f":"SUM(X27:X28)","v":0},0,0]
[818,null,"6.1.1 who cultivate their own land with or without assistance of agricultural labourers",null,0,0,0,0,0,0,0,0,0,0,0,0,0,0,0,0,0,0,0,0,0,0]
[819,null,"6.1.2 who cultivate on lease land/work on lease/on other's land (known by different nomenclature) with or without assistance of agricultural labourers",null,0,0,0,0,0,0,0,0,0,0,0,0,0,0,0,0,0,0,0,0,0,0]
[820,null,"6.2 Agricultural labourers",null,0,0,0,1,1,0,2,0,0,0,0,0,0,0,0,0,0,0,0,0,0,2]
[821,7,"Daily Wage Earner",null,0,0,7,14,11,1,33,0,0,0,0,0,0,0,0,0,0,0,0,0,0,33]
[822,8,"Retired Persons",null,0,0,0,0,0,4,4,0,0,0,0,0,0,0,0,0,0,0,0,0,0,4]
[823,9,"Other Persons",null,0,0,0,3,2,0,5,0,0,0,0,0,0,0,0,0,0,0,0,0,0,5]
[840,10,"Total (sum of Sl. 1 to 9)",null,{"$f":"SUM(E9:E10,E17:E19,E25,E30:E32)","v":2},{"$f":"SUM(F9:F10,F17:F19,F25,F30:F32)","v":6},65,79,81,16,249,1,{"$f":"SUM(M9:M10,M17:M19,M25,M30:M32)","v":4},{"$f":"SUM(N9:N10,N17:N19,N25,N30:N32)","v":19},{"$f":"SUM(O9:O10,O17:O19,O25,O30:O32)","v":21},{"$f":"SUM(P9:P10,P17:P19,P25,P30:P32)","v":11},{"$f":"SUM(Q9:Q10,Q17:Q19,Q25,Q30:Q32)","v":16},72,0,{"$f":"SUM(T9:T10,T17:T19,T25,T30:T32)","v":0},{"$f":"SUM(U9:U10,U17:U19,U25,U30:U32)","v":0},{"$f":"SUM(V9:V10,V17:V19,V25,V30:V32)","v":0},{"$f":"SUM(W9:W10,W17:W19,W25,W30:W32)","v":0},{"$f":"SUM(X9:X10,X17:X19,X25,X30:X32)","v":0},0,321]
[" PROFORMA–XIV VALUES [Sl.–21 (Total)]",null,null,null,{"$f":"'P-XIV'!D38","v":2},{"$f":"'P-XIV'!E38","v":6},{"$f":"'P-XIV'!F38","v":65},{"$f":"'P-XIV'!G38","v":79},{"$f":"'P-XIV'!H38","v":81},{"$f":"'P-XIV'!I38","v":16},{"$f":"'P-XIV'!J38","v":249},{"$f":"'P-XIV'!K38","v":1},{"$f":"'P-XIV'!L38","v":4},{"$f":"'P-XIV'!M38","v":19},{"$f":"'P-XIV'!N38","v":21},{"$f":"'P-XIV'!O38","v":11},{"$f":"'P-XIV'!P38","v":16},{"$f":"'P-XIV'!Q38","v":72},{"$f":"'P-XIV'!R38","v":0},{"$f":"'P-XIV'!S38","v":0},{"$f":"'P-XIV'!T38","v":0},{"$f":"'P-XIV'!U38","v":0},{"$f":"'P-XIV'!V38","v":0},{"$f":"'P-XIV'!W38","v":0},{"$f":"'P-XIV'!X38","v":0},{"$f":"'P-XIV'!Y38","v":321}]
["VALIDATION  WITH PROFORMA–XIV [Sl.–21 (Total)]",null,null,null,{"$f":"IF(E33='P-XIV'!D38,\"\",FALSE)","v":""},{"$f":"IF(F33='P-XIV'!E38,\"\",FALSE)","v":""},{"$f":"IF(G33='P-XIV'!F38,\"\",FALSE)","v":""},{"$f":"IF(H33='P-XIV'!G38,\"\",FALSE)","v":""},{"$f":"IF(I33='P-XIV'!H38,\"\",FALSE)","v":""},{"$f":"IF(J33='P-XIV'!I38,\"\",FALSE)","v":""},{"$f":"IF(K33='P-XIV'!J38,\"\",FALSE)","v":""},{"$f":"IF(L33='P-XIV'!K38,\"\",FALSE)","v":""},{"$f":"IF(M33='P-XIV'!L38,\"\",FALSE)","v":""},{"$f":"IF(N33='P-XIV'!M38,\"\",FALSE)","v":""},{"$f":"IF(O33='P-XIV'!N38,\"\",FALSE)","v":""},{"$f":"IF(P33='P-XIV'!O38,\"\",FALSE)","v":""},{"$f":"IF(Q33='P-XIV'!P38,\"\",FALSE)","v":""},{"$f":"IF(R33='P-XIV'!Q38,\"\",FALSE)","v":""},{"$f":"IF(S33='P-XIV'!R38,\"\",FALSE)","v":""},{"$f":"IF(T33='P-XIV'!S38,\"\",FALSE)","v":""},{"$f":"IF(U33='P-XIV'!T38,\"\",FALSE)","v":""},{"$f":"IF(V33='P-XIV'!U38,\"\",FALSE)","v":""},{"$f":"IF(W33='P-XIV'!V38,\"\",FALSE)","v":""},{"$f":"IF(X33='P-XIV'!W38,\"\",FALSE)","v":""},{"$f":"IF(Y33='P-XIV'!X38,\"\",FALSE)","v":""},{"$f":"IF(Z33='P-XIV'!Y38,\"\",FALSE)","v":""}]
["SL-5.1.3 ABNORMAL VARIATION IN \"OTHER BUSINESS\" DATA",null,null,null,{"$f":"IF(E20>0,IF((E23/E20*100)>10,\"ABVAR\",\"\"),\"\")","v":""},{"$f":"IF(F20>0,IF((F23/F20*100)>10,\"ABVAR\",\"\"),\"\")","v":""},"ABVAR","","ABVAR","","ABVAR","","","","","","","","","","","","","","","ABVAR"]
["SL-5.2 ABNORMAL VARIATION IN \"OTHER SELF-EMPLOYED PERSONS\" DATA",null,null,null,{"$f":"IF(E19>0,IF((E24/E19*100)>10,\"ABVAR\",\"\"),\"\")","v":""},{"$f":"IF(F19>0,IF((F24/F19*100)>10,\"ABVAR\",\"\"),\"\")","v":""},"ABVAR","","ABVAR","","ABVAR","","","","","","","","","","","","","","","ABVAR"]
["SL-9 ABNORMAL VARIATION IN \"OTHER PERSONS\" DATA",null,null,null,{"$f":"IF(E33>0,IF((E32/E33*100)>10,\"ABVAR\",\"\"),\"\")","v":""},{"$f":"IF(F33>0,IF((F32/F33*100)>10,\"ABVAR\",\"\"),\"\")","v":""},"","","","","","","","","","","","","","","","","","","",""]
[]
[null,null,null,null,"Daily wage earner excludes Agricultural labourer."]
[null,null,null,null,"Disclaimer:  “This data depicts only profession of persons who have committed suicide and has no linkage whatsoever regarding cause of suicide.”"]
[]
[]
[]
[]
[]
[]
[]
[]
[]
[]
[]
[]
[]
[]
[]
[]
[]
[]
[]
[]
[]
[]
[]
[]
[]
[]
[]
[]
[]
[]
[]
[]
[]
[]
[]
[]
[]
[]
[]
[]
[]
[]
[]
[]
[]
[]
[]
[]
[]
[]
[]
[]
[]
[]
[]
[]
[]
[]
[]
[]
[]
[]
[]
[]
[]
[]
[]
[]
[]
[]
[]
[]
[]
[]
[]
[]
[]
[]
[]
[]
[]
[]
[]
[]
[]
[]
[]
[]
[]
[]
[]
[]
[]
[]
[]
[]
[]
[]
[]
[]
[]
[]
[]
[]
[]
[]
[]
[]
[]
[]
[]
[]
[]
[]
[]
[]
[]
[]
[]
[]
[]
[]
[]
[]
[]
[]
[]
[]
[]
[]
[]
[]
[]
[]
[]
[]
[]
[]
[]
[]
[]
[]
[]
[]
[]
[]
[]
[]
[]
[]
[]
[]
[]
[]
[]
[]
[]
[]
[null,null,null,null,null,null,null,null,null,null,null,null,null,null,null,null,null,null,null,null,null,null,null,null,null,null,null,null,null,null,null,null,null,null,null,null,null,null,null,null,null,null,null,null,null,null,null,null,null,null,null,null,{"$f":"A1","v":"Goa, , ADSI-2021"}]
[null,null,null,null,null,null,null,null,null,null,null,null,null,null,null,null,null,null,null,null,null,null,null,null,null,null,null,null,null,null,null,null,null,null,null,null,null,null,null,null,null,null,null,null,null,null,null,null,null,null,null,null,{"$f":"A2","v":"Errors"},null,{"$f":"C2","v":0},null,null,{"$f":"E2","v":"Abnormal Variations"},{"$f":"F2","v":8}]
[null,null,null,null,null,null,null,null,null,null,null,null,null,null,null,null,null,null,null,null,null,null,null,null,null,null,null,null,null,null,null,null,null,null,null,null,null,null,null,null,null,null,null,null,null,null,null,null,null,null,null,null,{"$f":"A3","v":"Proforma–XV"}]
[null,null,null,null,null,null,null,null,null,null,null,null,null,null,null,null,null,null,null,null,null,null,null,null,null,null,null,null,null,null,null,null,null,null,null,null,null,null,null,null,null,null,null,null,null,null,null,null,null,null,null,null,{"$f":"A4","v":"Profession Profile of Suicide Victims"}]
[null,null,null,null,null,null,null,null,null,null,null,null,null,null,null,null,null,null,null,null,null,null,null,null,null,null,null,null,null,null,null,null,null,null,null,null,null,null,null,null,null,null,null,null,null,null,null,null,null,null,null,null,{"$f":"B5","v":"Sl. No."},{"$f":"C5","v":"Profession"},null,{"$f":"E5","v":"Number of Suicidal Deaths"},null,null,null,null,null,null,null,null,null,null,null,null,null,null,null,null,null,null,null,null,{"$f":"Z5","v":"Grand Total\n[col. (9)+(16)+(23)]"}]
[null,null,null,null,null,null,null,null,null,null,null,null,null,null,null,null,null,null,null,null,null,null,null,null,null,null,null,null,null,null,null,null,null,null,null,null,null,null,null,null,null,null,null,null,null,null,null,null,null,null,null,null,null,null,null,"Male",null,null,null,null,null,null,{"$f":"L6","v":"Female"},null,null,null,null,null,null,{"$f":"S6","v":"Transgender"}]
[null,null,null,null,null,null,null,null,null,null,null,null,null,null,null,null,null,null,null,null,null,null,null,null,null,null,null,null,null,null,null,null,null,null,null,null,null,null,null,null,null,null,null,null,null,null,null,null,null,null,null,null,null,null,null,"below 14 years",{"$f":"F7","v":"14 and above – below 18 yrs"},{"$f":"G7","v":"18 and above – below 30 years"},{"$f":"H7","v":"30 and above – below 45 years"},{"$f":"I7","v":"45 and above – below 60 years"},{"$f":"J7","v":"60 years & above"},{"$f":"K7","v":" Total [sum of  (3) to (8)]"},"below 14 years",{"$f":"M7","v":"14 and above – below 18 yrs"},{"$f":"N7","v":"18 and above – below 30 years"},{"$f":"O7","v":"30 and above – below 45 years"},{"$f":"P7","v":"45 and above – below 60 years"},{"$f":"Q7","v":"60 years & above"},{"$f":"R7","v":"Total [sum of (10) to (15)]"},"below 14 years",{"$f":"T7","v":"14 and above – below 18 yrs"},{"$f":"U7","v":"18 and above – below 30 years"},{"$f":"V7","v":"30 and above – below 45 years"},{"$f":"W7","v":"45 and above – below 60 years"},{"$f":"X7","v":"60 years & above"},{"$f":"Y7","v":"Total [sum of (10) to (15)]"}]
[null,null,null,null,null,null,null,null,null,null,null,null,null,null,null,null,null,null,null,null,null,null,null,null,null,null,null,null,null,null,null,null,null,null,null,null,null,null,null,null,null,null,null,null,null,null,null,null,null,null,null,null,{"$f":"B8","v":"(1)"},"(2)",null,"(3)","(4)","(5)","(6)","(7)","(8)","(9)","(10)","(11)","(12)","(13)","(14)","(15)","(16)","(17)","(18)","(19)","(20)","(21)","(22)","(23)",{"$f":"Z8","v":"(24)"}]
[null,null,null,null,null,null,null,null,null,null,null,null,null,null,null,null,null,null,null,null,null,null,null,null,null,null,null,null,null,null,null,null,null,null,null,null,null,null,null,null,null,null,null,null,null,null,null,null,null,null,null,null,1,"Housewife",null,0,0,0,0,0,0,0,0,1,9,17,10,15,52,0,0,0,0,0,0,0,52]
[null,null,null,null,null,null,null,null,null,null,null,null,null,null,null,null,null,null,null,null,null,null,null,null,null,null,null,null,null,null,null,null,null,null,null,null,null,null,null,null,null,null,null,null,null,null,null,null,null,null,null,null,2,"Professional/Salaried Persons (Total) (sum of 2.1 to 2.3)",null,0,0,26,33,26,2,87,0,0,3,2,0,0,5,0,0,0,0,0,0,0,92]
[null,null,null,null,null,null,null,null,null,null,null,null,null,null,null,null,null,null,null,null,null,null,null,null,null,null,null,null,null,null,null,null,null,null,null,null,null,null,null,null,null,null,null,null,null,null,null,null,null,null,null,null,null,{"$f":"C11","v":"2.1. Govt."},{"$f":"D11","v":"Govt. Servants (Total) (sum of 2.1.1 to 2.1.3)"},0,0,1,6,5,0,12,0,0,0,1,0,0,1,0,0,0,0,0,0,0,13]
[null,null,null,null,null,null,null,null,null,null,null,null,null,null,null,null,null,null,null,null,null,null,null,null,null,null,null,null,null,null,null,null,null,null,null,null,null,null,null,null,null,null,null,null,null,null,null,null,null,null,null,null,null,null,{"$f":"D12","v":"2.1.1 Central/UT Govt. Servants"},0,0,0,0,0,0,0,0,0,0,0,0,0,0,0,0,0,0,0,0,0,0]
[null,null,null,null,null,null,null,null,null,null,null,null,null,null,null,null,null,null,null,null,null,null,null,null,null,null,null,null,null,null,null,null,null,null,null,null,null,null,null,null,null,null,null,null,null,null,null,null,null,null,null,null,null,null,{"$f":"D13","v":"2.1.2 State Govt. Servants"},0,0,0,5,2,0,7,0,0,0,1,0,0,1,0,0,0,0,0,0,0,8]
[null,null,null,null,null,null,null,null,null,null,null,null,null,null,null,null,null,null,null,null,null,null,null,null,null,null,null,null,null,null,null,null,null,null,null,null,null,null,null,null,null,null,null,null,null,null,null,null,null,null,null,null,null,null,{"$f":"D14","v":"2.1.3 Other Statutory Body/etc."},0,0,1,1,3,0,5,0,0,0,0,0,0,0,0,0,0,0,0,0,0,5]
[null,null,null,null,null,null,null,null,null,null,null,null,null,null,null,null,null,null,null,null,null,null,null,null,null,null,null,null,null,null,null,null,null,null,null,null,null,null,null,null,null,null,null,null,null,null,null,null,null,null,null,null,null,{"$f":"C15","v":"2.2 Private Sector Enterprises"},null,0,0,24,25,20,1,70,0,0,3,1,0,0,4,0,0,0,0,0,0,0,74]
[null,null,null,null,null,null,null,null,null,null,null,null,null,null,null,null,null,null,null,null,null,null,null,null,null,null,null,null,null,null,null,null,null,null,null,null,null,null,null,null,null,null,null,null,null,null,null,null,null,null,null,null,null,"2.3 Public Sector Undertaking",null,0,0,1,2,1,1,5,0,0,0,0,0,0,0,0,0,0,0,0,0,0,5]
[null,null,null,null,null,null,null,null,null,null,null,null,null,null,null,null,null,null,null,null,null,null,null,null,null,null,null,null,null,null,null,null,null,null,null,null,null,null,null,null,null,null,null,null,null,null,null,null,null,null,null,null,{"$f":"B17","v":3},"Students",null,2,6,8,0,0,0,16,1,3,6,1,0,0,11,0,0,0,0,0,0,0,27]
[null,null,null,null,null,null,null,null,null,null,null,null,null,null,null,null,null,null,null,null,null,null,null,null,null,null,null,null,null,null,null,null,null,null,null,null,null,null,null,null,null,null,null,null,null,null,null,null,null,null,null,null,{"$f":"B18","v":4},"Unemployed Persons",null,0,0,18,28,26,9,81,0,0,1,1,0,1,3,0,0,0,0,0,0,0,84]
[null,null,null,null,null,null,null,null,null,null,null,null,null,null,null,null,null,null,null,null,null,null,null,null,null,null,null,null,null,null,null,null,null,null,null,null,null,null,null,null,null,null,null,null,null,null,null,null,null,null,null,null,5,"Self-employed Persons (Total) \n(sum of 5.1 & 5.2)",null,0,0,6,0,15,0,21,0,0,0,0,1,0,1,0,0,0,0,0,0,0,22]
[null,null,null,null,null,null,null,null,null,null,null,null,null,null,null,null,null,null,null,null,null,null,null,null,null,null,null,null,null,null,null,null,null,null,null,null,null,null,null,null,null,null,null,null,null,null,null,null,null,null,null,null,null,"5.1 Business (Total) (sum of 5.1.1 to 5.1.3)",null,0,0,2,0,10,0,12,0,0,0,0,1,0,1,0,0,0,0,0,0,0,13]
[null,null,null,null,null,null,null,null,null,null,null,null,null,null,null,null,null,null,null,null,null,null,null,null,null,null,null,null,null,null,null,null,null,null,null,null,null,null,null,null,null,null,null,null,null,null,null,null,null,null,null,null,null,"5.1.1 Vendor",null,0,0,0,0,3,0,3,0,0,0,0,1,0,1,0,0,0,0,0,0,0,4]
[null,null,null,null,null,null,null,null,null,null,null,null,null,null,null,null,null,null,null,null,null,null,null,null,null,null,null,null,null,null,null,null,null,null,null,null,null,null,null,null,null,null,null,null,null,null,null,null,null,null,null,null,null,"5.1.2 Tradesmen",null,0,0,0,0,4,0,4,0,0,0,0,0,0,0,0,0,0,0,0,0,0,4]
[null,null,null,null,null,null,null,null,null,null,null,null,null,null,null,null,null,null,null,null,null,null,null,null,null,null,null,null,null,null,null,null,null,null,null,null,null,null,null,null,null,null,null,null,null,null,null,null,null,null,null,null,null,"5.1.3 Other Business",null,0,0,2,0,3,0,5,0,0,0,0,0,0,0,0,0,0,0,0,0,0,5]
[null,null,null,null,null,null,null,null,null,null,null,null,null,null,null,null,null,null,null,null,null,null,null,null,null,null,null,null,null,null,null,null,null,null,null,null,null,null,null,null,null,null,null,null,null,null,null,null,null,null,null,null,null,{"$f":"C24","v":"5.2 Other Self-employed Persons"},null,0,0,4,0,5,0,9,0,0,0,0,0,0,0,0,0,0,0,0,0,0,9]
[null,null,null,null,null,null,null,null,null,null,null,null,null,null,null,null,null,null,null,null,null,null,null,null,null,null,null,null,null,null,null,null,null,null,null,null,null,null,null,null,null,null,null,null,null,null,null,null,null,null,null,null,{"$f":"B25","v":6},{"$f":"C25","v":"Persons engaged in Farming Sector (Total) (sum of 6.1 & 6.2)"},null,{"$f":"E25","v":0},0,0,1,1,0,2,0,0,0,0,0,0,0,0,0,0,0,0,0,0,2]
[null,null,null,null,null,null,null,null,null,null,null,null,null,null,null,null,null,null,null,null,null,null,null,null,null,null,null,null,null,null,null,null,null,null,null,null,null,null,null,null,null,null,null,null,null,null,null,null,null,null,null,null,null,{"$f":"C26","v":"6.1 Farmers/Cultivators (Sub-Total) (sum of 6.1.1 & 6.1.2)"},null,{"$f":"E26","v":0},{"$f":"F26","v":0},{"$f":"G26","v":0},{"$f":"H26","v":0},{"$f":"I26","v":0},{"$f":"J26","v":0},{"$f":"K26","v":0},{"$f":"L26","v":0},{"$f":"M26","v":0},{"$f":"N26","v":0},{"$f":"O26","v":0},{"$f":"P26","v":0},{"$f":"Q26","v":0},{"$f":"R26","v":0},{"$f":"S26","v":0},{"$f":"T26","v":0},{"$f":"U26","v":0},{"$f":"V26","v":0},{"$f":"W26","v":0},{"$f":"X26","v":0},{"$f":"Y26","v":0},{"$f":"Z26","v":0}]
[null,null,null,null,null,null,null,null,null,null,null,null,null,null,null,null,null,null,null,null,null,null,null,null,null,null,null,null,null,null,null,null,null,null,null,null,null,null,null,null,null,null,null,null,null,null,null,null,null,null,null,null,null,"6.1.1 who cultivate their own land with or without assistance of agricultural labourers",null,0,0,0,0,0,0,0,0,0,0,0,0,0,0,0,0,0,0,0,0,0,0]
[null,null,null,null,null,null,null,null,null,null,null,null,null,null,null,null,null,null,null,null,null,null,null,null,null,null,null,null,null,null,null,null,null,null,null,null,null,null,null,null,null,null,null,null,null,null,null,null,null,null,null,null,null,"6.1.2 who cultivate on lease land/work on lease/on other's land (known by different nomenclature) with or without assistance of agricultural labourers",null,0,0,0,0,0,0,0,0,0,0,0,0,0,0,0,0,0,0,0,0,0,0]
[null,null,null,null,null,null,null,null,null,null,null,null,null,null,null,null,null,null,null,null,null,null,null,null,null,null,null,null,null,null,null,null,null,null,null,null,null,null,null,null,null,null,null,null,null,null,null,null,null,null,null,null,null,"6.2 Agricultural labourers",null,0,0,0,1,1,0,2,0,0,0,0,0,0,0,0,0,0,0,0,0,0,2]
[null,null,null,null,null,null,null,null,null,null,null,null,null,null,null,null,null,null,null,null,null,null,null,null,null,null,null,null,null,null,null,null,null,null,null,null,null,null,null,null,null,null,null,null,null,null,null,null,null,null,null,null,{"$f":"B30","v":7},"Daily Wage Earner",null,0,0,7,14,11,1,33,0,0,0,0,0,0,0,0,0,0,0,0,0,0,33]
[null,null,null,null,null,null,null,null,null,null,null,null,null,null,null,null,null,null,null,null,null,null,null,null,null,null,null,null,null,null,null,null,null,null,null,null,null,null,null,null,null,null,null,null,null,null,null,null,null,null,null,null,8,"Retired Persons",null,0,0,0,0,0,4,4,0,0,0,0,0,0,0,0,0,0,0,0,0,0,4]
[null,null,null,null,null,null,null,null,null,null,null,null,null,null,null,null,null,null,null,null,null,null,null,null,null,null,null,null,null,null,null,null,null,null,null,null,null,null,null,null,null,null,null,null,null,null,null,null,null,null,null,null,9,"Other Persons",null,0,0,0,3,2,0,5,0,0,0,0,0,0,0,0,0,0,0,0,0,0,5]
[null,null,null,null,null,null,null,null,null,null,null,null,null,null,null,null,null,null,null,null,null,null,null,null,null,null,null,null,null,null,null,null,null,null,null,null,null,null,null,null,null,null,null,null,null,null,null,null,null,null,null,null,10,"Total (sum of Sl. 1 to 9)",null,2,6,65,79,81,16,249,1,4,19,21,11,16,72,0,0,0,0,0,0,0,321]
[null,null,null,null,null,null,null,null,null,null,null,null,null,null,null,null,null,null,null,null,null,null,null,null,null,null,null,null,null,null,null,null,null,null,null,null,null,null,null,null,null,null,null,null,null,null,null,null,null,null,null,null,{"$f":"A34","v":" PROFORMA–XIV VALUES [Sl.–21 (Total)]"},null,null,{"$f":"E34","v":2},6,65,79,81,16,249,1,4,19,21,11,16,72,0,0,0,0,0,0,0,321]
[null,null,null,null,null,null,null,null,null,null,null,null,null,null,null,null,null,null,null,null,null,null,null,null,null,null,null,null,null,null,null,null,null,null,null,null,null,null,null,null,null,null,null,null,null,null,null,null,null,null,null,null,{"$f":"A35","v":"VALIDATION  WITH PROFORMA–XIV [Sl.–21 (Total)]"},null,null,{"$f":"E35","v":""},"","","","","","","","","","","","","","","","","","","","",""]
[null,null,null,null,null,null,null,null,null,null,null,null,null,null,null,null,null,null,null,null,null,null,null,null,null,null,null,null,null,null,null,null,null,null,null,null,null,null,null,null,null,null,null,null,null,null,null,null,null,null,null,null,{"$f":"A36","v":"SL-5.1.3 ABNORMAL VARIATION IN \"OTHER BUSINESS\" DATA"},null,null,{"$f":"E36","v":""},"","ABVAR","","ABVAR","","ABVAR","","","","","","","","","","","","","","","ABVAR"]
[null,null,null,null,null,null,null,null,null,null,null,null,null,null,null,null,null,null,null,null,null,null,null,null,null,null,null,null,null,null,null,null,null,null,null,null,null,null,null,null,null,null,null,null,null,null,null,null,null,null,null,null,{"$f":"A37","v":"SL-5.2 ABNORMAL VARIATION IN \"OTHER SELF-EMPLOYED PERSONS\" DATA"},null,null,{"$f":"E37","v":""},"","ABVAR","","ABVAR","","ABVAR","","","","","","","","","","","","","","","ABVAR"]
[null,null,null,null,null,null,null,null,null,null,null,null,null,null,null,null,null,null,null,null,null,null,null,null,null,null,null,null,null,null,null,null,null,null,null,null,null,null,null,null,null,null,null,null,null,null,null,null,null,null,null,null,"SL-9 ABNORMAL VARIATION IN \"OTHER PERSONS\" DATA",null,null,"","","","","","","","","","","","","","","","","","","","","",""]
[null,null,null,null,null,null,null,null,null,null,null,null,null,null,null,null,null,null,null,null,null,null,null,null,null,null,null,null,null,null,null,null,null,null,null,null,null,null,null,null,null,null,null,null,null,null,null,null,null,null,null,null,null,{"$f":"#REF!","v":{"$error":"#REF!"}}]
[null,null,null,null,null,null,null,null,null,null,null,null,null,null,null,null,null,null,null,null,null,null,null,null,null,null,null,null,null,null,null,null,null,null,null,null,null,null,null,null,null,null,null,null,null,null,null,null,null,null,null,null,null,{"$f":"#REF!","v":{"$error":"#REF!"}}]
[null,null,null,null,null,null,null,null,null,null,null,null,null,null,null,null,null,null,null,null,null,null,null,null,null,null,null,null,null,null,null,null,null,null,null,null,null,null,null,null,null,null,null,null,null,null,null,null,null,null,null,null,null,{"$f":"E42","v":0}]
[null,null,null,null,null,null,null,null,null,null,null,null,null,null,null,null,null,null,null,null,null,null,null,null,null,null,null,null,null,null,null,null,null,null,null,null,null,null,null,null,null,null,null,null,null,null,null,null,null,null,null,null,null,{"$f":"E40","v":"Daily wage earner excludes Agricultural labourer."}]
[]
[]
[]
[]
[]
[]
[]
[]
[]
[]
[]
[]
[]
[]
[]
[]
[]
[]
[]
[]
[]
[]
[]
[]
[]
[]
[]
[]
[]
[]
[]
[]
[]
[]
[]
[]
[]
[]
[]
[]
[]
[]
[]
[]
[]
[]
[]
[]
[]
[]
[]
[]
[]
[]
[]
[]
[]
[]
[]
[]
[]
[]
[]
[]
[]
[]
[]
[]
[]
[]
[]
[]
[]
[]
[]
[]
[]
[]
[]
[]
[]
[]
[]
[]
[]
[]
[]
[]
[]
[]
[]
[]
[]
[]
[]
[]
[]
[]
[]
[]
[]
[]
[]
[]
[]
[]
[]
[]
[]
[]
[]
[]
[]
[]
[]
[]
[]
[]
[]
[]
[]
[]
[]
[]
[]
[]
[]
[]
[]
[]
[]
[]
[]
[]
[]
[]
[]
[]
[]
[]
[]
[]
[]
[]
[]
[]
[]
[]
[]
[]
[]
[]
[]
[]
[]
[]
[]
[]
[]
[]
[]
[]
[]
[]
[]
[]
[]
[]
[]
[]
[]
[]
[]
[]
[]
[]
[]
[]
[]
[]
[]
[]
[]
[]
[]
[]
[]
[]
[]
[]
[]
[]
[]
[]
[]
[]
[]
[]
[]
[]
[]
[]
[]
[]
[]
[]
[]
[]
[]
[]
[]
[]
[]
[]
[]
[]
[]
[]
[]
[]
[]
[]
[]
[]
[]
[]
[]
[]
[]
[]
[]
[]
[]
[]
[]
[]
[]
[]
[]
[]
[]
[]
[]
[]
[]
[]
[]
[]
[]
[]
[]
[]
[]
[]
[]
[]
[]
[]
["StateUTCityCode","DistrictCode","CrimeCode","DataYear","Male_below 14 years","Male_14 and above – below 18 years","Male_18 and above – below 30 years","Male_30 and above – below 45 years","Male_45 and above – below 60 years","Male_60 years & above","Male_Total","Female_below 14 years","Female_14 and above – below 18 years","Female_18 and above – below 30 years","Female_30 and above – below 45 years","Female_45 and above – below 60 years","Female_60 years & above","Female_Total","Trans_below 14 years","Trans_14 and above – below 18 years","Trans_18 and above – below 30 years","Trans_30 and above – below 45 years","Trans_45 and above – below 60 years","Trans_60 years & above","Trans_Total","Grand Total"]
[{"$f":"IF(ADSI!$G$12=\"\",ADSI!$H$16,ADSI!$H$12)","v":6},{"$f":"IF(ADSI!$G$12=\"\",ADSI!$H$16,ADSI!$H$14)","v":""},{"$f":"A9","v":800},{"$f":"ADSI!$K$12","v":2021},{"$f":"E9","v":0},0,0,0,0,0,0,0,1,9,17,10,15,52,0,0,0,0,0,0,0,52]
[{"$f":"IF(ADSI!$G$12=\"\",ADSI!$H$16,ADSI!$H$12)","v":6},{"$f":"IF(ADSI!$G$12=\"\",ADSI!$H$16,ADSI!$H$14)","v":""},{"$f":"A10","v":801},{"$f":"ADSI!$K$12","v":2021},{"$f":"E10","v":0},0,26,33,26,2,87,0,0,3,2,0,0,5,0,0,0,0,0,0,0,92]
[{"$f":"IF(ADSI!$G$12=\"\",ADSI!$H$16,ADSI!$H$12)","v":6},{"$f":"IF(ADSI!$G$12=\"\",ADSI!$H$16,ADSI!$H$14)","v":""},802,{"$f":"ADSI!$K$12","v":2021},{"$f":"E11","v":0},0,1,6,5,0,12,0,0,0,1,0,0,1,0,0,0,0,0,0,0,13]
[{"$f":"IF(ADSI!$G$12=\"\",ADSI!$H$16,ADSI!$H$12)","v":6},{"$f":"IF(ADSI!$G$12=\"\",ADSI!$H$16,ADSI!$H$14)","v":""},803,{"$f":"ADSI!$K$12","v":2021},{"$f":"E12","v":0},0,0,0,0,0,0,0,0,0,0,0,0,0,0,0,0,0,0,0,0,0]
[{"$f":"IF(ADSI!$G$12=\"\",ADSI!$H$16,ADSI!$H$12)","v":6},{"$f":"IF(ADSI!$G$12=\"\",ADSI!$H$16,ADSI!$H$14)","v":""},804,{"$f":"ADSI!$K$12","v":2021},{"$f":"E13","v":0},0,0,5,2,0,7,0,0,0,1,0,0,1,0,0,0,0,0,0,0,8]
[{"$f":"IF(ADSI!$G$12=\"\",ADSI!$H$16,ADSI!$H$12)","v":6},{"$f":"IF(ADSI!$G$12=\"\",ADSI!$H$16,ADSI!$H$14)","v":""},805,{"$f":"ADSI!$K$12","v":2021},{"$f":"E14","v":0},0,1,1,3,0,5,0,0,0,0,0,0,0,0,0,0,0,0,0,0,5]
[{"$f":"IF(ADSI!$G$12=\"\",ADSI!$H$16,ADSI!$H$12)","v":6},{"$f":"IF(ADSI!$G$12=\"\",ADSI!$H$16,ADSI!$H$14)","v":""},806,{"$f":"ADSI!$K$12","v":2021},{"$f":"E15","v":0},0,24,25,20,1,70,0,0,3,1,0,0,4,0,0,0,0,0,0,0,74]
[{"$f":"IF(ADSI!$G$12=\"\",ADSI!$H$16,ADSI!$H$12)","v":6},{"$f":"IF(ADSI!$G$12=\"\",ADSI!$H$16,ADSI!$H$14)","v":""},807,{"$f":"ADSI!$K$12","v":2021},{"$f":"E16","v":0},0,1,2,1,1,5,0,0,0,0,0,0,0,0,0,0,0,0,0,0,5]
[{"$f":"IF(ADSI!$G$12=\"\",ADSI!$H$16,ADSI!$H$12)","v":6},{"$f":"IF(ADSI!$G$12=\"\",ADSI!$H$16,ADSI!$H$14)","v":""},808,{"$f":"ADSI!$K$12","v":2021},{"$f":"E17","v":2},6,8,0,0,0,16,1,3,6,1,0,0,11,0,0,0,0,0,0,0,27]
[{"$f":"IF(ADSI!$G$12=\"\",ADSI!$H$16,ADSI!$H$12)","v":6},{"$f":"IF(ADSI!$G$12=\"\",ADSI!$H$16,ADSI!$H$14)","v":""},809,{"$f":"ADSI!$K$12","v":2021},{"$f":"E18","v":0},0,18,28,26,9,81,0,0,1,1,0,1,3,0,0,0,0,0,0,0,84]
[{"$f":"IF(ADSI!$G$12=\"\",ADSI!$H$16,ADSI!$H$12)","v":6},{"$f":"IF(ADSI!$G$12=\"\",ADSI!$H$16,ADSI!$H$14)","v":""},810,{"$f":"ADSI!$K$12","v":2021},{"$f":"E19","v":0},0,6,0,15,0,21,0,0,0,0,1,0,1,0,0,0,0,0,0,0,22]
[{"$f":"IF(ADSI!$G$12=\"\",ADSI!$H$16,ADSI!$H$12)","v":6},{"$f":"IF(ADSI!$G$12=\"\",ADSI!$H$16,ADSI!$H$14)","v":""},811,{"$f":"ADSI!$K$12","v":2021},{"$f":"E20","v":0},0,2,0,10,0,12,0,0,0,0,1,0,1,0,0,0,0,0,0,0,13]
[{"$f":"IF(ADSI!$G$12=\"\",ADSI!$H$16,ADSI!$H$12)","v":6},{"$f":"IF(ADSI!$G$12=\"\",ADSI!$H$16,ADSI!$H$14)","v":""},812,{"$f":"ADSI!$K$12","v":2021},{"$f":"E21","v":0},0,0,0,3,0,3,0,0,0,0,1,0,1,0,0,0,0,0,0,0,4]
[{"$f":"IF(ADSI!$G$12=\"\",ADSI!$H$16,ADSI!$H$12)","v":6},{"$f":"IF(ADSI!$G$12=\"\",ADSI!$H$16,ADSI!$H$14)","v":""},813,{"$f":"ADSI!$K$12","v":2021},{"$f":"E22","v":0},0,0,0,4,0,4,0,0,0,0,0,0,0,0,0,0,0,0,0,0,4]
[{"$f":"IF(ADSI!$G$12=\"\",ADSI!$H$16,ADSI!$H$12)","v":6},{"$f":"IF(ADSI!$G$12=\"\",ADSI!$H$16,ADSI!$H$14)","v":""},814,{"$f":"ADSI!$K$12","v":2021},{"$f":"E23","v":0},0,2,0,3,0,5,0,0,0,0,0,0,0,0,0,0,0,0,0,0,5]
[{"$f":"IF(ADSI!$G$12=\"\",ADSI!$H$16,ADSI!$H$12)","v":6},{"$f":"IF(ADSI!$G$12=\"\",ADSI!$H$16,ADSI!$H$14)","v":""},815,{"$f":"ADSI!$K$12","v":2021},{"$f":"E24","v":0},0,4,0,5,0,9,0,0,0,0,0,0,0,0,0,0,0,0,0,0,9]
[{"$f":"IF(ADSI!$G$12=\"\",ADSI!$H$16,ADSI!$H$12)","v":6},{"$f":"IF(ADSI!$G$12=\"\",ADSI!$H$16,ADSI!$H$14)","v":""},816,{"$f":"ADSI!$K$12","v":2021},{"$f":"E25","v":0},0,0,1,1,0,2,0,0,0,0,0,0,0,0,0,0,0,0,0,0,2]
[{"$f":"IF(ADSI!$G$12=\"\",ADSI!$H$16,ADSI!$H$12)","v":6},{"$f":"IF(ADSI!$G$12=\"\",ADSI!$H$16,ADSI!$H$14)","v":""},817,{"$f":"ADSI!$K$12","v":2021},{"$f":"E26","v":0},0,0,0,0,0,0,0,0,0,0,0,0,0,0,0,0,0,0,0,0,0]
[{"$f":"IF(ADSI!$G$12=\"\",ADSI!$H$16,ADSI!$H$12)","v":6},{"$f":"IF(ADSI!$G$12=\"\",ADSI!$H$16,ADSI!$H$14)","v":""},818,{"$f":"ADSI!$K$12","v":2021},{"$f":"E27","v":0},0,0,0,0,0,0,0,0,0,0,0,0,0,0,0,0,0,0,0,0,0]
[{"$f":"IF(ADSI!$G$12=\"\",ADSI!$H$16,ADSI!$H$12)","v":6},{"$f":"IF(ADSI!$G$12=\"\",ADSI!$H$16,ADSI!$H$14)","v":""},819,{"$f":"ADSI!$K$12","v":2021},{"$f":"E28","v":0},0,0,0,0,0,0,0,0,0,0,0,0,0,0,0,0,0,0,0,0,0]
[{"$f":"IF(ADSI!$G$12=\"\",ADSI!$H$16,ADSI!$H$12)","v":6},{"$f":"IF(ADSI!$G$12=\"\",ADSI!$H$16,ADSI!$H$14)","v":""},820,{"$f":"ADSI!$K$12","v":2021},{"$f":"E29","v":0},0,0,1,1,0,2,0,0,0,0,0,0,0,0,0,0,0,0,0,0,2]
[{"$f":"IF(ADSI!$G$12=\"\",ADSI!$H$16,ADSI!$H$12)","v":6},{"$f":"IF(ADSI!$G$12=\"\",ADSI!$H$16,ADSI!$H$14)","v":""},821,{"$f":"ADSI!$K$12","v":2021},{"$f":"E30","v":0},0,7,14,11,1,33,0,0,0,0,0,0,0,0,0,0,0,0,0,0,33]
[{"$f":"IF(ADSI!$G$12=\"\",ADSI!$H$16,ADSI!$H$12)","v":6},{"$f":"IF(ADSI!$G$12=\"\",ADSI!$H$16,ADSI!$H$14)","v":""},822,{"$f":"ADSI!$K$12","v":2021},{"$f":"E31","v":0},0,0,0,0,4,4,0,0,0,0,0,0,0,0,0,0,0,0,0,0,4]
[{"$f":"IF(ADSI!$G$12=\"\",ADSI!$H$16,ADSI!$H$12)","v":6},{"$f":"IF(ADSI!$G$12=\"\",ADSI!$H$16,ADSI!$H$14)","v":""},823,{"$f":"ADSI!$K$12","v":2021},{"$f":"E32","v":0},0,0,3,2,0,5,0,0,0,0,0,0,0,0,0,0,0,0,0,0,5]
[{"$f":"IF(ADSI!$G$12=\"\",ADSI!$H$16,ADSI!$H$12)","v":6},{"$f":"IF(ADSI!$G$12=\"\",ADSI!$H$16,ADSI!$H$14)","v":""},840,{"$f":"ADSI!$K$12","v":2021},{"$f":"E33","v":2},6,65,79,81,16,249,1,4,19,21,11,16,72,0,0,0,0,0,0,0,321]

{"sheet":"P-XVI","index":18,"n_rows":513,"n_cols":102,"rows_kept":513,"cut":false,"hidden":false,"merged":[[203,98,205,101],[225,98,227,101],[34,0,34,2],[35,0,35,2],[36,0,36,2],[4,47,6,50],[36,3,36,22],[36,27,36,42],[37,3,37,22],[37,27,37,42],[20,3,21,22],[20,27,21,42],[22,3,22,22],[22,27,22,42],[23,3,23,22],[23,27,23,42],[24,3,24,22],[24,27,24,42],[25,3,25,22],[25,27,25,42],[32,3,33,22],[32,27,33,42],[34,3,34,22],[34,27,34,42],[35,3,35,22],[35,27,35,42],[240,52,240,53],[226,54,226,69],[226,70,226,77],[226,78,226,85],[226,86,226,97],[225,52,228,52],[225,53,228,53],[227,94,227,97],[227,74,227,77],[227,78,227,81],[227,82,227,85],[227,86,227,89],[227,90,227,93],[236,54,237,73],[236,74,236,77],[236,78,237,93],[236,94,236,97],[238,54,238,73],[238,78,238,93],[2,22,2,31],[2,32,2,42],[4,3,4,26],[4,27,4,46],[5,3,5,26],[6,3,6,6],[6,7,6,10],[6,23,6,26],[241,52,241,53],[230,52,230,97],[236,52,237,53],[238,52,238,53],[239,52,239,53],[2,43,2,46],[6,11,6,14],[204,86,204,97],[205,58,205,61],[205,54,205,57],[205,78,205,81],[205,74,205,77],[205,70,205,73],[205,66,205,69],[205,62,205,65],[219,52,220,53],[20,43,20,46],[32,23,32,26],[6,27,6,30],[6,31,6,34],[6,35,6,38],[6,39,6,42],[24,0,24,2],[23,0,23,2],[20,23,20,26],[32,43,32,46],[4,1,7,1],[4,2,7,2],[6,15,6,18],[6,19,6,22],[5,27,5,46],[6,43,6,46],[4,0,7,0],[32,0,33,2],[18,0,18,2],[19,0,19,2],[25,0,25,2],[26,0,26,46],[20,0,21,2],[22,0,22,2],[37,0,37,2],[223,52,223,53],[224,52,224,53],[203,54,203,69],[204,54,204,69],[221,52,221,53],[203,52,206,52],[203,53,206,53],[208,52,208,97],[222,52,222,53],[205,94,205,97],[205,90,205,93],[205,86,205,89],[205,82,205,85],[203,70,203,85],[204,70,204,77],[204,78,204,85],[203,86,203,97],[219,74,219,77],[219,94,219,97],[219,54,220,73],[217,52,217,53],[218,52,218,53],[219,78,220,93],[241,54,241,73],[241,78,241,93],[221,54,221,73],[222,54,222,73],[223,54,223,73],[224,54,224,73],[227,54,227,57],[227,58,227,61],[227,62,227,65],[227,66,227,69],[227,70,227,73],[225,54,225,69],[225,70,225,85],[225,86,225,97],[239,54,239,73],[239,78,239,93],[240,54,240,73],[240,78,240,93],[221,78,221,93],[222,78,222,93],[223,78,223,93],[224,78,224,93]]}
[{"$f":"ADSI!$B$1","v":"Goa, , ADSI-2021"}]
["Errors",null,{"$f":"COUNTIF(X24:AA24,FALSE)+COUNTIF(X26:AA26,FALSE)+COUNTIF(AR24:AU24,FALSE)+COUNTIF(AR26:AU26,FALSE)+COUNTIF(X36:AA36,FALSE)+COUNTIF(X38:AA38,FALSE)+COUNTIF(AR36:AU36,FALSE)+COUNTIF(AR38:AU38,FALSE)+COUNTIF(AV11:AY18,FALSE)+COUNTIF(AV28:AY32,FALSE)","v":0},null,"Abnormal Variations",{"$f":"COUNTIF(D19:AU20,\"ABVAR\")","v":2}]
["Proforma–XVI"]
["Social and Economic Status of Suicide Victims"]
["Code","Sl. No","Status","Number of Suicidal Deaths",null,null,null,null,null,null,null,null,null,null,null,null,null,null,null,null,null,null,null,null,null,null,null,"Number of Suicidal Deaths",null,null,null,null,null,null,null,null,null,null,null,null,null,null,null,null,null,null,null,"VALIDATION WITHIN PROFORMA–XVI (Social & Economic Status with Religion & Caste) [Column (23), (24), (25), (26) with Column (43), (44), (45), (46)]"]
[null,null,null,"Religion of Victims",null,null,null,null,null,null,null,null,null,null,null,null,null,null,null,null,null,null,null,null,null,null,null,"Caste of Victims"]
[null,null,null,"Hindu",null,null,null,"Muslim",null,null,null,"Christian",null,null,null,"Sikh",null,null,null,"Others",null,null,null,"Total",null,null,null,"General",null,null,null,"OBC",null,null,null,"SC",null,null,null,"ST",null,null,null,"Total"]
[null,null,null,"Male","Female","Transgender","Total","Male","Female","Transgender","Total","Male","Female","Transgender","Total","Male","Female","Transgender","Total","Male","Female","Transgender","Total","Male","Female","Transgender","Total","Male","Female","Transgender","Total","Male","Female","Transgender","Total","Male","Female","Transgender","Total","Male","Female","Transgender","Total","Male","Female","Transgender","Total","Male","Female","Transgender","Total"]
[null,"(1)","(2)","(3)","(4)","(5)","(6)","(7)","(8)","(9)","(10)","(11)","(12)","(13)","(14)","(15)","(16)","(17)","(18)","(19)","(20)","(21)","(22)","(23)","(24)","(25)","(26)","(27)","(28)","(29)","(30)","(31)","(32)","(33)","(34)","(35)","(36)","(37)","(38)","(39)","(40)","(41)","(42)","(43)","(44)","(45)","(46)"]
["Part-I: Social Status"]
[850,1,"Un-Married",64,7,0,{"$f":"SUM(D11:F11)","v":71},4,3,0,{"$f":"SUM(H11:J11)","v":7},18,5,0,{"$f":"SUM(L11:N11)","v":23},0,0,0,{"$f":"SUM(P11:R11)","v":0},0,0,0,{"$f":"SUM(T11:V11)","v":0},{"$f":"D11+H11+L11+P11+T11","v":86},{"$f":"E11+I11+M11+Q11+U11","v":15},{"$f":"F11+J11+N11+R11+V11","v":0},{"$f":"SUM(X11:Z11)","v":101},78,14,0,{"$f":"SUM(AB11:AD11)","v":92},3,1,0,{"$f":"SUM(AF11:AH11)","v":4},1,0,0,{"$f":"SUM(AJ11:AL11)","v":1},4,0,0,{"$f":"SUM(AN11:AP11)","v":4},{"$f":"AB11+AF11+AJ11+AN11","v":86},{"$f":"AC11+AG11+AK11+AO11","v":15},{"$f":"AD11+AH11+AL11+AP11","v":0},{"$f":"SUM(AR11:AT11)","v":101},{"$f":"IF(AR11=X11,\"\",FALSE)","v":""},{"$f":"IF(AS11=Y11,\"\",FALSE)","v":""},"",""]
[851,2,"Married",116,39,0,{"$f":"SUM(D12:F12)","v":155},13,3,0,{"$f":"SUM(H12:J12)","v":16},27,10,0,{"$f":"SUM(L12:N12)","v":37},0,0,0,{"$f":"SUM(P12:R12)","v":0},0,0,0,{"$f":"SUM(T12:V12)","v":0},{"$f":"D12+H12+L12+P12+T12","v":156},{"$f":"E12+I12+M12+Q12+U12","v":52},{"$f":"F12+J12+N12+R12+V12","v":0},{"$f":"SUM(X12:Z12)","v":208},137,46,0,{"$f":"SUM(AB12:AD12)","v":183},14,4,0,{"$f":"SUM(AF12:AH12)","v":18},0,1,0,{"$f":"SUM(AJ12:AL12)","v":1},5,1,0,{"$f":"SUM(AN12:AP12)","v":6},{"$f":"AB12+AF12+AJ12+AN12","v":156},{"$f":"AC12+AG12+AK12+AO12","v":52},{"$f":"AD12+AH12+AL12+AP12","v":0},{"$f":"SUM(AR12:AT12)","v":208},{"$f":"IF(AR12=X12,\"\",FALSE)","v":""},{"$f":"IF(AS12=Y12,\"\",FALSE)","v":""},{"$f":"IF(AT12=Z12,\"\",FALSE)","v":""},{"$f":"IF(AU12=AA12,\"\",FALSE)","v":""}]
[852,3,"Widowed/Widower",2,4,0,6,0,0,0,0,0,1,0,1,0,0,0,0,0,0,0,0,2,5,0,7,2,5,0,7,0,0,0,0,0,0,0,0,0,0,0,0,2,5,0,7,"","","",""]
[853,4,"Divorcee",0,0,0,0,0,0,0,0,0,0,0,0,0,0,0,0,0,0,0,0,0,0,0,0,0,0,0,0,0,0,0,0,0,0,0,0,0,0,0,0,0,0,0,0,"","","",""]
[854,5,"Separated",0,0,0,0,0,0,0,0,0,0,0,0,0,0,0,0,0,0,0,0,0,0,0,0,0,0,0,0,0,0,0,0,0,0,0,0,0,0,0,0,0,0,0,0,"","","",""]
[855,6,"Others",0,0,0,0,0,0,0,0,0,0,0,0,0,0,0,0,0,0,0,0,0,0,0,0,0,0,0,0,0,0,0,0,0,0,0,0,0,0,0,0,0,0,0,0,"","","",""]
[856,7,"Status not known",0,0,0,0,0,0,0,0,0,0,0,0,0,0,0,0,5,0,0,5,5,0,0,5,5,0,0,{"$f":"SUM(AB17:AD17)","v":5},0,0,0,0,0,0,0,0,0,0,0,0,5,0,0,5,"","","",""]
[865,8,"Total (sum of sl. 1 to 7)",{"$f":"SUM(D11:D17)","v":182},{"$f":"SUM(E11:E17)","v":50},0,232,17,6,0,23,45,16,0,61,0,0,0,0,5,0,0,5,249,72,{"$f":"SUM(Z11:Z17)","v":0},{"$f":"SUM(AA11:AA17)","v":321},{"$f":"SUM(AB11:AB17)","v":222},{"$f":"SUM(AC11:AC17)","v":65},{"$f":"SUM(AD11:AD17)","v":0},{"$f":"SUM(AE11:AE17)","v":287},{"$f":"SUM(AF11:AF17)","v":17},{"$f":"SUM(AG11:AG17)","v":5},{"$f":"SUM(AH11:AH17)","v":0},{"$f":"SUM(AI11:AI17)","v":22},{"$f":"SUM(AJ11:AJ17)","v":1},{"$f":"SUM(AK11:AK17)","v":1},{"$f":"SUM(AL11:AL17)","v":0},{"$f":"SUM(AM11:AM17)","v":2},{"$f":"SUM(AN11:AN17)","v":9},{"$f":"SUM(AO11:AO17)","v":1},{"$f":"SUM(AP11:AP17)","v":0},{"$f":"SUM(AQ11:AQ17)","v":10},{"$f":"SUM(AR11:AR17)","v":249},{"$f":"SUM(AS11:AS17)","v":72},{"$f":"SUM(AT11:AT17)","v":0},{"$f":"SUM(AU11:AU17)","v":321},"","","",""]
["SL-6 ABNORMAL VARIATION IN \"OTHERS\" DATA",null,null,{"$f":"IF(D18>0,IF((D16/D18*100)>10,\"ABVAR\",\"\"),\"\")","v":""},{"$f":"IF(E18>0,IF((E16/E18*100)>10,\"ABVAR\",\"\"),\"\")","v":""},"","","","","","","","","","","","","","","","","","","","","","","","","","","","","","","","","","","","","","","","","",""]
["SL-7 ABNORMAL VARIATION IN \"STATUS NOT KNOWN\" DATA",null,null,{"$f":"IF(D18>0,IF((D17/D18*100)>10,\"ABVAR\",\"\"),\"\")","v":""},{"$f":"IF(E18>0,IF((E17/E18*100)>10,\"ABVAR\",\"\"),\"\")","v":""},"","","","","","","","","","","","","","","ABVAR","","","ABVAR","","","","","","","","","","","","","","","","","","","","","","","",""]
["VALIDATION: SOCIAL STATUS",null,null,null,null,null,null,null,null,null,null,null,null,null,null,null,null,null,null,null,null,null,null,"Religion Total",null,null,null,null,null,null,null,null,null,null,null,null,null,null,null,null,null,null,null,"Caste Total"]
[null,null,null,null,null,null,null,null,null,null,null,null,null,null,null,null,null,null,null,null,null,null,null,"Male","Female","Transgender","Total",null,null,null,null,null,null,null,null,null,null,null,null,null,null,null,null,"Male","Female","Transgender","Total"]
["PROFORMA–XVI VALUES (Religion vs. Caste of Victims)",null,null,null,null,null,null,null,null,null,null,null,null,null,null,null,null,null,null,null,null,null,null,{"$f":"X18","v":249},{"$f":"Y18","v":72},0,321,null,null,null,null,null,null,null,null,null,null,null,null,null,null,null,null,{"$f":"AR18","v":249},{"$f":"AS18","v":72},0,321]
["VALIDATION WITHIN PROFORMA–XVI (Religion vs. Caste of Victims)",null,null,null,null,null,null,null,null,null,null,null,null,null,null,null,null,null,null,null,null,null,null,{"$f":"IF(X18=AR18,\"\",FALSE)","v":""},{"$f":"IF(Y18=AS18,\"\",FALSE)","v":""},"","",null,null,null,null,null,null,null,null,null,null,null,null,null,null,null,null,{"$f":"IF(AR18=X18,\"\",FALSE)","v":""},{"$f":"IF(AS18=Y18,\"\",FALSE)","v":""},"",""]
["PROFORMA–XIV VALUES [Sl.–21 (Total)]",null,null,null,null,null,null,null,null,null,null,null,null,null,null,null,null,null,null,null,null,null,null,{"$f":"'P-XIV'!J38","v":249},{"$f":"'P-XIV'!Q38","v":72},{"$f":"'P-XIV'!X38","v":0},{"$f":"'P-XIV'!Y38","v":321},null,null,null,null,null,null,null,null,null,null,null,null,null,null,null,null,{"$f":"'P-XIV'!J38","v":249},{"$f":"'P-XIV'!Q38","v":72},{"$f":"'P-XIV'!X38","v":0},{"$f":"'P-XIV'!Y38","v":321}]
["VALIDATION WITH PROFORMA–XIV [Sl.–21 (Total)]",null,null,null,null,null,null,null,null,null,null,null,null,null,null,null,null,null,null,null,null,null,null,{"$f":"IF(X18='P-XIV'!J38,\"\",FALSE)","v":""},{"$f":"IF(Y18='P-XIV'!Q38,\"\",FALSE)","v":""},{"$f":"IF(Z18='P-XIV'!X38,\"\",FALSE)","v":""},{"$f":"IF(AA18='P-XIV'!Y38,\"\",FALSE)","v":""},null,null,null,null,null,null,null,null,null,null,null,null,null,null,null,null,{"$f":"IF(AR18='P-XIV'!J38,\"\",FALSE)","v":""},{"$f":"IF(AS18='P-XIV'!Q38,\"\",FALSE)","v":""},{"$f":"IF(AT18='P-XIV'!X38,\"\",FALSE)","v":""},{"$f":"IF(AU18='P-XIV'!Y38,\"\",FALSE)","v":""}]
["Part-II: Economic Status"]
[875,9,"less than Rs. 1 lakh",85,38,0,{"$f":"SUM(D28:F28)","v":123},8,5,0,{"$f":"SUM(H28:J28)","v":13},18,12,0,{"$f":"SUM(L28:N28)","v":30},0,0,0,{"$f":"SUM(P28:R28)","v":0},5,0,0,{"$f":"SUM(T28:V28)","v":5},{"$f":"D28+H28+L28+P28+T28","v":116},{"$f":"E28+I28+M28+Q28+U28","v":55},{"$f":"F28+J28+N28+R28+V28","v":0},{"$f":"SUM(X28:Z28)","v":171},103,50,0,{"$f":"SUM(AB28:AD28)","v":153},10,3,0,{"$f":"SUM(AF28:AH28)","v":13},0,1,0,{"$f":"SUM(AJ28:AL28)","v":1},3,1,0,{"$f":"SUM(AN28:AP28)","v":4},{"$f":"AB28+AF28+AJ28+AN28","v":116},{"$f":"AC28+AG28+AK28+AO28","v":55},{"$f":"AD28+AH28+AL28+AP28","v":0},{"$f":"SUM(AR28:AT28)","v":171},{"$f":"IF(AR28=X28,\"\",FALSE)","v":""},{"$f":"IF(AS28=Y28,\"\",FALSE)","v":""},{"$f":"IF(AT28=Z28,\"\",FALSE)","v":""},{"$f":"IF(AU28=AA28,\"\",FALSE)","v":""}]
[876,10,"Rs. 1 lakh & above – less than Rs. 5 lakhs",89,11,0,{"$f":"SUM(D29:F29)","v":100},9,1,0,{"$f":"SUM(H29:J29)","v":10},26,4,0,{"$f":"SUM(L29:N29)","v":30},0,0,0,{"$f":"SUM(P29:R29)","v":0},0,0,0,{"$f":"SUM(T29:V29)","v":0},{"$f":"D29+H29+L29+P29+T29","v":124},{"$f":"E29+I29+M29+Q29+U29","v":16},{"$f":"F29+J29+N29+R29+V29","v":0},{"$f":"SUM(X29:Z29)","v":140},111,14,0,{"$f":"SUM(AB29:AD29)","v":125},6,2,0,{"$f":"SUM(AF29:AH29)","v":8},1,0,0,{"$f":"SUM(AJ29:AL29)","v":1},6,0,0,{"$f":"SUM(AN29:AP29)","v":6},{"$f":"AB29+AF29+AJ29+AN29","v":124},{"$f":"AC29+AG29+AK29+AO29","v":16},{"$f":"AD29+AH29+AL29+AP29","v":0},{"$f":"SUM(AR29:AT29)","v":140},"","","",""]
[877,11,"Rs. 5 lakhs & above – less than Rs. 10 lakhs",8,1,0,9,0,0,0,0,1,0,0,1,0,0,0,0,0,0,0,0,9,1,0,10,8,1,0,9,1,0,0,1,0,0,0,0,0,0,0,0,9,1,0,10,"","","",""]
[878,12,"Rs. 10 lakhs and above",0,0,0,0,0,0,0,0,0,0,0,0,0,0,0,0,0,0,0,0,0,0,0,0,0,0,0,0,0,0,0,0,0,0,0,0,0,0,0,0,0,0,0,0,"","","",""]
[890,13,"Total (Economic Status) (sum of Sl. 9 to 12)",{"$f":"SUM(D28:D31)","v":182},50,0,232,17,6,0,23,45,16,0,61,0,0,0,0,5,0,0,5,249,72,0,321,222,65,0,287,17,5,0,22,1,1,0,2,9,1,0,10,249,72,0,321,"","","",""]
["VALIDATION: ECONOMIC STATUS",null,null,null,null,null,null,null,null,null,null,null,null,null,null,null,null,null,null,null,null,null,null,"Religion Total",null,null,null,null,null,null,null,null,null,null,null,null,null,null,null,null,null,null,null,"Caste Total"]
[null,null,null,null,null,null,null,null,null,null,null,null,null,null,null,null,null,null,null,null,null,null,null,"Male","Female","Transgender","Total",null,null,null,null,null,null,null,null,null,null,null,null,null,null,null,null,"Male","Female","Transgender","Total"]
[" PROFORMA–XVI VALUES (Religion vs. Caste of Victims)",null,null,null,null,null,null,null,null,null,null,null,null,null,null,null,null,null,null,null,null,null,null,{"$f":"X32","v":249},{"$f":"Y32","v":72},0,321,null,null,null,null,null,null,null,null,null,null,null,null,null,null,null,null,{"$f":"AR32","v":249},{"$f":"AS32","v":72},0,321]
["VALIDATION WITHIN PROFORMA–XVI (Religion vs. Caste of Victims)",null,null,null,null,null,null,null,null,null,null,null,null,null,null,null,null,null,null,null,null,null,null,{"$f":"IF(X32=AR32,\"\",FALSE)","v":""},{"$f":"IF(Y32=AS32,\"\",FALSE)","v":""},{"$f":"IF(Z32=AT32,\"\",FALSE)","v":""},{"$f":"IF(AA32=AU32,\"\",FALSE)","v":""},null,null,null,null,null,null,null,null,null,null,null,null,null,null,null,null,{"$f":"IF(AR32=X32,\"\",FALSE)","v":""},{"$f":"IF(AS32=Y32,\"\",FALSE)","v":""},{"$f":"IF(AT32=Z32,\"\",FALSE)","v":""},{"$f":"IF(AU32=AA32,\"\",FALSE)","v":""}]
[" PROFORMA–XIV VALUES [Sl.–21 (Total)]",null,null,null,null,null,null,null,null,null,null,null,null,null,null,null,null,null,null,null,null,null,null,{"$f":"'P-XIV'!J38","v":249},{"$f":"'P-XIV'!Q38","v":72},{"$f":"'P-XIV'!X38","v":0},{"$f":"'P-XIV'!Y38","v":321},null,null,null,null,null,null,null,null,null,null,null,null,null,null,null,null,{"$f":"'P-XIV'!J38","v":249},{"$f":"'P-XIV'!Q38","v":72},{"$f":"'P-XIV'!X38","v":0},{"$f":"'P-XIV'!Y38","v":321}]
["VALIDATION WITH PROFORMA–XIV [Sl.–21 (Total)]",null,null,null,null,null,null,null,null,null,null,null,null,null,null,null,null,null,null,null,null,null,null,{"$f":"IF(X32='P-XIV'!J38,\"\",FALSE)","v":""},{"$f":"IF(Y32='P-XIV'!Q38,\"\",FALSE)","v":""},{"$f":"IF(Z32='P-XIV'!X38,\"\",FALSE)","v":""},{"$f":"IF(AA32='P-XIV'!Y38,\"\",FALSE)","v":""},null,null,null,null,null,null,null,null,null,null,null,null,null,null,null,null,{"$f":"IF(AR32='P-XIV'!J38,\"\",FALSE)","v":""},{"$f":"IF(AS32='P-XIV'!Q38,\"\",FALSE)","v":""},{"$f":"IF(AT32='P-XIV'!X38,\"\",FALSE)","v":""},{"$f":"IF(AU32='P-XIV'!Y38,\"\",FALSE)","v":""}]
[]
[]
[]
[]
[]
[]
[]
[]
[]
[]
[]
[]
[]
[]
[]
[]
[]
[]
[]
[]
[]
[]
[]
[]
[]
[]
[]
[]
[]
[]
[]
[]
[]
[]
[]
[]
[]
[]
[]
[]
[]
[]
[]
[]
[]
[]
[]
[]
[]
[]
[]
[]
[]
[]
[]
[]
[]
[]
[]
[]
[]
[]
[]
[]
[]
[]
[]
[]
[]
[]
[]
[]
[]
[]
[]
[]
[]
[]
[]
[]
[]
[]
[]
[]
[]
[]
[]
[]
[]
[]
[]
[]
[]
[]
[]
[]
[]
[]
[]
[]
[]
[]
[]
[]
[]
[]
[]
[]
[]
[]
[]
[]
[]
[]
[]
[]
[]
[]
[]
[]
[]
[]
[]
[]
[]
[]
[]
[]
[]
[]
[]
[]
[]
[]
[]
[]
[]
[]
[]
[]
[]
[]
[]
[]
[]
[]
[]
[]
[]
[]
[]
[]
[]
[]
[]
[]
[]
[]
[]
[]
[]
[null,null,null,null,null,null,null,null,null,null,null,null,null,null,null,null,null,null,null,null,null,null,null,null,null,null,null,null,null,null,null,null,null,null,null,null,null,null,null,null,null,null,null,null,null,null,null,null,null,null,null,null,{"$f":"A1","v":"Goa, , ADSI-2021"}]
[null,null,null,null,null,null,null,null,null,null,null,null,null,null,null,null,null,null,null,null,null,null,null,null,null,null,null,null,null,null,null,null,null,null,null,null,null,null,null,null,null,null,null,null,null,null,null,null,null,null,null,null,{"$f":"A2","v":"Errors"},{"$f":"C2","v":0},null,{"$f":"E2","v":"Abnormal Variations"},{"$f":"F2","v":2}]
[null,null,null,null,null,null,null,null,null,null,null,null,null,null,null,null,null,null,null,null,null,null,null,null,null,null,null,null,null,null,null,null,null,null,null,null,null,null,null,null,null,null,null,null,null,null,null,null,null,null,null,null,{"$f":"A3","v":"Proforma–XVI"}]
[null,null,null,null,null,null,null,null,null,null,null,null,null,null,null,null,null,null,null,null,null,null,null,null,null,null,null,null,null,null,null,null,null,null,null,null,null,null,null,null,null,null,null,null,null,null,null,null,null,null,null,null,{"$f":"A4","v":"Social and Economic Status of Suicide Victims"}]
[null,null,null,null,null,null,null,null,null,null,null,null,null,null,null,null,null,null,null,null,null,null,null,null,null,null,null,null,null,null,null,null,null,null,null,null,null,null,null,null,null,null,null,null,null,null,null,null,null,null,null,null,{"$f":"B5","v":"Sl. No"},{"$f":"C5","v":"Status"},{"$f":"D5","v":"Number of Suicidal Deaths"},null,null,null,null,null,null,null,null,null,null,null,null,null,null,null,"Number of Suicidal Deaths",null,null,null,null,null,null,null,null,null,null,null,null,null,null,null,"Number of Suicidal Deaths",null,null,null,null,null,null,null,null,null,null,null,{"$f":"AV5","v":"VALIDATION WITHIN PROFORMA–XVI (Social & Economic Status with Religion & Caste) [Column (23), (24), (25), (26) with Column (43), (44), (45), (46)]"}]
[null,null,null,null,null,null,null,null,null,null,null,null,null,null,null,null,null,null,null,null,null,null,null,null,null,null,null,null,null,null,null,null,null,null,null,null,null,null,null,null,null,null,null,null,null,null,null,null,null,null,null,null,null,null,{"$f":"D6","v":"Religion of Victims"},null,null,null,null,null,null,null,null,null,null,null,null,null,null,null,"Religion of Victims",null,null,null,null,null,null,null,{"$f":"AB6","v":"Caste of Victims"},null,null,null,null,null,null,null,"Caste of Victims"]
[null,null,null,null,null,null,null,null,null,null,null,null,null,null,null,null,null,null,null,null,null,null,null,null,null,null,null,null,null,null,null,null,null,null,null,null,null,null,null,null,null,null,null,null,null,null,null,null,null,null,null,null,null,null,{"$f":"D7","v":"Hindu"},null,null,null,{"$f":"H7","v":"Muslim"},null,null,null,{"$f":"L7","v":"Christian"},null,null,null,{"$f":"P7","v":"Sikh"},null,null,null,{"$f":"T7","v":"Others"},null,null,null,{"$f":"X7","v":"Total"},null,null,null,{"$f":"AB7","v":"General"},null,null,null,{"$f":"AF7","v":"OBC"},null,null,null,{"$f":"AJ7","v":"SC"},null,null,null,{"$f":"AN7","v":"ST"},null,null,null,{"$f":"AR7","v":"Total"}]
[null,null,null,null,null,null,null,null,null,null,null,null,null,null,null,null,null,null,null,null,null,null,null,null,null,null,null,null,null,null,null,null,null,null,null,null,null,null,null,null,null,null,null,null,null,null,null,null,null,null,null,null,null,null,{"$f":"D8","v":"Male"},{"$f":"E8","v":"Female"},"Transgender","Total",{"$f":"H8","v":"Male"},{"$f":"I8","v":"Female"},"Transgender","Total",{"$f":"L8","v":"Male"},{"$f":"M8","v":"Female"},"Transgender","Total",{"$f":"P8","v":"Male"},{"$f":"Q8","v":"Female"},"Transgender","Total",{"$f":"T8","v":"Male"},{"$f":"U8","v":"Female"},"Transgender","Total",{"$f":"X8","v":"Male"},{"$f":"Y8","v":"Female"},"Transgender","Total",{"$f":"AB8","v":"Male"},{"$f":"AC8","v":"Female"},"Transgender","Total",{"$f":"AF8","v":"Male"},{"$f":"AG8","v":"Female"},"Transgender","Total",{"$f":"AJ8","v":"Male"},{"$f":"AK8","v":"Female"},"Transgender","Total",{"$f":"AN8","v":"Male"},{"$f":"AO8","v":"Female"},"Transgender","Total",{"$f":"AR8","v":"Male"},{"$f":"AS8","v":"Female"},"Transgender","Total",{"$f":"AV8","v":"Male"},{"$f":"AW8","v":"Female"},"Transgender","Total"]
[null,null,null,null,null,null,null,null,null,null,null,null,null,null,null,null,null,null,null,null,null,null,null,null,null,null,null,null,null,null,null,null,null,null,null,null,null,null,null,null,null,null,null,null,null,null,null,null,null,null,null,null,{"$f":"B9","v":"(1)"},{"$f":"C9","v":"(2)"},{"$f":"D9","v":"(3)"},"(4)","(5)","(6)",{"$f":"H9","v":"(7)"},"(8)","(9)","(10)",{"$f":"L9","v":"(11)"},"(12)","(13)","(14)",{"$f":"P9","v":"(15)"},"(16)","(17)","(18)",{"$f":"T9","v":"(19)"},"(20)","(21)","(22)",{"$f":"X9","v":"(23)"},"(24)","(25)","(26)",{"$f":"AB9","v":"(27)"},"(28)","(29)","(30)",{"$f":"AF9","v":"(31)"},"(32)","(33)","(34)",{"$f":"AJ9","v":"(35)"},"(36)","(37)","(38)",{"$f":"AN9","v":"(39)"},"(40)","(41)","(42)",{"$f":"AR9","v":"(43)"},"(44)","(45)","(46)"]
[null,null,null,null,null,null,null,null,null,null,null,null,null,null,null,null,null,null,null,null,null,null,null,null,null,null,null,null,null,null,null,null,null,null,null,null,null,null,null,null,null,null,null,null,null,null,null,null,null,null,null,null,{"$f":"A10","v":"Part-I: Social Status"}]
[null,null,null,null,null,null,null,null,null,null,null,null,null,null,null,null,null,null,null,null,null,null,null,null,null,null,null,null,null,null,null,null,null,null,null,null,null,null,null,null,null,null,null,null,null,null,null,null,null,null,null,null,{"$f":"B11","v":1},"Un-Married",64,7,0,71,4,3,0,7,{"$f":"L11","v":18},5,0,23,0,0,0,0,0,0,{"$f":"V11","v":0},0,86,15,0,101,78,14,0,92,{"$f":"AF11","v":3},1,0,4,1,0,0,1,4,0,{"$f":"AP11","v":0},4,86,15,0,101,{"$f":"AV11","v":""},{"$f":"AW11","v":""},{"$f":"AX11","v":""},{"$f":"AY11","v":""}]
[null,null,null,null,null,null,null,null,null,null,null,null,null,null,null,null,null,null,null,null,null,null,null,null,null,null,null,null,null,null,null,null,null,null,null,null,null,null,null,null,null,null,null,null,null,null,null,null,null,null,null,null,2,"Married",116,39,0,155,13,3,0,16,27,10,0,37,0,0,0,0,0,0,0,0,156,52,0,208,137,46,0,183,14,4,0,18,0,1,0,1,5,1,0,6,156,52,0,208,"","","",""]
[null,null,null,null,null,null,null,null,null,null,null,null,null,null,null,null,null,null,null,null,null,null,null,null,null,null,null,null,null,null,null,null,null,null,null,null,null,null,null,null,null,null,null,null,null,null,null,null,null,null,null,null,3,"Widowed/Widower",2,4,0,6,0,0,0,0,0,1,0,1,0,0,0,0,0,0,0,0,2,5,0,7,2,5,0,7,0,0,0,0,0,0,0,0,0,0,0,0,2,5,0,7,"","","",""]
[null,null,null,null,null,null,null,null,null,null,null,null,null,null,null,null,null,null,null,null,null,null,null,null,null,null,null,null,null,null,null,null,null,null,null,null,null,null,null,null,null,null,null,null,null,null,null,null,null,null,null,null,4,"Divorcee",0,0,0,0,0,0,0,0,0,0,0,0,0,0,0,0,0,0,0,0,0,0,0,0,0,0,0,0,0,0,0,0,0,0,0,0,0,0,0,0,0,0,0,0,"","","",""]
[null,null,null,null,null,null,null,null,null,null,null,null,null,null,null,null,null,null,null,null,null,null,null,null,null,null,null,null,null,null,null,null,null,null,null,null,null,null,null,null,null,null,null,null,null,null,null,null,null,null,null,null,5,"Separated",0,0,0,0,0,0,0,0,0,0,0,0,0,0,0,0,0,0,0,0,0,0,0,0,0,0,0,0,0,0,0,0,0,0,0,0,0,0,0,0,0,0,0,0,"","","",""]
[null,null,null,null,null,null,null,null,null,null,null,null,null,null,null,null,null,null,null,null,null,null,null,null,null,null,null,null,null,null,null,null,null,null,null,null,null,null,null,null,null,null,null,null,null,null,null,null,null,null,null,null,6,"Others",0,0,0,0,0,0,0,0,0,0,0,0,0,0,0,0,0,0,0,0,0,0,0,0,0,0,0,0,0,0,0,0,0,0,0,0,0,0,0,0,0,0,0,0,"","","",""]
[null,null,null,null,null,null,null,null,null,null,null,null,null,null,null,null,null,null,null,null,null,null,null,null,null,null,null,null,null,null,null,null,null,null,null,null,null,null,null,null,null,null,null,null,null,null,null,null,null,null,null,null,7,"Status not known",0,0,0,0,0,0,0,0,0,0,0,0,0,0,0,0,5,0,0,5,5,0,0,5,5,0,0,5,0,0,0,0,0,0,0,0,0,0,0,0,5,0,0,5,"","","",""]
[null,null,null,null,null,null,null,null,null,null,null,null,null,null,null,null,null,null,null,null,null,null,null,null,null,null,null,null,null,null,null,null,null,null,null,null,null,null,null,null,null,null,null,null,null,null,null,null,null,null,null,null,8,"Total (sum of sl. 1 to 7)",182,50,0,232,17,6,0,23,45,16,0,61,0,0,0,0,5,0,0,5,249,72,0,321,222,65,0,287,17,5,0,22,1,1,0,2,9,1,0,10,249,72,0,321,"","","",""]
[null,null,null,null,null,null,null,null,null,null,null,null,null,null,null,null,null,null,null,null,null,null,null,null,null,null,null,null,null,null,null,null,null,null,null,null,null,null,null,null,null,null,null,null,null,null,null,null,null,null,null,null,{"$f":"A19","v":"SL-6 ABNORMAL VARIATION IN \"OTHERS\" DATA"},null,{"$f":"D19","v":""},"","","","","","","","","","","","","","","","","","","","","","","","","","","","","","","","","","","","","","","","","","",""]
[null,null,null,null,null,null,null,null,null,null,null,null,null,null,null,null,null,null,null,null,null,null,null,null,null,null,null,null,null,null,null,null,null,null,null,null,null,null,null,null,null,null,null,null,null,null,null,null,null,null,null,null,{"$f":"A20","v":"SL-7 ABNORMAL VARIATION IN \"STATUS NOT KNOWN\" DATA"},null,{"$f":"D20","v":""},"","","","","","","","","","","","","","","","ABVAR","","","ABVAR","","","","","","","","","","","","","","","","","","","","","","","",""]
[null,null,null,null,null,null,null,null,null,null,null,null,null,null,null,null,null,null,null,null,null,null,null,null,null,null,null,null,null,null,null,null,null,null,null,null,null,null,null,null,null,null,null,null,null,null,null,null,null,null,null,null,{"$f":"A21","v":"VALIDATION: SOCIAL STATUS"},null,null,null,null,null,null,null,null,null,null,null,null,null,null,null,null,null,null,null,null,null,{"$f":"X21","v":"Religion Total"},null,null,null,null,null,null,null,null,null,null,null,null,null,null,null,null,null,null,null,{"$f":"AR21","v":"Caste Total"}]
[null,null,null,null,null,null,null,null,null,null,null,null,null,null,null,null,null,null,null,null,null,null,null,null,null,null,null,null,null,null,null,null,null,null,null,null,null,null,null,null,null,null,null,null,null,null,null,null,null,null,null,null,null,null,null,null,null,null,null,null,null,null,null,null,null,null,null,null,null,null,null,null,null,null,{"$f":"X22","v":"Male"},{"$f":"Y22","v":"Female"},"Transgender","Total",null,null,null,null,null,null,null,null,null,null,null,null,null,null,null,null,{"$f":"X22","v":"Male"},{"$f":"Y22","v":"Female"},"Transgender","Total"]
[null,null,null,null,null,null,null,null,null,null,null,null,null,null,null,null,null,null,null,null,null,null,null,null,null,null,null,null,null,null,null,null,null,null,null,null,null,null,null,null,null,null,null,null,null,null,null,null,null,null,null,null,{"$f":"A23","v":"PROFORMA–XVI VALUES (Religion vs. Caste of Victims)"},null,null,null,null,null,null,null,null,null,null,null,null,null,null,null,null,null,null,null,null,null,{"$f":"X23","v":249},{"$f":"Y23","v":72},0,321,null,null,null,null,null,null,null,null,null,null,null,null,null,null,null,null,{"$f":"AR23","v":249},{"$f":"AS23","v":72},0,321]
[null,null,null,null,null,null,null,null,null,null,null,null,null,null,null,null,null,null,null,null,null,null,null,null,null,null,null,null,null,null,null,null,null,null,null,null,null,null,null,null,null,null,null,null,null,null,null,null,null,null,null,null,{"$f":"A24","v":"VALIDATION WITHIN PROFORMA–XVI (Religion vs. Caste of Victims)"},null,null,null,null,null,null,null,null,null,null,null,null,null,null,null,null,null,null,null,null,null,{"$f":"X24","v":""},{"$f":"Y24","v":""},{"$f":"Z24","v":""},{"$f":"AA24","v":""},null,null,null,null,null,null,null,null,null,null,null,null,null,null,null,null,{"$f":"AR24","v":""},{"$f":"AS24","v":""},{"$f":"AT24","v":""},{"$f":"AU24","v":""}]
[null,null,null,null,null,null,null,null,null,null,null,null,null,null,null,null,null,null,null,null,null,null,null,null,null,null,null,null,null,null,null,null,null,null,null,null,null,null,null,null,null,null,null,null,null,null,null,null,null,null,null,null,{"$f":"A25","v":"PROFORMA–XIV VALUES [Sl.–21 (Total)]"},null,null,null,null,null,null,null,null,null,null,null,null,null,null,null,null,null,null,null,null,null,249,72,0,321,null,null,null,null,null,null,null,null,null,null,null,null,null,null,null,null,249,72,0,321]
[null,null,null,null,null,null,null,null,null,null,null,null,null,null,null,null,null,null,null,null,null,null,null,null,null,null,null,null,null,null,null,null,null,null,null,null,null,null,null,null,null,null,null,null,null,null,null,null,null,null,null,null,{"$f":"A26","v":"VALIDATION WITH PROFORMA–XIV [Sl.–21 (Total)]"},null,null,null,null,null,null,null,null,null,null,null,null,null,null,null,null,null,null,null,null,null,{"$f":"X26","v":""},"","","",null,null,null,null,null,null,null,null,null,null,null,null,null,null,null,null,"","","",""]
[null,null,null,null,null,null,null,null,null,null,null,null,null,null,null,null,null,null,null,null,null,null,null,null,null,null,null,null,null,null,null,null,null,null,null,null,null,null,null,null,null,null,null,null,null,null,null,null,null,null,null,null,{"$f":"B5","v":"Sl. No"},{"$f":"C5","v":"Status"},{"$f":"AB5","v":"Number of Suicidal Deaths"},null,null,null,null,null,null,null,null,null,null,null,null,null,null,null,null,null,null,null,null,null,null,null,null,null,null,null,null,null,null,null,null,null,null,null,null,null,null,null,null,null,null,null,{"$f":"AV5","v":"VALIDATION WITHIN PROFORMA–XVI (Social & Economic Status with Religion & Caste) [Column (23), (24), (25), (26) with Column (43), (44), (45), (46)]"}]
[null,null,null,null,null,null,null,null,null,null,null,null,null,null,null,null,null,null,null,null,null,null,null,null,null,null,null,null,null,null,null,null,null,null,null,null,null,null,null,null,null,null,null,null,null,null,null,null,null,null,null,null,null,null,{"$f":"D6","v":"Religion of Victims"},null,null,null,null,null,null,null,null,null,null,null,null,null,null,null,null,null,null,null,null,null,null,null,{"$f":"AB6","v":"Caste of Victims"}]
[null,null,null,null,null,null,null,null,null,null,null,null,null,null,null,null,null,null,null,null,null,null,null,null,null,null,null,null,null,null,null,null,null,null,null,null,null,null,null,null,null,null,null,null,null,null,null,null,null,null,null,null,null,null,{"$f":"D7","v":"Hindu"},null,null,null,{"$f":"H7","v":"Muslim"},null,null,null,{"$f":"L7","v":"Christian"},null,null,null,{"$f":"P7","v":"Sikh"},null,null,null,{"$f":"T7","v":"Others"},null,null,null,{"$f":"X7","v":"Total"},null,null,null,{"$f":"AB7","v":"General"},null,null,null,{"$f":"AF7","v":"OBC"},null,null,null,{"$f":"AJ7","v":"SC"},null,null,null,{"$f":"AN7","v":"ST"},null,null,null,{"$f":"AR7","v":"Total"}]
[null,null,null,null,null,null,null,null,null,null,null,null,null,null,null,null,null,null,null,null,null,null,null,null,null,null,null,null,null,null,null,null,null,null,null,null,null,null,null,null,null,null,null,null,null,null,null,null,null,null,null,null,null,null,{"$f":"D8","v":"Male"},{"$f":"E8","v":"Female"},{"$f":"F8","v":"Transgender"},{"$f":"G8","v":"Total"},{"$f":"H8","v":"Male"},"Female","Transgender","Total",{"$f":"L8","v":"Male"},{"$f":"M8","v":"Female"},{"$f":"N8","v":"Transgender"},{"$f":"O8","v":"Total"},{"$f":"P8","v":"Male"},{"$f":"Q8","v":"Female"},{"$f":"R8","v":"Transgender"},{"$f":"S8","v":"Total"},{"$f":"T8","v":"Male"},{"$f":"U8","v":"Female"},{"$f":"V8","v":"Transgender"},{"$f":"W8","v":"Total"},{"$f":"X8","v":"Male"},{"$f":"Y8","v":"Female"},{"$f":"Z8","v":"Transgender"},{"$f":"AA8","v":"Total"},{"$f":"AB8","v":"Male"},{"$f":"AC8","v":"Female"},{"$f":"AD8","v":"Transgender"},{"$f":"AE8","v":"Total"},{"$f":"AF8","v":"Male"},{"$f":"AG8","v":"Female"},{"$f":"AH8","v":"Transgender"},{"$f":"AI8","v":"Total"},{"$f":"AJ8","v":"Male"},{"$f":"AK8","v":"Female"},{"$f":"AL8","v":"Transgender"},{"$f":"AM8","v":"Total"},{"$f":"AN8","v":"Male"},{"$f":"AO8","v":"Female"},{"$f":"AP8","v":"Transgender"},{"$f":"AQ8","v":"Total"},{"$f":"AR8","v":"Male"},{"$f":"AS8","v":"Female"},{"$f":"AT8","v":"Transgender"},{"$f":"AU8","v":"Total"},{"$f":"AV8","v":"Male"},{"$f":"AW8","v":"Female"},"Transgender","Total"]
[null,null,null,null,null,null,null,null,null,null,null,null,null,null,null,null,null,null,null,null,null,null,null,null,null,null,null,null,null,null,null,null,null,null,null,null,null,null,null,null,null,null,null,null,null,null,null,null,null,null,null,null,{"$f":"B9","v":"(1)"},{"$f":"C9","v":"(2)"},{"$f":"D9","v":"(3)"},"(4)","(5)","(6)","(7)","(8)","(9)","(10)","(11)","(12)","(13)","(14)","(15)","(16)","(17)","(18)","(19)","(20)","(21)","(22)","(23)","(24)","(25)","(26)","(27)","(28)","(29)","(30)","(31)","(32)","(33)","(34)","(35)","(36)","(37)","(38)","(39)","(40)","(41)","(42)","(43)","(44)","(45)","(46)"]
[null,null,null,null,null,null,null,null,null,null,null,null,null,null,null,null,null,null,null,null,null,null,null,null,null,null,null,null,null,null,null,null,null,null,null,null,null,null,null,null,null,null,null,null,null,null,null,null,null,null,null,null,{"$f":"A27","v":"Part-II: Economic Status"}]
[null,null,null,null,null,null,null,null,null,null,null,null,null,null,null,null,null,null,null,null,null,null,null,null,null,null,null,null,null,null,null,null,null,null,null,null,null,null,null,null,null,null,null,null,null,null,null,null,null,null,null,null,{"$f":"B28","v":9},{"$f":"C28","v":"less than Rs. 1 lakh"},{"$f":"D28","v":85},{"$f":"E28","v":38},0,123,8,5,0,13,18,12,0,30,0,0,0,0,5,0,0,5,116,55,0,171,103,50,0,153,10,3,0,13,0,1,0,1,3,1,0,4,116,55,0,171,{"$f":"AV28","v":""},{"$f":"AW28","v":""},"",""]
[null,null,null,null,null,null,null,null,null,null,null,null,null,null,null,null,null,null,null,null,null,null,null,null,null,null,null,null,null,null,null,null,null,null,null,null,null,null,null,null,null,null,null,null,null,null,null,null,null,null,null,null,{"$f":"B29","v":10},{"$f":"C29","v":"Rs. 1 lakh & above – less than Rs. 5 lakhs"},{"$f":"D29","v":89},11,0,100,9,1,0,10,26,4,0,30,0,0,0,0,0,0,0,0,124,16,0,140,111,14,0,125,6,2,0,8,1,0,0,1,6,0,0,6,124,16,0,140,{"$f":"AV29","v":""},{"$f":"AW29","v":""},{"$f":"AX29","v":""},{"$f":"AY29","v":""}]
[null,null,null,null,null,null,null,null,null,null,null,null,null,null,null,null,null,null,null,null,null,null,null,null,null,null,null,null,null,null,null,null,null,null,null,null,null,null,null,null,null,null,null,null,null,null,null,null,null,null,null,null,11,"Rs. 5 lakhs & above – less than Rs. 10 lakhs",8,1,0,9,0,0,0,0,1,0,0,1,0,0,0,0,0,0,0,0,9,1,0,10,8,1,0,9,1,0,0,1,0,0,0,0,0,0,0,0,9,1,0,10,"","","",""]
[null,null,null,null,null,null,null,null,null,null,null,null,null,null,null,null,null,null,null,null,null,null,null,null,null,null,null,null,null,null,null,null,null,null,null,null,null,null,null,null,null,null,null,null,null,null,null,null,null,null,null,null,12,"Rs. 10 lakhs and above",0,0,0,0,0,0,0,0,0,0,0,0,0,0,0,0,0,0,0,0,0,0,0,0,0,0,0,0,0,0,0,0,0,0,0,0,0,0,0,0,0,0,0,0,"","","",""]
[null,null,null,null,null,null,null,null,null,null,null,null,null,null,null,null,null,null,null,null,null,null,null,null,null,null,null,null,null,null,null,null,null,null,null,null,null,null,null,null,null,null,null,null,null,null,null,null,null,null,null,null,13,"Total (Economic Status) (sum of Sl. 9 to 12)",182,50,0,232,17,6,0,23,45,16,0,61,0,0,0,0,5,0,0,5,249,72,0,321,222,65,0,287,17,5,0,22,1,1,0,2,9,1,0,10,249,72,0,321,"","","",""]
[null,null,null,null,null,null,null,null,null,null,null,null,null,null,null,null,null,null,null,null,null,null,null,null,null,null,null,null,null,null,null,null,null,null,null,null,null,null,null,null,null,null,null,null,null,null,null,null,null,null,null,null,{"$f":"A33","v":"VALIDATION: ECONOMIC STATUS"},null,null,null,null,null,null,null,null,null,null,null,null,null,null,null,null,null,null,null,null,null,{"$f":"X33","v":"Religion Total"},null,null,null,null,null,null,null,null,null,null,null,null,null,null,null,null,null,null,null,{"$f":"AR33","v":"Caste Total"}]
[null,null,null,null,null,null,null,null,null,null,null,null,null,null,null,null,null,null,null,null,null,null,null,null,null,null,null,null,null,null,null,null,null,null,null,null,null,null,null,null,null,null,null,null,null,null,null,null,null,null,null,null,null,null,null,null,null,null,null,null,null,null,null,null,null,null,null,null,null,null,null,null,null,null,{"$f":"X34","v":"Male"},{"$f":"Y34","v":"Female"},"Transgender","Total",null,null,null,null,null,null,null,null,null,null,null,null,null,null,null,null,{"$f":"AR34","v":"Male"},{"$f":"AS34","v":"Female"},"Transgender","Total"]
[null,null,null,null,null,null,null,null,null,null,null,null,null,null,null,null,null,null,null,null,null,null,null,null,null,null,null,null,null,null,null,null,null,null,null,null,null,null,null,null,null,null,null,null,null,null,null,null,null,null,null,null,{"$f":"A35","v":" PROFORMA–XVI VALUES (Religion vs. Caste of Victims)"},null,null,null,null,null,null,null,null,null,null,null,null,null,null,null,null,null,null,null,null,null,{"$f":"X35","v":249},{"$f":"Y35","v":72},0,321,null,null,null,null,null,null,null,null,null,null,null,null,null,null,null,null,{"$f":"AR35","v":249},{"$f":"AS35","v":72},{"$f":"AT35","v":0},{"$f":"AU35","v":321}]
[null,null,null,null,null,null,null,null,null,null,null,null,null,null,null,null,null,null,null,null,null,null,null,null,null,null,null,null,null,null,null,null,null,null,null,null,null,null,null,null,null,null,null,null,null,null,null,null,null,null,null,null,{"$f":"A36","v":"VALIDATION WITHIN PROFORMA–XVI (Religion vs. Caste of Victims)"},null,null,null,null,null,null,null,null,null,null,null,null,null,null,null,null,null,null,null,null,null,{"$f":"X36","v":""},{"$f":"Y36","v":""},{"$f":"Z36","v":""},{"$f":"AA36","v":""},null,null,null,null,null,null,null,null,null,null,null,null,null,null,null,null,"","","",""]
[null,null,null,null,null,null,null,null,null,null,null,null,null,null,null,null,null,null,null,null,null,null,null,null,null,null,null,null,null,null,null,null,null,null,null,null,null,null,null,null,null,null,null,null,null,null,null,null,null,null,null,null,{"$f":"A37","v":" PROFORMA–XIV VALUES [Sl.–21 (Total)]"},null,null,null,null,null,null,null,null,null,null,null,null,null,null,null,null,null,null,null,null,null,249,72,0,321,null,null,null,null,null,null,null,null,null,null,null,null,null,null,null,null,249,72,0,321]
[null,null,null,null,null,null,null,null,null,null,null,null,null,null,null,null,null,null,null,null,null,null,null,null,null,null,null,null,null,null,null,null,null,null,null,null,null,null,null,null,null,null,null,null,null,null,null,null,null,null,null,null,{"$f":"A38","v":"VALIDATION WITH PROFORMA–XIV [Sl.–21 (Total)]"},null,null,null,null,null,null,null,null,null,null,null,null,null,null,null,null,null,null,null,null,null,"","","","",null,null,null,null,null,null,null,null,null,null,null,null,null,null,null,null,"","","",""]
[]
[]
[]
[]
[]
[]
[]
[]
[]
[]
[]
[]
[]
[]
[]
[]
[]
[]
[]
[]
[]
[]
[]
[]
[]
[]
[]
[]
[]
[]
[]
[]
[]
[]
[]
[]
[]
[]
[]
[]
[]
[]
[]
[]
[]
[]
[]
[]
[]
[]
[]
[]
[]
[]
[]
[]
[]
[]
[]
[]
[]
[]
[]
[]
[]
[]
[]
[]
[]
[]
[]
[]
[]
[]
[]
[]
[]
[]
[]
[]
[]
[]
[]
[]
[]
[]
[]
[]
[]
[]
[]
[]
[]
[]
[]
[]
[]
[]
[]
[]
[]
[]
[]
[]
[]
[]
[]
[]
[]
[]
[]
[]
[]
[]
[]
[]
[]
[]
[]
[]
[]
[]
[]
[]
[]
[]
[]
[]
[]
[]
[]
[]
[]
[]
[]
[]
[]
[]
[]
[]
[]
[]
[]
[]
[]
[]
[]
[]
[]
[]
[]
[]
[]
[]
[]
[]
[]
[]
[]
[]
[]
[]
[]
[]
[]
[]
[]
[]
[]
[]
[]
[]
[]
[]
[]
[]
[]
[]
[]
[]
[]
[]
[]
[]
[]
[]
[]
[]
[]
[]
[]
[]
[]
[]
[]
[]
[]
[]
[]
[]
[]
[]
[]
[]
[]
[]
[]
[]
["DistrictCode","StateUTCityCode","CrimeCode","DataYear","ReligionHindu_Male","ReligionHindu_Female","ReligionHindu_Trans","ReligionHindu_Total","ReligionMuslim_Male","ReligionMuslim_Female","ReligionMuslim_Trans","ReligionMuslim_Total","ReligionChristian_Male","ReligionChristian_Female","ReligionChristian_Trans","ReligionChristian_Total","ReligionSikh_Male","ReligionSikh_Female","ReligionSikh_Trans","ReligionSikh_Total","ReligionOthers_Male","ReligionOthers_Female","ReligionOthers_Trans","ReligionOthers_Total","ReligionTotal_Male","ReligionTotal_Female","ReligionTotal_Trans","ReligionTotal_Total","CasteGeneral_Male","CasteGeneral_Female","CasteGeneral_Trans","CasteGeneral_Total","CasteOBC_Male","CasteOBC_Female","CasteOBC_Trans","CasteOBC_Total","CasteSC_Male","CasteSC_Female","CasteSC_Trans","CasteSC_Total","CasteST_Male","CasteST_Female","CasteST_Trans","CasteST_Total","CasteTotal_Male","CasteTotal_Female","CasteTotal_Trans","CasteTotal_Total"]
[{"$f":"IF(ADSI!$G$12=\"\",ADSI!$H$16,ADSI!$H$14)","v":""},{"$f":"IF(ADSI!$G$12=\"\",ADSI!$H$16,ADSI!$H$12)","v":6},{"$f":"A11","v":850},{"$f":"ADSI!$K$12","v":2021},{"$f":"D11","v":64},{"$f":"E11","v":7},0,71,4,3,0,7,18,5,0,23,0,0,0,0,0,0,0,0,86,15,0,101,78,14,0,92,3,1,0,4,1,0,0,1,4,0,0,4,86,15,0,101]
[{"$f":"IF(ADSI!$G$12=\"\",ADSI!$H$16,ADSI!$H$14)","v":""},{"$f":"IF(ADSI!$G$12=\"\",ADSI!$H$16,ADSI!$H$12)","v":6},851,{"$f":"ADSI!$K$12","v":2021},{"$f":"D12","v":116},39,0,155,13,3,0,16,27,10,0,37,0,0,0,0,0,0,0,0,156,52,0,208,137,46,0,183,14,4,0,18,0,1,0,1,5,1,0,6,156,52,0,208]
[{"$f":"IF(ADSI!$G$12=\"\",ADSI!$H$16,ADSI!$H$14)","v":""},{"$f":"IF(ADSI!$G$12=\"\",ADSI!$H$16,ADSI!$H$12)","v":6},852,{"$f":"ADSI!$K$12","v":2021},{"$f":"D13","v":2},4,0,6,0,0,0,0,0,1,0,1,0,0,0,0,0,0,0,0,2,5,0,7,2,5,0,7,0,0,0,0,0,0,0,0,0,0,0,0,2,5,0,7]
[{"$f":"IF(ADSI!$G$12=\"\",ADSI!$H$16,ADSI!$H$14)","v":""},{"$f":"IF(ADSI!$G$12=\"\",ADSI!$H$16,ADSI!$H$12)","v":6},853,{"$f":"ADSI!$K$12","v":2021},{"$f":"D14","v":0},0,0,0,0,0,0,0,0,0,0,0,0,0,0,0,0,0,0,0,0,0,0,0,0,0,0,0,0,0,0,0,0,0,0,0,0,0,0,0,0,0,0,0]
[{"$f":"IF(ADSI!$G$12=\"\",ADSI!$H$16,ADSI!$H$14)","v":""},{"$f":"IF(ADSI!$G$12=\"\",ADSI!$H$16,ADSI!$H$12)","v":6},854,{"$f":"ADSI!$K$12","v":2021},{"$f":"D15","v":0},0,0,0,0,0,0,0,0,0,0,0,0,0,0,0,0,0,0,0,0,0,0,0,0,0,0,0,0,0,0,0,0,0,0,0,0,0,0,0,0,0,0,0]
[{"$f":"IF(ADSI!$G$12=\"\",ADSI!$H$16,ADSI!$H$14)","v":""},{"$f":"IF(ADSI!$G$12=\"\",ADSI!$H$16,ADSI!$H$12)","v":6},855,{"$f":"ADSI!$K$12","v":2021},{"$f":"D16","v":0},0,0,0,0,0,0,0,0,0,0,0,0,0,0,0,0,0,0,0,0,0,0,0,0,0,0,0,0,0,0,0,0,0,0,0,0,0,0,0,0,0,0,0]
[{"$f":"IF(ADSI!$G$12=\"\",ADSI!$H$16,ADSI!$H$14)","v":""},{"$f":"IF(ADSI!$G$12=\"\",ADSI!$H$16,ADSI!$H$12)","v":6},856,{"$f":"ADSI!$K$12","v":2021},{"$f":"D17","v":0},0,0,0,0,0,0,0,0,0,0,0,0,0,0,0,5,0,0,5,5,0,0,5,5,0,0,5,0,0,0,0,0,0,0,0,0,0,0,0,5,0,0,5]
[{"$f":"IF(ADSI!$G$12=\"\",ADSI!$H$16,ADSI!$H$14)","v":""},{"$f":"IF(ADSI!$G$12=\"\",ADSI!$H$16,ADSI!$H$12)","v":6},865,{"$f":"ADSI!$K$12","v":2021},{"$f":"D18","v":182},50,0,232,17,6,0,23,45,16,0,61,0,0,0,0,5,0,0,5,249,72,0,321,222,65,0,287,17,5,0,22,1,1,0,2,9,1,0,10,249,72,0,321]
[]
[]
[]
[]
[]
[]
[]
[]
[]
[]
[]
[]
[]
[]
[]
[]
[]
[]
[]
[]
[]
[]
[]
[]
[]
[]
[]
[]
[]
[]
[]
[]
[]
[]
[]
[]
[]
[]
[]
[]
["StateUTCityCode","DistrictCode","CrimeCode","DataYear","ReligionHindu_Male","ReligionHindu_Female","ReligionHindu_Trans","ReligionHindu_Total","ReligionMuslim_Male","ReligionMuslim_Female","ReligionMuslim_Trans","ReligionMuslim_Total","ReligionChristian_Male","ReligionChristian_Female","ReligionChristian_Trans","ReligionChristian_Total","ReligionSikh_Male","ReligionSikh_Female","ReligionSikh_Trans","ReligionSikh_Total","ReligionOthers_Male","ReligionOthers_Female","ReligionOthers_Trans","ReligionOthers_Total","ReligionTotal_Male","ReligionTotal_Female","ReligionTotal_Trans","ReligionTotal_Total","CasteGeneral_Male","CasteGeneral_Female","CasteGeneral_Trans","CasteGeneral_Total","CasteOBC_Male","CasteOBC_Female","CasteOBC_Trans","CasteOBC_Total","CasteSC_Male","CasteSC_Female","CasteSC_Trans","CasteSC_Total","CasteST_Male","CasteST_Female","CasteST_Trans","CasteST_Total","CasteTotal_Male","CasteTotal_Female","CasteTotal_Trans","CasteTotal_Total"]
[{"$f":"IF(ADSI!$G$12=\"\",ADSI!$H$16,ADSI!$H$12)","v":6},{"$f":"IF(ADSI!$G$12=\"\",ADSI!$H$16,ADSI!$H$14)","v":""},{"$f":"A11","v":850},{"$f":"ADSI!$K$12","v":2021},{"$f":"D11","v":64},{"$f":"E11","v":7},0,71,4,3,0,7,18,5,0,23,0,0,0,0,0,0,0,0,86,15,0,101,78,14,0,92,3,1,0,4,1,0,0,1,4,0,0,4,86,15,0,101]
[{"$f":"IF(ADSI!$G$12=\"\",ADSI!$H$16,ADSI!$H$12)","v":6},{"$f":"IF(ADSI!$G$12=\"\",ADSI!$H$16,ADSI!$H$14)","v":""},851,{"$f":"ADSI!$K$12","v":2021},{"$f":"D12","v":116},39,0,155,13,3,0,16,27,10,0,37,0,0,0,0,0,0,0,0,156,52,0,208,137,46,0,183,14,4,0,18,0,1,0,1,5,1,0,6,156,52,0,208]
[{"$f":"IF(ADSI!$G$12=\"\",ADSI!$H$16,ADSI!$H$12)","v":6},{"$f":"IF(ADSI!$G$12=\"\",ADSI!$H$16,ADSI!$H$14)","v":""},852,{"$f":"ADSI!$K$12","v":2021},{"$f":"D13","v":2},4,0,6,0,0,0,0,0,1,0,1,0,0,0,0,0,0,0,0,2,5,0,7,2,5,0,7,0,0,0,0,0,0,0,0,0,0,0,0,2,5,0,7]
[{"$f":"IF(ADSI!$G$12=\"\",ADSI!$H$16,ADSI!$H$12)","v":6},{"$f":"IF(ADSI!$G$12=\"\",ADSI!$H$16,ADSI!$H$14)","v":""},853,{"$f":"ADSI!$K$12","v":2021},{"$f":"D14","v":0},0,0,0,0,0,0,0,0,0,0,0,0,0,0,0,0,0,0,0,0,0,0,0,0,0,0,0,0,0,0,0,0,0,0,0,0,0,0,0,0,0,0,0]
[{"$f":"IF(ADSI!$G$12=\"\",ADSI!$H$16,ADSI!$H$12)","v":6},{"$f":"IF(ADSI!$G$12=\"\",ADSI!$H$16,ADSI!$H$14)","v":""},854,{"$f":"ADSI!$K$12","v":2021},{"$f":"D15","v":0},0,0,0,0,0,0,0,0,0,0,0,0,0,0,0,0,0,0,0,0,0,0,0,0,0,0,0,0,0,0,0,0,0,0,0,0,0,0,0,0,0,0,0]
[{"$f":"IF(ADSI!$G$12=\"\",ADSI!$H$16,ADSI!$H$12)","v":6},{"$f":"IF(ADSI!$G$12=\"\",ADSI!$H$16,ADSI!$H$14)","v":""},855,{"$f":"ADSI!$K$12","v":2021},{"$f":"D16","v":0},0,0,0,0,0,0,0,0,0,0,0,0,0,0,0,0,0,0,0,0,0,0,0,0,0,0,0,0,0,0,0,0,0,0,0,0,0,0,0,0,0,0,0]
[{"$f":"IF(ADSI!$G$12=\"\",ADSI!$H$16,ADSI!$H$12)","v":6},{"$f":"IF(ADSI!$G$12=\"\",ADSI!$H$16,ADSI!$H$14)","v":""},856,{"$f":"ADSI!$K$12","v":2021},{"$f":"D17","v":0},0,0,0,0,0,0,0,0,0,0,0,0,0,0,0,5,0,0,5,5,0,0,5,5,0,0,5,0,0,0,0,0,0,0,0,0,0,0,0,5,0,0,5]
[{"$f":"IF(ADSI!$G$12=\"\",ADSI!$H$16,ADSI!$H$12)","v":6},{"$f":"IF(ADSI!$G$12=\"\",ADSI!$H$16,ADSI!$H$14)","v":""},865,{"$f":"ADSI!$K$12","v":2021},{"$f":"D18","v":182},50,0,232,17,6,0,23,45,16,0,61,0,0,0,0,5,0,0,5,249,72,0,321,222,65,0,287,17,5,0,22,1,1,0,2,9,1,0,10,249,72,0,321]
[{"$f":"IF(ADSI!$G$12=\"\",ADSI!$H$16,ADSI!$H$12)","v":6},{"$f":"IF(ADSI!$G$12=\"\",ADSI!$H$16,ADSI!$H$14)","v":""},{"$f":"A28","v":875},{"$f":"ADSI!$K$12","v":2021},{"$f":"D28","v":85},{"$f":"E28","v":38},0,123,8,5,0,13,18,12,0,30,0,0,0,0,5,0,0,5,116,55,0,171,103,50,0,153,10,3,0,13,0,1,0,1,3,1,0,4,116,55,0,171]
[{"$f":"IF(ADSI!$G$12=\"\",ADSI!$H$16,ADSI!$H$12)","v":6},{"$f":"IF(ADSI!$G$12=\"\",ADSI!$H$16,ADSI!$H$14)","v":""},{"$f":"A29","v":876},{"$f":"ADSI!$K$12","v":2021},{"$f":"D29","v":89},11,0,100,9,1,0,10,26,4,0,30,0,0,0,0,0,0,0,0,124,16,0,140,111,14,0,125,6,2,0,8,1,0,0,1,6,0,0,6,124,16,0,140]
[{"$f":"IF(ADSI!$G$12=\"\",ADSI!$H$16,ADSI!$H$12)","v":6},{"$f":"IF(ADSI!$G$12=\"\",ADSI!$H$16,ADSI!$H$14)","v":""},877,{"$f":"ADSI!$K$12","v":2021},{"$f":"D30","v":8},1,0,9,0,0,0,0,1,0,0,1,0,0,0,0,0,0,0,0,9,1,0,10,8,1,0,9,1,0,0,1,0,0,0,0,0,0,0,0,9,1,0,10]
[{"$f":"IF(ADSI!$G$12=\"\",ADSI!$H$16,ADSI!$H$12)","v":6},{"$f":"IF(ADSI!$G$12=\"\",ADSI!$H$16,ADSI!$H$14)","v":""},878,{"$f":"ADSI!$K$12","v":2021},{"$f":"D31","v":0},0,0,0,0,0,0,0,0,0,0,0,0,0,0,0,0,0,0,0,0,0,0,0,0,0,0,0,0,0,0,0,0,0,0,0,0,0,0,0,0,0,0,0]
[{"$f":"IF(ADSI!$G$12=\"\",ADSI!$H$16,ADSI!$H$12)","v":6},{"$f":"IF(ADSI!$G$12=\"\",ADSI!$H$16,ADSI!$H$14)","v":""},890,{"$f":"ADSI!$K$12","v":2021},{"$f":"D32","v":182},50,0,232,17,6,0,23,45,16,0,61,0,0,0,0,5,0,0,5,249,72,0,321,222,65,0,287,17,5,0,22,1,1,0,2,9,1,0,10,249,72,0,321]

{"sheet":"P-XVII","index":19,"n_rows":510,"n_cols":102,"rows_kept":510,"cut":false,"hidden":false,"merged":[[203,98,205,101],[4,47,6,50],[22,3,23,22],[22,23,22,26],[27,3,27,22],[27,27,27,42],[24,3,24,22],[24,27,24,42],[25,3,25,22],[25,27,25,42],[26,3,26,22],[26,27,26,42],[6,35,6,38],[4,3,4,46],[5,3,5,26],[205,90,205,93],[205,66,205,69],[205,70,205,73],[205,74,205,77],[205,78,205,81],[205,82,205,85],[205,86,205,89],[220,52,220,53],[223,52,223,53],[4,0,7,0],[4,1,7,1],[4,2,7,2],[24,0,24,2],[25,0,25,2],[26,0,26,2],[6,3,6,6],[6,7,6,10],[19,0,19,2],[27,0,27,2],[22,27,23,42],[20,0,20,2],[21,0,21,2],[22,0,23,2],[2,22,2,31],[2,32,2,42],[5,27,5,46],[6,11,6,14],[6,43,6,46],[6,39,6,42],[6,15,6,18],[6,19,6,22],[6,23,6,26],[6,27,6,30],[6,31,6,34],[2,43,2,46],[221,94,221,97],[221,54,222,73],[221,78,222,93],[205,94,205,97],[203,53,206,53],[203,54,203,69],[203,70,203,85],[203,86,203,97],[204,54,204,69],[204,70,204,77],[204,78,204,85],[204,86,204,97],[205,54,205,57],[205,58,205,61],[205,62,205,65],[221,52,222,53],[223,78,223,93],[224,78,224,93],[225,78,225,93],[226,78,226,93],[22,43,22,46],[221,74,221,77],[226,52,226,53],[225,52,225,53],[218,52,218,53],[223,54,223,73],[224,54,224,73],[225,54,225,73],[226,54,226,73],[203,52,206,52],[219,52,219,53],[224,52,224,53]]}
[{"$f":"ADSI!$B$1","v":"Goa, , ADSI-2021"}]
["Errors",null,{"$f":"COUNTIF(D22:AU22,FALSE)+COUNTIF(X26:AA26,FALSE)+COUNTIF(X28:AA28,FALSE)+COUNTIF(AR26:AU26,FALSE)+COUNTIF(AR28:AU28,FALSE)+COUNTIF(AV10:AY19,FALSE)","v":0},null,"Abnormal Variations",{"$f":"COUNTIF(D20:AU20,\"ABVAR\")","v":2}]
["Proforma–XVII"]
["Educational Status of Suicide Victims"]
["Code","Sl. No.","Educational Status","Number of Suicidal Deaths",null,null,null,null,null,null,null,null,null,null,null,null,null,null,null,null,null,null,null,null,null,null,null,null,null,null,null,null,null,null,null,null,null,null,null,null,null,null,null,null,null,null,null,"VALIDATION WITHIN PROFORMA–XVII (Educational Status with Religion & Caste) [Column (23), (24), (25), (26) with Column (43), (44), (45), (46)]"]
[null,null,null,"Religion of Victims",null,null,null,null,null,null,null,null,null,null,null,null,null,null,null,null,null,null,null,null,null,null,null,"Caste of Victims"]
[null,null,null,"Hindu",null,null,null,"Muslim",null,null,null,"Christian",null,null,null,"Sikh",null,null,null,"Others",null,null,null,"Total",null,null,null,"General",null,null,null,"OBC",null,null,null,"SC",null,null,null,"ST",null,null,null,"Total"]
[null,null,null,"Male","Female","Transgender","Total","Male","Female","Transgender","Total","Male","Female","Transgender","Total","Male","Female","Transgender","Total","Male","Female","Transgender","Total","Male","Female","Transgender","Total","Male","Female","Transgender","Total","Male","Female","Transgender","Total","Male","Female","Transgender","Total","Male","Female","Transgender","Total","Male","Female","Transgender","Total","Male","Female","Transgender","Total"]
[null,"(1)","(2)","(3)","(4)","(5)","(6)","(7)","(8)","(9)","(10)","(11)","(12)","(13)","(14)","(15)","(16)","(17)","(18)","(19)","(20)","(21)","(22)","(23)","(24)","(25)","(26)","(27)","(28)","(29)","(30)","(31)","(32)","(33)","(34)","(35)","(36)","(37)","(38)","(39)","(40)","(41)","(42)","(43)","(44)","(45)","(46)"]
[900,1,"No Education",13,7,0,{"$f":"SUM(D10:F10)","v":20},1,0,0,{"$f":"SUM(H10:J10)","v":1},2,2,0,{"$f":"SUM(L10:N10)","v":4},0,0,0,{"$f":"SUM(P10:R10)","v":0},0,0,0,{"$f":"SUM(T10:V10)","v":0},{"$f":"D10+H10+L10+P10+T10","v":16},{"$f":"E10+I10+M10+Q10+U10","v":9},{"$f":"F10+J10+N10+R10+V10","v":0},{"$f":"SUM(X10:Z10)","v":25},14,7,0,{"$f":"SUM(AB10:AD10)","v":21},1,1,0,{"$f":"SUM(AF10:AH10)","v":2},0,1,0,{"$f":"SUM(AJ10:AL10)","v":1},1,0,0,{"$f":"SUM(AN10:AP10)","v":1},{"$f":"AB10+AF10+AJ10+AN10","v":16},{"$f":"AC10+AG10+AK10+AO10","v":9},{"$f":"AD10+AH10+AL10+AP10","v":0},{"$f":"SUM(AR10:AT10)","v":25},{"$f":"IF(AR10=X10,\"\",FALSE)","v":""},{"$f":"IF(AS10=Y10,\"\",FALSE)","v":""},"",""]
[901,2,"Primary (upto class–5)",19,8,0,{"$f":"SUM(D11:F11)","v":27},2,0,0,{"$f":"SUM(H11:J11)","v":2},2,1,0,{"$f":"SUM(L11:N11)","v":3},0,0,0,{"$f":"SUM(P11:R11)","v":0},0,0,0,{"$f":"SUM(T11:V11)","v":0},{"$f":"D11+H11+L11+P11+T11","v":23},{"$f":"E11+I11+M11+Q11+U11","v":9},{"$f":"F11+J11+N11+R11+V11","v":0},{"$f":"SUM(X11:Z11)","v":32},20,9,0,{"$f":"SUM(AB11:AD11)","v":29},2,0,0,{"$f":"SUM(AF11:AH11)","v":2},0,0,0,{"$f":"SUM(AJ11:AL11)","v":0},1,0,0,{"$f":"SUM(AN11:AP11)","v":1},{"$f":"AB11+AF11+AJ11+AN11","v":23},{"$f":"AC11+AG11+AK11+AO11","v":9},{"$f":"AD11+AH11+AL11+AP11","v":0},{"$f":"SUM(AR11:AT11)","v":32},{"$f":"IF(AR11=X11,\"\",FALSE)","v":""},{"$f":"IF(AS11=Y11,\"\",FALSE)","v":""},{"$f":"IF(AT11=Z11,\"\",FALSE)","v":""},{"$f":"IF(AU11=AA11,\"\",FALSE)","v":""}]
[902,3,"Middle (upto class–8)",32,12,0,44,7,1,0,8,7,3,0,10,0,0,0,0,0,0,0,0,46,16,0,62,45,14,0,59,1,2,0,3,0,0,0,0,0,0,0,0,46,16,0,62,"","","",""]
[903,4,"Matriculate/Secondary (upto class–10)",74,11,0,85,7,3,0,10,18,5,0,23,0,0,0,0,0,0,0,0,99,19,0,118,87,16,0,103,8,2,0,10,0,0,0,0,4,1,0,5,99,19,0,118,"","","",""]
[904,5,"Higher Secondary/ Intermediate/ Pre-University (upto class–12)",31,8,0,39,0,2,0,2,11,4,0,15,0,0,0,0,0,0,0,0,42,14,0,56,36,14,0,50,3,0,0,3,0,0,0,0,3,0,0,3,42,14,0,56,"","","",""]
[905,6,"Diploma/ITI/Certificate",0,0,0,0,0,0,0,0,1,0,0,1,0,0,0,0,0,0,0,0,1,0,0,1,1,0,0,1,0,0,0,0,0,0,0,0,0,0,0,0,1,0,0,1,"","","",""]
[906,7,"Graduate and above",13,3,0,16,0,0,0,0,3,1,0,4,0,0,0,0,0,0,0,0,16,4,0,20,13,4,0,17,2,0,0,2,1,0,0,1,0,0,0,0,16,4,0,20,"","","",""]
[907,8,"Professionals (MBA, etc.)",0,1,0,1,0,0,0,0,0,0,0,0,0,0,0,0,0,0,0,0,0,1,0,1,0,1,0,1,0,0,0,0,0,0,0,0,0,0,0,0,0,1,0,1,"","","",""]
[908,9,"Status not known",0,0,0,0,0,0,0,0,1,0,0,1,0,0,0,0,5,0,0,5,6,0,0,6,6,0,0,6,0,0,0,0,0,0,0,0,0,0,0,0,6,0,0,6,"","","",""]
[915,10,"Total (sum of Sl. 1 to 9 )",{"$f":"SUM(D10:D18)","v":182},{"$f":"SUM(E10:E18)","v":50},0,232,17,6,0,23,45,16,{"$f":"SUM(N10:N18)","v":0},{"$f":"SUM(O10:O18)","v":61},{"$f":"SUM(P10:P18)","v":0},{"$f":"SUM(Q10:Q18)","v":0},{"$f":"SUM(R10:R18)","v":0},{"$f":"SUM(S10:S18)","v":0},{"$f":"SUM(T10:T18)","v":5},{"$f":"SUM(U10:U18)","v":0},{"$f":"SUM(V10:V18)","v":0},{"$f":"SUM(W10:W18)","v":5},{"$f":"SUM(X10:X18)","v":249},{"$f":"SUM(Y10:Y18)","v":72},{"$f":"SUM(Z10:Z18)","v":0},{"$f":"SUM(AA10:AA18)","v":321},{"$f":"SUM(AB10:AB18)","v":222},{"$f":"SUM(AC10:AC18)","v":65},{"$f":"SUM(AD10:AD18)","v":0},{"$f":"SUM(AE10:AE18)","v":287},{"$f":"SUM(AF10:AF18)","v":17},{"$f":"SUM(AG10:AG18)","v":5},{"$f":"SUM(AH10:AH18)","v":0},{"$f":"SUM(AI10:AI18)","v":22},{"$f":"SUM(AJ10:AJ18)","v":1},{"$f":"SUM(AK10:AK18)","v":1},{"$f":"SUM(AL10:AL18)","v":0},{"$f":"SUM(AM10:AM18)","v":2},{"$f":"SUM(AN10:AN18)","v":9},{"$f":"SUM(AO10:AO18)","v":1},{"$f":"SUM(AP10:AP18)","v":0},{"$f":"SUM(AQ10:AQ18)","v":10},{"$f":"SUM(AR10:AR18)","v":249},{"$f":"SUM(AS10:AS18)","v":72},{"$f":"SUM(AT10:AT18)","v":0},{"$f":"SUM(AR19:AT19)","v":321},"","","",""]
["SL-9 ABNORMAL VARIATION IN \"STATUS NOT KNOWN\" DATA",null,null,{"$f":"IF(D19>0,IF((D18/D19*100)>10,\"ABVAR\",\"\"),\"\")","v":""},{"$f":"IF(E19>0,IF((E18/E19*100)>10,\"ABVAR\",\"\"),\"\")","v":""},"","","","","","","","","","","","","","","ABVAR","","","ABVAR","","","","","","","","","","","","","","","","","","","","","","","",""]
["PROFORMA–XVI VALUES [Sl.–8 (SOCIAL STATUS TOTAL)]",null,null,{"$f":"'P-XVI'!D18","v":182},{"$f":"'P-XVI'!E18","v":50},{"$f":"'P-XVI'!F18","v":0},{"$f":"'P-XVI'!G18","v":232},{"$f":"'P-XVI'!H18","v":17},{"$f":"'P-XVI'!I18","v":6},{"$f":"'P-XVI'!J18","v":0},{"$f":"'P-XVI'!K18","v":23},{"$f":"'P-XVI'!L18","v":45},{"$f":"'P-XVI'!M18","v":16},{"$f":"'P-XVI'!N18","v":0},{"$f":"'P-XVI'!O18","v":61},{"$f":"'P-XVI'!P18","v":0},{"$f":"'P-XVI'!Q18","v":0},{"$f":"'P-XVI'!R18","v":0},{"$f":"'P-XVI'!S18","v":0},{"$f":"'P-XVI'!T18","v":5},{"$f":"'P-XVI'!U18","v":0},{"$f":"'P-XVI'!V18","v":0},{"$f":"'P-XVI'!W18","v":5},{"$f":"'P-XVI'!X18","v":249},{"$f":"'P-XVI'!Y18","v":72},{"$f":"'P-XVI'!Z18","v":0},{"$f":"'P-XVI'!AA18","v":321},{"$f":"'P-XVI'!AB18","v":222},{"$f":"'P-XVI'!AC18","v":65},{"$f":"'P-XVI'!AD18","v":0},{"$f":"'P-XVI'!AE18","v":287},{"$f":"'P-XVI'!AF18","v":17},{"$f":"'P-XVI'!AG18","v":5},{"$f":"'P-XVI'!AH18","v":0},{"$f":"'P-XVI'!AI18","v":22},{"$f":"'P-XVI'!AJ18","v":1},{"$f":"'P-XVI'!AK18","v":1},{"$f":"'P-XVI'!AL18","v":0},{"$f":"'P-XVI'!AM18","v":2},{"$f":"'P-XVI'!AN18","v":9},{"$f":"'P-XVI'!AO18","v":1},{"$f":"'P-XVI'!AP18","v":0},{"$f":"'P-XVI'!AQ18","v":10},{"$f":"'P-XVI'!AR18","v":249},{"$f":"'P-XVI'!AS18","v":72},{"$f":"'P-XVI'!AT18","v":0},{"$f":"'P-XVI'!AU18","v":321}]
["VALIDATION WITH PROFORMA–XVI [Sl.–8 (SOCIAL STATUS TOTAL)]",null,null,{"$f":"IF(D19='P-XVI'!D18,\"\",FALSE)","v":""},{"$f":"IF(E19='P-XVI'!E18,\"\",FALSE)","v":""},{"$f":"IF(F19='P-XVI'!F18,\"\",FALSE)","v":""},{"$f":"IF(G19='P-XVI'!G18,\"\",FALSE)","v":""},{"$f":"IF(H19='P-XVI'!H18,\"\",FALSE)","v":""},{"$f":"IF(I19='P-XVI'!I18,\"\",FALSE)","v":""},{"$f":"IF(J19='P-XVI'!J18,\"\",FALSE)","v":""},{"$f":"IF(K19='P-XVI'!K18,\"\",FALSE)","v":""},{"$f":"IF(L19='P-XVI'!L18,\"\",FALSE)","v":""},{"$f":"IF(M19='P-XVI'!M18,\"\",FALSE)","v":""},{"$f":"IF(N19='P-XVI'!N18,\"\",FALSE)","v":""},{"$f":"IF(O19='P-XVI'!O18,\"\",FALSE)","v":""},{"$f":"IF(P19='P-XVI'!P18,\"\",FALSE)","v":""},{"$f":"IF(Q19='P-XVI'!Q18,\"\",FALSE)","v":""},{"$f":"IF(R19='P-XVI'!R18,\"\",FALSE)","v":""},{"$f":"IF(S19='P-XVI'!S18,\"\",FALSE)","v":""},{"$f":"IF(T19='P-XVI'!T18,\"\",FALSE)","v":""},{"$f":"IF(U19='P-XVI'!U18,\"\",FALSE)","v":""},{"$f":"IF(V19='P-XVI'!V18,\"\",FALSE)","v":""},{"$f":"IF(W19='P-XVI'!W18,\"\",FALSE)","v":""},{"$f":"IF(X19='P-XVI'!X18,\"\",FALSE)","v":""},{"$f":"IF(Y19='P-XVI'!Y18,\"\",FALSE)","v":""},{"$f":"IF(Z19='P-XVI'!Z18,\"\",FALSE)","v":""},{"$f":"IF(AA19='P-XVI'!AA18,\"\",FALSE)","v":""},{"$f":"IF(AB19='P-XVI'!AB18,\"\",FALSE)","v":""},{"$f":"IF(AC19='P-XVI'!AC18,\"\",FALSE)","v":""},{"$f":"IF(AD19='P-XVI'!AD18,\"\",FALSE)","v":""},{"$f":"IF(AE19='P-XVI'!AE18,\"\",FALSE)","v":""},{"$f":"IF(AF19='P-XVI'!AF18,\"\",FALSE)","v":""},{"$f":"IF(AG19='P-XVI'!AG18,\"\",FALSE)","v":""},{"$f":"IF(AH19='P-XVI'!AH18,\"\",FALSE)","v":""},{"$f":"IF(AI19='P-XVI'!AI18,\"\",FALSE)","v":""},{"$f":"IF(AJ19='P-XVI'!AJ18,\"\",FALSE)","v":""},{"$f":"IF(AK19='P-XVI'!AK18,\"\",FALSE)","v":""},{"$f":"IF(AL19='P-XVI'!AL18,\"\",FALSE)","v":""},{"$f":"IF(AM19='P-XVI'!AM18,\"\",FALSE)","v":""},{"$f":"IF(AN19='P-XVI'!AN18,\"\",FALSE)","v":""},{"$f":"IF(AO19='P-XVI'!AO18,\"\",FALSE)","v":""},{"$f":"IF(AP19='P-XVI'!AP18,\"\",FALSE)","v":""},{"$f":"IF(AQ19='P-XVI'!AQ18,\"\",FALSE)","v":""},{"$f":"IF(AR19='P-XVI'!AR18,\"\",FALSE)","v":""},{"$f":"IF(AS19='P-XVI'!AS18,\"\",FALSE)","v":""},{"$f":"IF(AT19='P-XVI'!AT18,\"\",FALSE)","v":""},{"$f":"IF(AU19='P-XVI'!AU18,\"\",FALSE)","v":""}]
["OTHER VALIDATIONS",null,null,null,null,null,null,null,null,null,null,null,null,null,null,null,null,null,null,null,null,null,null,"Religion  Total",null,null,null,null,null,null,null,null,null,null,null,null,null,null,null,null,null,null,null,"Caste Total"]
[null,null,null,null,null,null,null,null,null,null,null,null,null,null,null,null,null,null,null,null,null,null,null,"Male","Female","Transgender","Total",null,null,null,null,null,null,null,null,null,null,null,null,null,null,null,null,"Male","Female","Transgender","Total"]
["PROFORMA–XVII VALUES (Religion vs. Caste of Victims)",null,null,null,null,null,null,null,null,null,null,null,null,null,null,null,null,null,null,null,null,null,null,{"$f":"X19","v":249},{"$f":"Y19","v":72},0,321,null,null,null,null,null,null,null,null,null,null,null,null,null,null,null,null,{"$f":"AR19","v":249},{"$f":"AS19","v":72},0,321]
["VALIDATION WITHIN PROFORMA–XVII (Religion vs. Caste of Victims)",null,null,null,null,null,null,null,null,null,null,null,null,null,null,null,null,null,null,null,null,null,null,{"$f":"IF(X19=AR19,\"\",FALSE)","v":""},{"$f":"IF(Y19=AS19,\"\",FALSE)","v":""},"","",null,null,null,null,null,null,null,null,null,null,null,null,null,null,null,null,{"$f":"IF(AR19=X19,\"\",FALSE)","v":""},{"$f":"IF(AS19=Y19,\"\",FALSE)","v":""},"",""]
["PROFORMA–XIV VALUES [Sl.–21 (Total)]",null,null,null,null,null,null,null,null,null,null,null,null,null,null,null,null,null,null,null,null,null,null,{"$f":"'P-XIV'!J38","v":249},{"$f":"'P-XIV'!Q38","v":72},{"$f":"'P-XIV'!X38","v":0},{"$f":"'P-XIV'!Y38","v":321},null,null,null,null,null,null,null,null,null,null,null,null,null,null,null,null,{"$f":"'P-XIV'!J38","v":249},{"$f":"'P-XIV'!Q38","v":72},{"$f":"'P-XIV'!X38","v":0},{"$f":"'P-XIV'!Y38","v":321}]
["VALIDATION WITH PROFORMA–XIV [Sl.–21 (Total)]",null,null,null,null,null,null,null,null,null,null,null,null,null,null,null,null,null,null,null,null,null,null,{"$f":"IF(X19='P-XIV'!J38,\"\",FALSE)","v":""},{"$f":"IF(Y19='P-XIV'!Q38,\"\",FALSE)","v":""},{"$f":"IF(Z19='P-XIV'!X38,\"\",FALSE)","v":""},{"$f":"IF(AA19='P-XIV'!Y38,\"\",FALSE)","v":""},null,null,null,null,null,null,null,null,null,null,null,null,null,null,null,null,{"$f":"IF(AR19='P-XIV'!J38,\"\",FALSE)","v":""},{"$f":"IF(AS19='P-XIV'!Q38,\"\",FALSE)","v":""},{"$f":"IF(AT19='P-XIV'!X38,\"\",FALSE)","v":""},{"$f":"IF(AU19='P-XIV'!Y38,\"\",FALSE)","v":""}]
[]
[]
[]
[]
[]
[]
[]
[]
[]
[]
[]
[]
[]
[]
[]
[]
[]
[]
[]
[]
[]
[]
[]
[]
[]
[]
[]
[]
[]
[]
[]
[]
[]
[]
[]
[]
[]
[]
[]
[]
[]
[]
[]
[]
[]
[]
[]
[]
[]
[]
[]
[]
[]
[]
[]
[]
[]
[]
[]
[]
[]
[]
[]
[]
[]
[]
[]
[]
[]
[]
[]
[]
[]
[]
[]
[]
[]
[]
[]
[]
[]
[]
[]
[]
[]
[]
[]
[]
[]
[]
[]
[]
[]
[]
[]
[]
[]
[]
[]
[]
[]
[]
[]
[]
[]
[]
[]
[]
[]
[]
[]
[]
[]
[]
[]
[]
[]
[]
[]
[]
[]
[]
[]
[]
[]
[]
[]
[]
[]
[]
[]
[]
[]
[]
[]
[]
[]
[]
[]
[]
[]
[]
[]
[]
[]
[]
[]
[]
[]
[]
[]
[]
[]
[]
[]
[]
[]
[]
[]
[]
[]
[]
[]
[]
[]
[]
[]
[]
[]
[]
[]
[null,null,null,null,null,null,null,null,null,null,null,null,null,null,null,null,null,null,null,null,null,null,null,null,null,null,null,null,null,null,null,null,null,null,null,null,null,null,null,null,null,null,null,null,null,null,null,null,null,null,null,null,{"$f":"A1","v":"Goa, , ADSI-2021"}]
[null,null,null,null,null,null,null,null,null,null,null,null,null,null,null,null,null,null,null,null,null,null,null,null,null,null,null,null,null,null,null,null,null,null,null,null,null,null,null,null,null,null,null,null,null,null,null,null,null,null,null,null,{"$f":"A2","v":"Errors"},{"$f":"C2","v":0},null,{"$f":"E2","v":"Abnormal Variations"},{"$f":"F2","v":2}]
[null,null,null,null,null,null,null,null,null,null,null,null,null,null,null,null,null,null,null,null,null,null,null,null,null,null,null,null,null,null,null,null,null,null,null,null,null,null,null,null,null,null,null,null,null,null,null,null,null,null,null,null,{"$f":"A3","v":"Proforma–XVII"}]
[null,null,null,null,null,null,null,null,null,null,null,null,null,null,null,null,null,null,null,null,null,null,null,null,null,null,null,null,null,null,null,null,null,null,null,null,null,null,null,null,null,null,null,null,null,null,null,null,null,null,null,null,{"$f":"A4","v":"Educational Status of Suicide Victims"}]
[null,null,null,null,null,null,null,null,null,null,null,null,null,null,null,null,null,null,null,null,null,null,null,null,null,null,null,null,null,null,null,null,null,null,null,null,null,null,null,null,null,null,null,null,null,null,null,null,null,null,null,null,{"$f":"B5","v":"Sl. No."},{"$f":"C5","v":"Educational Status"},{"$f":"D5","v":"Number of Suicidal Deaths"},null,null,null,null,null,null,null,null,null,null,null,null,null,null,null,"Number of Suicidal Deaths",null,null,null,null,null,null,null,null,null,null,null,null,null,null,null,"Number of Suicidal Deaths",null,null,null,null,null,null,null,null,null,null,null,{"$f":"AV5","v":"VALIDATION WITHIN PROFORMA–XVII (Educational Status with Religion & Caste) [Column (23), (24), (25), (26) with Column (43), (44), (45), (46)]"}]
[null,null,null,null,null,null,null,null,null,null,null,null,null,null,null,null,null,null,null,null,null,null,null,null,null,null,null,null,null,null,null,null,null,null,null,null,null,null,null,null,null,null,null,null,null,null,null,null,null,null,null,null,null,null,{"$f":"D6","v":"Religion of Victims"},null,null,null,null,null,null,null,null,null,null,null,null,null,null,null,"Religion of Victims",null,null,null,null,null,null,null,{"$f":"AB6","v":"Caste of Victims"},null,null,null,null,null,null,null,"Caste of Victims"]
[null,null,null,null,null,null,null,null,null,null,null,null,null,null,null,null,null,null,null,null,null,null,null,null,null,null,null,null,null,null,null,null,null,null,null,null,null,null,null,null,null,null,null,null,null,null,null,null,null,null,null,null,null,null,"Hindu",null,null,null,{"$f":"H7","v":"Muslim"},null,null,null,{"$f":"L7","v":"Christian"},null,null,null,{"$f":"P7","v":"Sikh"},null,null,null,{"$f":"T7","v":"Others"},null,null,null,{"$f":"X7","v":"Total"},null,null,null,"General",null,null,null,{"$f":"AF7","v":"OBC"},null,null,null,{"$f":"AJ7","v":"SC"},null,null,null,{"$f":"AN7","v":"ST"},null,null,null,{"$f":"AR7","v":"Total"}]
[null,null,null,null,null,null,null,null,null,null,null,null,null,null,null,null,null,null,null,null,null,null,null,null,null,null,null,null,null,null,null,null,null,null,null,null,null,null,null,null,null,null,null,null,null,null,null,null,null,null,null,null,null,null,"Male",{"$f":"E8","v":"Female"},{"$f":"F8","v":"Transgender"},{"$f":"G8","v":"Total"},"Male",{"$f":"I8","v":"Female"},{"$f":"J8","v":"Transgender"},{"$f":"K8","v":"Total"},"Male",{"$f":"M8","v":"Female"},{"$f":"N8","v":"Transgender"},{"$f":"O8","v":"Total"},"Male",{"$f":"Q8","v":"Female"},{"$f":"R8","v":"Transgender"},{"$f":"S8","v":"Total"},"Male",{"$f":"U8","v":"Female"},{"$f":"V8","v":"Transgender"},{"$f":"W8","v":"Total"},"Male",{"$f":"Y8","v":"Female"},{"$f":"Z8","v":"Transgender"},{"$f":"AA8","v":"Total"},"Male",{"$f":"AC8","v":"Female"},{"$f":"AD8","v":"Transgender"},{"$f":"AE8","v":"Total"},"Male",{"$f":"AG8","v":"Female"},{"$f":"AH8","v":"Transgender"},{"$f":"AI8","v":"Total"},"Male",{"$f":"AK8","v":"Female"},{"$f":"AL8","v":"Transgender"},{"$f":"AM8","v":"Total"},"Male",{"$f":"AO8","v":"Female"},{"$f":"AP8","v":"Transgender"},{"$f":"AQ8","v":"Total"},"Male",{"$f":"AS8","v":"Female"},{"$f":"AT8","v":"Transgender"},{"$f":"AU8","v":"Total"},{"$f":"AV8","v":"Male"},{"$f":"AW8","v":"Female"},"Transgender","Total"]
[null,null,null,null,null,null,null,null,null,null,null,null,null,null,null,null,null,null,null,null,null,null,null,null,null,null,null,null,null,null,null,null,null,null,null,null,null,null,null,null,null,null,null,null,null,null,null,null,null,null,null,null,{"$f":"B9","v":"(1)"},{"$f":"C9","v":"(2)"},"(3)","(4)","(5)","(6)","(7)","(8)","(9)","(10)","(11)","(12)","(13)","(14)","(15)","(16)","(17)","(18)","(19)","(20)","(21)","(22)","(23)","(24)","(25)","(26)","(27)","(28)","(29)","(30)","(31)","(32)","(33)","(34)","(35)","(36)","(37)","(38)","(39)","(40)","(41)","(42)","(43)","(44)","(45)","(46)"]
[null,null,null,null,null,null,null,null,null,null,null,null,null,null,null,null,null,null,null,null,null,null,null,null,null,null,null,null,null,null,null,null,null,null,null,null,null,null,null,null,null,null,null,null,null,null,null,null,null,null,null,null,1,"No Education",13,7,0,20,1,0,0,1,2,2,0,4,0,0,0,0,0,0,0,0,16,9,0,25,14,7,0,21,1,1,0,2,0,1,0,1,1,0,0,1,16,9,0,25,{"$f":"AV10","v":""},{"$f":"AW10","v":""},{"$f":"AX10","v":""},{"$f":"AY10","v":""}]
[null,null,null,null,null,null,null,null,null,null,null,null,null,null,null,null,null,null,null,null,null,null,null,null,null,null,null,null,null,null,null,null,null,null,null,null,null,null,null,null,null,null,null,null,null,null,null,null,null,null,null,null,2,"Primary (upto class–5)",19,8,0,27,2,0,0,2,2,1,0,3,0,0,0,0,0,0,0,0,23,9,0,32,20,9,0,29,2,0,0,2,0,0,0,0,1,0,0,1,23,9,0,32,"","","",""]
[null,null,null,null,null,null,null,null,null,null,null,null,null,null,null,null,null,null,null,null,null,null,null,null,null,null,null,null,null,null,null,null,null,null,null,null,null,null,null,null,null,null,null,null,null,null,null,null,null,null,null,null,3,"Middle (upto class–8)",32,12,0,44,7,1,0,8,7,3,0,10,0,0,0,0,0,0,0,0,46,16,0,62,45,14,0,59,1,2,0,3,0,0,0,0,0,0,0,0,46,16,0,62,"","","",""]
[null,null,null,null,null,null,null,null,null,null,null,null,null,null,null,null,null,null,null,null,null,null,null,null,null,null,null,null,null,null,null,null,null,null,null,null,null,null,null,null,null,null,null,null,null,null,null,null,null,null,null,null,4,"Matriculate/Secondary (upto class–10)",74,11,0,85,7,3,0,10,18,5,0,23,0,0,0,0,0,0,0,0,99,19,0,118,87,16,0,103,8,2,0,10,0,0,0,0,4,1,0,5,99,19,0,118,"","","",""]
[null,null,null,null,null,null,null,null,null,null,null,null,null,null,null,null,null,null,null,null,null,null,null,null,null,null,null,null,null,null,null,null,null,null,null,null,null,null,null,null,null,null,null,null,null,null,null,null,null,null,null,null,5,"Higher Secondary/ Intermediate/ Pre-University (upto class–12)",31,8,0,39,0,2,0,2,11,4,0,15,0,0,0,0,0,0,0,0,42,14,0,56,36,14,0,50,3,0,0,3,0,0,0,0,3,0,0,3,42,14,0,56,"","","",""]
[null,null,null,null,null,null,null,null,null,null,null,null,null,null,null,null,null,null,null,null,null,null,null,null,null,null,null,null,null,null,null,null,null,null,null,null,null,null,null,null,null,null,null,null,null,null,null,null,null,null,null,null,6,"Diploma/ITI/Certificate",0,0,0,0,0,0,0,0,1,0,0,1,0,0,0,0,0,0,0,0,1,0,0,1,1,0,0,1,0,0,0,0,0,0,0,0,0,0,0,0,1,0,0,1,"","","",""]
[null,null,null,null,null,null,null,null,null,null,null,null,null,null,null,null,null,null,null,null,null,null,null,null,null,null,null,null,null,null,null,null,null,null,null,null,null,null,null,null,null,null,null,null,null,null,null,null,null,null,null,null,7,"Graduate and above",13,3,0,16,0,0,0,0,3,1,0,4,0,0,0,0,0,0,0,0,16,4,0,20,13,4,0,17,2,0,0,2,1,0,0,1,0,0,0,0,16,4,0,20,"","","",""]
[null,null,null,null,null,null,null,null,null,null,null,null,null,null,null,null,null,null,null,null,null,null,null,null,null,null,null,null,null,null,null,null,null,null,null,null,null,null,null,null,null,null,null,null,null,null,null,null,null,null,null,null,8,"Professionals (MBA, etc.)",0,1,0,1,0,0,0,0,0,0,0,0,0,0,0,0,0,0,0,0,0,1,0,1,0,1,0,1,0,0,0,0,0,0,0,0,0,0,0,0,0,1,0,1,"","","",""]
[null,null,null,null,null,null,null,null,null,null,null,null,null,null,null,null,null,null,null,null,null,null,null,null,null,null,null,null,null,null,null,null,null,null,null,null,null,null,null,null,null,null,null,null,null,null,null,null,null,null,null,null,9,"Status not known",0,0,0,0,0,0,0,0,1,0,0,1,0,0,0,0,5,0,0,5,6,0,0,6,6,0,0,6,0,0,0,0,0,0,0,0,0,0,0,0,6,0,0,6,"","","",""]
[null,null,null,null,null,null,null,null,null,null,null,null,null,null,null,null,null,null,null,null,null,null,null,null,null,null,null,null,null,null,null,null,null,null,null,null,null,null,null,null,null,null,null,null,null,null,null,null,null,null,null,null,10,"Total (sum of Sl. 1 to 9 )",182,50,0,232,17,6,0,23,45,16,0,61,0,0,0,0,5,0,0,5,249,72,0,321,222,65,0,287,17,5,0,22,1,1,0,2,9,1,0,10,249,72,0,321,"","","",""]
[null,null,null,null,null,null,null,null,null,null,null,null,null,null,null,null,null,null,null,null,null,null,null,null,null,null,null,null,null,null,null,null,null,null,null,null,null,null,null,null,null,null,null,null,null,null,null,null,null,null,null,null,{"$f":"A20","v":"SL-9 ABNORMAL VARIATION IN \"STATUS NOT KNOWN\" DATA"},null,{"$f":"D20","v":""},"","","","","","","","","","","","","","","","ABVAR","","","ABVAR","","","","","","","","","","","","","","","","","","","","","","","",""]
[null,null,null,null,null,null,null,null,null,null,null,null,null,null,null,null,null,null,null,null,null,null,null,null,null,null,null,null,null,null,null,null,null,null,null,null,null,null,null,null,null,null,null,null,null,null,null,null,null,null,null,null,{"$f":"A21","v":"PROFORMA–XVI VALUES [Sl.–8 (SOCIAL STATUS TOTAL)]"},null,{"$f":"D21","v":182},{"$f":"E21","v":50},{"$f":"F21","v":0},{"$f":"G21","v":232},{"$f":"H21","v":17},{"$f":"I21","v":6},{"$f":"J21","v":0},{"$f":"K21","v":23},{"$f":"L21","v":45},{"$f":"M21","v":16},{"$f":"N21","v":0},{"$f":"O21","v":61},{"$f":"P21","v":0},{"$f":"Q21","v":0},{"$f":"R21","v":0},{"$f":"S21","v":0},{"$f":"T21","v":5},{"$f":"U21","v":0},{"$f":"V21","v":0},{"$f":"W21","v":5},{"$f":"X21","v":249},{"$f":"Y21","v":72},{"$f":"Z21","v":0},{"$f":"AA21","v":321},{"$f":"AB21","v":222},{"$f":"AC21","v":65},{"$f":"AD21","v":0},{"$f":"AE21","v":287},{"$f":"AF21","v":17},{"$f":"AG21","v":5},{"$f":"AH21","v":0},{"$f":"AI21","v":22},{"$f":"AJ21","v":1},{"$f":"AK21","v":1},{"$f":"AL21","v":0},{"$f":"AM21","v":2},{"$f":"AN21","v":9},{"$f":"AO21","v":1},{"$f":"AP21","v":0},{"$f":"AQ21","v":10},{"$f":"AR21","v":249},{"$f":"AS21","v":72},{"$f":"AT21","v":0},{"$f":"AU21","v":321}]
[null,null,null,null,null,null,null,null,null,null,null,null,null,null,null,null,null,null,null,null,null,null,null,null,null,null,null,null,null,null,null,null,null,null,null,null,null,null,null,null,null,null,null,null,null,null,null,null,null,null,null,null,{"$f":"A22","v":"VALIDATION WITH PROFORMA–XVI [Sl.–8 (SOCIAL STATUS TOTAL)]"},null,{"$f":"D22","v":""},"","","","","","","","","","","","","","","","","","","","","","","","","","","","","","","","","","","","","","","","","","",{"$f":"AU22","v":""}]
[null,null,null,null,null,null,null,null,null,null,null,null,null,null,null,null,null,null,null,null,null,null,null,null,null,null,null,null,null,null,null,null,null,null,null,null,null,null,null,null,null,null,null,null,null,null,null,null,null,null,null,null,{"$f":"A23","v":"OTHER VALIDATIONS"},null,null,null,null,null,null,null,null,null,null,null,null,null,null,null,null,null,null,null,null,null,{"$f":"X23","v":"Religion  Total"},null,null,null,null,null,null,null,null,null,null,null,null,null,null,null,null,null,null,null,{"$f":"AR23","v":"Caste Total"}]
[null,null,null,null,null,null,null,null,null,null,null,null,null,null,null,null,null,null,null,null,null,null,null,null,null,null,null,null,null,null,null,null,null,null,null,null,null,null,null,null,null,null,null,null,null,null,null,null,null,null,null,null,null,null,null,null,null,null,null,null,null,null,null,null,null,null,null,null,null,null,null,null,null,null,{"$f":"X24","v":"Male"},{"$f":"Y24","v":"Female"},"Transgender","Total",null,null,null,null,null,null,null,null,null,null,null,null,null,null,null,null,{"$f":"AR24","v":"Male"},{"$f":"AS24","v":"Female"},"Transgender","Total"]
[null,null,null,null,null,null,null,null,null,null,null,null,null,null,null,null,null,null,null,null,null,null,null,null,null,null,null,null,null,null,null,null,null,null,null,null,null,null,null,null,null,null,null,null,null,null,null,null,null,null,null,null,{"$f":"A25","v":"PROFORMA–XVII VALUES (Religion vs. Caste of Victims)"},null,null,null,null,null,null,null,null,null,null,null,null,null,null,null,null,null,null,null,null,null,{"$f":"X25","v":249},{"$f":"Y25","v":72},{"$f":"Z25","v":0},{"$f":"AA25","v":321},null,null,null,null,null,null,null,null,null,null,null,null,null,null,null,null,{"$f":"AR25","v":249},{"$f":"AS25","v":72},0,321]
[null,null,null,null,null,null,null,null,null,null,null,null,null,null,null,null,null,null,null,null,null,null,null,null,null,null,null,null,null,null,null,null,null,null,null,null,null,null,null,null,null,null,null,null,null,null,null,null,null,null,null,null,{"$f":"A26","v":"VALIDATION WITHIN PROFORMA–XVII (Religion vs. Caste of Victims)"},null,null,null,null,null,null,null,null,null,null,null,null,null,null,null,null,null,null,null,null,null,"","","","",null,null,null,null,null,null,null,null,null,null,null,null,null,null,null,null,{"$f":"AR26","v":""},{"$f":"AS26","v":""},{"$f":"AT26","v":""},{"$f":"AU26","v":""}]
[null,null,null,null,null,null,null,null,null,null,null,null,null,null,null,null,null,null,null,null,null,null,null,null,null,null,null,null,null,null,null,null,null,null,null,null,null,null,null,null,null,null,null,null,null,null,null,null,null,null,null,null,{"$f":"A27","v":"PROFORMA–XIV VALUES [Sl.–21 (Total)]"},null,null,null,null,null,null,null,null,null,null,null,null,null,null,null,null,null,null,null,null,null,249,72,0,321,null,null,null,null,null,null,null,null,null,null,null,null,null,null,null,null,249,72,0,321]
[null,null,null,null,null,null,null,null,null,null,null,null,null,null,null,null,null,null,null,null,null,null,null,null,null,null,null,null,null,null,null,null,null,null,null,null,null,null,null,null,null,null,null,null,null,null,null,null,null,null,null,null,{"$f":"A28","v":"VALIDATION WITH PROFORMA–XIV [Sl.–21 (Total)]"},null,null,null,null,null,null,null,null,null,null,null,null,null,null,null,null,null,null,null,null,null,"","","","",null,null,null,null,null,null,null,null,null,null,null,null,null,null,null,null,"","","",""]
[]
[]
[]
[]
[]
[]
[]
[]
[]
[]
[]
[]
[]
[]
[]
[]
[]
[]
[]
[]
[]
[]
[]
[]
[]
[]
[]
[]
[]
[]
[]
[]
[]
[]
[]
[]
[]
[]
[]
[]
[]
[]
[]
[]
[]
[]
[]
[]
[]
[]
[]
[]
[]
[]
[]
[]
[]
[]
[]
[]
[]
[]
[]
[]
[]
[]
[]
[]
[]
[]
[]
[]
[]
[]
[]
[]
[]
[]
[]
[]
[]
[]
[]
[]
[]
[]
[]
[]
[]
[]
[]
[]
[]
[]
[]
[]
[]
[]
[]
[]
[]
[]
[]
[]
[]
[]
[]
[]
[]
[]
[]
[]
[]
[]
[]
[]
[]
[]
[]
[]
[]
[]
[]
[]
[]
[]
[]
[]
[]
[]
[]
[]
[]
[]
[]
[]
[]
[]
[]
[]
[]
[]
[]
[]
[]
[]
[]
[]
[]
[]
[]
[]
[]
[]
[]
[]
[]
[]
[]
[]
[]
[]
[]
[]
[]
[]
[]
[]
[]
[]
[]
[]
[]
[]
[]
[]
[]
[]
[]
[]
[]
[]
[]
[]
[]
[]
[]
[]
[]
[]
[]
[]
[]
[]
[]
[]
[]
[]
[]
[]
[]
[]
[]
[]
[]
[]
[]
[]
[]
[]
[]
[]
[]
[]
[]
[]
[]
[]
[]
[]
[]
[]
[]
[]
[]
[]
[]
[]
[]
[]
[]
[]
[]
[]
[]
[]
[]
[]
[]
[]
[]
[]
[]
[]
[]
[]
[]
[]
[]
[]
[]
[]
[]
[]
[]
[]
[]
[]
[]
[]
[]
[]
[]
[]
[]
[]
[]
[]
[]
[]
[]
[]
["StateUTCityCode","DistrictCode","CrimeCode","DataYear","ReligionHindu_Male","ReligionHindu_Female","ReligionHindu_Trans","ReligionHindu_Total","ReligionMuslim_Male","ReligionMuslim_Female","ReligionMuslim_Trans","ReligionMuslim_Total","ReligionChristian_Male","ReligionChristian_Female","ReligionChristian_Trans","ReligionChristian_Total","ReligionSikh_Male","ReligionSikh_Female","ReligionSikh_Trans","ReligionSikh_Total","ReligionOthers_Male","ReligionOthers_Female","ReligionOthers_Trans","ReligionOthers_Total","ReligionTotal_Male","ReligionTotal_Female","ReligionTotal_Trans","ReligionTotal_Total","CasteGeneral_Male","CasteGeneral_Female","CasteGeneral_Trans","CasteGeneral_Total","CasteOBC_Male","CasteOBC_Female","CasteOBC_Trans","CasteOBC_Total","CasteSC_Male","CasteSC_Female","CasteSC_Trans","CasteSC_Total","CasteST_Male","CasteST_Female","CasteST_Trans","CasteST_Total","CasteTotal_Male","CasteTotal_Female","CasteTotal_Trans","CasteTotal_Total"]
[{"$f":"IF(ADSI!$G$12=\"\",ADSI!$H$16,ADSI!$H$12)","v":6},{"$f":"IF(ADSI!$G$12=\"\",ADSI!$H$16,ADSI!$H$14)","v":""},{"$f":"A10","v":900},{"$f":"ADSI!$K$12","v":2021},{"$f":"D10","v":13},{"$f":"E10","v":7},0,20,1,0,0,1,2,2,0,4,0,0,0,0,0,0,0,0,16,9,0,25,14,7,0,21,1,1,0,2,0,1,0,1,1,0,0,1,16,9,0,25]
[{"$f":"IF(ADSI!$G$12=\"\",ADSI!$H$16,ADSI!$H$12)","v":6},{"$f":"IF(ADSI!$G$12=\"\",ADSI!$H$16,ADSI!$H$14)","v":""},{"$f":"A11","v":901},{"$f":"ADSI!$K$12","v":2021},{"$f":"D11","v":19},8,0,27,2,0,0,2,2,1,0,3,0,0,0,0,0,0,0,0,23,9,0,32,20,9,0,29,2,0,0,2,0,0,0,0,1,0,0,1,23,9,0,32]
[{"$f":"IF(ADSI!$G$12=\"\",ADSI!$H$16,ADSI!$H$12)","v":6},{"$f":"IF(ADSI!$G$12=\"\",ADSI!$H$16,ADSI!$H$14)","v":""},902,{"$f":"ADSI!$K$12","v":2021},{"$f":"D12","v":32},12,0,44,7,1,0,8,7,3,0,10,0,0,0,0,0,0,0,0,46,16,0,62,45,14,0,59,1,2,0,3,0,0,0,0,0,0,0,0,46,16,0,62]
[{"$f":"IF(ADSI!$G$12=\"\",ADSI!$H$16,ADSI!$H$12)","v":6},{"$f":"IF(ADSI!$G$12=\"\",ADSI!$H$16,ADSI!$H$14)","v":""},903,{"$f":"ADSI!$K$12","v":2021},{"$f":"D13","v":74},11,0,85,7,3,0,10,18,5,0,23,0,0,0,0,0,0,0,0,99,19,0,118,87,16,0,103,8,2,0,10,0,0,0,0,4,1,0,5,99,19,0,118]
[{"$f":"IF(ADSI!$G$12=\"\",ADSI!$H$16,ADSI!$H$12)","v":6},{"$f":"IF(ADSI!$G$12=\"\",ADSI!$H$16,ADSI!$H$14)","v":""},904,{"$f":"ADSI!$K$12","v":2021},{"$f":"D14","v":31},8,0,39,0,2,0,2,11,4,0,15,0,0,0,0,0,0,0,0,42,14,0,56,36,14,0,50,3,0,0,3,0,0,0,0,3,0,0,3,42,14,0,56]
[{"$f":"IF(ADSI!$G$12=\"\",ADSI!$H$16,ADSI!$H$12)","v":6},{"$f":"IF(ADSI!$G$12=\"\",ADSI!$H$16,ADSI!$H$14)","v":""},905,{"$f":"ADSI!$K$12","v":2021},{"$f":"D15","v":0},0,0,0,0,0,0,0,1,0,0,1,0,0,0,0,0,0,0,0,1,0,0,1,1,0,0,1,0,0,0,0,0,0,0,0,0,0,0,0,1,0,0,1]
[{"$f":"IF(ADSI!$G$12=\"\",ADSI!$H$16,ADSI!$H$12)","v":6},{"$f":"IF(ADSI!$G$12=\"\",ADSI!$H$16,ADSI!$H$14)","v":""},906,{"$f":"ADSI!$K$12","v":2021},{"$f":"D16","v":13},3,0,16,0,0,0,0,3,1,0,4,0,0,0,0,0,0,0,0,16,4,0,20,13,4,0,17,2,0,0,2,1,0,0,1,0,0,0,0,16,4,0,20]
[{"$f":"IF(ADSI!$G$12=\"\",ADSI!$H$16,ADSI!$H$12)","v":6},{"$f":"IF(ADSI!$G$12=\"\",ADSI!$H$16,ADSI!$H$14)","v":""},907,{"$f":"ADSI!$K$12","v":2021},{"$f":"D17","v":0},1,0,1,0,0,0,0,0,0,0,0,0,0,0,0,0,0,0,0,0,1,0,1,0,1,0,1,0,0,0,0,0,0,0,0,0,0,0,0,0,1,0,1]
[{"$f":"IF(ADSI!$G$12=\"\",ADSI!$H$16,ADSI!$H$12)","v":6},{"$f":"IF(ADSI!$G$12=\"\",ADSI!$H$16,ADSI!$H$14)","v":""},908,{"$f":"ADSI!$K$12","v":2021},{"$f":"D18","v":0},0,0,0,0,0,0,0,1,0,0,1,0,0,0,0,5,0,0,5,6,0,0,6,6,0,0,6,0,0,0,0,0,0,0,0,0,0,0,0,6,0,0,6]
[{"$f":"IF(ADSI!$G$12=\"\",ADSI!$H$16,ADSI!$H$12)","v":6},{"$f":"IF(ADSI!$G$12=\"\",ADSI!$H$16,ADSI!$H$14)","v":""},915,{"$f":"ADSI!$K$12","v":2021},{"$f":"D19","v":182},50,0,232,17,6,0,23,45,16,0,61,0,0,0,0,5,0,0,5,249,72,0,321,222,65,0,287,17,5,0,22,1,1,0,2,9,1,0,10,249,72,0,321]

{"sheet":"P-XVIII","index":20,"n_rows":517,"n_cols":76,"rows_kept":517,"cut":false,"hidden":false,"merged":[[226,52,226,53],[227,52,227,53],[228,52,228,53],[27,0,27,2],[28,0,28,2],[29,0,29,2],[203,52,205,52],[203,53,205,53],[26,0,26,2],[4,24,6,24],[5,3,5,9],[5,10,5,16],[4,1,6,1],[4,2,6,2],[5,17,5,23],[4,3,4,23],[25,0,25,2],[4,0,6,0],[203,75,205,75],[204,68,204,74],[204,61,204,67],[204,54,204,60],[203,54,203,67],[203,68,203,74]]}
[{"$f":"ADSI!$B$1","v":"Goa, , ADSI-2021"}]
["Errors",null,{"$f":"COUNTIF(D27:Y27,FALSE)","v":0},null,"Abnormal Variations",{"$f":"COUNTIF(D28:Y30,\"ABVAR\")","v":9}]
["Proforma–XVIII"]
["Distribution of Suicides by Means Adopted"]
["Code","Sl. No.","Causes","Number of Suicidal Deaths",null,null,null,null,null,null,null,null,null,null,null,null,null,null,null,null,null,null,null,null,"Grand Total \n[col. (9)+(16)+(23)]"]
[null,null,null,"Male",null,null,null,null,null,null,"Female",null,null,null,null,null,null,"Transgender"]
[null,null,null,"below 14 years","14 and above – below 18 yrs","18 and above – below 30 years","30 and above – below 45 years","45 and above – below 60 years","60 years & above"," Total [sum of (3) to (8)]","below 14 years","14 and above – below 18 yrs","18 and above – below 30 years","30 and above – below 45 years","45 and above – below 60 years","60 years & above","Total \n[sum of (10) to (15)]","below 14 years","14 and above – below 18 yrs","18 and above – below 30 years","30 and above – below 45 years","45 and above – below 60 years","60 years & above","Total \n[sum of (17) to (22)]"]
[null,"(1)","(2)","(3)","(4)","(5)","(6)","(7)","(8)","(9)","(10)","(11)","(12)","(13)","(14)","(15)","(16)","(17)","(18)","(19)","(20)","(21)","(22)","(23)","(24)"]
[925,1,"By consuming Sleeping Pills",0,0,0,0,0,0,{"$f":"SUM(D9:I9)","v":0},0,0,0,0,0,0,{"$f":"SUM(K9:P9)","v":0},0,0,0,0,0,0,{"$f":"SUM(R9:W9)","v":0},{"$f":"SUM(J9+Q9+X9)","v":0}]
[926,2,"By Drowning",0,1,2,10,9,1,{"$f":"SUM(D10:I10)","v":23},0,1,3,1,2,0,{"$f":"SUM(K10:P10)","v":7},0,0,0,0,0,0,{"$f":"SUM(R10:W10)","v":0},{"$f":"SUM(J10+Q10+X10)","v":30}]
[927,3,"By Fire/Self Immolation",0,0,0,0,2,1,3,0,0,0,1,0,2,3,0,0,0,0,0,0,0,6]
[928,4,"By Firearms",0,0,0,0,0,0,0,0,0,0,0,0,0,0,0,0,0,0,0,0,0,0]
[929,5,"By Hanging",2,5,57,64,63,13,204,1,3,12,16,6,11,49,0,0,0,0,0,0,0,253]
[930,6,"By Poison (sum of 6.1 & 6.2)",{"$f":"SUM(D15:D16)","v":0},{"$f":"SUM(E15:E16)","v":0},5,3,5,1,14,0,0,4,3,3,3,13,0,0,0,0,0,0,0,27]
[931,null,"6.1 By Consuming Insecticides",0,0,2,1,0,1,4,0,0,2,2,1,3,8,0,0,0,0,0,0,0,12]
[932,null,"6.2 By Consuming other Poison",0,0,3,2,5,0,10,0,0,2,1,2,0,5,0,0,0,0,0,0,0,15]
[933,7,"By Self Inflicting  Injury",0,0,0,2,0,0,2,0,0,0,0,0,0,0,0,0,0,0,0,0,0,2]
[934,8,"By Jumping from (sum of 8.1 to 8.3)",{"$f":"SUM(D19:D21)","v":0},{"$f":"SUM(E19:E21)","v":0},0,0,1,0,1,0,0,0,0,0,0,0,0,0,0,0,0,0,0,1]
[935,null,"8.1 Building",0,0,0,0,1,0,1,0,0,0,0,0,0,0,0,0,0,0,0,0,0,1]
[936,null,"8.2 Other sites",0,0,0,0,0,0,0,0,0,0,0,0,0,0,0,0,0,0,0,0,0,0]
[937,null,"8.3 by Jumping off moving trains/ vehicles",0,0,0,0,0,0,0,0,0,0,0,0,0,0,0,0,0,0,0,0,0,0]
[938,9,"By Coming under running vehicles/trains",0,0,1,0,1,0,2,0,0,0,0,0,0,0,0,0,0,0,0,0,0,2]
[939,10,"By touching electric wire",0,0,0,0,0,0,0,0,0,0,0,0,0,0,0,0,0,0,0,0,0,0]
[940,11,"By Other Means",0,0,0,0,0,0,0,0,0,0,0,0,0,0,0,0,0,0,0,0,0,0]
[960,12,"Total (sum of Sl. 1 to 11)",{"$f":"SUM(D9:D14,D17:D18,D22:D24)","v":2},{"$f":"SUM(E9:E14,E17:E18,E22:E24)","v":6},65,79,81,16,{"$f":"SUM(D25:I25)","v":249},1,4,19,21,11,16,{"$f":"SUM(K25:P25)","v":72},0,0,0,0,0,0,{"$f":"SUM(R25:W25)","v":0},{"$f":"J25+Q25+X25","v":321}]
[" PROFORMA–XIV VALUES [Sl.–21 (Total)]",null,null,{"$f":"'P-XIV'!D38","v":2},{"$f":"'P-XIV'!E38","v":6},{"$f":"'P-XIV'!F38","v":65},{"$f":"'P-XIV'!G38","v":79},{"$f":"'P-XIV'!H38","v":81},{"$f":"'P-XIV'!I38","v":16},{"$f":"'P-XIV'!J38","v":249},{"$f":"'P-XIV'!K38","v":1},{"$f":"'P-XIV'!L38","v":4},{"$f":"'P-XIV'!M38","v":19},{"$f":"'P-XIV'!N38","v":21},{"$f":"'P-XIV'!O38","v":11},{"$f":"'P-XIV'!P38","v":16},{"$f":"'P-XIV'!Q38","v":72},{"$f":"'P-XIV'!R38","v":0},{"$f":"'P-XIV'!S38","v":0},{"$f":"'P-XIV'!T38","v":0},{"$f":"'P-XIV'!U38","v":0},{"$f":"'P-XIV'!V38","v":0},{"$f":"'P-XIV'!W38","v":0},{"$f":"'P-XIV'!X38","v":0},{"$f":"'P-XIV'!Y38","v":321}]
["VALIDATION WITH PROFORMA–XIV [Sl.–21 (Total)]",null,null,{"$f":"IF(D25='P-XIV'!D38,\"\",FALSE)","v":""},{"$f":"IF(E25='P-XIV'!E38,\"\",FALSE)","v":""},{"$f":"IF(F25='P-XIV'!F38,\"\",FALSE)","v":""},{"$f":"IF(G25='P-XIV'!G38,\"\",FALSE)","v":""},{"$f":"IF(H25='P-XIV'!H38,\"\",FALSE)","v":""},{"$f":"IF(I25='P-XIV'!I38,\"\",FALSE)","v":""},{"$f":"IF(J25='P-XIV'!J38,\"\",FALSE)","v":""},{"$f":"IF(K25='P-XIV'!K38,\"\",FALSE)","v":""},{"$f":"IF(L25='P-XIV'!L38,\"\",FALSE)","v":""},{"$f":"IF(M25='P-XIV'!M38,\"\",FALSE)","v":""},{"$f":"IF(N25='P-XIV'!N38,\"\",FALSE)","v":""},{"$f":"IF(O25='P-XIV'!O38,\"\",FALSE)","v":""},{"$f":"IF(P25='P-XIV'!P38,\"\",FALSE)","v":""},{"$f":"IF(Q25='P-XIV'!Q38,\"\",FALSE)","v":""},{"$f":"IF(R25='P-XIV'!R38,\"\",FALSE)","v":""},{"$f":"IF(S25='P-XIV'!S38,\"\",FALSE)","v":""},{"$f":"IF(T25='P-XIV'!T38,\"\",FALSE)","v":""},{"$f":"IF(U25='P-XIV'!U38,\"\",FALSE)","v":""},{"$f":"IF(V25='P-XIV'!V38,\"\",FALSE)","v":""},{"$f":"IF(W25='P-XIV'!W38,\"\",FALSE)","v":""},{"$f":"IF(X25='P-XIV'!X38,\"\",FALSE)","v":""},{"$f":"IF(Y25='P-XIV'!Y38,\"\",FALSE)","v":""}]
["SL-6.2 ABNORMAL VARIATION IN \"BY CONSUMING OTHER POISON\" DATA",null,null,{"$f":"IF(D14>0,IF((D16/D14*100)>30,\"ABVAR\",\"\"),\"\")","v":""},{"$f":"IF(E14>0,IF((E16/E14*100)>30,\"ABVAR\",\"\"),\"\")","v":""},"ABVAR","ABVAR","ABVAR","","ABVAR","","","ABVAR","ABVAR","ABVAR","","ABVAR","","","","","","","","ABVAR"]
["SL-8.2 ABNORMAL VARIATION IN \"OTHER SITES\" DATA",null,null,{"$f":"IF(D18>0,IF((D20/D18*100)>30,\"ABVAR\",\"\"),\"\")","v":""},{"$f":"IF(E18>0,IF((E20/E18*100)>30,\"ABVAR\",\"\"),\"\")","v":""},"","","","","","","","","","","","","","","","","","","",""]
["SL-11 ABNORMAL VARIATION IN \"BY OTHER MEANS\" DATA",null,null,{"$f":"IF(D25>0,IF((D24/D25*100)>10,\"ABVAR\",\"\"),\"\")","v":""},{"$f":"IF(E25>0,IF((E24/E25*100)>10,\"ABVAR\",\"\"),\"\")","v":""},"","","","","","","","","","","","","","","","","","","",""]
[]
[]
[]
[]
[]
[]
[]
[]
[]
[]
[]
[]
[]
[]
[]
[]
[]
[]
[]
[]
[]
[]
[]
[]
[]
[]
[]
[]
[]
[]
[]
[]
[]
[]
[]
[]
[]
[]
[]
[]
[]
[]
[]
[]
[]
[]
[]
[]
[]
[]
[]
[]
[]
[]
[]
[]
[]
[]
[]
[]
[]
[]
[]
[]
[]
[]
[]
[]
[]
[]
[]
[]
[]
[]
[]
[]
[]
[]
[]
[]
[]
[]
[]
[]
[]
[]
[]
[]
[]
[]
[]
[]
[]
[]
[]
[]
[]
[]
[]
[]
[]
[]
[]
[]
[]
[]
[]
[]
[]
[]
[]
[]
[]
[]
[]
[]
[]
[]
[]
[]
[]
[]
[]
[]
[]
[]
[]
[]
[]
[]
[]
[]
[]
[]
[]
[]
[]
[]
[]
[]
[]
[]
[]
[]
[]
[]
[]
[]
[]
[]
[]
[]
[]
[]
[]
[]
[]
[]
[]
[]
[]
[]
[]
[]
[]
[]
[]
[]
[]
[null,null,null,null,null,null,null,null,null,null,null,null,null,null,null,null,null,null,null,null,null,null,null,null,null,null,null,null,null,null,null,null,null,null,null,null,null,null,null,null,null,null,null,null,null,null,null,null,null,null,null,null,{"$f":"A1","v":"Goa, , ADSI-2021"}]
[null,null,null,null,null,null,null,null,null,null,null,null,null,null,null,null,null,null,null,null,null,null,null,null,null,null,null,null,null,null,null,null,null,null,null,null,null,null,null,null,null,null,null,null,null,null,null,null,null,null,null,null,{"$f":"A2","v":"Errors"},{"$f":"C2","v":0},null,{"$f":"E2","v":"Abnormal Variations"},{"$f":"F2","v":9}]
[null,null,null,null,null,null,null,null,null,null,null,null,null,null,null,null,null,null,null,null,null,null,null,null,null,null,null,null,null,null,null,null,null,null,null,null,null,null,null,null,null,null,null,null,null,null,null,null,null,null,null,null,{"$f":"A3","v":"Proforma–XVIII"}]
[null,null,null,null,null,null,null,null,null,null,null,null,null,null,null,null,null,null,null,null,null,null,null,null,null,null,null,null,null,null,null,null,null,null,null,null,null,null,null,null,null,null,null,null,null,null,null,null,null,null,null,null,{"$f":"A4","v":"Distribution of Suicides by Means Adopted"}]
[null,null,null,null,null,null,null,null,null,null,null,null,null,null,null,null,null,null,null,null,null,null,null,null,null,null,null,null,null,null,null,null,null,null,null,null,null,null,null,null,null,null,null,null,null,null,null,null,null,null,null,null,{"$f":"B5","v":"Sl. No."},{"$f":"C5","v":"Causes"},{"$f":"D5","v":"Number of Suicidal Deaths"},null,null,null,null,null,null,null,null,null,null,null,null,null,"Number of Suicidal Deaths",null,null,null,null,null,null,{"$f":"Y5","v":"Grand Total \n[col. (9)+(16)+(23)]"}]
[null,null,null,null,null,null,null,null,null,null,null,null,null,null,null,null,null,null,null,null,null,null,null,null,null,null,null,null,null,null,null,null,null,null,null,null,null,null,null,null,null,null,null,null,null,null,null,null,null,null,null,null,null,null,{"$f":"D6","v":"Male"},null,null,null,null,null,null,{"$f":"K6","v":"Female"},null,null,null,null,null,null,{"$f":"R6","v":"Transgender"}]
[null,null,null,null,null,null,null,null,null,null,null,null,null,null,null,null,null,null,null,null,null,null,null,null,null,null,null,null,null,null,null,null,null,null,null,null,null,null,null,null,null,null,null,null,null,null,null,null,null,null,null,null,null,null,"below 14 years",{"$f":"E7","v":"14 and above – below 18 yrs"},{"$f":"F7","v":"18 and above – below 30 years"},{"$f":"G7","v":"30 and above – below 45 years"},{"$f":"H7","v":"45 and above – below 60 years"},{"$f":"I7","v":"60 years & above"},{"$f":"J7","v":" Total [sum of (3) to (8)]"},"below 14 years",{"$f":"L7","v":"14 and above – below 18 yrs"},{"$f":"M7","v":"18 and above – below 30 years"},{"$f":"N7","v":"30 and above – below 45 years"},{"$f":"O7","v":"45 and above – below 60 years"},{"$f":"P7","v":"60 years & above"},{"$f":"Q7","v":"Total \n[sum of (10) to (15)]"},"below 14 years",{"$f":"S7","v":"14 and above – below 18 yrs"},{"$f":"T7","v":"18 and above – below 30 years"},{"$f":"U7","v":"30 and above – below 45 years"},{"$f":"V7","v":"45 and above – below 60 years"},{"$f":"W7","v":"60 years & above"},{"$f":"X7","v":"Total \n[sum of (17) to (22)]"}]
[null,null,null,null,null,null,null,null,null,null,null,null,null,null,null,null,null,null,null,null,null,null,null,null,null,null,null,null,null,null,null,null,null,null,null,null,null,null,null,null,null,null,null,null,null,null,null,null,null,null,null,null,{"$f":"B8","v":"(1)"},{"$f":"C8","v":"(2)"},"(3)","(4)","(5)","(6)","(7)","(8)","(9)","(10)","(11)","(12)","(13)","(14)","(15)","(16)","(17)","(18)","(19)","(20)","(21)","(22)","(23)",{"$f":"Y8","v":"(24)"}]
[null,null,null,null,null,null,null,null,null,null,null,null,null,null,null,null,null,null,null,null,null,null,null,null,null,null,null,null,null,null,null,null,null,null,null,null,null,null,null,null,null,null,null,null,null,null,null,null,null,null,null,null,1,"By consuming Sleeping Pills",0,0,0,0,0,0,0,0,0,0,0,0,0,0,0,0,0,0,0,0,0,0]
[null,null,null,null,null,null,null,null,null,null,null,null,null,null,null,null,null,null,null,null,null,null,null,null,null,null,null,null,null,null,null,null,null,null,null,null,null,null,null,null,null,null,null,null,null,null,null,null,null,null,null,null,2,"By Drowning",0,1,2,10,9,1,23,0,1,3,1,2,0,7,0,0,0,0,0,0,0,30]
[null,null,null,null,null,null,null,null,null,null,null,null,null,null,null,null,null,null,null,null,null,null,null,null,null,null,null,null,null,null,null,null,null,null,null,null,null,null,null,null,null,null,null,null,null,null,null,null,null,null,null,null,3,"By Fire/Self Immolation",0,0,0,0,2,1,3,0,0,0,1,0,2,3,0,0,0,0,0,0,0,6]
[null,null,null,null,null,null,null,null,null,null,null,null,null,null,null,null,null,null,null,null,null,null,null,null,null,null,null,null,null,null,null,null,null,null,null,null,null,null,null,null,null,null,null,null,null,null,null,null,null,null,null,null,4,"By Firearms",0,0,0,0,0,0,0,0,0,0,0,0,0,0,0,0,0,0,0,0,0,0]
[null,null,null,null,null,null,null,null,null,null,null,null,null,null,null,null,null,null,null,null,null,null,null,null,null,null,null,null,null,null,null,null,null,null,null,null,null,null,null,null,null,null,null,null,null,null,null,null,null,null,null,null,5,"By Hanging",2,5,57,64,63,13,204,1,3,12,16,6,11,49,0,0,0,0,0,0,0,253]
[null,null,null,null,null,null,null,null,null,null,null,null,null,null,null,null,null,null,null,null,null,null,null,null,null,null,null,null,null,null,null,null,null,null,null,null,null,null,null,null,null,null,null,null,null,null,null,null,null,null,null,null,6,"By Poison (sum of 6.1 & 6.2)",0,0,5,3,5,1,14,0,0,4,3,3,3,13,0,0,0,0,0,0,0,27]
[null,null,null,null,null,null,null,null,null,null,null,null,null,null,null,null,null,null,null,null,null,null,null,null,null,null,null,null,null,null,null,null,null,null,null,null,null,null,null,null,null,null,null,null,null,null,null,null,null,null,null,null,null,"6.1 By Consuming Insecticides",0,0,2,1,0,1,4,0,0,2,2,1,3,8,0,0,0,0,0,0,0,12]
[null,null,null,null,null,null,null,null,null,null,null,null,null,null,null,null,null,null,null,null,null,null,null,null,null,null,null,null,null,null,null,null,null,null,null,null,null,null,null,null,null,null,null,null,null,null,null,null,null,null,null,null,null,"6.2 By Consuming other Poison",0,0,3,2,5,0,10,0,0,2,1,2,0,5,0,0,0,0,0,0,0,15]
[null,null,null,null,null,null,null,null,null,null,null,null,null,null,null,null,null,null,null,null,null,null,null,null,null,null,null,null,null,null,null,null,null,null,null,null,null,null,null,null,null,null,null,null,null,null,null,null,null,null,null,null,7,"By Self Inflicting  Injury",0,0,0,2,0,0,2,0,0,0,0,0,0,0,0,0,0,0,0,0,0,2]
[null,null,null,null,null,null,null,null,null,null,null,null,null,null,null,null,null,null,null,null,null,null,null,null,null,null,null,null,null,null,null,null,null,null,null,null,null,null,null,null,null,null,null,null,null,null,null,null,null,null,null,null,8,"By Jumping from (sum of 8.1 to 8.3)",0,0,0,0,1,0,1,0,0,0,0,0,0,0,0,0,0,0,0,0,0,1]
[null,null,null,null,null,null,null,null,null,null,null,null,null,null,null,null,null,null,null,null,null,null,null,null,null,null,null,null,null,null,null,null,null,null,null,null,null,null,null,null,null,null,null,null,null,null,null,null,null,null,null,null,null,"8.1 Building",0,0,0,0,1,0,1,0,0,0,0,0,0,0,0,0,0,0,0,0,0,1]
[null,null,null,null,null,null,null,null,null,null,null,null,null,null,null,null,null,null,null,null,null,null,null,null,null,null,null,null,null,null,null,null,null,null,null,null,null,null,null,null,null,null,null,null,null,null,null,null,null,null,null,null,null,"8.2 Other sites",0,0,0,0,0,0,0,0,0,0,0,0,0,0,0,0,0,0,0,0,0,0]
[null,null,null,null,null,null,null,null,null,null,null,null,null,null,null,null,null,null,null,null,null,null,null,null,null,null,null,null,null,null,null,null,null,null,null,null,null,null,null,null,null,null,null,null,null,null,null,null,null,null,null,null,null,"8.3 by Jumping off moving trains/ vehicles",0,0,0,0,0,0,0,0,0,0,0,0,0,0,0,0,0,0,0,0,0,0]
[null,null,null,null,null,null,null,null,null,null,null,null,null,null,null,null,null,null,null,null,null,null,null,null,null,null,null,null,null,null,null,null,null,null,null,null,null,null,null,null,null,null,null,null,null,null,null,null,null,null,null,null,9,"By Coming under running vehicles/trains",0,0,1,0,1,0,2,0,0,0,0,0,0,0,0,0,0,0,0,0,0,2]
[null,null,null,null,null,null,null,null,null,null,null,null,null,null,null,null,null,null,null,null,null,null,null,null,null,null,null,null,null,null,null,null,null,null,null,null,null,null,null,null,null,null,null,null,null,null,null,null,null,null,null,null,10,"By touching electric wire",0,0,0,0,0,0,0,0,0,0,0,0,0,0,0,0,0,0,0,0,0,0]
[null,null,null,null,null,null,null,null,null,null,null,null,null,null,null,null,null,null,null,null,null,null,null,null,null,null,null,null,null,null,null,null,null,null,null,null,null,null,null,null,null,null,null,null,null,null,null,null,null,null,null,null,11,"By Other Means",0,0,0,0,0,0,0,0,0,0,0,0,0,0,0,0,0,0,0,0,0,0]
[null,null,null,null,null,null,null,null,null,null,null,null,null,null,null,null,null,null,null,null,null,null,null,null,null,null,null,null,null,null,null,null,null,null,null,null,null,null,null,null,null,null,null,null,null,null,null,null,null,null,null,null,12,"Total (sum of Sl. 1 to 11)",2,6,65,79,81,16,249,1,4,19,21,11,16,72,0,0,0,0,0,0,0,321]
[null,null,null,null,null,null,null,null,null,null,null,null,null,null,null,null,null,null,null,null,null,null,null,null,null,null,null,null,null,null,null,null,null,null,null,null,null,null,null,null,null,null,null,null,null,null,null,null,null,null,null,null,{"$f":"A26","v":" PROFORMA–XIV VALUES [Sl.–21 (Total)]"},null,{"$f":"D26","v":2},{"$f":"E26","v":6},{"$f":"F26","v":65},{"$f":"G26","v":79},{"$f":"H26","v":81},{"$f":"I26","v":16},{"$f":"J26","v":249},{"$f":"K26","v":1},{"$f":"L26","v":4},{"$f":"M26","v":19},{"$f":"N26","v":21},{"$f":"O26","v":11},{"$f":"P26","v":16},{"$f":"Q26","v":72},{"$f":"R26","v":0},{"$f":"S26","v":0},{"$f":"T26","v":0},{"$f":"U26","v":0},{"$f":"V26","v":0},{"$f":"W26","v":0},{"$f":"X26","v":0},{"$f":"Y26","v":321}]
[null,null,null,null,null,null,null,null,null,null,null,null,null,null,null,null,null,null,null,null,null,null,null,null,null,null,null,null,null,null,null,null,null,null,null,null,null,null,null,null,null,null,null,null,null,null,null,null,null,null,null,null,{"$f":"A27","v":"VALIDATION WITH PROFORMA–XIV [Sl.–21 (Total)]"},null,"","","","","","","","","","","","","","","","","","","","","",""]
[null,null,null,null,null,null,null,null,null,null,null,null,null,null,null,null,null,null,null,null,null,null,null,null,null,null,null,null,null,null,null,null,null,null,null,null,null,null,null,null,null,null,null,null,null,null,null,null,null,null,null,null,{"$f":"A28","v":"SL-6.2 ABNORMAL VARIATION IN \"BY CONSUMING OTHER POISON\" DATA"},null,{"$f":"D28","v":""},"","ABVAR","ABVAR","ABVAR","","ABVAR","","","ABVAR","ABVAR","ABVAR","","ABVAR","","","","","","","","ABVAR"]
[null,null,null,null,null,null,null,null,null,null,null,null,null,null,null,null,null,null,null,null,null,null,null,null,null,null,null,null,null,null,null,null,null,null,null,null,null,null,null,null,null,null,null,null,null,null,null,null,null,null,null,null,{"$f":"A29","v":"SL-8.2 ABNORMAL VARIATION IN \"OTHER SITES\" DATA"},null,{"$f":"D29","v":""},"","","","","","","","","","","","","","","","","","","","",""]
[null,null,null,null,null,null,null,null,null,null,null,null,null,null,null,null,null,null,null,null,null,null,null,null,null,null,null,null,null,null,null,null,null,null,null,null,null,null,null,null,null,null,null,null,null,null,null,null,null,null,null,null,"SL-11 ABNORMAL VARIATION IN \"BY OTHER MEANS\" DATA",null,"","","","","","","","","","","","","","","","","","","","","",""]
[]
[]
[]
[]
[]
[]
[]
[]
[]
[]
[]
[]
[]
[]
[]
[]
[]
[]
[]
[]
[]
[]
[]
[]
[]
[]
[]
[]
[]
[]
[]
[]
[]
[]
[]
[]
[]
[]
[]
[]
[]
[]
[]
[]
[]
[]
[]
[]
[]
[]
[]
[]
[]
[]
[]
[]
[]
[]
[]
[]
[]
[]
[]
[]
[]
[]
[]
[]
[]
[]
[]
[]
[]
[]
[]
[]
[]
[]
[]
[]
[]
[]
[]
[]
[]
[]
[]
[]
[]
[]
[]
[]
[]
[]
[]
[]
[]
[]
[]
[]
[]
[]
[]
[]
[]
[]
[]
[]
[]
[]
[]
[]
[]
[]
[]
[]
[]
[]
[]
[]
[]
[]
[]
[]
[]
[]
[]
[]
[]
[]
[]
[]
[]
[]
[]
[]
[]
[]
[]
[]
[]
[]
[]
[]
[]
[]
[]
[]
[]
[]
[]
[]
[]
[]
[]
[]
[]
[]
[]
[]
[]
[]
[]
[]
[]
[]
[]
[]
[]
[]
[]
[]
[]
[]
[]
[]
[]
[]
[]
[]
[]
[]
[]
[]
[]
[]
[]
[]
[]
[]
[]
[]
[]
[]
[]
[]
[]
[]
[]
[]
[]
[]
[]
[]
[]
[]
[]
[]
[]
[]
[]
[]
[]
[]
[]
[]
[]
[]
[]
[]
[]
[]
[]
[]
[]
[]
[]
[]
[]
[]
[]
[]
[]
[]
[]
[]
[]
[]
[]
[]
[]
[]
[]
[]
[]
[]
[]
[]
[]
[]
[]
[]
[]
[]
[]
[]
[]
[]
[]
[]
[]
[]
[]
[]
[]
[]
[]
[]
[]
[]
["StateUTCityCode","DistrictCode","CrimeCode","DataYear","Male_below 14 years","Male_14 and above – below 18 years","Male_18 and above – below 30 years","Male_30 and above – below 45 years","Male_45 and above – below 60 years","Male_60 years & above","Male_Total","Female_below 14 years","Female_14 and above – below 18 years","Female_18 and above – below 30 years","Female_30 and above – below 45 years","Female_45 and above – below 60 years","Female_60 years & above","Female_Total","Trans_below 14 years","Trans_14 and above – below 18 years","Trans_18 and above – below 30 years","Trans_30 and above – below 45 years","Trans_45 and above – below 60 years","Trans_60 years & above","Trans_Total","Grand Total"]
[{"$f":"IF(ADSI!$G$12=\"\",ADSI!$H$16,ADSI!$H$12)","v":6},{"$f":"IF(ADSI!$G$12=\"\",ADSI!$H$16,ADSI!$H$14)","v":""},{"$f":"A9","v":925},{"$f":"ADSI!$K$12","v":2021},{"$f":"D9","v":0},{"$f":"E9","v":0},0,0,0,0,0,0,0,0,0,0,0,0,0,0,0,0,0,0,0,0]
[{"$f":"IF(ADSI!$G$12=\"\",ADSI!$H$16,ADSI!$H$12)","v":6},{"$f":"IF(ADSI!$G$12=\"\",ADSI!$H$16,ADSI!$H$14)","v":""},{"$f":"A10","v":926},{"$f":"ADSI!$K$12","v":2021},{"$f":"D10","v":0},1,2,10,9,1,23,0,1,3,1,2,0,7,0,0,0,0,0,0,0,30]
[{"$f":"IF(ADSI!$G$12=\"\",ADSI!$H$16,ADSI!$H$12)","v":6},{"$f":"IF(ADSI!$G$12=\"\",ADSI!$H$16,ADSI!$H$14)","v":""},927,{"$f":"ADSI!$K$12","v":2021},{"$f":"D11","v":0},0,0,0,2,1,3,0,0,0,1,0,2,3,0,0,0,0,0,0,0,6]
[{"$f":"IF(ADSI!$G$12=\"\",ADSI!$H$16,ADSI!$H$12)","v":6},{"$f":"IF(ADSI!$G$12=\"\",ADSI!$H$16,ADSI!$H$14)","v":""},928,{"$f":"ADSI!$K$12","v":2021},{"$f":"D12","v":0},0,0,0,0,0,0,0,0,0,0,0,0,0,0,0,0,0,0,0,0,0]
[{"$f":"IF(ADSI!$G$12=\"\",ADSI!$H$16,ADSI!$H$12)","v":6},{"$f":"IF(ADSI!$G$12=\"\",ADSI!$H$16,ADSI!$H$14)","v":""},929,{"$f":"ADSI!$K$12","v":2021},{"$f":"D13","v":2},5,57,64,63,13,204,1,3,12,16,6,11,49,0,0,0,0,0,0,0,253]
[{"$f":"IF(ADSI!$G$12=\"\",ADSI!$H$16,ADSI!$H$12)","v":6},{"$f":"IF(ADSI!$G$12=\"\",ADSI!$H$16,ADSI!$H$14)","v":""},930,{"$f":"ADSI!$K$12","v":2021},{"$f":"D14","v":0},0,5,3,5,1,14,0,0,4,3,3,3,13,0,0,0,0,0,0,0,27]
[{"$f":"IF(ADSI!$G$12=\"\",ADSI!$H$16,ADSI!$H$12)","v":6},{"$f":"IF(ADSI!$G$12=\"\",ADSI!$H$16,ADSI!$H$14)","v":""},931,{"$f":"ADSI!$K$12","v":2021},{"$f":"D15","v":0},0,2,1,0,1,4,0,0,2,2,1,3,8,0,0,0,0,0,0,0,12]
[{"$f":"IF(ADSI!$G$12=\"\",ADSI!$H$16,ADSI!$H$12)","v":6},{"$f":"IF(ADSI!$G$12=\"\",ADSI!$H$16,ADSI!$H$14)","v":""},932,{"$f":"ADSI!$K$12","v":2021},{"$f":"D16","v":0},0,3,2,5,0,10,0,0,2,1,2,0,5,0,0,0,0,0,0,0,15]
[{"$f":"IF(ADSI!$G$12=\"\",ADSI!$H$16,ADSI!$H$12)","v":6},{"$f":"IF(ADSI!$G$12=\"\",ADSI!$H$16,ADSI!$H$14)","v":""},933,{"$f":"ADSI!$K$12","v":2021},{"$f":"D17","v":0},0,0,2,0,0,2,0,0,0,0,0,0,0,0,0,0,0,0,0,0,2]
[{"$f":"IF(ADSI!$G$12=\"\",ADSI!$H$16,ADSI!$H$12)","v":6},{"$f":"IF(ADSI!$G$12=\"\",ADSI!$H$16,ADSI!$H$14)","v":""},934,{"$f":"ADSI!$K$12","v":2021},{"$f":"D18","v":0},0,0,0,1,0,1,0,0,0,0,0,0,0,0,0,0,0,0,0,0,1]
[{"$f":"IF(ADSI!$G$12=\"\",ADSI!$H$16,ADSI!$H$12)","v":6},{"$f":"IF(ADSI!$G$12=\"\",ADSI!$H$16,ADSI!$H$14)","v":""},935,{"$f":"ADSI!$K$12","v":2021},{"$f":"D19","v":0},0,0,0,1,0,1,0,0,0,0,0,0,0,0,0,0,0,0,0,0,1]
[{"$f":"IF(ADSI!$G$12=\"\",ADSI!$H$16,ADSI!$H$12)","v":6},{"$f":"IF(ADSI!$G$12=\"\",ADSI!$H$16,ADSI!$H$14)","v":""},936,{"$f":"ADSI!$K$12","v":2021},{"$f":"D20","v":0},0,0,0,0,0,0,0,0,0,0,0,0,0,0,0,0,0,0,0,0,0]
[{"$f":"IF(ADSI!$G$12=\"\",ADSI!$H$16,ADSI!$H$12)","v":6},{"$f":"IF(ADSI!$G$12=\"\",ADSI!$H$16,ADSI!$H$14)","v":""},937,{"$f":"ADSI!$K$12","v":2021},{"$f":"D21","v":0},0,0,0,0,0,0,0,0,0,0,0,0,0,0,0,0,0,0,0,0,0]
[{"$f":"IF(ADSI!$G$12=\"\",ADSI!$H$16,ADSI!$H$12)","v":6},{"$f":"IF(ADSI!$G$12=\"\",ADSI!$H$16,ADSI!$H$14)","v":""},938,{"$f":"ADSI!$K$12","v":2021},{"$f":"D22","v":0},0,1,0,1,0,2,0,0,0,0,0,0,0,0,0,0,0,0,0,0,2]
[{"$f":"IF(ADSI!$G$12=\"\",ADSI!$H$16,ADSI!$H$12)","v":6},{"$f":"IF(ADSI!$G$12=\"\",ADSI!$H$16,ADSI!$H$14)","v":""},939,{"$f":"ADSI!$K$12","v":2021},{"$f":"D23","v":0},0,0,0,0,0,0,0,0,0,0,0,0,0,0,0,0,0,0,0,0,0]
[{"$f":"IF(ADSI!$G$12=\"\",ADSI!$H$16,ADSI!$H$12)","v":6},{"$f":"IF(ADSI!$G$12=\"\",ADSI!$H$16,ADSI!$H$14)","v":""},940,{"$f":"ADSI!$K$12","v":2021},{"$f":"D24","v":0},0,0,0,0,0,0,0,0,0,0,0,0,0,0,0,0,0,0,0,0,0]
[{"$f":"IF(ADSI!$G$12=\"\",ADSI!$H$16,ADSI!$H$12)","v":6},{"$f":"IF(ADSI!$G$12=\"\",ADSI!$H$16,ADSI!$H$14)","v":""},960,{"$f":"ADSI!$K$12","v":2021},{"$f":"D25","v":2},6,65,79,81,16,249,1,4,19,21,11,16,72,0,0,0,0,0,0,0,321]

{"sheet":"P-XIX","index":21,"n_rows":529,"n_cols":76,"rows_kept":529,"cut":false,"hidden":false,"merged":[[240,52,240,53],[241,52,241,53],[238,52,238,53],[236,52,236,53],[237,52,237,53],[239,52,239,53],[203,52,205,52],[203,53,205,53],[203,54,203,67],[203,68,203,74],[203,75,205,75],[204,68,204,74],[204,61,204,67],[204,54,204,60],[41,0,41,2],[42,0,42,2],[38,0,38,2],[40,0,40,2],[4,24,6,24],[5,3,5,9],[5,10,5,16],[4,1,6,1],[4,2,6,2],[5,17,5,23],[4,3,4,23],[37,0,37,2],[39,0,39,2],[4,0,6,0]]}
[{"$f":"ADSI!$B$1","v":"Goa, , ADSI-2021"}]
["Errors",null,{"$f":"COUNTIF(D39:Y39,FALSE)+COUNTIF(D41:Y41,FALSE)","v":0},null,"Abnormal Variations",{"$f":"COUNTIF(D42:Y43,\"ABVAR\")","v":0}]
["Proforma–XIX"]
["Cause-wise distribution of suicides committed by Farmers/Cultivators"]
["Code","Sl. No.","Causes","Number of Suicidal Deaths",null,null,null,null,null,null,null,null,null,null,null,null,null,null,null,null,null,null,null,null,"Grand Total [col. (9)+(16)+(23)]"]
[null,null,null,"Male",null,null,null,null,null,null,"Female",null,null,null,null,null,null,"Transgender"]
[null,null,null,"below 14 years","14 and above – below 18 yrs","18 and above – below 30 years","30 and above – below 45 years","45 and above – below 60 years","60 years & above"," Total [sum of (3) to (8)]","below 14 years","14 and above – below 18 yrs","18 and above – below 30 years","30 and above – below 45 years","45 and above – below 60 years","60 years & above","Total \n[sum of (10) to (15)]","below 14 years","14 and above – below 18 yrs","18 and above – below 30 years","30 and above – below 45 years","45 and above – below 60 years","60 years & above","Total \n[sum of (17) to (22)]"]
[null,"(1)","(2)","(3)","(4)","(5)","(6)","(7)","(8)","(9)","(10)","(11)","(12)","(13)","(14)","(15)","(16)","(17)","(18)","(19)","(20)","(21)","(22)","(23)","(24)"]
[975,1,"Poverty",0,0,0,0,0,0,{"$f":"SUM(D9:I9)","v":0},0,0,0,0,0,0,{"$f":"SUM(K9:P9)","v":0},0,0,0,0,0,0,{"$f":"SUM(R9:W9)","v":0},{"$f":"SUM(J9+Q9+X9)","v":0}]
[976,2,"Property dispute",0,0,0,0,0,0,{"$f":"SUM(D10:I10)","v":0},0,0,0,0,0,0,{"$f":"SUM(K10:P10)","v":0},0,0,0,0,0,0,{"$f":"SUM(R10:W10)","v":0},{"$f":"SUM(J10+Q10+X10)","v":0}]
[977,3,"Marriage Related Issues (sum of 3.1 to 3.5)",{"$f":"SUM(D12:D16)","v":0},{"$f":"SUM(E12:E16)","v":0},0,0,0,0,0,0,{"$f":"SUM(L12:L16)","v":0},{"$f":"SUM(M12:M16)","v":0},{"$f":"SUM(N12:N16)","v":0},{"$f":"SUM(O12:O16)","v":0},{"$f":"SUM(P12:P16)","v":0},0,0,{"$f":"SUM(S12:S16)","v":0},{"$f":"SUM(T12:T16)","v":0},{"$f":"SUM(U12:U16)","v":0},{"$f":"SUM(V12:V16)","v":0},{"$f":"SUM(W12:W16)","v":0},0,0]
[978,null,"3.1 Non Settlement of Marriage",0,0,0,0,0,0,0,0,0,0,0,0,0,0,0,0,0,0,0,0,0,0]
[979,null,"3.2 Dowry Related Issues",0,0,0,0,0,0,0,0,0,0,0,0,0,0,0,0,0,0,0,0,0,0]
[980,null,"3.3 Extra Marital affairs",0,0,0,0,0,0,0,0,0,0,0,0,0,0,0,0,0,0,0,0,0,0]
[981,null,"3.4 Divorce",0,0,0,0,0,0,0,0,0,0,0,0,0,0,0,0,0,0,0,0,0,0]
[982,null,"3.5 Others",0,0,0,0,0,0,0,0,0,0,0,0,0,0,0,0,0,0,0,0,0,0]
[983,4,"Family problems",0,0,0,0,0,0,0,0,0,0,0,0,0,0,0,0,0,0,0,0,0,0]
[984,5,"Farming related Issues (sum of 5.1 & 5.2)",{"$f":"SUM(D19,D22)","v":0},{"$f":"SUM(E19,E22)","v":0},0,0,0,0,0,0,{"$f":"SUM(L19,L22)","v":0},{"$f":"SUM(M19,M22)","v":0},{"$f":"SUM(N19,N22)","v":0},{"$f":"SUM(O19,O22)","v":0},{"$f":"SUM(P19,P22)","v":0},0,0,{"$f":"SUM(S19,S22)","v":0},{"$f":"SUM(T19,T22)","v":0},{"$f":"SUM(U19,U22)","v":0},{"$f":"SUM(V19,V22)","v":0},{"$f":"SUM(W19,W22)","v":0},0,0]
[985,null,"5.1 Failure of  Crop (sum of 5.1.1 & 5.1.2)",{"$f":"SUM(D20:D21)","v":0},{"$f":"SUM(E20:E21)","v":0},0,0,0,0,0,0,{"$f":"SUM(L20:L21)","v":0},{"$f":"SUM(M20:M21)","v":0},{"$f":"SUM(N20:N21)","v":0},{"$f":"SUM(O20:O21)","v":0},{"$f":"SUM(P20:P21)","v":0},0,0,{"$f":"SUM(S20:S21)","v":0},{"$f":"SUM(T20:T21)","v":0},{"$f":"SUM(U20:U21)","v":0},{"$f":"SUM(V20:V21)","v":0},{"$f":"SUM(W20:W21)","v":0},0,0]
[986,null,"5.1.1 Due to Natural Calamities",0,0,0,0,0,0,0,0,0,0,0,0,0,0,0,0,0,0,0,0,0,0]
[987,null,"5.1.2 Due to Other reasons",0,0,0,0,0,0,0,0,0,0,0,0,0,0,0,0,0,0,0,0,0,0]
[988,null,"5.2 Inability to Sell",0,0,0,0,0,0,0,0,0,0,0,0,0,0,0,0,0,0,0,0,0,0]
[989,6,"Illness (sum of 6.1 to 6.5)",{"$f":"SUM(D24:D28)","v":0},{"$f":"SUM(E24:E28)","v":0},0,0,0,0,0,0,{"$f":"SUM(L24:L28)","v":0},{"$f":"SUM(M24:M28)","v":0},{"$f":"SUM(N24:N28)","v":0},{"$f":"SUM(O24:O28)","v":0},{"$f":"SUM(P24:P28)","v":0},0,0,{"$f":"SUM(S24:S28)","v":0},{"$f":"SUM(T24:T28)","v":0},{"$f":"SUM(U24:U28)","v":0},{"$f":"SUM(V24:V28)","v":0},{"$f":"SUM(W24:W28)","v":0},0,0]
[990,null,"6.1 AIDS/STD",0,0,0,0,0,0,0,0,0,0,0,0,0,0,0,0,0,0,0,0,0,0]
[991,null,"6.2 Cancer",0,0,0,0,0,0,0,0,0,0,0,0,0,0,0,0,0,0,0,0,0,0]
[992,null,"6.3 Paralysis",0,0,0,0,0,0,0,0,0,0,0,0,0,0,0,0,0,0,0,0,0,0]
[993,null,"6.4 Insanity/Mental illness",0,0,0,0,0,0,0,0,0,0,0,0,0,0,0,0,0,0,0,0,0,0]
[994,null,"6.5 Other prolonged illness",0,0,0,0,0,0,0,0,0,0,0,0,0,0,0,0,0,0,0,0,0,0]
[995,7,"Drug abuse/Alcoholic addiction",0,0,0,0,0,0,0,0,0,0,0,0,0,0,0,0,0,0,0,0,0,0]
[996,8,"Fall in social reputation",0,0,0,0,0,0,0,0,0,0,0,0,0,0,0,0,0,0,0,0,0,0]
[997,9,"Bankruptcy or Indebtedness (sum of 9.1 to 9.3)",{"$f":"SUM(D32:D34)","v":0},0,0,0,0,0,0,{"$f":"SUM(K32:K34)","v":0},0,0,0,0,0,0,{"$f":"SUM(R32:R34)","v":0},0,0,0,0,0,0,0]
[998,null,"9.1 Bankruptcy or Indebtedness due to Loan taken from Financial Institutions like Bank/Registered Micro Financial Institutions",0,0,0,0,0,0,0,0,0,0,0,0,0,0,0,0,0,0,0,0,0,0]
[999,null,"9.2 Due to loan taken from Money Lenders/ Non-Financial Institutions",0,0,0,0,0,0,0,0,0,0,0,0,0,0,0,0,0,0,0,0,0,0]
[1000,null,"9.3 Due to loan taken from both Financial Institutions as well as Money Lenders/Non-Financial Institutions",0,0,0,0,0,0,0,0,0,0,0,0,0,0,0,0,0,0,0,0,0,0]
[1001,10,"Causes not known",0,0,0,0,0,0,0,0,0,0,0,0,0,0,0,0,0,0,0,0,0,0]
[1002,11,"Other causes",0,0,0,0,0,0,0,0,0,0,0,0,0,0,0,0,0,0,0,0,0,0]
[1020,12,"Total (sum of Sl. 1 to 11)",{"$f":"SUM(D9:D11,D17:D18,D23,D29:D31,D35:D36)","v":0},0,0,0,0,0,{"$f":"SUM(D37:I37)","v":0},{"$f":"SUM(K9:K11,K17:K18,K23,K29:K31,K35:K36)","v":0},0,0,0,0,0,{"$f":"SUM(K37:P37)","v":0},{"$f":"SUM(R9:R11,R17:R18,R23,R29:R31,R35:R36)","v":0},0,0,0,0,0,{"$f":"SUM(R37:W37)","v":0},0]
["PROFORMA–XV VALUES [Sl.-6.1 Farmers/Cultivators (Sub-Total)]",null,null,{"$f":"'P-XV'!E26","v":0},{"$f":"'P-XV'!F26","v":0},{"$f":"'P-XV'!G26","v":0},{"$f":"'P-XV'!H26","v":0},{"$f":"'P-XV'!I26","v":0},{"$f":"'P-XV'!J26","v":0},{"$f":"'P-XV'!K26","v":0},{"$f":"'P-XV'!L26","v":0},{"$f":"'P-XV'!M26","v":0},{"$f":"'P-XV'!N26","v":0},{"$f":"'P-XV'!O26","v":0},{"$f":"'P-XV'!P26","v":0},{"$f":"'P-XV'!Q26","v":0},{"$f":"'P-XV'!R26","v":0},{"$f":"'P-XV'!S26","v":0},{"$f":"'P-XV'!T26","v":0},{"$f":"'P-XV'!U26","v":0},{"$f":"'P-XV'!V26","v":0},{"$f":"'P-XV'!W26","v":0},{"$f":"'P-XV'!X26","v":0},{"$f":"'P-XV'!Y26","v":0},{"$f":"'P-XV'!Z26","v":0}]
["VALIDATION  WITH PROFORMA–XV [Sl.-6.1 Farmers/Cultivators (Sub-Total)]",null,null,{"$f":"IF(D37='P-XV'!E26,\"\",FALSE)","v":""},{"$f":"IF(E37='P-XV'!F26,\"\",FALSE)","v":""},{"$f":"IF(F37='P-XV'!G26,\"\",FALSE)","v":""},{"$f":"IF(G37='P-XV'!H26,\"\",FALSE)","v":""},{"$f":"IF(H37='P-XV'!I26,\"\",FALSE)","v":""},{"$f":"IF(I37='P-XV'!J26,\"\",FALSE)","v":""},{"$f":"IF(J37='P-XV'!K26,\"\",FALSE)","v":""},{"$f":"IF(K37='P-XV'!L26,\"\",FALSE)","v":""},{"$f":"IF(L37='P-XV'!M26,\"\",FALSE)","v":""},{"$f":"IF(M37='P-XV'!N26,\"\",FALSE)","v":""},{"$f":"IF(N37='P-XV'!O26,\"\",FALSE)","v":""},{"$f":"IF(O37='P-XV'!P26,\"\",FALSE)","v":""},{"$f":"IF(P37='P-XV'!Q26,\"\",FALSE)","v":""},{"$f":"IF(Q37='P-XV'!R26,\"\",FALSE)","v":""},{"$f":"IF(R37='P-XV'!S26,\"\",FALSE)","v":""},{"$f":"IF(S37='P-XV'!T26,\"\",FALSE)","v":""},{"$f":"IF(T37='P-XV'!U26,\"\",FALSE)","v":""},{"$f":"IF(U37='P-XV'!V26,\"\",FALSE)","v":""},{"$f":"IF(V37='P-XV'!W26,\"\",FALSE)","v":""},{"$f":"IF(W37='P-XV'!X26,\"\",FALSE)","v":""},{"$f":"IF(X37='P-XV'!Y26,\"\",FALSE)","v":""},{"$f":"IF(Y37='P-XV'!Z26,\"\",FALSE)","v":""}]
[" PROFORMA–XIV VALUES [Sl.–21 (Total)]",null,null,{"$f":"'P-XIV'!D38","v":2},{"$f":"'P-XIV'!E38","v":6},{"$f":"'P-XIV'!F38","v":65},{"$f":"'P-XIV'!G38","v":79},{"$f":"'P-XIV'!H38","v":81},{"$f":"'P-XIV'!I38","v":16},{"$f":"'P-XIV'!J38","v":249},{"$f":"'P-XIV'!K38","v":1},{"$f":"'P-XIV'!L38","v":4},{"$f":"'P-XIV'!M38","v":19},{"$f":"'P-XIV'!N38","v":21},{"$f":"'P-XIV'!O38","v":11},{"$f":"'P-XIV'!P38","v":16},{"$f":"'P-XIV'!Q38","v":72},{"$f":"'P-XIV'!R38","v":0},{"$f":"'P-XIV'!S38","v":0},{"$f":"'P-XIV'!T38","v":0},{"$f":"'P-XIV'!U38","v":0},{"$f":"'P-XIV'!V38","v":0},{"$f":"'P-XIV'!W38","v":0},{"$f":"'P-XIV'!X38","v":0},{"$f":"'P-XIV'!Y38","v":321}]
["VALIDATION  WITH  PROFORMA–XIV [Sl.–21 (Total)]",null,null,{"$f":"IF(D37<='P-XIV'!D38,\"\",FALSE)","v":""},{"$f":"IF(E37<='P-XIV'!E38,\"\",FALSE)","v":""},{"$f":"IF(F37<='P-XIV'!F38,\"\",FALSE)","v":""},{"$f":"IF(G37<='P-XIV'!G38,\"\",FALSE)","v":""},{"$f":"IF(H37<='P-XIV'!H38,\"\",FALSE)","v":""},{"$f":"IF(I37<='P-XIV'!I38,\"\",FALSE)","v":""},{"$f":"IF(J37<='P-XIV'!J38,\"\",FALSE)","v":""},{"$f":"IF(K37<='P-XIV'!K38,\"\",FALSE)","v":""},{"$f":"IF(L37<='P-XIV'!L38,\"\",FALSE)","v":""},{"$f":"IF(M37<='P-XIV'!M38,\"\",FALSE)","v":""},{"$f":"IF(N37<='P-XIV'!N38,\"\",FALSE)","v":""},{"$f":"IF(O37<='P-XIV'!O38,\"\",FALSE)","v":""},{"$f":"IF(P37<='P-XIV'!P38,\"\",FALSE)","v":""},{"$f":"IF(Q37<='P-XIV'!Q38,\"\",FALSE)","v":""},{"$f":"IF(R37<='P-XIV'!R38,\"\",FALSE)","v":""},{"$f":"IF(S37<='P-XIV'!S38,\"\",FALSE)","v":""},{"$f":"IF(T37<='P-XIV'!T38,\"\",FALSE)","v":""},{"$f":"IF(U37<='P-XIV'!U38,\"\",FALSE)","v":""},{"$f":"IF(V37<='P-XIV'!V38,\"\",FALSE)","v":""},{"$f":"IF(W37<='P-XIV'!W38,\"\",FALSE)","v":""},{"$f":"IF(X37<='P-XIV'!X38,\"\",FALSE)","v":""},{"$f":"IF(Y37<='P-XIV'!Y38,\"\",FALSE)","v":""}]
["SL-10 ABNORMAL VARIATION IN \"CAUSES NOT KNOWN\" DATA",null,null,{"$f":"IF(D37>0,IF((D35/D37*100)>10,\"ABVAR\",\"\"),\"\")","v":""},{"$f":"IF(E37>0,IF((E35/E37*100)>10,\"ABVAR\",\"\"),\"\")","v":""},"","","","","","","","","","","","","","","","","","","",""]
["SL-11 ABNORMAL VARIATION IN \"OTHER CAUSES\" DATA",null,null,{"$f":"IF(D37>0,IF((D36/D37*100)>10,\"ABVAR\",\"\"),\"\")","v":""},{"$f":"IF(E37>0,IF((E36/E37*100)>10,\"ABVAR\",\"\"),\"\")","v":""},"","","","","","","","","","","","","","","","","","","",""]
[]
["Note: If causes of suicides is found as more than one, the most immediate cause of suicides should be considered."]
[]
[]
[]
[]
[]
[]
[]
[]
[]
[]
[]
[]
[]
[]
[]
[]
[]
[]
[]
[]
[]
[]
[]
[]
[]
[]
[]
[]
[]
[]
[]
[]
[]
[]
[]
[]
[]
[]
[]
[]
[]
[]
[]
[]
[]
[]
[]
[]
[]
[]
[]
[]
[]
[]
[]
[]
[]
[]
[]
[]
[]
[]
[]
[]
[]
[]
[]
[]
[]
[]
[]
[]
[]
[]
[]
[]
[]
[]
[]
[]
[]
[]
[]
[]
[]
[]
[]
[]
[]
[]
[]
[]
[]
[]
[]
[]
[]
[]
[]
[]
[]
[]
[]
[]
[]
[]
[]
[]
[]
[]
[]
[]
[]
[]
[]
[]
[]
[]
[]
[]
[]
[]
[]
[]
[]
[]
[]
[]
[]
[]
[]
[]
[]
[]
[]
[]
[]
[]
[]
[]
[]
[]
[]
[]
[]
[]
[]
[]
[]
[]
[]
[]
[]
[]
[null,null,null,null,null,null,null,null,null,null,null,null,null,null,null,null,null,null,null,null,null,null,null,null,null,null,null,null,null,null,null,null,null,null,null,null,null,null,null,null,null,null,null,null,null,null,null,null,null,null,null,null,{"$f":"A1","v":"Goa, , ADSI-2021"}]
[null,null,null,null,null,null,null,null,null,null,null,null,null,null,null,null,null,null,null,null,null,null,null,null,null,null,null,null,null,null,null,null,null,null,null,null,null,null,null,null,null,null,null,null,null,null,null,null,null,null,null,null,{"$f":"A2","v":"Errors"},{"$f":"C2","v":0},null,{"$f":"E2","v":"Abnormal Variations"},{"$f":"F2","v":0}]
[null,null,null,null,null,null,null,null,null,null,null,null,null,null,null,null,null,null,null,null,null,null,null,null,null,null,null,null,null,null,null,null,null,null,null,null,null,null,null,null,null,null,null,null,null,null,null,null,null,null,null,null,{"$f":"A3","v":"Proforma–XIX"}]
[null,null,null,null,null,null,null,null,null,null,null,null,null,null,null,null,null,null,null,null,null,null,null,null,null,null,null,null,null,null,null,null,null,null,null,null,null,null,null,null,null,null,null,null,null,null,null,null,null,null,null,null,{"$f":"A4","v":"Cause-wise distribution of suicides committed by Farmers/Cultivators"}]
[null,null,null,null,null,null,null,null,null,null,null,null,null,null,null,null,null,null,null,null,null,null,null,null,null,null,null,null,null,null,null,null,null,null,null,null,null,null,null,null,null,null,null,null,null,null,null,null,null,null,null,null,{"$f":"B5","v":"Sl. No."},{"$f":"C5","v":"Causes"},{"$f":"D5","v":"Number of Suicidal Deaths"},null,null,null,null,null,null,null,null,null,null,null,null,null,"Number of Suicidal Deaths",null,null,null,null,null,null,{"$f":"Y5","v":"Grand Total [col. (9)+(16)+(23)]"}]
[null,null,null,null,null,null,null,null,null,null,null,null,null,null,null,null,null,null,null,null,null,null,null,null,null,null,null,null,null,null,null,null,null,null,null,null,null,null,null,null,null,null,null,null,null,null,null,null,null,null,null,null,null,null,{"$f":"D6","v":"Male"},null,null,null,null,null,null,{"$f":"K6","v":"Female"},null,null,null,null,null,null,{"$f":"R6","v":"Transgender"}]
[null,null,null,null,null,null,null,null,null,null,null,null,null,null,null,null,null,null,null,null,null,null,null,null,null,null,null,null,null,null,null,null,null,null,null,null,null,null,null,null,null,null,null,null,null,null,null,null,null,null,null,null,null,null,"below 14 years",{"$f":"E7","v":"14 and above – below 18 yrs"},{"$f":"F7","v":"18 and above – below 30 years"},{"$f":"G7","v":"30 and above – below 45 years"},{"$f":"H7","v":"45 and above – below 60 years"},{"$f":"I7","v":"60 years & above"},{"$f":"J7","v":" Total [sum of (3) to (8)]"},"below 14 years",{"$f":"L7","v":"14 and above – below 18 yrs"},{"$f":"M7","v":"18 and above – below 30 years"},{"$f":"N7","v":"30 and above – below 45 years"},{"$f":"O7","v":"45 and above – below 60 years"},{"$f":"P7","v":"60 years & above"},{"$f":"Q7","v":"Total \n[sum of (10) to (15)]"},"below 14 years",{"$f":"S7","v":"14 and above – below 18 yrs"},{"$f":"T7","v":"18 and above – below 30 years"},{"$f":"U7","v":"30 and above – below 45 years"},{"$f":"V7","v":"45 and above – below 60 years"},{"$f":"W7","v":"60 years & above"},{"$f":"X7","v":"Total \n[sum of (17) to (22)]"}]
[null,null,null,null,null,null,null,null,null,null,null,null,null,null,null,null,null,null,null,null,null,null,null,null,null,null,null,null,null,null,null,null,null,null,null,null,null,null,null,null,null,null,null,null,null,null,null,null,null,null,null,null,{"$f":"B8","v":"(1)"},"(2)","(3)","(4)","(5)","(6)","(7)","(8)","(9)","(10)","(11)","(12)","(13)","(14)","(15)","(16)","(17)","(18)","(19)","(20)","(21)","(22)","(23)",{"$f":"Y8","v":"(24)"}]
[null,null,null,null,null,null,null,null,null,null,null,null,null,null,null,null,null,null,null,null,null,null,null,null,null,null,null,null,null,null,null,null,null,null,null,null,null,null,null,null,null,null,null,null,null,null,null,null,null,null,null,null,1,"Poverty",0,0,0,0,0,0,0,0,0,0,0,0,0,0,0,0,0,0,0,0,0,0]
[null,null,null,null,null,null,null,null,null,null,null,null,null,null,null,null,null,null,null,null,null,null,null,null,null,null,null,null,null,null,null,null,null,null,null,null,null,null,null,null,null,null,null,null,null,null,null,null,null,null,null,null,2,"Property dispute",0,0,0,0,0,0,0,0,0,0,0,0,0,0,0,0,0,0,0,0,0,0]
[null,null,null,null,null,null,null,null,null,null,null,null,null,null,null,null,null,null,null,null,null,null,null,null,null,null,null,null,null,null,null,null,null,null,null,null,null,null,null,null,null,null,null,null,null,null,null,null,null,null,null,null,3,"Marriage Related Issues (sum of 3.1 to 3.5)",0,0,0,0,0,0,0,0,0,0,0,0,0,0,0,0,0,0,0,0,0,0]
[null,null,null,null,null,null,null,null,null,null,null,null,null,null,null,null,null,null,null,null,null,null,null,null,null,null,null,null,null,null,null,null,null,null,null,null,null,null,null,null,null,null,null,null,null,null,null,null,null,null,null,null,null,{"$f":"C12","v":"3.1 Non Settlement of Marriage"},0,0,0,0,0,0,0,0,0,0,0,0,0,0,0,0,0,0,0,0,0,0]
[null,null,null,null,null,null,null,null,null,null,null,null,null,null,null,null,null,null,null,null,null,null,null,null,null,null,null,null,null,null,null,null,null,null,null,null,null,null,null,null,null,null,null,null,null,null,null,null,null,null,null,null,null,"3.2 Dowry Related Issues",0,0,0,0,0,0,0,0,0,0,0,0,0,0,0,0,0,0,0,0,0,0]
[null,null,null,null,null,null,null,null,null,null,null,null,null,null,null,null,null,null,null,null,null,null,null,null,null,null,null,null,null,null,null,null,null,null,null,null,null,null,null,null,null,null,null,null,null,null,null,null,null,null,null,null,null,"3.3 Extra Marital affairs",0,0,0,0,0,0,0,0,0,0,0,0,0,0,0,0,0,0,0,0,0,0]
[null,null,null,null,null,null,null,null,null,null,null,null,null,null,null,null,null,null,null,null,null,null,null,null,null,null,null,null,null,null,null,null,null,null,null,null,null,null,null,null,null,null,null,null,null,null,null,null,null,null,null,null,null,"3.4 Divorce",0,0,0,0,0,0,0,0,0,0,0,0,0,0,0,0,0,0,0,0,0,0]
[null,null,null,null,null,null,null,null,null,null,null,null,null,null,null,null,null,null,null,null,null,null,null,null,null,null,null,null,null,null,null,null,null,null,null,null,null,null,null,null,null,null,null,null,null,null,null,null,null,null,null,null,null,"3.5 Others",0,0,0,0,0,0,0,0,0,0,0,0,0,0,0,0,0,0,0,0,0,0]
[null,null,null,null,null,null,null,null,null,null,null,null,null,null,null,null,null,null,null,null,null,null,null,null,null,null,null,null,null,null,null,null,null,null,null,null,null,null,null,null,null,null,null,null,null,null,null,null,null,null,null,null,{"$f":"B17","v":4},"Family problems",0,0,0,0,0,0,0,0,0,0,0,0,0,0,0,0,0,0,0,0,0,0]
[null,null,null,null,null,null,null,null,null,null,null,null,null,null,null,null,null,null,null,null,null,null,null,null,null,null,null,null,null,null,null,null,null,null,null,null,null,null,null,null,null,null,null,null,null,null,null,null,null,null,null,null,{"$f":"B18","v":5},"Farming related Issues (sum of 5.1 & 5.2)",0,0,0,0,0,0,0,0,0,0,0,0,0,0,0,0,0,0,0,0,0,0]
[null,null,null,null,null,null,null,null,null,null,null,null,null,null,null,null,null,null,null,null,null,null,null,null,null,null,null,null,null,null,null,null,null,null,null,null,null,null,null,null,null,null,null,null,null,null,null,null,null,null,null,null,null,"5.1 Failure of  Crop (sum of 5.1.1 & 5.1.2)",0,0,0,0,0,0,0,0,0,0,0,0,0,0,0,0,0,0,0,0,0,0]
[null,null,null,null,null,null,null,null,null,null,null,null,null,null,null,null,null,null,null,null,null,null,null,null,null,null,null,null,null,null,null,null,null,null,null,null,null,null,null,null,null,null,null,null,null,null,null,null,null,null,null,null,null,"5.1.1 Due to Natural Calamities",0,0,0,0,0,0,0,0,0,0,0,0,0,0,0,0,0,0,0,0,0,0]
[null,null,null,null,null,null,null,null,null,null,null,null,null,null,null,null,null,null,null,null,null,null,null,null,null,null,null,null,null,null,null,null,null,null,null,null,null,null,null,null,null,null,null,null,null,null,null,null,null,null,null,null,null,"5.1.2 Due to Other reasons",0,0,0,0,0,0,0,0,0,0,0,0,0,0,0,0,0,0,0,0,0,0]
[null,null,null,null,null,null,null,null,null,null,null,null,null,null,null,null,null,null,null,null,null,null,null,null,null,null,null,null,null,null,null,null,null,null,null,null,null,null,null,null,null,null,null,null,null,null,null,null,null,null,null,null,null,"5.2 Inability to Sell",0,0,0,0,0,0,0,0,0,0,0,0,0,0,0,0,0,0,0,0,0,0]
[null,null,null,null,null,null,null,null,null,null,null,null,null,null,null,null,null,null,null,null,null,null,null,null,null,null,null,null,null,null,null,null,null,null,null,null,null,null,null,null,null,null,null,null,null,null,null,null,null,null,null,null,{"$f":"B23","v":6},"Illness (sum of 6.1 to 6.5)",0,0,0,0,0,0,0,0,0,0,0,0,0,0,0,0,0,0,0,0,0,0]
[null,null,null,null,null,null,null,null,null,null,null,null,null,null,null,null,null,null,null,null,null,null,null,null,null,null,null,null,null,null,null,null,null,null,null,null,null,null,null,null,null,null,null,null,null,null,null,null,null,null,null,null,null,"6.1 AIDS/STD",0,0,0,0,0,0,0,0,0,0,0,0,0,0,0,0,0,0,0,0,0,0]
[null,null,null,null,null,null,null,null,null,null,null,null,null,null,null,null,null,null,null,null,null,null,null,null,null,null,null,null,null,null,null,null,null,null,null,null,null,null,null,null,null,null,null,null,null,null,null,null,null,null,null,null,null,"6.2 Cancer",0,0,0,0,0,0,0,0,0,0,0,0,0,0,0,0,0,0,0,0,0,0]
[null,null,null,null,null,null,null,null,null,null,null,null,null,null,null,null,null,null,null,null,null,null,null,null,null,null,null,null,null,null,null,null,null,null,null,null,null,null,null,null,null,null,null,null,null,null,null,null,null,null,null,null,null,"6.3 Paralysis",0,0,0,0,0,0,0,0,0,0,0,0,0,0,0,0,0,0,0,0,0,0]
[null,null,null,null,null,null,null,null,null,null,null,null,null,null,null,null,null,null,null,null,null,null,null,null,null,null,null,null,null,null,null,null,null,null,null,null,null,null,null,null,null,null,null,null,null,null,null,null,null,null,null,null,null,"6.4 Insanity/Mental illness",0,0,0,0,0,0,0,0,0,0,0,0,0,0,0,0,0,0,0,0,0,0]
[null,null,null,null,null,null,null,null,null,null,null,null,null,null,null,null,null,null,null,null,null,null,null,null,null,null,null,null,null,null,null,null,null,null,null,null,null,null,null,null,null,null,null,null,null,null,null,null,null,null,null,null,null,"6.5 Other prolonged illness",0,0,0,0,0,0,0,0,0,0,0,0,0,0,0,0,0,0,0,0,0,0]
[null,null,null,null,null,null,null,null,null,null,null,null,null,null,null,null,null,null,null,null,null,null,null,null,null,null,null,null,null,null,null,null,null,null,null,null,null,null,null,null,null,null,null,null,null,null,null,null,null,null,null,null,{"$f":"B29","v":7},"Drug abuse/Alcoholic addiction",0,0,0,0,0,0,0,0,0,0,0,0,0,0,0,0,0,0,0,0,0,0]
[null,null,null,null,null,null,null,null,null,null,null,null,null,null,null,null,null,null,null,null,null,null,null,null,null,null,null,null,null,null,null,null,null,null,null,null,null,null,null,null,null,null,null,null,null,null,null,null,null,null,null,null,{"$f":"B30","v":8},"Fall in social reputation",0,0,0,0,0,0,0,0,0,0,0,0,0,0,0,0,0,0,0,0,0,0]
[null,null,null,null,null,null,null,null,null,null,null,null,null,null,null,null,null,null,null,null,null,null,null,null,null,null,null,null,null,null,null,null,null,null,null,null,null,null,null,null,null,null,null,null,null,null,null,null,null,null,null,null,{"$f":"B31","v":9},"Bankruptcy or Indebtedness (sum of 9.1 to 9.3)",0,0,0,0,0,0,0,0,0,0,0,0,0,0,0,0,0,0,0,0,0,0]
[null,null,null,null,null,null,null,null,null,null,null,null,null,null,null,null,null,null,null,null,null,null,null,null,null,null,null,null,null,null,null,null,null,null,null,null,null,null,null,null,null,null,null,null,null,null,null,null,null,null,null,null,null,"9.1 Bankruptcy or Indebtedness due to Loan taken from Financial Institutions like Bank/Registered Micro Financial Institutions",0,0,0,0,0,0,0,0,0,0,0,0,0,0,0,0,0,0,0,0,0,0]
[null,null,null,null,null,null,null,null,null,null,null,null,null,null,null,null,null,null,null,null,null,null,null,null,null,null,null,null,null,null,null,null,null,null,null,null,null,null,null,null,null,null,null,null,null,null,null,null,null,null,null,null,null,"9.2 Due to loan taken from Money Lenders/ Non-Financial Institutions",0,0,0,0,0,0,0,0,0,0,0,0,0,0,0,0,0,0,0,0,0,0]
[null,null,null,null,null,null,null,null,null,null,null,null,null,null,null,null,null,null,null,null,null,null,null,null,null,null,null,null,null,null,null,null,null,null,null,null,null,null,null,null,null,null,null,null,null,null,null,null,null,null,null,null,null,{"$f":"C34","v":"9.3 Due to loan taken from both Financial Institutions as well as Money Lenders/Non-Financial Institutions"},{"$f":"D34","v":0},{"$f":"E34","v":0},{"$f":"F34","v":0},{"$f":"G34","v":0},{"$f":"H34","v":0},{"$f":"I34","v":0},{"$f":"J34","v":0},{"$f":"K34","v":0},{"$f":"L34","v":0},{"$f":"M34","v":0},{"$f":"N34","v":0},{"$f":"O34","v":0},{"$f":"P34","v":0},{"$f":"Q34","v":0},{"$f":"R34","v":0},{"$f":"S34","v":0},{"$f":"T34","v":0},{"$f":"U34","v":0},{"$f":"V34","v":0},{"$f":"W34","v":0},{"$f":"X34","v":0},{"$f":"Y34","v":0}]
[null,null,null,null,null,null,null,null,null,null,null,null,null,null,null,null,null,null,null,null,null,null,null,null,null,null,null,null,null,null,null,null,null,null,null,null,null,null,null,null,null,null,null,null,null,null,null,null,null,null,null,null,{"$f":"B35","v":10},{"$f":"C35","v":"Causes not known"},{"$f":"D35","v":0},{"$f":"E35","v":0},{"$f":"F35","v":0},{"$f":"G35","v":0},{"$f":"H35","v":0},{"$f":"I35","v":0},{"$f":"J35","v":0},{"$f":"K35","v":0},{"$f":"L35","v":0},{"$f":"M35","v":0},{"$f":"N35","v":0},{"$f":"O35","v":0},{"$f":"P35","v":0},{"$f":"Q35","v":0},{"$f":"R35","v":0},{"$f":"S35","v":0},{"$f":"T35","v":0},{"$f":"U35","v":0},{"$f":"V35","v":0},{"$f":"W35","v":0},{"$f":"X35","v":0},{"$f":"Y35","v":0}]
[null,null,null,null,null,null,null,null,null,null,null,null,null,null,null,null,null,null,null,null,null,null,null,null,null,null,null,null,null,null,null,null,null,null,null,null,null,null,null,null,null,null,null,null,null,null,null,null,null,null,null,null,{"$f":"B36","v":11},"Other causes",0,0,0,0,0,0,0,0,0,0,0,0,0,0,0,0,0,0,0,0,0,0]
[null,null,null,null,null,null,null,null,null,null,null,null,null,null,null,null,null,null,null,null,null,null,null,null,null,null,null,null,null,null,null,null,null,null,null,null,null,null,null,null,null,null,null,null,null,null,null,null,null,null,null,null,{"$f":"B37","v":12},"Total (sum of Sl. 1 to 11)",0,0,0,0,0,0,0,0,0,0,0,0,0,0,0,0,0,0,0,0,0,0]
[null,null,null,null,null,null,null,null,null,null,null,null,null,null,null,null,null,null,null,null,null,null,null,null,null,null,null,null,null,null,null,null,null,null,null,null,null,null,null,null,null,null,null,null,null,null,null,null,null,null,null,null,{"$f":"A38","v":"PROFORMA–XV VALUES [Sl.-6.1 Farmers/Cultivators (Sub-Total)]"},null,0,0,0,0,0,0,0,0,0,0,0,0,0,0,0,0,0,0,0,0,0,0]
[null,null,null,null,null,null,null,null,null,null,null,null,null,null,null,null,null,null,null,null,null,null,null,null,null,null,null,null,null,null,null,null,null,null,null,null,null,null,null,null,null,null,null,null,null,null,null,null,null,null,null,null,"VALIDATION  WITH PROFORMA–XV [Sl.-6.1 Farmers/Cultivators (Sub-Total)]",null,"","","","","","","","","","","","","","","","","","","","","",""]
[null,null,null,null,null,null,null,null,null,null,null,null,null,null,null,null,null,null,null,null,null,null,null,null,null,null,null,null,null,null,null,null,null,null,null,null,null,null,null,null,null,null,null,null,null,null,null,null,null,null,null,null," PROFORMA–XIV VALUES [Sl.–21 (Total)]",null,2,6,65,79,81,16,249,1,4,19,21,11,16,72,0,0,0,0,0,0,0,321]
[null,null,null,null,null,null,null,null,null,null,null,null,null,null,null,null,null,null,null,null,null,null,null,null,null,null,null,null,null,null,null,null,null,null,null,null,null,null,null,null,null,null,null,null,null,null,null,null,null,null,null,null,"VALIDATION  WITH  PROFORMA–XIV [Sl.–21 (Total)]",null,{"$f":"D41","v":""},{"$f":"E41","v":""},{"$f":"F41","v":""},{"$f":"G41","v":""},{"$f":"H41","v":""},{"$f":"I41","v":""},{"$f":"J41","v":""},{"$f":"K41","v":""},{"$f":"L41","v":""},{"$f":"M41","v":""},{"$f":"N41","v":""},{"$f":"O41","v":""},{"$f":"P41","v":""},{"$f":"Q41","v":""},{"$f":"R41","v":""},{"$f":"S41","v":""},{"$f":"T41","v":""},{"$f":"U41","v":""},{"$f":"V41","v":""},{"$f":"W41","v":""},{"$f":"X41","v":""},{"$f":"Y41","v":""}]
[null,null,null,null,null,null,null,null,null,null,null,null,null,null,null,null,null,null,null,null,null,null,null,null,null,null,null,null,null,null,null,null,null,null,null,null,null,null,null,null,null,null,null,null,null,null,null,null,null,null,null,null,"SL-10 ABNORMAL VARIATION IN \"CAUSES NOT KNOWN\" DATA",null,{"$f":"D42","v":""},"","","","","","","","","","","",{"$f":"P42","v":""},"","","","","","",{"$f":"W42","v":""},"",""]
[null,null,null,null,null,null,null,null,null,null,null,null,null,null,null,null,null,null,null,null,null,null,null,null,null,null,null,null,null,null,null,null,null,null,null,null,null,null,null,null,null,null,null,null,null,null,null,null,null,null,null,null,"SL-11 ABNORMAL VARIATION IN \"OTHER CAUSES\" DATA",null,{"$f":"D43","v":""},"","","","","","","","","","","","","","","","","","","","",""]
[]
[]
[]
[]
[]
[]
[]
[]
[]
[]
[]
[]
[]
[]
[]
[]
[]
[]
[]
[]
[]
[]
[]
[]
[]
[]
[]
[]
[]
[]
[]
[]
[]
[]
[]
[]
[]
[]
[]
[]
[]
[]
[]
[]
[]
[]
[]
[]
[]
[]
[]
[]
[]
[]
[]
[]
[]
[]
[]
[]
[]
[]
[]
[]
[]
[]
[]
[]
[]
[]
[]
[]
[]
[]
[]
[]
[]
[]
[]
[]
[]
[]
[]
[]
[]
[]
[]
[]
[]
[]
[]
[]
[]
[]
[]
[]
[]
[]
[]
[]
[]
[]
[]
[]
[]
[]
[]
[]
[]
[]
[]
[]
[]
[]
[]
[]
[]
[]
[]
[]
[]
[]
[]
[]
[]
[]
[]
[]
[]
[]
[]
[]
[]
[]
[]
[]
[]
[]
[]
[]
[]
[]
[]
[]
[]
[]
[]
[]
[]
[]
[]
[]
[]
[]
[]
[]
[]
[]
[]
[]
[]
[]
[]
[]
[]
[]
[]
[]
[]
[]
[]
[]
[]
[]
[]
[]
[]
[]
[]
[]
[]
[]
[]
[]
[]
[]
[]
[]
[]
[]
[]
[]
[]
[]
[]
[]
[]
[]
[]
[]
[]
[]
[]
[]
[]
[]
[]
[]
[]
[]
[]
[]
[]
[]
[]
[]
[]
[]
[]
[]
[]
[]
[]
[]
[]
[]
[]
[]
[]
[]
[]
[]
[]
[]
[]
[]
[]
[]
[]
[]
[]
[]
[]
[]
[]
[]
[]
[]
[]
[]
[]
[]
[]
[]
[]
[]
[]
["StateUTCityCode","DistrictCode","CrimeCode","DataYear","Male_below 14 years","Male_14 and above – below 18 years","Male_18 and above – below 30 years","Male_30 and above – below 45 years","Male_45 and above – below 60 years","Male_60 years & above","Male_Total","Female_below 14 years","Female_14 and above – below 18 years","Female_18 and above – below 30 years","Female_30 and above – below 45 years","Female_45 and above – below 60 years","Female_60 years & above","Female_Total","Trans_below 14 years","Trans_14 and above – below 18 years","Trans_18 and above – below 30 years","Trans_30 and above – below 45 years","Trans_45 and above – below 60 years","Trans_60 years & above","Trans_Total","Grand Total"]
[{"$f":"IF(ADSI!$G$12=\"\",ADSI!$H$16,ADSI!$H$12)","v":6},{"$f":"IF(ADSI!$G$12=\"\",ADSI!$H$16,ADSI!$H$14)","v":""},{"$f":"A9","v":975},{"$f":"ADSI!$K$12","v":2021},{"$f":"D9","v":0},0,0,0,0,0,0,0,0,0,0,0,0,0,0,0,0,0,0,0,0,0]
[{"$f":"IF(ADSI!$G$12=\"\",ADSI!$H$16,ADSI!$H$12)","v":6},{"$f":"IF(ADSI!$G$12=\"\",ADSI!$H$16,ADSI!$H$14)","v":""},976,{"$f":"ADSI!$K$12","v":2021},{"$f":"D10","v":0},0,0,0,0,0,0,0,0,0,0,0,0,0,0,0,0,0,0,0,0,0]
[{"$f":"IF(ADSI!$G$12=\"\",ADSI!$H$16,ADSI!$H$12)","v":6},{"$f":"IF(ADSI!$G$12=\"\",ADSI!$H$16,ADSI!$H$14)","v":""},977,{"$f":"ADSI!$K$12","v":2021},{"$f":"D11","v":0},0,0,0,0,0,0,0,0,0,0,0,0,0,0,0,0,0,0,0,0,0]
[{"$f":"IF(ADSI!$G$12=\"\",ADSI!$H$16,ADSI!$H$12)","v":6},{"$f":"IF(ADSI!$G$12=\"\",ADSI!$H$16,ADSI!$H$14)","v":""},978,{"$f":"ADSI!$K$12","v":2021},{"$f":"D12","v":0},0,0,0,0,0,0,0,0,0,0,0,0,0,0,0,0,0,0,0,0,0]
[{"$f":"IF(ADSI!$G$12=\"\",ADSI!$H$16,ADSI!$H$12)","v":6},{"$f":"IF(ADSI!$G$12=\"\",ADSI!$H$16,ADSI!$H$14)","v":""},979,{"$f":"ADSI!$K$12","v":2021},{"$f":"D13","v":0},0,0,0,0,0,0,0,0,0,0,0,0,0,0,0,0,0,0,0,0,0]
[{"$f":"IF(ADSI!$G$12=\"\",ADSI!$H$16,ADSI!$H$12)","v":6},{"$f":"IF(ADSI!$G$12=\"\",ADSI!$H$16,ADSI!$H$14)","v":""},980,{"$f":"ADSI!$K$12","v":2021},{"$f":"D14","v":0},0,0,0,0,0,0,0,0,0,0,0,0,0,0,0,0,0,0,0,0,0]
[{"$f":"IF(ADSI!$G$12=\"\",ADSI!$H$16,ADSI!$H$12)","v":6},{"$f":"IF(ADSI!$G$12=\"\",ADSI!$H$16,ADSI!$H$14)","v":""},981,{"$f":"ADSI!$K$12","v":2021},{"$f":"D15","v":0},0,0,0,0,0,0,0,0,0,0,0,0,0,0,0,0,0,0,0,0,0]
[{"$f":"IF(ADSI!$G$12=\"\",ADSI!$H$16,ADSI!$H$12)","v":6},{"$f":"IF(ADSI!$G$12=\"\",ADSI!$H$16,ADSI!$H$14)","v":""},982,{"$f":"ADSI!$K$12","v":2021},{"$f":"D16","v":0},0,0,0,0,0,0,0,0,0,0,0,0,0,0,0,0,0,0,0,0,0]
[{"$f":"IF(ADSI!$G$12=\"\",ADSI!$H$16,ADSI!$H$12)","v":6},{"$f":"IF(ADSI!$G$12=\"\",ADSI!$H$16,ADSI!$H$14)","v":""},983,{"$f":"ADSI!$K$12","v":2021},{"$f":"D17","v":0},0,0,0,0,0,0,0,0,0,0,0,0,0,0,0,0,0,0,0,0,0]
[{"$f":"IF(ADSI!$G$12=\"\",ADSI!$H$16,ADSI!$H$12)","v":6},{"$f":"IF(ADSI!$G$12=\"\",ADSI!$H$16,ADSI!$H$14)","v":""},984,{"$f":"ADSI!$K$12","v":2021},{"$f":"D18","v":0},0,0,0,0,0,0,0,0,0,0,0,0,0,0,0,0,0,0,0,0,0]
[{"$f":"IF(ADSI!$G$12=\"\",ADSI!$H$16,ADSI!$H$12)","v":6},{"$f":"IF(ADSI!$G$12=\"\",ADSI!$H$16,ADSI!$H$14)","v":""},985,{"$f":"ADSI!$K$12","v":2021},{"$f":"D19","v":0},0,0,0,0,0,0,0,0,0,0,0,0,0,0,0,0,0,0,0,0,0]
[{"$f":"IF(ADSI!$G$12=\"\",ADSI!$H$16,ADSI!$H$12)","v":6},{"$f":"IF(ADSI!$G$12=\"\",ADSI!$H$16,ADSI!$H$14)","v":""},986,{"$f":"ADSI!$K$12","v":2021},{"$f":"D20","v":0},0,0,0,0,0,0,0,0,0,0,0,0,0,0,0,0,0,0,0,0,0]
[{"$f":"IF(ADSI!$G$12=\"\",ADSI!$H$16,ADSI!$H$12)","v":6},{"$f":"IF(ADSI!$G$12=\"\",ADSI!$H$16,ADSI!$H$14)","v":""},987,{"$f":"ADSI!$K$12","v":2021},{"$f":"D21","v":0},0,0,0,0,0,0,0,0,0,0,0,0,0,0,0,0,0,0,0,0,0]
[{"$f":"IF(ADSI!$G$12=\"\",ADSI!$H$16,ADSI!$H$12)","v":6},{"$f":"IF(ADSI!$G$12=\"\",ADSI!$H$16,ADSI!$H$14)","v":""},988,{"$f":"ADSI!$K$12","v":2021},{"$f":"D22","v":0},0,0,0,0,0,0,0,0,0,0,0,0,0,0,0,0,0,0,0,0,0]
[{"$f":"IF(ADSI!$G$12=\"\",ADSI!$H$16,ADSI!$H$12)","v":6},{"$f":"IF(ADSI!$G$12=\"\",ADSI!$H$16,ADSI!$H$14)","v":""},989,{"$f":"ADSI!$K$12","v":2021},{"$f":"D23","v":0},0,0,0,0,0,0,0,0,0,0,0,0,0,0,0,0,0,0,0,0,0]
[{"$f":"IF(ADSI!$G$12=\"\",ADSI!$H$16,ADSI!$H$12)","v":6},{"$f":"IF(ADSI!$G$12=\"\",ADSI!$H$16,ADSI!$H$14)","v":""},990,{"$f":"ADSI!$K$12","v":2021},{"$f":"D24","v":0},0,0,0,0,0,0,0,0,0,0,0,0,0,0,0,0,0,0,0,0,0]
[{"$f":"IF(ADSI!$G$12=\"\",ADSI!$H$16,ADSI!$H$12)","v":6},{"$f":"IF(ADSI!$G$12=\"\",ADSI!$H$16,ADSI!$H$14)","v":""},991,{"$f":"ADSI!$K$12","v":2021},{"$f":"D25","v":0},0,0,0,0,0,0,0,0,0,0,0,0,0,0,0,0,0,0,0,0,0]
[{"$f":"IF(ADSI!$G$12=\"\",ADSI!$H$16,ADSI!$H$12)","v":6},{"$f":"IF(ADSI!$G$12=\"\",ADSI!$H$16,ADSI!$H$14)","v":""},992,{"$f":"ADSI!$K$12","v":2021},{"$f":"D26","v":0},0,0,0,0,0,0,0,0,0,0,0,0,0,0,0,0,0,0,0,0,0]
[{"$f":"IF(ADSI!$G$12=\"\",ADSI!$H$16,ADSI!$H$12)","v":6},{"$f":"IF(ADSI!$G$12=\"\",ADSI!$H$16,ADSI!$H$14)","v":""},993,{"$f":"ADSI!$K$12","v":2021},{"$f":"D27","v":0},0,0,0,0,0,0,0,0,0,0,0,0,0,0,0,0,0,0,0,0,0]
[{"$f":"IF(ADSI!$G$12=\"\",ADSI!$H$16,ADSI!$H$12)","v":6},{"$f":"IF(ADSI!$G$12=\"\",ADSI!$H$16,ADSI!$H$14)","v":""},994,{"$f":"ADSI!$K$12","v":2021},{"$f":"D28","v":0},0,0,0,0,0,0,0,0,0,0,0,0,0,0,0,0,0,0,0,0,0]
[{"$f":"IF(ADSI!$G$12=\"\",ADSI!$H$16,ADSI!$H$12)","v":6},{"$f":"IF(ADSI!$G$12=\"\",ADSI!$H$16,ADSI!$H$14)","v":""},995,{"$f":"ADSI!$K$12","v":2021},{"$f":"D29","v":0},0,0,0,0,0,0,0,0,0,0,0,0,0,0,0,0,0,0,0,0,0]
[{"$f":"IF(ADSI!$G$12=\"\",ADSI!$H$16,ADSI!$H$12)","v":6},{"$f":"IF(ADSI!$G$12=\"\",ADSI!$H$16,ADSI!$H$14)","v":""},996,{"$f":"ADSI!$K$12","v":2021},{"$f":"D30","v":0},0,0,0,0,0,0,0,0,0,0,0,0,0,0,0,0,0,0,0,0,0]
[{"$f":"IF(ADSI!$G$12=\"\",ADSI!$H$16,ADSI!$H$12)","v":6},{"$f":"IF(ADSI!$G$12=\"\",ADSI!$H$16,ADSI!$H$14)","v":""},997,{"$f":"ADSI!$K$12","v":2021},{"$f":"D31","v":0},0,0,0,0,0,0,0,0,0,0,0,0,0,0,0,0,0,0,0,0,0]
[{"$f":"IF(ADSI!$G$12=\"\",ADSI!$H$16,ADSI!$H$12)","v":6},{"$f":"IF(ADSI!$G$12=\"\",ADSI!$H$16,ADSI!$H$14)","v":""},998,{"$f":"ADSI!$K$12","v":2021},{"$f":"D32","v":0},0,0,0,0,0,0,0,0,0,0,0,0,0,0,0,0,0,0,0,0,0]
[{"$f":"IF(ADSI!$G$12=\"\",ADSI!$H$16,ADSI!$H$12)","v":6},{"$f":"IF(ADSI!$G$12=\"\",ADSI!$H$16,ADSI!$H$14)","v":""},999,{"$f":"ADSI!$K$12","v":2021},{"$f":"D33","v":0},0,0,0,0,0,0,0,0,0,0,0,0,0,0,0,0,0,0,0,0,0]
[{"$f":"IF(ADSI!$G$12=\"\",ADSI!$H$16,ADSI!$H$12)","v":6},{"$f":"IF(ADSI!$G$12=\"\",ADSI!$H$16,ADSI!$H$14)","v":""},{"$f":"A34","v":1000},{"$f":"ADSI!$K$12","v":2021},{"$f":"D34","v":0},{"$f":"E34","v":0},{"$f":"F34","v":0},{"$f":"G34","v":0},{"$f":"H34","v":0},{"$f":"I34","v":0},{"$f":"J34","v":0},{"$f":"K34","v":0},{"$f":"L34","v":0},{"$f":"M34","v":0},{"$f":"N34","v":0},{"$f":"O34","v":0},{"$f":"P34","v":0},{"$f":"Q34","v":0},{"$f":"R34","v":0},{"$f":"S34","v":0},{"$f":"T34","v":0},{"$f":"U34","v":0},{"$f":"V34","v":0},{"$f":"W34","v":0},{"$f":"X34","v":0},{"$f":"Y34","v":0}]
[{"$f":"IF(ADSI!$G$12=\"\",ADSI!$H$16,ADSI!$H$12)","v":6},{"$f":"IF(ADSI!$G$12=\"\",ADSI!$H$16,ADSI!$H$14)","v":""},1001,{"$f":"ADSI!$K$12","v":2021},0,0,0,0,0,0,0,0,0,0,0,0,0,0,0,0,0,0,0,0,0,0]
[{"$f":"IF(ADSI!$G$12=\"\",ADSI!$H$16,ADSI!$H$12)","v":6},{"$f":"IF(ADSI!$G$12=\"\",ADSI!$H$16,ADSI!$H$14)","v":""},1002,{"$f":"ADSI!$K$12","v":2021},0,0,0,0,0,0,0,0,0,0,0,0,0,0,0,0,0,0,0,0,0,0]
[{"$f":"IF(ADSI!$G$12=\"\",ADSI!$H$16,ADSI!$H$12)","v":6},{"$f":"IF(ADSI!$G$12=\"\",ADSI!$H$16,ADSI!$H$14)","v":""},1020,{"$f":"ADSI!$K$12","v":2021},0,0,0,0,0,0,0,0,0,0,0,0,0,0,0,0,0,0,0,0,0,0]

{"sheet":"P-XIX-A","index":22,"n_rows":514,"n_cols":76,"rows_kept":514,"cut":false,"hidden":false,"merged":[[224,52,224,53],[225,52,225,53],[226,52,226,53],[203,68,203,74],[203,75,205,75],[204,54,204,60],[204,61,204,67],[204,68,204,74],[203,54,203,67],[203,53,205,53],[221,52,221,53],[222,52,222,53],[223,52,223,53],[22,0,22,2],[23,0,23,2],[24,0,24,2],[25,0,25,2],[203,52,205,52],[26,0,26,2],[27,0,27,2],[4,0,6,0],[4,1,6,1],[4,2,6,2],[4,3,4,23],[4,24,6,24],[5,3,5,9],[5,10,5,16],[5,17,5,23]]}
[{"$f":"ADSI!$B$1","v":"Goa, , ADSI-2021"}]
["Errors",null,{"$f":"COUNTIF(D24:Y24,FALSE)+COUNTIF(D26:Y26,FALSE)","v":0},null,"Abnormal Variations",{"$f":"COUNTIF(D27:Y28,\"ABVAR\")","v":0}]
["Proforma–XIX(A)"]
["Cause-wise distribution of suicides committed by Agricultural Labourers"]
["Code","Sl. No.","Causes","Number of Suicidal Deaths",null,null,null,null,null,null,null,null,null,null,null,null,null,null,null,null,null,null,null,null,"Grand Total [col. (9)+(16)+(23)]"]
[null,null,null,"Male",null,null,null,null,null,null,"Female",null,null,null,null,null,null,"Transgender"]
[null,null,null,"below 14 years","14 and above – below 18 yrs","18 and above – below 30 years","30 and above – below 45 years","45 and above – below 60 years","60 years & above"," Total [sum of (3) to (8)]","below 14 years","14 and above – below 18 yrs","18 and above – below 30 years","30 and above – below 45 years","45 and above – below 60 years","60 years & above","Total \n[sum of (10) to (15)]","below 14 years","14 and above – below 18 yrs","18 and above – below 30 years","30 and above – below 45 years","45 and above – below 60 years","60 years & above","Total \n[sum of (17) to (22)]"]
[null,"(1)","(2)","(3)","(4)","(5)","(6)","(7)","(8)","(9)","(10)","(11)","(12)","(13)","(14)","(15)","(16)","(17)","(18)","(19)","(20)","(21)","(22)","(23)","(24)"]
[1150,1,"Poverty",0,0,0,0,0,0,{"$f":"SUM(D9:I9)","v":0},0,0,0,0,0,0,{"$f":"SUM(K9:P9)","v":0},0,0,0,0,0,0,{"$f":"SUM(R9:W9)","v":0},{"$f":"SUM(J9+Q9+X9)","v":0}]
[1151,2,"Property dispute",0,0,0,0,0,0,{"$f":"SUM(D10:I10)","v":0},0,0,0,0,0,0,{"$f":"SUM(K10:P10)","v":0},0,0,0,0,0,0,{"$f":"SUM(R10:W10)","v":0},{"$f":"SUM(J10+Q10+X10)","v":0}]
[1152,3,"Marriage Related Issues (Dowry, Non settlement of marriage, divorce/extra-marital affairs etc.)",0,0,0,0,0,0,0,0,0,0,0,0,0,0,0,0,0,0,0,0,0,0]
[1153,4,"Death of dear person",0,0,0,0,0,0,0,0,0,0,0,0,0,0,0,0,0,0,0,0,0,0]
[1154,5,"Family problems",0,0,0,1,1,0,2,0,0,0,0,0,0,0,0,0,0,0,0,0,0,2]
[1155,6,"Illness",0,0,0,0,0,0,0,0,0,0,0,0,0,0,0,0,0,0,0,0,0,0]
[1156,7,"Drug abuse/Alcoholic addiction",0,0,0,0,0,0,0,0,0,0,0,0,0,0,0,0,0,0,0,0,0,0]
[1157,8,"Fall in social reputation",0,0,0,0,0,0,0,0,0,0,0,0,0,0,0,0,0,0,0,0,0,0]
[1158,9,"Bankruptcy or Indebtedness from Financial Institutions",0,0,0,0,0,0,0,0,0,0,0,0,0,0,0,0,0,0,0,0,0,0]
[1159,10,"Bankruptcy or Indebtedness from  Non-Financial Institutions/Money Lenders",0,0,0,0,0,0,0,0,0,0,0,0,0,0,0,0,0,0,0,0,0,0]
[1160,11,"Physical Abuse (rape etc.)",0,0,0,0,0,0,0,0,0,0,0,0,0,0,0,0,0,0,0,0,0,0]
[1161,12,"Causes not known",0,0,0,0,0,0,0,0,0,0,0,0,0,0,0,0,0,0,0,0,0,0]
[1162,13,"Other causes",0,0,0,0,0,0,0,0,0,0,0,0,0,0,0,0,0,0,0,0,0,0]
[1175,14,"Total (sum of Sl. 1 to 13)",{"$f":"SUM(D9:D21)","v":0},{"$f":"SUM(E9:E21)","v":0},0,1,1,0,{"$f":"SUM(D22:I22)","v":2},0,{"$f":"SUM(L9:L21)","v":0},{"$f":"SUM(M9:M21)","v":0},{"$f":"SUM(N9:N21)","v":0},{"$f":"SUM(O9:O21)","v":0},{"$f":"SUM(P9:P21)","v":0},{"$f":"SUM(K22:P22)","v":0},0,{"$f":"SUM(S9:S21)","v":0},{"$f":"SUM(T9:T21)","v":0},{"$f":"SUM(U9:U21)","v":0},{"$f":"SUM(V9:V21)","v":0},{"$f":"SUM(W9:W21)","v":0},{"$f":"SUM(R22:W22)","v":0},2]
["PROFORMA–XV VALUES [6.2 Agricultural labourers]",null,null,{"$f":"'P-XV'!E29","v":0},{"$f":"'P-XV'!F29","v":0},{"$f":"'P-XV'!G29","v":0},{"$f":"'P-XV'!H29","v":1},{"$f":"'P-XV'!I29","v":1},{"$f":"'P-XV'!J29","v":0},{"$f":"'P-XV'!K29","v":2},{"$f":"'P-XV'!L29","v":0},{"$f":"'P-XV'!M29","v":0},{"$f":"'P-XV'!N29","v":0},{"$f":"'P-XV'!O29","v":0},{"$f":"'P-XV'!P29","v":0},{"$f":"'P-XV'!Q29","v":0},{"$f":"'P-XV'!R29","v":0},{"$f":"'P-XV'!S29","v":0},{"$f":"'P-XV'!T29","v":0},{"$f":"'P-XV'!U29","v":0},{"$f":"'P-XV'!V29","v":0},{"$f":"'P-XV'!W29","v":0},{"$f":"'P-XV'!X29","v":0},{"$f":"'P-XV'!Y29","v":0},{"$f":"'P-XV'!Z29","v":2}]
["VALIDATION  WITH PROFORMA–XV [6.2 Agricultural labourers]",null,null,{"$f":"IF(D22='P-XV'!E29,\"\",FALSE)","v":""},{"$f":"IF(E22='P-XV'!F29,\"\",FALSE)","v":""},{"$f":"IF(F22='P-XV'!G29,\"\",FALSE)","v":""},{"$f":"IF(G22='P-XV'!H29,\"\",FALSE)","v":""},{"$f":"IF(H22='P-XV'!I29,\"\",FALSE)","v":""},{"$f":"IF(I22='P-XV'!J29,\"\",FALSE)","v":""},{"$f":"IF(J22='P-XV'!K29,\"\",FALSE)","v":""},{"$f":"IF(K22='P-XV'!L29,\"\",FALSE)","v":""},{"$f":"IF(L22='P-XV'!M29,\"\",FALSE)","v":""},{"$f":"IF(M22='P-XV'!N29,\"\",FALSE)","v":""},{"$f":"IF(N22='P-XV'!O29,\"\",FALSE)","v":""},{"$f":"IF(O22='P-XV'!P29,\"\",FALSE)","v":""},{"$f":"IF(P22='P-XV'!Q29,\"\",FALSE)","v":""},{"$f":"IF(Q22='P-XV'!R29,\"\",FALSE)","v":""},{"$f":"IF(R22='P-XV'!S29,\"\",FALSE)","v":""},{"$f":"IF(S22='P-XV'!T29,\"\",FALSE)","v":""},{"$f":"IF(T22='P-XV'!U29,\"\",FALSE)","v":""},{"$f":"IF(U22='P-XV'!V29,\"\",FALSE)","v":""},{"$f":"IF(V22='P-XV'!W29,\"\",FALSE)","v":""},{"$f":"IF(W22='P-XV'!X29,\"\",FALSE)","v":""},{"$f":"IF(X22='P-XV'!Y29,\"\",FALSE)","v":""},{"$f":"IF(Y22='P-XV'!Z29,\"\",FALSE)","v":""}]
[" PROFORMA–XIV VALUES [Sl.–21 (Total)]",null,null,{"$f":"'P-XIV'!D38","v":2},{"$f":"'P-XIV'!E38","v":6},{"$f":"'P-XIV'!F38","v":65},{"$f":"'P-XIV'!G38","v":79},{"$f":"'P-XIV'!H38","v":81},{"$f":"'P-XIV'!I38","v":16},{"$f":"'P-XIV'!J38","v":249},{"$f":"'P-XIV'!K38","v":1},{"$f":"'P-XIV'!L38","v":4},{"$f":"'P-XIV'!M38","v":19},{"$f":"'P-XIV'!N38","v":21},{"$f":"'P-XIV'!O38","v":11},{"$f":"'P-XIV'!P38","v":16},{"$f":"'P-XIV'!Q38","v":72},{"$f":"'P-XIV'!R38","v":0},{"$f":"'P-XIV'!S38","v":0},{"$f":"'P-XIV'!T38","v":0},{"$f":"'P-XIV'!U38","v":0},{"$f":"'P-XIV'!V38","v":0},{"$f":"'P-XIV'!W38","v":0},{"$f":"'P-XIV'!X38","v":0},{"$f":"'P-XIV'!Y38","v":321}]
["VALIDATION  WITH  PROFORMA–XIV [Sl.–21 (Total)]",null,null,{"$f":"IF(D22<='P-XIV'!D38,\"\",FALSE)","v":""},{"$f":"IF(E22<='P-XIV'!E38,\"\",FALSE)","v":""},{"$f":"IF(F22<='P-XIV'!F38,\"\",FALSE)","v":""},{"$f":"IF(G22<='P-XIV'!G38,\"\",FALSE)","v":""},{"$f":"IF(H22<='P-XIV'!H38,\"\",FALSE)","v":""},{"$f":"IF(I22<='P-XIV'!I38,\"\",FALSE)","v":""},{"$f":"IF(J22<='P-XIV'!J38,\"\",FALSE)","v":""},{"$f":"IF(K22<='P-XIV'!K38,\"\",FALSE)","v":""},{"$f":"IF(L22<='P-XIV'!L38,\"\",FALSE)","v":""},{"$f":"IF(M22<='P-XIV'!M38,\"\",FALSE)","v":""},{"$f":"IF(N22<='P-XIV'!N38,\"\",FALSE)","v":""},{"$f":"IF(O22<='P-XIV'!O38,\"\",FALSE)","v":""},{"$f":"IF(P22<='P-XIV'!P38,\"\",FALSE)","v":""},{"$f":"IF(Q22<='P-XIV'!Q38,\"\",FALSE)","v":""},{"$f":"IF(R22<='P-XIV'!R38,\"\",FALSE)","v":""},{"$f":"IF(S22<='P-XIV'!S38,\"\",FALSE)","v":""},{"$f":"IF(T22<='P-XIV'!T38,\"\",FALSE)","v":""},{"$f":"IF(U22<='P-XIV'!U38,\"\",FALSE)","v":""},{"$f":"IF(V22<='P-XIV'!V38,\"\",FALSE)","v":""},{"$f":"IF(W22<='P-XIV'!W38,\"\",FALSE)","v":""},{"$f":"IF(X22<='P-XIV'!X38,\"\",FALSE)","v":""},{"$f":"IF(Y22<='P-XIV'!Y38,\"\",FALSE)","v":""}]
["SL-12 ABNORMAL VARIATION IN \"CAUSES NOT KNOWN\" DATA",null,null,{"$f":"IF(D22>0,IF((D20/D22*100)>10,\"ABVAR\",\"\"),\"\")","v":""},{"$f":"IF(E22>0,IF((E20/E22*100)>10,\"ABVAR\",\"\"),\"\")","v":""},"","","","","","","","","","","","","","","","","","","",""]
["SL-13 ABNORMAL VARIATION IN \"OTHER CAUSES\" DATA",null,null,{"$f":"IF(D22>0,IF((D21/D22*100)>10,\"ABVAR\",\"\"),\"\")","v":""},{"$f":"IF(E22>0,IF((E21/E22*100)>10,\"ABVAR\",\"\"),\"\")","v":""},"","","","","","","","","","","","","","","","","","","",""]
[]
["Note: If causes of suicides is found as more than one, the most immediate cause of suicides should be considered."]
[]
[]
[]
[]
[]
[]
[]
[]
[]
[]
[]
[]
[]
[]
[]
[]
[]
[]
[]
[]
[]
[]
[]
[]
[]
[]
[]
[]
[]
[]
[]
[]
[]
[]
[]
[]
[]
[]
[]
[]
[]
[]
[]
[]
[]
[]
[]
[]
[]
[]
[]
[]
[]
[]
[]
[]
[]
[]
[]
[]
[]
[]
[]
[]
[]
[]
[]
[]
[]
[]
[]
[]
[]
[]
[]
[]
[]
[]
[]
[]
[]
[]
[]
[]
[]
[]
[]
[]
[]
[]
[]
[]
[]
[]
[]
[]
[]
[]
[]
[]
[]
[]
[]
[]
[]
[]
[]
[]
[]
[]
[]
[]
[]
[]
[]
[]
[]
[]
[]
[]
[]
[]
[]
[]
[]
[]
[]
[]
[]
[]
[]
[]
[]
[]
[]
[]
[]
[]
[]
[]
[]
[]
[]
[]
[]
[]
[]
[]
[]
[]
[]
[]
[]
[]
[]
[]
[]
[]
[]
[]
[]
[]
[]
[]
[]
[]
[]
[]
[]
[null,null,null,null,null,null,null,null,null,null,null,null,null,null,null,null,null,null,null,null,null,null,null,null,null,null,null,null,null,null,null,null,null,null,null,null,null,null,null,null,null,null,null,null,null,null,null,null,null,null,null,null,{"$f":"A1","v":"Goa, , ADSI-2021"}]
[null,null,null,null,null,null,null,null,null,null,null,null,null,null,null,null,null,null,null,null,null,null,null,null,null,null,null,null,null,null,null,null,null,null,null,null,null,null,null,null,null,null,null,null,null,null,null,null,null,null,null,null,{"$f":"A2","v":"Errors"},{"$f":"C2","v":0},null,{"$f":"E2","v":"Abnormal Variations"},{"$f":"F2","v":0}]
[null,null,null,null,null,null,null,null,null,null,null,null,null,null,null,null,null,null,null,null,null,null,null,null,null,null,null,null,null,null,null,null,null,null,null,null,null,null,null,null,null,null,null,null,null,null,null,null,null,null,null,null,{"$f":"A3","v":"Proforma–XIX(A)"}]
[null,null,null,null,null,null,null,null,null,null,null,null,null,null,null,null,null,null,null,null,null,null,null,null,null,null,null,null,null,null,null,null,null,null,null,null,null,null,null,null,null,null,null,null,null,null,null,null,null,null,null,null,{"$f":"A4","v":"Cause-wise distribution of suicides committed by Agricultural Labourers"}]
[null,null,null,null,null,null,null,null,null,null,null,null,null,null,null,null,null,null,null,null,null,null,null,null,null,null,null,null,null,null,null,null,null,null,null,null,null,null,null,null,null,null,null,null,null,null,null,null,null,null,null,null,{"$f":"B5","v":"Sl. No."},{"$f":"C5","v":"Causes"},{"$f":"D5","v":"Number of Suicidal Deaths"},null,null,null,null,null,null,null,null,null,null,null,null,null,"Number of Suicidal Deaths",null,null,null,null,null,null,{"$f":"Y5","v":"Grand Total [col. (9)+(16)+(23)]"}]
[null,null,null,null,null,null,null,null,null,null,null,null,null,null,null,null,null,null,null,null,null,null,null,null,null,null,null,null,null,null,null,null,null,null,null,null,null,null,null,null,null,null,null,null,null,null,null,null,null,null,null,null,null,null,{"$f":"D6","v":"Male"},null,null,null,null,null,null,{"$f":"K6","v":"Female"},null,null,null,null,null,null,{"$f":"R6","v":"Transgender"}]
[null,null,null,null,null,null,null,null,null,null,null,null,null,null,null,null,null,null,null,null,null,null,null,null,null,null,null,null,null,null,null,null,null,null,null,null,null,null,null,null,null,null,null,null,null,null,null,null,null,null,null,null,null,null,{"$f":"D7","v":"below 14 years"},{"$f":"E7","v":"14 and above – below 18 yrs"},"18 and above – below 30 years","30 and above – below 45 years","45 and above – below 60 years","60 years & above"," Total [sum of (3) to (8)]",{"$f":"K7","v":"below 14 years"},{"$f":"L7","v":"14 and above – below 18 yrs"},"18 and above – below 30 years","30 and above – below 45 years","45 and above – below 60 years","60 years & above","Total \n[sum of (10) to (15)]",{"$f":"R7","v":"below 14 years"},{"$f":"S7","v":"14 and above – below 18 yrs"},"18 and above – below 30 years","30 and above – below 45 years","45 and above – below 60 years","60 years & above","Total \n[sum of (17) to (22)]"]
[null,null,null,null,null,null,null,null,null,null,null,null,null,null,null,null,null,null,null,null,null,null,null,null,null,null,null,null,null,null,null,null,null,null,null,null,null,null,null,null,null,null,null,null,null,null,null,null,null,null,null,null,{"$f":"B8","v":"(1)"},{"$f":"C8","v":"(2)"},{"$f":"D8","v":"(3)"},"(4)","(5)","(6)","(7)","(8)","(9)",{"$f":"K8","v":"(10)"},"(11)","(12)","(13)","(14)","(15)","(16)",{"$f":"R8","v":"(17)"},"(18)","(19)","(20)","(21)","(22)","(23)",{"$f":"Y8","v":"(24)"}]
[null,null,null,null,null,null,null,null,null,null,null,null,null,null,null,null,null,null,null,null,null,null,null,null,null,null,null,null,null,null,null,null,null,null,null,null,null,null,null,null,null,null,null,null,null,null,null,null,null,null,null,null,{"$f":"B9","v":1},{"$f":"C9","v":"Poverty"},0,0,0,0,0,0,0,0,0,0,0,0,0,0,0,0,0,0,0,0,0,0]
[null,null,null,null,null,null,null,null,null,null,null,null,null,null,null,null,null,null,null,null,null,null,null,null,null,null,null,null,null,null,null,null,null,null,null,null,null,null,null,null,null,null,null,null,null,null,null,null,null,null,null,null,{"$f":"B10","v":2},{"$f":"C10","v":"Property dispute"},{"$f":"D10","v":0},{"$f":"E10","v":0},{"$f":"F10","v":0},{"$f":"G10","v":0},{"$f":"H10","v":0},{"$f":"I10","v":0},{"$f":"J10","v":0},{"$f":"K10","v":0},{"$f":"L10","v":0},{"$f":"M10","v":0},{"$f":"N10","v":0},{"$f":"O10","v":0},{"$f":"P10","v":0},{"$f":"Q10","v":0},{"$f":"R10","v":0},{"$f":"S10","v":0},{"$f":"T10","v":0},{"$f":"U10","v":0},{"$f":"V10","v":0},{"$f":"W10","v":0},{"$f":"X10","v":0},{"$f":"Y10","v":0}]
[null,null,null,null,null,null,null,null,null,null,null,null,null,null,null,null,null,null,null,null,null,null,null,null,null,null,null,null,null,null,null,null,null,null,null,null,null,null,null,null,null,null,null,null,null,null,null,null,null,null,null,null,3,"Marriage Related Issues (Dowry, Non settlement of marriage, divorce/extra-marital affairs etc.)",0,0,0,0,0,0,0,0,0,0,0,0,0,0,0,0,0,0,0,0,0,0]
[null,null,null,null,null,null,null,null,null,null,null,null,null,null,null,null,null,null,null,null,null,null,null,null,null,null,null,null,null,null,null,null,null,null,null,null,null,null,null,null,null,null,null,null,null,null,null,null,null,null,null,null,4,"Death of dear person",0,0,0,0,0,0,0,0,0,0,0,0,0,0,0,0,0,0,0,0,0,0]
[null,null,null,null,null,null,null,null,null,null,null,null,null,null,null,null,null,null,null,null,null,null,null,null,null,null,null,null,null,null,null,null,null,null,null,null,null,null,null,null,null,null,null,null,null,null,null,null,null,null,null,null,5,"Family problems",0,0,0,1,1,0,2,0,0,0,0,0,0,0,0,0,0,0,0,0,0,2]
[null,null,null,null,null,null,null,null,null,null,null,null,null,null,null,null,null,null,null,null,null,null,null,null,null,null,null,null,null,null,null,null,null,null,null,null,null,null,null,null,null,null,null,null,null,null,null,null,null,null,null,null,6,"Illness",0,0,0,0,0,0,0,0,0,0,0,0,0,0,0,0,0,0,0,0,0,0]
[null,null,null,null,null,null,null,null,null,null,null,null,null,null,null,null,null,null,null,null,null,null,null,null,null,null,null,null,null,null,null,null,null,null,null,null,null,null,null,null,null,null,null,null,null,null,null,null,null,null,null,null,7,"Drug abuse/Alcoholic addiction",0,0,0,0,0,0,0,0,0,0,0,0,0,0,0,0,0,0,0,0,0,0]
[null,null,null,null,null,null,null,null,null,null,null,null,null,null,null,null,null,null,null,null,null,null,null,null,null,null,null,null,null,null,null,null,null,null,null,null,null,null,null,null,null,null,null,null,null,null,null,null,null,null,null,null,8,"Fall in social reputation",0,0,0,0,0,0,0,0,0,0,0,0,0,0,0,0,0,0,0,0,0,0]
[null,null,null,null,null,null,null,null,null,null,null,null,null,null,null,null,null,null,null,null,null,null,null,null,null,null,null,null,null,null,null,null,null,null,null,null,null,null,null,null,null,null,null,null,null,null,null,null,null,null,null,null,9,"Bankruptcy or Indebtedness from Financial Institutions",0,0,0,0,0,0,0,0,0,0,0,0,0,0,0,0,0,0,0,0,0,0]
[null,null,null,null,null,null,null,null,null,null,null,null,null,null,null,null,null,null,null,null,null,null,null,null,null,null,null,null,null,null,null,null,null,null,null,null,null,null,null,null,null,null,null,null,null,null,null,null,null,null,null,null,10,"Bankruptcy or Indebtedness from  Non-Financial Institutions/Money Lenders",0,0,0,0,0,0,0,0,0,0,0,0,0,0,0,0,0,0,0,0,0,0]
[null,null,null,null,null,null,null,null,null,null,null,null,null,null,null,null,null,null,null,null,null,null,null,null,null,null,null,null,null,null,null,null,null,null,null,null,null,null,null,null,null,null,null,null,null,null,null,null,null,null,null,null,11,"Physical Abuse (rape etc.)",0,0,0,0,0,0,0,0,0,0,0,0,0,0,0,0,0,0,0,0,0,0]
[null,null,null,null,null,null,null,null,null,null,null,null,null,null,null,null,null,null,null,null,null,null,null,null,null,null,null,null,null,null,null,null,null,null,null,null,null,null,null,null,null,null,null,null,null,null,null,null,null,null,null,null,{"$f":"B20","v":12},{"$f":"C20","v":"Causes not known"},{"$f":"D20","v":0},{"$f":"E20","v":0},{"$f":"F20","v":0},{"$f":"G20","v":0},{"$f":"H20","v":0},{"$f":"I20","v":0},{"$f":"J20","v":0},{"$f":"K20","v":0},{"$f":"L20","v":0},{"$f":"M20","v":0},{"$f":"N20","v":0},{"$f":"O20","v":0},{"$f":"P20","v":0},{"$f":"Q20","v":0},{"$f":"R20","v":0},{"$f":"S20","v":0},{"$f":"T20","v":0},{"$f":"U20","v":0},{"$f":"V20","v":0},{"$f":"W20","v":0},{"$f":"X20","v":0},{"$f":"Y20","v":0}]
[null,null,null,null,null,null,null,null,null,null,null,null,null,null,null,null,null,null,null,null,null,null,null,null,null,null,null,null,null,null,null,null,null,null,null,null,null,null,null,null,null,null,null,null,null,null,null,null,null,null,null,null,{"$f":"B21","v":13},"Other causes",0,0,0,0,0,0,0,0,0,0,0,0,0,0,0,0,0,0,0,0,0,0]
[null,null,null,null,null,null,null,null,null,null,null,null,null,null,null,null,null,null,null,null,null,null,null,null,null,null,null,null,null,null,null,null,null,null,null,null,null,null,null,null,null,null,null,null,null,null,null,null,null,null,null,null,{"$f":"B22","v":14},"Total (sum of Sl. 1 to 13)",0,0,0,1,1,0,2,0,0,0,0,0,0,0,0,0,0,0,0,0,0,2]
[null,null,null,null,null,null,null,null,null,null,null,null,null,null,null,null,null,null,null,null,null,null,null,null,null,null,null,null,null,null,null,null,null,null,null,null,null,null,null,null,null,null,null,null,null,null,null,null,null,null,null,null,{"$f":"A23","v":"PROFORMA–XV VALUES [6.2 Agricultural labourers]"},null,{"$f":"D23","v":0},0,0,1,1,0,2,0,0,0,0,0,0,0,0,0,0,0,0,0,0,2]
[null,null,null,null,null,null,null,null,null,null,null,null,null,null,null,null,null,null,null,null,null,null,null,null,null,null,null,null,null,null,null,null,null,null,null,null,null,null,null,null,null,null,null,null,null,null,null,null,null,null,null,null,{"$f":"A24","v":"VALIDATION  WITH PROFORMA–XV [6.2 Agricultural labourers]"},null,{"$f":"D24","v":""},"","","","","","","","","","","","","","","","","","","","",""]
[null,null,null,null,null,null,null,null,null,null,null,null,null,null,null,null,null,null,null,null,null,null,null,null,null,null,null,null,null,null,null,null,null,null,null,null,null,null,null,null,null,null,null,null,null,null,null,null,null,null,null,null," PROFORMA–XIV VALUES [Sl.–21 (Total)]",null,{"$f":"D25","v":2},6,65,79,81,16,249,1,4,19,21,11,16,72,0,0,0,0,0,0,0,321]
[null,null,null,null,null,null,null,null,null,null,null,null,null,null,null,null,null,null,null,null,null,null,null,null,null,null,null,null,null,null,null,null,null,null,null,null,null,null,null,null,null,null,null,null,null,null,null,null,null,null,null,null,"VALIDATION  WITH  PROFORMA–XIV [Sl.–21 (Total)]",null,{"$f":"D26","v":""},{"$f":"E26","v":""},{"$f":"F26","v":""},{"$f":"G26","v":""},{"$f":"H26","v":""},{"$f":"I26","v":""},{"$f":"J26","v":""},{"$f":"K26","v":""},{"$f":"L26","v":""},{"$f":"M26","v":""},{"$f":"N26","v":""},{"$f":"O26","v":""},{"$f":"P26","v":""},{"$f":"Q26","v":""},{"$f":"R26","v":""},{"$f":"S26","v":""},{"$f":"T26","v":""},{"$f":"U26","v":""},{"$f":"V26","v":""},{"$f":"W26","v":""},{"$f":"X26","v":""},{"$f":"Y26","v":""}]
[null,null,null,null,null,null,null,null,null,null,null,null,null,null,null,null,null,null,null,null,null,null,null,null,null,null,null,null,null,null,null,null,null,null,null,null,null,null,null,null,null,null,null,null,null,null,null,null,null,null,null,null,{"$f":"A27","v":"SL-12 ABNORMAL VARIATION IN \"CAUSES NOT KNOWN\" DATA"},null,"","","","","","","","","","","","","","","","","","","","","",""]
[null,null,null,null,null,null,null,null,null,null,null,null,null,null,null,null,null,null,null,null,null,null,null,null,null,null,null,null,null,null,null,null,null,null,null,null,null,null,null,null,null,null,null,null,null,null,null,null,null,null,null,null,{"$f":"A28","v":"SL-13 ABNORMAL VARIATION IN \"OTHER CAUSES\" DATA"},null,"","","","","","","","","","","","","","","","","","","","","",""]
[]
[]
[]
[]
[]
[]
[]
[]
[]
[]
[]
[]
[]
[]
[]
[]
[]
[]
[]
[]
[]
[]
[]
[]
[]
[]
[]
[]
[]
[]
[]
[]
[]
[]
[]
[]
[]
[]
[]
[]
[]
[]
[]
[]
[]
[]
[]
[]
[]
[]
[]
[]
[]
[]
[]
[]
[]
[]
[]
[]
[]
[]
[]
[]
[]
[]
[]
[]
[]
[]
[]
[]
[]
[]
[]
[]
[]
[]
[]
[]
[]
[]
[]
[]
[]
[]
[]
[]
[]
[]
[]
[]
[]
[]
[]
[]
[]
[]
[]
[]
[]
[]
[]
[]
[]
[]
[]
[]
[]
[]
[]
[]
[]
[]
[]
[]
[]
[]
[]
[]
[]
[]
[]
[]
[]
[]
[]
[]
[]
[]
[]
[]
[]
[]
[]
[]
[]
[]
[]
[]
[]
[]
[]
[]
[]
[]
[]
[]
[]
[]
[]
[]
[]
[]
[]
[]
[]
[]
[]
[]
[]
[]
[]
[]
[]
[]
[]
[]
[]
[]
[]
[]
[]
[]
[]
[]
[]
[]
[]
[]
[]
[]
[]
[]
[]
[]
[]
[]
[]
[]
[]
[]
[]
[]
[]
[]
[]
[]
[]
[]
[]
[]
[]
[]
[]
[]
[]
[]
[]
[]
[]
[]
[]
[]
[]
[]
[]
[]
[]
[]
[]
[]
[]
[]
[]
[]
[]
[]
[]
[]
[]
[]
[]
[]
[]
[]
[]
[]
[]
[]
[]
[]
[]
[]
[]
[]
[]
[]
[]
[]
[]
[]
[]
[]
[]
[]
[]
[]
[]
[]
[]
[]
[]
[]
[]
[]
[]
[]
[]
[]
[]
[]
["StateUTCityCode","DistrictCode","CrimeCode","DataYear","Male_below 14 years","Male_14 and above – below 18 years","Male_18 and above – below 30 years","Male_30 and above – below 45 years","Male_45 and above – below 60 years","Male_60 years & above","Male_Total","Female_below 14 years","Female_14 and above – below 18 years","Female_18 and above – below 30 years","Female_30 and above – below 45 years","Female_45 and above – below 60 years","Female_60 years & above","Female_Total","Trans_below 14 years","Trans_14 and above – below 18 years","Trans_18 and above – below 30 years","Trans_30 and above – below 45 years","Trans_45 and above – below 60 years","Trans_60 years & above","Trans_Total","Grand Total"]
[{"$f":"IF(ADSI!$G$12=\"\",ADSI!$H$16,ADSI!$H$12)","v":6},{"$f":"IF(ADSI!$G$12=\"\",ADSI!$H$16,ADSI!$H$14)","v":""},{"$f":"A9","v":1150},{"$f":"ADSI!$K$12","v":2021},{"$f":"D9","v":0},{"$f":"E9","v":0},0,0,0,0,0,0,0,0,0,0,0,0,0,0,0,0,0,0,0,0]
[{"$f":"IF(ADSI!$G$12=\"\",ADSI!$H$16,ADSI!$H$12)","v":6},{"$f":"IF(ADSI!$G$12=\"\",ADSI!$H$16,ADSI!$H$14)","v":""},1151,{"$f":"ADSI!$K$12","v":2021},{"$f":"D10","v":0},0,0,0,0,0,0,0,0,0,0,0,0,0,0,0,0,0,0,0,0,0]
[{"$f":"IF(ADSI!$G$12=\"\",ADSI!$H$16,ADSI!$H$12)","v":6},{"$f":"IF(ADSI!$G$12=\"\",ADSI!$H$16,ADSI!$H$14)","v":""},1152,{"$f":"ADSI!$K$12","v":2021},{"$f":"D11","v":0},0,0,0,0,0,0,0,0,0,0,0,0,0,0,0,0,0,0,0,0,0]
[{"$f":"IF(ADSI!$G$12=\"\",ADSI!$H$16,ADSI!$H$12)","v":6},{"$f":"IF(ADSI!$G$12=\"\",ADSI!$H$16,ADSI!$H$14)","v":""},1153,{"$f":"ADSI!$K$12","v":2021},{"$f":"D12","v":0},0,0,0,0,0,0,0,0,0,0,0,0,0,0,0,0,0,0,0,0,0]
[{"$f":"IF(ADSI!$G$12=\"\",ADSI!$H$16,ADSI!$H$12)","v":6},{"$f":"IF(ADSI!$G$12=\"\",ADSI!$H$16,ADSI!$H$14)","v":""},1154,{"$f":"ADSI!$K$12","v":2021},{"$f":"D13","v":0},0,0,1,1,0,2,0,0,0,0,0,0,0,0,0,0,0,0,0,0,2]
[{"$f":"IF(ADSI!$G$12=\"\",ADSI!$H$16,ADSI!$H$12)","v":6},{"$f":"IF(ADSI!$G$12=\"\",ADSI!$H$16,ADSI!$H$14)","v":""},1155,{"$f":"ADSI!$K$12","v":2021},{"$f":"D14","v":0},0,0,0,0,0,0,0,0,0,0,0,0,0,0,0,0,0,0,0,0,0]
[{"$f":"IF(ADSI!$G$12=\"\",ADSI!$H$16,ADSI!$H$12)","v":6},{"$f":"IF(ADSI!$G$12=\"\",ADSI!$H$16,ADSI!$H$14)","v":""},1156,{"$f":"ADSI!$K$12","v":2021},{"$f":"D15","v":0},0,0,0,0,0,0,0,0,0,0,0,0,0,0,0,0,0,0,0,0,0]
[{"$f":"IF(ADSI!$G$12=\"\",ADSI!$H$16,ADSI!$H$12)","v":6},{"$f":"IF(ADSI!$G$12=\"\",ADSI!$H$16,ADSI!$H$14)","v":""},1157,{"$f":"ADSI!$K$12","v":2021},{"$f":"D16","v":0},0,0,0,0,0,0,0,0,0,0,0,0,0,0,0,0,0,0,0,0,0]
[{"$f":"IF(ADSI!$G$12=\"\",ADSI!$H$16,ADSI!$H$12)","v":6},{"$f":"IF(ADSI!$G$12=\"\",ADSI!$H$16,ADSI!$H$14)","v":""},1158,{"$f":"ADSI!$K$12","v":2021},{"$f":"D17","v":0},0,0,0,0,0,0,0,0,0,0,0,0,0,0,0,0,0,0,0,0,0]
[{"$f":"IF(ADSI!$G$12=\"\",ADSI!$H$16,ADSI!$H$12)","v":6},{"$f":"IF(ADSI!$G$12=\"\",ADSI!$H$16,ADSI!$H$14)","v":""},1159,{"$f":"ADSI!$K$12","v":2021},{"$f":"D18","v":0},0,0,0,0,0,0,0,0,0,0,0,0,0,0,0,0,0,0,0,0,0]
[{"$f":"IF(ADSI!$G$12=\"\",ADSI!$H$16,ADSI!$H$12)","v":6},{"$f":"IF(ADSI!$G$12=\"\",ADSI!$H$16,ADSI!$H$14)","v":""},1160,{"$f":"ADSI!$K$12","v":2021},{"$f":"D19","v":0},0,0,0,0,0,0,0,0,0,0,0,0,0,0,0,0,0,0,0,0,0]
[{"$f":"IF(ADSI!$G$12=\"\",ADSI!$H$16,ADSI!$H$12)","v":6},{"$f":"IF(ADSI!$G$12=\"\",ADSI!$H$16,ADSI!$H$14)","v":""},1161,{"$f":"ADSI!$K$12","v":2021},{"$f":"D20","v":0},0,0,0,0,0,0,0,0,0,0,0,0,0,0,0,0,0,0,0,0,0]
[{"$f":"IF(ADSI!$G$12=\"\",ADSI!$H$16,ADSI!$H$12)","v":6},{"$f":"IF(ADSI!$G$12=\"\",ADSI!$H$16,ADSI!$H$14)","v":""},1162,{"$f":"ADSI!$K$12","v":2021},{"$f":"D21","v":0},0,0,0,0,0,0,0,0,0,0,0,0,0,0,0,0,0,0,0,0,0]
[{"$f":"IF(ADSI!$G$12=\"\",ADSI!$H$16,ADSI!$H$12)","v":6},{"$f":"IF(ADSI!$G$12=\"\",ADSI!$H$16,ADSI!$H$14)","v":""},1175,{"$f":"ADSI!$K$12","v":2021},{"$f":"D22","v":0},0,0,1,1,0,2,0,0,0,0,0,0,0,0,0,0,0,0,0,0,2]

{"sheet":"P-XX","index":23,"n_rows":510,"n_cols":82,"rows_kept":510,"cut":false,"hidden":false,"merged":[[203,78,203,81],[203,62,203,65],[203,66,203,69],[203,70,203,73],[18,3,18,26],[19,3,19,26],[21,3,21,26],[203,52,204,52],[203,53,204,53],[203,54,203,57],[203,58,203,61],[203,74,203,77],[4,0,6,0],[20,0,20,2],[20,3,20,26],[4,27,4,30],[4,23,4,26],[4,1,5,1],[4,2,5,2],[4,3,4,6],[4,7,4,10],[4,11,4,14],[4,15,4,18],[4,19,4,22],[19,0,19,2],[18,0,18,2],[17,0,17,2],[21,0,21,2],[218,52,218,53],[219,52,219,53],[220,52,220,53],[217,54,217,77],[218,54,218,77],[219,54,219,77],[220,54,220,77],[217,52,217,53],[216,52,216,53]]}
[{"$f":"ADSI!$B$1","v":"Goa, , ADSI-2021"}]
["Errors",null,{"$f":"COUNTIF(AB20:AE20,FALSE)+COUNTIF(AB22:AE22,FALSE)","v":0},null,"Abnormal Variations",{"$f":"COUNTIF(D18:AE18,\"ABVAR\")","v":0}]
["Proforma–XX"]
["Educational Status-wise distribution of suicides committed by Farmers/Cultivators"]
["Code","Sl. No.","Educational Status","Un-Married",null,null,null," Married",null,null,null," Widowed/Widower",null,null,null," Divorcee",null,null,null," Separated",null,null,null,"Status not known",null,null,null,"Grand Total"]
[null,null,null,"Male","Female","Transgender","Total","Male","Female","Transgender","Total","Male","Female","Transgender","Total","Male","Female","Transgender","Total","Male","Female","Transgender","Total","Male","Female","Transgender","Total","Male","Female","Transgender","Total"]
[null,"(1)","(2)","(3)","(4)","(5)","(6)","(7)","(8)","(9)","(10)","(11)","(12)","(13)","(14)","(15)","(16)","(17)","(18)","(19)","(20)","(21)","(22)","(23)","(24)","(25)","(26)","(27)","(28)","(29)","(30)"]
[1030,1,"No Education",0,0,0,{"$f":"SUM(D8:F8)","v":0},0,0,0,{"$f":"SUM(H8:J8)","v":0},0,0,0,{"$f":"SUM(L8:N8)","v":0},0,0,0,{"$f":"SUM(P8:R8)","v":0},0,0,0,{"$f":"SUM(T8:V8)","v":0},0,0,0,{"$f":"SUM(X8:Z8)","v":0},{"$f":"SUM(D8+H8+L8+P8+T8+X8)","v":0},{"$f":"SUM(E8+I8+M8+Q8+U8+Y8)","v":0},{"$f":"SUM(F8+J8+N8+R8+V8+Z8)","v":0},{"$f":"SUM(AB8:AD8)","v":0}]
[1031,2,"Primary (upto class–5)",0,0,0,{"$f":"SUM(D9:F9)","v":0},0,0,0,{"$f":"SUM(H9:J9)","v":0},0,0,0,{"$f":"SUM(L9:N9)","v":0},0,0,0,{"$f":"SUM(P9:R9)","v":0},0,0,0,{"$f":"SUM(T9:V9)","v":0},0,0,0,{"$f":"SUM(X9:Z9)","v":0},0,{"$f":"SUM(E9+I9+M9+Q9+U9+Y9)","v":0},0,{"$f":"SUM(AB9:AD9)","v":0}]
[1032,3,"Middle (upto class–8)",0,0,0,0,0,0,0,0,0,0,0,0,0,0,0,0,0,0,0,0,0,0,0,0,0,0,0,0]
[1033,4,"Matriculate/Secondary (upto class–10)",0,0,0,0,0,0,0,0,0,0,0,0,0,0,0,0,0,0,0,0,0,0,0,0,0,0,0,0]
[1034,5,"Higher Secondary/ Intermediate/ Pre-University (upto class–12)",0,0,0,0,0,0,0,0,0,0,0,0,0,0,0,0,0,0,0,0,0,0,0,0,0,0,0,0]
[1035,6,"Diploma/ITI/Certificate",0,0,0,0,0,0,0,0,0,0,0,0,0,0,0,0,0,0,0,0,0,0,0,0,0,0,0,0]
[1036,7,"Graduate and above",0,0,0,0,0,0,0,0,0,0,0,0,0,0,0,0,0,0,0,0,0,0,0,0,0,0,0,0]
[1037,8,"Professionals (MBA, etc.)",0,0,0,0,0,0,0,0,0,0,0,0,0,0,0,0,0,0,0,0,0,0,0,0,0,0,0,0]
[1038,9,"Not known",0,0,0,0,0,0,0,0,0,0,0,0,0,0,0,0,0,0,0,0,0,0,0,0,0,0,0,0]
[1045,10,"Total (sum of Sl. 1 to 9 )",{"$f":"SUM(D8:D16)","v":0},{"$f":"SUM(E8:E16)","v":0},0,0,0,0,0,0,0,0,0,0,0,0,0,0,0,0,0,0,0,0,0,0,0,0,0,{"$f":"SUM(AE8:AE16)","v":0}]
["SL-9 ABNORMAL VARIATION IN \"NOT KNOWN\" DATA",null,null,{"$f":"IF(D17>0,IF((D16/D17*100)>10,\"ABVAR\",\"\"),\"\")","v":""},{"$f":"IF(E17>0,IF((E16/E17*100)>10,\"ABVAR\",\"\"),\"\")","v":""},"","","","","","","","","","","","","","","","","","","","","","","","","",""]
["PROFORMA–XV VALUES [Sl.-6.1 Farmers/Cultivators (Sub-Total)]",null,null,null,null,null,null,null,null,null,null,null,null,null,null,null,null,null,null,null,null,null,null,null,null,null,null,{"$f":"'P-XV'!K26","v":0},{"$f":"'P-XV'!R26","v":0},{"$f":"'P-XV'!Y26","v":0},{"$f":"'P-XV'!Z26","v":0}]
["VALIDATION  WITH PROFORMA–XV [Sl.-6.1 Farmers/Cultivators (Sub-Total)]",null,null,null,null,null,null,null,null,null,null,null,null,null,null,null,null,null,null,null,null,null,null,null,null,null,null,{"$f":"IF(AB17='P-XV'!K26,\"\",FALSE)","v":""},{"$f":"IF(AC17='P-XV'!R26,\"\",FALSE)","v":""},{"$f":"IF(AD17='P-XV'!Y26,\"\",FALSE)","v":""},{"$f":"IF(AE17='P-XV'!Z26,\"\",FALSE)","v":""}]
[" PROFORMA–XIV VALUES [Sl.–21 (Total)]",null,null,null,null,null,null,null,null,null,null,null,null,null,null,null,null,null,null,null,null,null,null,null,null,null,null,{"$f":"'P-XIV'!J38","v":249},{"$f":"'P-XIV'!Q38","v":72},{"$f":"'P-XIV'!X38","v":0},{"$f":"'P-XIV'!Y38","v":321}]
["VALIDATION  WITH  PROFORMA–XIV [Sl.–21 (Total)]",null,null,null,null,null,null,null,null,null,null,null,null,null,null,null,null,null,null,null,null,null,null,null,null,null,null,{"$f":"IF(AB17<='P-XIV'!J38,\"\",FALSE)","v":""},{"$f":"IF(AC17<='P-XIV'!Q38,\"\",FALSE)","v":""},{"$f":"IF(AD17<='P-XIV'!X38,\"\",FALSE)","v":""},{"$f":"IF(AE17<='P-XIV'!Y38,\"\",FALSE)","v":""}]
[]
[]
[]
[]
[]
[]
[]
[]
[]
[]
[]
[]
[]
[]
[]
[]
[]
[]
[]
[]
[]
[]
[]
[]
[]
[]
[]
[]
[]
[]
[]
[]
[]
[]
[]
[]
[]
[]
[]
[]
[]
[]
[]
[]
[]
[]
[]
[]
[]
[]
[]
[]
[]
[]
[]
[]
[]
[]
[]
[]
[]
[]
[]
[]
[]
[]
[]
[]
[]
[]
[]
[]
[]
[]
[]
[]
[]
[]
[]
[]
[]
[]
[]
[]
[]
[]
[]
[]
[]
[]
[]
[]
[]
[]
[]
[]
[]
[]
[]
[]
[]
[]
[]
[]
[]
[]
[]
[]
[]
[]
[]
[]
[]
[]
[]
[]
[]
[]
[]
[]
[]
[]
[]
[]
[]
[]
[]
[]
[]
[]
[]
[]
[]
[]
[]
[]
[]
[]
[]
[]
[]
[]
[]
[]
[]
[]
[]
[]
[]
[]
[]
[]
[]
[]
[]
[]
[]
[]
[]
[]
[]
[]
[]
[]
[]
[]
[]
[]
[]
[]
[]
[]
[]
[]
[]
[]
[]
[null,null,null,null,null,null,null,null,null,null,null,null,null,null,null,null,null,null,null,null,null,null,null,null,null,null,null,null,null,null,null,null,null,null,null,null,null,null,null,null,null,null,null,null,null,null,null,null,null,null,null,null,{"$f":"A1","v":"Goa, , ADSI-2021"}]
[null,null,null,null,null,null,null,null,null,null,null,null,null,null,null,null,null,null,null,null,null,null,null,null,null,null,null,null,null,null,null,null,null,null,null,null,null,null,null,null,null,null,null,null,null,null,null,null,null,null,null,null,{"$f":"A2","v":"Errors"},{"$f":"C2","v":0},null,{"$f":"E2","v":"Abnormal Variations"},{"$f":"F2","v":0}]
[null,null,null,null,null,null,null,null,null,null,null,null,null,null,null,null,null,null,null,null,null,null,null,null,null,null,null,null,null,null,null,null,null,null,null,null,null,null,null,null,null,null,null,null,null,null,null,null,null,null,null,null,{"$f":"A3","v":"Proforma–XX"},null,null,null,null,null,null,null,null,null,null,null,null,null,null,null,null,null,null,null,null,null,null,null,null,null,null,null,{"$f":"A1","v":"Goa, , ADSI-2021"}]
[null,null,null,null,null,null,null,null,null,null,null,null,null,null,null,null,null,null,null,null,null,null,null,null,null,null,null,null,null,null,null,null,null,null,null,null,null,null,null,null,null,null,null,null,null,null,null,null,null,null,null,null,{"$f":"A4","v":"Educational Status-wise distribution of suicides committed by Farmers/Cultivators"},null,null,null,null,null,null,null,null,null,null,null,null,null,null,null,null,null,null,null,null,null,null,null,null,null,null,{"$f":"A2","v":"Errors"},{"$f":"C2","v":0}]
[null,null,null,null,null,null,null,null,null,null,null,null,null,null,null,null,null,null,null,null,null,null,null,null,null,null,null,null,null,null,null,null,null,null,null,null,null,null,null,null,null,null,null,null,null,null,null,null,null,null,null,null,{"$f":"B5","v":"Sl. No."},{"$f":"C5","v":"Educational Status"},{"$f":"D5","v":"Un-Married"},null,null,null,{"$f":"H5","v":" Married"},null,null,null,{"$f":"L5","v":" Widowed/Widower"},null,null,null,{"$f":"P5","v":" Divorcee"},null,null,null,{"$f":"T5","v":" Separated"},null,null,null,{"$f":"X5","v":"Status not known"},null,null,null,{"$f":"AB5","v":"Grand Total"}]
[null,null,null,null,null,null,null,null,null,null,null,null,null,null,null,null,null,null,null,null,null,null,null,null,null,null,null,null,null,null,null,null,null,null,null,null,null,null,null,null,null,null,null,null,null,null,null,null,null,null,null,null,null,null,{"$f":"D6","v":"Male"},{"$f":"E6","v":"Female"},{"$f":"F6","v":"Transgender"},{"$f":"G6","v":"Total"},"Male",{"$f":"I6","v":"Female"},{"$f":"J6","v":"Transgender"},{"$f":"K6","v":"Total"},"Male",{"$f":"M6","v":"Female"},{"$f":"N6","v":"Transgender"},{"$f":"O6","v":"Total"},"Male",{"$f":"Q6","v":"Female"},{"$f":"R6","v":"Transgender"},{"$f":"S6","v":"Total"},"Male",{"$f":"U6","v":"Female"},{"$f":"V6","v":"Transgender"},{"$f":"W6","v":"Total"},"Male",{"$f":"Y6","v":"Female"},{"$f":"Z6","v":"Transgender"},{"$f":"AA6","v":"Total"},"Male",{"$f":"AC6","v":"Female"},{"$f":"AD6","v":"Transgender"},{"$f":"AE6","v":"Total"}]
[null,null,null,null,null,null,null,null,null,null,null,null,null,null,null,null,null,null,null,null,null,null,null,null,null,null,null,null,null,null,null,null,null,null,null,null,null,null,null,null,null,null,null,null,null,null,null,null,null,null,null,null,{"$f":"B7","v":"(1)"},{"$f":"C7","v":"(2)"},"(3)","(4)","(5)","(6)","(7)","(8)","(9)","(10)","(11)","(12)","(13)","(14)","(15)","(16)","(17)","(18)","(19)","(20)","(21)","(22)","(23)","(24)","(25)","(26)","(27)","(28)","(29)","(30)"]
[null,null,null,null,null,null,null,null,null,null,null,null,null,null,null,null,null,null,null,null,null,null,null,null,null,null,null,null,null,null,null,null,null,null,null,null,null,null,null,null,null,null,null,null,null,null,null,null,null,null,null,null,1,"No Education",0,0,0,0,0,0,0,0,0,0,0,0,0,0,0,0,0,0,0,0,0,0,0,0,0,0,0,0]
[null,null,null,null,null,null,null,null,null,null,null,null,null,null,null,null,null,null,null,null,null,null,null,null,null,null,null,null,null,null,null,null,null,null,null,null,null,null,null,null,null,null,null,null,null,null,null,null,null,null,null,null,2,"Primary (upto class–5)",0,0,0,0,0,0,0,0,0,0,0,0,0,0,0,0,0,0,0,0,0,0,0,0,0,0,0,0]
[null,null,null,null,null,null,null,null,null,null,null,null,null,null,null,null,null,null,null,null,null,null,null,null,null,null,null,null,null,null,null,null,null,null,null,null,null,null,null,null,null,null,null,null,null,null,null,null,null,null,null,null,3,"Middle (upto class–8)",0,0,0,0,0,0,0,0,0,0,0,0,0,0,0,0,0,0,0,0,0,0,0,0,0,0,0,0]
[null,null,null,null,null,null,null,null,null,null,null,null,null,null,null,null,null,null,null,null,null,null,null,null,null,null,null,null,null,null,null,null,null,null,null,null,null,null,null,null,null,null,null,null,null,null,null,null,null,null,null,null,4,"Matriculate/Secondary (upto class–10)",0,0,0,0,0,0,0,0,0,0,0,0,0,0,0,0,0,0,0,0,0,0,0,0,0,0,0,0]
[null,null,null,null,null,null,null,null,null,null,null,null,null,null,null,null,null,null,null,null,null,null,null,null,null,null,null,null,null,null,null,null,null,null,null,null,null,null,null,null,null,null,null,null,null,null,null,null,null,null,null,null,5,"Higher Secondary/ Intermediate/ Pre-University (upto class–12)",0,0,0,0,0,0,0,0,0,0,0,0,0,0,0,0,0,0,0,0,0,0,0,0,0,0,0,0]
[null,null,null,null,null,null,null,null,null,null,null,null,null,null,null,null,null,null,null,null,null,null,null,null,null,null,null,null,null,null,null,null,null,null,null,null,null,null,null,null,null,null,null,null,null,null,null,null,null,null,null,null,6,"Diploma/ITI/Certificate",0,0,0,0,0,0,0,0,0,0,0,0,0,0,0,0,0,0,0,0,0,0,0,0,0,0,0,0]
[null,null,null,null,null,null,null,null,null,null,null,null,null,null,null,null,null,null,null,null,null,null,null,null,null,null,null,null,null,null,null,null,null,null,null,null,null,null,null,null,null,null,null,null,null,null,null,null,null,null,null,null,7,"Graduate and above",0,0,0,0,0,0,0,0,0,0,0,0,0,0,0,0,0,0,0,0,0,0,0,0,0,0,0,0]
[null,null,null,null,null,null,null,null,null,null,null,null,null,null,null,null,null,null,null,null,null,null,null,null,null,null,null,null,null,null,null,null,null,null,null,null,null,null,null,null,null,null,null,null,null,null,null,null,null,null,null,null,8,"Professionals (MBA, etc.)",0,0,0,0,0,0,0,0,0,0,0,0,0,0,0,0,0,0,0,0,0,0,0,0,0,0,0,0]
[null,null,null,null,null,null,null,null,null,null,null,null,null,null,null,null,null,null,null,null,null,null,null,null,null,null,null,null,null,null,null,null,null,null,null,null,null,null,null,null,null,null,null,null,null,null,null,null,null,null,null,null,9,"Not known",0,0,0,0,0,0,0,0,0,0,0,0,0,0,0,0,0,0,0,0,0,0,0,0,0,0,0,0]
[null,null,null,null,null,null,null,null,null,null,null,null,null,null,null,null,null,null,null,null,null,null,null,null,null,null,null,null,null,null,null,null,null,null,null,null,null,null,null,null,null,null,null,null,null,null,null,null,null,null,null,null,10,"Total (sum of Sl. 1 to 9 )",0,0,0,0,0,0,0,0,0,0,0,0,0,0,0,0,0,0,0,0,0,0,0,0,0,0,0,0]
[null,null,null,null,null,null,null,null,null,null,null,null,null,null,null,null,null,null,null,null,null,null,null,null,null,null,null,null,null,null,null,null,null,null,null,null,null,null,null,null,null,null,null,null,null,null,null,null,null,null,null,null,{"$f":"A18","v":"SL-9 ABNORMAL VARIATION IN \"NOT KNOWN\" DATA"},null,{"$f":"D18","v":""},"","","","","","","","","","","","","","","","","","","","","","","","","","",""]
[null,null,null,null,null,null,null,null,null,null,null,null,null,null,null,null,null,null,null,null,null,null,null,null,null,null,null,null,null,null,null,null,null,null,null,null,null,null,null,null,null,null,null,null,null,null,null,null,null,null,null,null,{"$f":"A19","v":"PROFORMA–XV VALUES [Sl.-6.1 Farmers/Cultivators (Sub-Total)]"},null,null,null,null,null,null,null,null,null,null,null,null,null,null,null,null,null,null,null,null,null,null,null,null,null,{"$f":"AB19","v":0},0,0,0]
[null,null,null,null,null,null,null,null,null,null,null,null,null,null,null,null,null,null,null,null,null,null,null,null,null,null,null,null,null,null,null,null,null,null,null,null,null,null,null,null,null,null,null,null,null,null,null,null,null,null,null,null,{"$f":"A20","v":"VALIDATION  WITH PROFORMA–XV [Sl.-6.1 Farmers/Cultivators (Sub-Total)]"},null,null,null,null,null,null,null,null,null,null,null,null,null,null,null,null,null,null,null,null,null,null,null,null,null,"","","",""]
[null,null,null,null,null,null,null,null,null,null,null,null,null,null,null,null,null,null,null,null,null,null,null,null,null,null,null,null,null,null,null,null,null,null,null,null,null,null,null,null,null,null,null,null,null,null,null,null,null,null,null,null,{"$f":"A21","v":" PROFORMA–XIV VALUES [Sl.–21 (Total)]"},null,null,null,null,null,null,null,null,null,null,null,null,null,null,null,null,null,null,null,null,null,null,null,null,null,249,72,0,321]
[null,null,null,null,null,null,null,null,null,null,null,null,null,null,null,null,null,null,null,null,null,null,null,null,null,null,null,null,null,null,null,null,null,null,null,null,null,null,null,null,null,null,null,null,null,null,null,null,null,null,null,null,{"$f":"A22","v":"VALIDATION  WITH  PROFORMA–XIV [Sl.–21 (Total)]"},null,null,null,null,null,null,null,null,null,null,null,null,null,null,null,null,null,null,null,null,null,null,null,null,null,"","","",""]
[]
[]
[]
[]
[]
[]
[]
[]
[]
[]
[]
[]
[]
[]
[]
[]
[]
[]
[]
[]
[]
[]
[]
[]
[]
[]
[]
[]
[]
[]
[]
[]
[]
[]
[]
[]
[]
[]
[]
[]
[]
[]
[]
[]
[]
[]
[]
[]
[]
[]
[]
[]
[]
[]
[]
[]
[]
[]
[]
[]
[]
[]
[]
[]
[]
[]
[]
[]
[]
[]
[]
[]
[]
[]
[]
[]
[]
[]
[]
[]
[]
[]
[]
[]
[]
[]
[]
[]
[]
[]
[]
[]
[]
[]
[]
[]
[]
[]
[]
[]
[]
[]
[]
[]
[]
[]
[]
[]
[]
[]
[]
[]
[]
[]
[]
[]
[]
[]
[]
[]
[]
[]
[]
[]
[]
[]
[]
[]
[]
[]
[]
[]
[]
[]
[]
[]
[]
[]
[]
[]
[]
[]
[]
[]
[]
[]
[]
[]
[]
[]
[]
[]
[]
[]
[]
[]
[]
[]
[]
[]
[]
[]
[]
[]
[]
[]
[]
[]
[]
[]
[]
[]
[]
[]
[]
[]
[]
[]
[]
[]
[]
[]
[]
[]
[]
[]
[]
[]
[]
[]
[]
[]
[]
[]
[]
[]
[]
[]
[]
[]
[]
[]
[]
[]
[]
[]
[]
[]
[]
[]
[]
[]
[]
[]
[]
[]
[]
[]
[]
[]
[]
[]
[]
[]
[]
[]
[]
[]
[]
[]
[]
[]
[]
[]
[]
[]
[]
[]
[]
[]
[]
[]
[]
[]
[]
[]
[]
[]
[]
[]
[]
[]
[]
[]
[]
[]
[]
[]
[]
[]
[]
[]
[]
[]
[]
[]
[]
[]
[]
[]
[]
[]
[]
[]
[]
[]
[]
[]
["StateUTCityCode","DistrictCode","CrimeCode","DataYear","UnMarried_Male","UnMarried_Female","UnMarried_Trans","UnMarried_Total","Married_Male","Married_Female","Married_Trans","Married_Total","Widow_Male","Widow_Female","Widow_Trans","Widow_Total","Divorce_Male","Divorce_Female","Divorce_Trans","Divorce_Total","Separated_Male","Separated_Female","Separated_Trans","Separated_Total","NotKnown_Male","NotKnown_Female","NotKnown_Trans","NotKnown_Total","Total_Male","Total_Female","Total_Trans","Total_Total"]
[{"$f":"IF(ADSI!$G$12=\"\",ADSI!$H$16,ADSI!$H$12)","v":6},{"$f":"IF(ADSI!$G$12=\"\",ADSI!$H$16,ADSI!$H$14)","v":""},{"$f":"A8","v":1030},{"$f":"ADSI!$K$12","v":2021},{"$f":"D8","v":0},{"$f":"E8","v":0},0,0,0,0,0,0,0,0,0,0,0,0,0,0,0,0,0,0,0,0,0,0,0,0,0,0]
[{"$f":"IF(ADSI!$G$12=\"\",ADSI!$H$16,ADSI!$H$12)","v":6},{"$f":"IF(ADSI!$G$12=\"\",ADSI!$H$16,ADSI!$H$14)","v":""},{"$f":"A9","v":1031},{"$f":"ADSI!$K$12","v":2021},{"$f":"D9","v":0},0,0,0,0,0,0,0,0,0,0,0,0,0,0,0,0,0,0,0,0,0,0,0,0,0,0,0]
[{"$f":"IF(ADSI!$G$12=\"\",ADSI!$H$16,ADSI!$H$12)","v":6},{"$f":"IF(ADSI!$G$12=\"\",ADSI!$H$16,ADSI!$H$14)","v":""},1032,{"$f":"ADSI!$K$12","v":2021},{"$f":"D10","v":0},0,0,0,0,0,0,0,0,0,0,0,0,0,0,0,0,0,0,0,0,0,0,0,0,0,0,0]
[{"$f":"IF(ADSI!$G$12=\"\",ADSI!$H$16,ADSI!$H$12)","v":6},{"$f":"IF(ADSI!$G$12=\"\",ADSI!$H$16,ADSI!$H$14)","v":""},1033,{"$f":"ADSI!$K$12","v":2021},{"$f":"D11","v":0},0,0,0,0,0,0,0,0,0,0,0,0,0,0,0,0,0,0,0,0,0,0,0,0,0,0,0]
[{"$f":"IF(ADSI!$G$12=\"\",ADSI!$H$16,ADSI!$H$12)","v":6},{"$f":"IF(ADSI!$G$12=\"\",ADSI!$H$16,ADSI!$H$14)","v":""},1034,{"$f":"ADSI!$K$12","v":2021},{"$f":"D12","v":0},0,0,0,0,0,0,0,0,0,0,0,0,0,0,0,0,0,0,0,0,0,0,0,0,0,0,0]
[{"$f":"IF(ADSI!$G$12=\"\",ADSI!$H$16,ADSI!$H$12)","v":6},{"$f":"IF(ADSI!$G$12=\"\",ADSI!$H$16,ADSI!$H$14)","v":""},1035,{"$f":"ADSI!$K$12","v":2021},{"$f":"D13","v":0},0,0,0,0,0,0,0,0,0,0,0,0,0,0,0,0,0,0,0,0,0,0,0,0,0,0,0]
[{"$f":"IF(ADSI!$G$12=\"\",ADSI!$H$16,ADSI!$H$12)","v":6},{"$f":"IF(ADSI!$G$12=\"\",ADSI!$H$16,ADSI!$H$14)","v":""},1036,{"$f":"ADSI!$K$12","v":2021},{"$f":"D14","v":0},0,0,0,0,0,0,0,0,0,0,0,0,0,0,0,0,0,0,0,0,0,0,0,0,0,0,0]
[{"$f":"IF(ADSI!$G$12=\"\",ADSI!$H$16,ADSI!$H$12)","v":6},{"$f":"IF(ADSI!$G$12=\"\",ADSI!$H$16,ADSI!$H$14)","v":""},1037,{"$f":"ADSI!$K$12","v":2021},{"$f":"D15","v":0},0,0,0,0,0,0,0,0,0,0,0,0,0,0,0,0,0,0,0,0,0,0,0,0,0,0,0]
[{"$f":"IF(ADSI!$G$12=\"\",ADSI!$H$16,ADSI!$H$12)","v":6},{"$f":"IF(ADSI!$G$12=\"\",ADSI!$H$16,ADSI!$H$14)","v":""},1038,{"$f":"ADSI!$K$12","v":2021},{"$f":"D16","v":0},0,0,0,0,0,0,0,0,0,0,0,0,0,0,0,0,0,0,0,0,0,0,0,0,0,0,0]
[{"$f":"IF(ADSI!$G$12=\"\",ADSI!$H$16,ADSI!$H$12)","v":6},{"$f":"IF(ADSI!$G$12=\"\",ADSI!$H$16,ADSI!$H$14)","v":""},1045,{"$f":"ADSI!$K$12","v":2021},{"$f":"D17","v":0},0,0,0,0,0,0,0,0,0,0,0,0,0,0,0,0,0,0,0,0,0,0,0,0,0,0,0]

{"sheet":"P-XXI","index":24,"n_rows":513,"n_cols":58,"rows_kept":513,"cut":false,"hidden":false,"merged":[[4,0,5,0],[218,52,218,53],[219,52,219,53],[220,52,220,53],[221,52,221,53],[20,0,20,2],[22,0,22,2],[19,0,19,2],[21,0,21,2]]}
[{"$f":"ADSI!$B$1","v":"Goa, , ADSI-2021"}]
["Errors",null,{"$f":"COUNTIF(D21:G21,FALSE)+COUNTIF(D23:G23,FALSE)","v":0}]
["Proforma–XXI"]
["Land Holding Status-wise distribution of  suicides committed by Farmers/Cultivators"]
["Code","Sl. No.","Land Holding Status","Male","Female","Transgender","Total"]
[null,"(1)","(2)","(3)","(4)","(5)","(6)"]
[1050,1,"Marginal Farmers (sum of 1.1 & 1.2)",{"$f":"SUM(D8:D9)","v":0},{"$f":"SUM(E8:E9)","v":0},0,{"$f":"SUM(D7:F7)","v":0}]
[1051,null,"1.1 Irrigated",0,0,0,{"$f":"SUM(D8:F8)","v":0}]
[1052,null,"1.2 Un-irrigated",0,0,0,0]
[1053,2,"Small Farmers (sum of 2.1 & 2.2)",{"$f":"SUM(D11:D12)","v":0},{"$f":"SUM(E11:E12)","v":0},{"$f":"SUM(F11:F12)","v":0},0]
[1054,null,"2.1 Irrigated",0,0,0,0]
[1055,null,"2.2 Un-irrigated",0,0,0,0]
[1056,3,"Medium  Farmers (sum of 3.1 & 3.2)",{"$f":"SUM(D14:D15)","v":0},{"$f":"SUM(E14:E15)","v":0},0,0]
[1057,null,"3.1 Irrigated",0,0,0,0]
[1058,null,"3.2 Un-irrigated",0,0,0,0]
[1059,4,"Large  Farmers (sum of 4.1 & 4.2)",{"$f":"SUM(D17:D18)","v":0},{"$f":"SUM(E17:E18)","v":0},0,0]
[1060,null,"4.1 Irrigated",0,0,0,0]
[1061,null,"4.2 Un-irrigated",0,0,0,0]
[1070,5,"Total (sum of Sl. 1 to 4)",{"$f":"SUM(D7,D10,D13,D16)","v":0},{"$f":"SUM(E7,E10,E13,E16)","v":0},0,0]
["PROFORMA–XV VALUES [Sl.-6.1 Farmers/Cultivators (Sub-Total)]",null,null,{"$f":"'P-XV'!K26","v":0},{"$f":"'P-XV'!R26","v":0},{"$f":"'P-XV'!Y26","v":0},{"$f":"'P-XV'!Z26","v":0}]
["VALIDATION  WITH PROFORMA–XV [Sl.-6.1 Farmers/Cultivators (Sub-Total)]",null,null,{"$f":"IF(D19='P-XV'!K26,\"\",FALSE)","v":""},{"$f":"IF(E19='P-XV'!R26,\"\",FALSE)","v":""},{"$f":"IF(F19='P-XV'!Y26,\"\",FALSE)","v":""},{"$f":"IF(G19='P-XV'!Z26,\"\",FALSE)","v":""}]
[" PROFORMA–XIV VALUES [Sl.–21 (Total)]",null,null,{"$f":"'P-XIV'!J38","v":249},{"$f":"'P-XIV'!Q38","v":72},{"$f":"'P-XIV'!X38","v":0},{"$f":"'P-XIV'!Y38","v":321}]
["VALIDATION  WITH  PROFORMA–XIV [Sl.–21 (Total)]",null,null,{"$f":"IF(D19<='P-XIV'!J38,\"\",FALSE)","v":""},{"$f":"IF(E19<='P-XIV'!Q38,\"\",FALSE)","v":""},{"$f":"IF(F19<='P-XIV'!X38,\"\",FALSE)","v":""},{"$f":"IF(G19<='P-XIV'!Y38,\"\",FALSE)","v":""}]
[]
["Note: Marginal (below 1 ha), Small (1 ha & above – below 2 ha),  Medium (2 ha & above – below 10 ha) and Large (10 ha & above) Cultivators as per Agricultural Census "]
[]
[]
[]
[]
[]
[]
[]
[]
[]
[]
[]
[]
[]
[]
[]
[]
[]
[]
[]
[]
[]
[]
[]
[]
[]
[]
[]
[]
[]
[]
[]
[]
[]
[]
[]
[]
[]
[]
[]
[]
[]
[]
[]
[]
[]
[]
[]
[]
[]
[]
[]
[]
[]
[]
[]
[]
[]
[]
[]
[]
[]
[]
[]
[]
[]
[]
[]
[]
[]
[]
[]
[]
[]
[]
[]
[]
[]
[]
[]
[]
[]
[]
[]
[]
[]
[]
[]
[]
[]
[]
[]
[]
[]
[]
[]
[]
[]
[]
[]
[]
[]
[]
[]
[]
[]
[]
[]
[]
[]
[]
[]
[]
[]
[]
[]
[]
[]
[]
[]
[]
[]
[]
[]
[]
[]
[]
[]
[]
[]
[]
[]
[]
[]
[]
[]
[]
[]
[]
[]
[]
[]
[]
[]
[]
[]
[]
[]
[]
[]
[]
[]
[]
[]
[]
[]
[]
[]
[]
[]
[]
[]
[]
[]
[]
[]
[]
[]
[]
[]
[]
[]
[]
[]
[]
[null,null,null,null,null,null,null,null,null,null,null,null,null,null,null,null,null,null,null,null,null,null,null,null,null,null,null,null,null,null,null,null,null,null,null,null,null,null,null,null,null,null,null,null,null,null,null,null,null,null,null,null,{"$f":"A1","v":"Goa, , ADSI-2021"}]
[null,null,null,null,null,null,null,null,null,null,null,null,null,null,null,null,null,null,null,null,null,null,null,null,null,null,null,null,null,null,null,null,null,null,null,null,null,null,null,null,null,null,null,null,null,null,null,null,null,null,null,null,{"$f":"A2","v":"Errors"},{"$f":"C2","v":0}]
[null,null,null,null,null,null,null,null,null,null,null,null,null,null,null,null,null,null,null,null,null,null,null,null,null,null,null,null,null,null,null,null,null,null,null,null,null,null,null,null,null,null,null,null,null,null,null,null,null,null,null,null,{"$f":"A3","v":"Proforma–XXI"}]
[null,null,null,null,null,null,null,null,null,null,null,null,null,null,null,null,null,null,null,null,null,null,null,null,null,null,null,null,null,null,null,null,null,null,null,null,null,null,null,null,null,null,null,null,null,null,null,null,null,null,null,null,{"$f":"A4","v":"Land Holding Status-wise distribution of  suicides committed by Farmers/Cultivators"}]
[null,null,null,null,null,null,null,null,null,null,null,null,null,null,null,null,null,null,null,null,null,null,null,null,null,null,null,null,null,null,null,null,null,null,null,null,null,null,null,null,null,null,null,null,null,null,null,null,null,null,null,null,{"$f":"B5","v":"Sl. No."},{"$f":"C5","v":"Land Holding Status"},{"$f":"D5","v":"Male"},{"$f":"E5","v":"Female"},{"$f":"F5","v":"Transgender"},{"$f":"G5","v":"Total"}]
[null,null,null,null,null,null,null,null,null,null,null,null,null,null,null,null,null,null,null,null,null,null,null,null,null,null,null,null,null,null,null,null,null,null,null,null,null,null,null,null,null,null,null,null,null,null,null,null,null,null,null,null,"(1)","(2)","(3)","(4)","(5)","(6)"]
[null,null,null,null,null,null,null,null,null,null,null,null,null,null,null,null,null,null,null,null,null,null,null,null,null,null,null,null,null,null,null,null,null,null,null,null,null,null,null,null,null,null,null,null,null,null,null,null,null,null,null,null,1,"Marginal Farmers (sum of 1.1 & 1.2)",0,0,0,0]
[null,null,null,null,null,null,null,null,null,null,null,null,null,null,null,null,null,null,null,null,null,null,null,null,null,null,null,null,null,null,null,null,null,null,null,null,null,null,null,null,null,null,null,null,null,null,null,null,null,null,null,null,null,"1.1 Irrigated",0,0,0,0]
[null,null,null,null,null,null,null,null,null,null,null,null,null,null,null,null,null,null,null,null,null,null,null,null,null,null,null,null,null,null,null,null,null,null,null,null,null,null,null,null,null,null,null,null,null,null,null,null,null,null,null,null,null,"1.2 Un-irrigated",0,0,0,0]
[null,null,null,null,null,null,null,null,null,null,null,null,null,null,null,null,null,null,null,null,null,null,null,null,null,null,null,null,null,null,null,null,null,null,null,null,null,null,null,null,null,null,null,null,null,null,null,null,null,null,null,null,2,"Small Farmers (sum of 2.1 & 2.2)",0,0,0,0]
[null,null,null,null,null,null,null,null,null,null,null,null,null,null,null,null,null,null,null,null,null,null,null,null,null,null,null,null,null,null,null,null,null,null,null,null,null,null,null,null,null,null,null,null,null,null,null,null,null,null,null,null,null,{"$f":"C11","v":"2.1 Irrigated"},{"$f":"D11","v":0},{"$f":"E11","v":0},{"$f":"F11","v":0},{"$f":"G11","v":0}]
[null,null,null,null,null,null,null,null,null,null,null,null,null,null,null,null,null,null,null,null,null,null,null,null,null,null,null,null,null,null,null,null,null,null,null,null,null,null,null,null,null,null,null,null,null,null,null,null,null,null,null,null,null,"2.2 Un-irrigated",0,0,0,0]
[null,null,null,null,null,null,null,null,null,null,null,null,null,null,null,null,null,null,null,null,null,null,null,null,null,null,null,null,null,null,null,null,null,null,null,null,null,null,null,null,null,null,null,null,null,null,null,null,null,null,null,null,3,"Medium  Farmers (sum of 3.1 & 3.2)",0,0,0,0]
[null,null,null,null,null,null,null,null,null,null,null,null,null,null,null,null,null,null,null,null,null,null,null,null,null,null,null,null,null,null,null,null,null,null,null,null,null,null,null,null,null,null,null,null,null,null,null,null,null,null,null,null,null,"3.1 Irrigated",0,0,0,0]
[null,null,null,null,null,null,null,null,null,null,null,null,null,null,null,null,null,null,null,null,null,null,null,null,null,null,null,null,null,null,null,null,null,null,null,null,null,null,null,null,null,null,null,null,null,null,null,null,null,null,null,null,null,"3.2 Un-irrigated",0,0,0,0]
[null,null,null,null,null,null,null,null,null,null,null,null,null,null,null,null,null,null,null,null,null,null,null,null,null,null,null,null,null,null,null,null,null,null,null,null,null,null,null,null,null,null,null,null,null,null,null,null,null,null,null,null,4,"Large  Farmers (sum of 4.1 & 4.2)",0,0,0,0]
[null,null,null,null,null,null,null,null,null,null,null,null,null,null,null,null,null,null,null,null,null,null,null,null,null,null,null,null,null,null,null,null,null,null,null,null,null,null,null,null,null,null,null,null,null,null,null,null,null,null,null,null,null,"4.1 Irrigated",0,0,0,0]
[null,null,null,null,null,null,null,null,null,null,null,null,null,null,null,null,null,null,null,null,null,null,null,null,null,null,null,null,null,null,null,null,null,null,null,null,null,null,null,null,null,null,null,null,null,null,null,null,null,null,null,null,null,"4.2 Un-irrigated",0,0,0,0]
[null,null,null,null,null,null,null,null,null,null,null,null,null,null,null,null,null,null,null,null,null,null,null,null,null,null,null,null,null,null,null,null,null,null,null,null,null,null,null,null,null,null,null,null,null,null,null,null,null,null,null,null,5,"Total (sum of Sl. 1 to 4)",0,0,0,0]
[null,null,null,null,null,null,null,null,null,null,null,null,null,null,null,null,null,null,null,null,null,null,null,null,null,null,null,null,null,null,null,null,null,null,null,null,null,null,null,null,null,null,null,null,null,null,null,null,null,null,null,null,{"$f":"A20","v":"PROFORMA–XV VALUES [Sl.-6.1 Farmers/Cultivators (Sub-Total)]"},null,{"$f":"D20","v":0},0,0,0]
[null,null,null,null,null,null,null,null,null,null,null,null,null,null,null,null,null,null,null,null,null,null,null,null,null,null,null,null,null,null,null,null,null,null,null,null,null,null,null,null,null,null,null,null,null,null,null,null,null,null,null,null,{"$f":"A21","v":"VALIDATION  WITH PROFORMA–XV [Sl.-6.1 Farmers/Cultivators (Sub-Total)]"},null,"","","",""]
[null,null,null,null,null,null,null,null,null,null,null,null,null,null,null,null,null,null,null,null,null,null,null,null,null,null,null,null,null,null,null,null,null,null,null,null,null,null,null,null,null,null,null,null,null,null,null,null,null,null,null,null,{"$f":"A22","v":" PROFORMA–XIV VALUES [Sl.–21 (Total)]"},null,249,72,0,321]
[null,null,null,null,null,null,null,null,null,null,null,null,null,null,null,null,null,null,null,null,null,null,null,null,null,null,null,null,null,null,null,null,null,null,null,null,null,null,null,null,null,null,null,null,null,null,null,null,null,null,null,null,{"$f":"A23","v":"VALIDATION  WITH  PROFORMA–XIV [Sl.–21 (Total)]"},null,"","","",""]
[]
[null,null,null,null,null,null,null,null,null,null,null,null,null,null,null,null,null,null,null,null,null,null,null,null,null,null,null,null,null,null,null,null,null,null,null,null,null,null,null,null,null,null,null,null,null,null,null,null,null,null,null,null,{"$f":"A25","v":"Note: Marginal (below 1 ha), Small (1 ha & above – below 2 ha),  Medium (2 ha & above – below 10 ha) and Large (10 ha & above) Cultivators as per Agricultural Census "}]
[]
[]
[]
[]
[]
[]
[]
[]
[]
[]
[]
[]
[]
[]
[]
[]
[]
[]
[]
[]
[]
[]
[]
[]
[]
[]
[]
[]
[]
[]
[]
[]
[]
[]
[]
[]
[]
[]
[]
[]
[]
[]
[]
[]
[]
[]
[]
[]
[]
[]
[]
[]
[]
[]
[]
[]
[]
[]
[]
[]
[]
[]
[]
[]
[]
[]
[]
[]
[]
[]
[]
[]
[]
[]
[]
[]
[]
[]
[]
[]
[]
[]
[]
[]
[]
[]
[]
[]
[]
[]
[]
[]
[]
[]
[]
[]
[]
[]
[]
[]
[]
[]
[]
[]
[]
[]
[]
[]
[]
[]
[]
[]
[]
[]
[]
[]
[]
[]
[]
[]
[]
[]
[]
[]
[]
[]
[]
[]
[]
[]
[]
[]
[]
[]
[]
[]
[]
[]
[]
[]
[]
[]
[]
[]
[]
[]
[]
[]
[]
[]
[]
[]
[]
[]
[]
[]
[]
[]
[]
[]
[]
[]
[]
[]
[]
[]
[]
[]
[]
[]
[]
[]
[]
[]
[]
[]
[]
[]
[]
[]
[]
[]
[]
[]
[]
[]
[]
[]
[]
[]
[]
[]
[]
[]
[]
[]
[]
[]
[]
[]
[]
[]
[]
[]
[]
[]
[]
[]
[]
[]
[]
[]
[]
[]
[]
[]
[]
[]
[]
[]
[]
[]
[]
[]
[]
[]
[]
[]
[]
[]
[]
[]
[]
[]
[]
[]
[]
[]
[]
[]
[]
[]
[]
[]
[]
[]
[]
[]
[]
[]
[]
[]
[]
[]
[]
[]
[]
[]
[]
[]
[]
[]
[]
[]
[]
[]
[]
[]
[]
[]
[]
[]
[]
[]
[]
["StateUTCityCode","DistrictCode","CrimeCode","DataYear","Male","Female","Trans","Total"]
[{"$f":"IF(ADSI!$G$12=\"\",ADSI!$H$16,ADSI!$H$12)","v":6},{"$f":"IF(ADSI!$G$12=\"\",ADSI!$H$16,ADSI!$H$14)","v":""},{"$f":"A7","v":1050},{"$f":"ADSI!$K$12","v":2021},{"$f":"D7","v":0},{"$f":"E7","v":0},0,0]
[{"$f":"IF(ADSI!$G$12=\"\",ADSI!$H$16,ADSI!$H$12)","v":6},{"$f":"IF(ADSI!$G$12=\"\",ADSI!$H$16,ADSI!$H$14)","v":""},{"$f":"A8","v":1051},{"$f":"ADSI!$K$12","v":2021},{"$f":"D8","v":0},0,0,0]
[{"$f":"IF(ADSI!$G$12=\"\",ADSI!$H$16,ADSI!$H$12)","v":6},{"$f":"IF(ADSI!$G$12=\"\",ADSI!$H$16,ADSI!$H$14)","v":""},1052,{"$f":"ADSI!$K$12","v":2021},{"$f":"D9","v":0},0,0,0]
[{"$f":"IF(ADSI!$G$12=\"\",ADSI!$H$16,ADSI!$H$12)","v":6},{"$f":"IF(ADSI!$G$12=\"\",ADSI!$H$16,ADSI!$H$14)","v":""},1053,{"$f":"ADSI!$K$12","v":2021},{"$f":"D10","v":0},0,0,0]
[{"$f":"IF(ADSI!$G$12=\"\",ADSI!$H$16,ADSI!$H$12)","v":6},{"$f":"IF(ADSI!$G$12=\"\",ADSI!$H$16,ADSI!$H$14)","v":""},1054,{"$f":"ADSI!$K$12","v":2021},{"$f":"D11","v":0},0,0,0]
[{"$f":"IF(ADSI!$G$12=\"\",ADSI!$H$16,ADSI!$H$12)","v":6},{"$f":"IF(ADSI!$G$12=\"\",ADSI!$H$16,ADSI!$H$14)","v":""},1055,{"$f":"ADSI!$K$12","v":2021},{"$f":"D12","v":0},0,0,0]
[{"$f":"IF(ADSI!$G$12=\"\",ADSI!$H$16,ADSI!$H$12)","v":6},{"$f":"IF(ADSI!$G$12=\"\",ADSI!$H$16,ADSI!$H$14)","v":""},1056,{"$f":"ADSI!$K$12","v":2021},{"$f":"D13","v":0},0,0,0]
[{"$f":"IF(ADSI!$G$12=\"\",ADSI!$H$16,ADSI!$H$12)","v":6},{"$f":"IF(ADSI!$G$12=\"\",ADSI!$H$16,ADSI!$H$14)","v":""},1057,{"$f":"ADSI!$K$12","v":2021},{"$f":"D14","v":0},0,0,0]
[{"$f":"IF(ADSI!$G$12=\"\",ADSI!$H$16,ADSI!$H$12)","v":6},{"$f":"IF(ADSI!$G$12=\"\",ADSI!$H$16,ADSI!$H$14)","v":""},1058,{"$f":"ADSI!$K$12","v":2021},{"$f":"D15","v":0},0,0,0]
[{"$f":"IF(ADSI!$G$12=\"\",ADSI!$H$16,ADSI!$H$12)","v":6},{"$f":"IF(ADSI!$G$12=\"\",ADSI!$H$16,ADSI!$H$14)","v":""},1059,{"$f":"ADSI!$K$12","v":2021},{"$f":"D16","v":0},0,0,0]
[{"$f":"IF(ADSI!$G$12=\"\",ADSI!$H$16,ADSI!$H$12)","v":6},{"$f":"IF(ADSI!$G$12=\"\",ADSI!$H$16,ADSI!$H$14)","v":""},{"$f":"A17","v":1060},{"$f":"ADSI!$K$12","v":2021},{"$f":"D17","v":0},0,0,0]
[{"$f":"IF(ADSI!$G$12=\"\",ADSI!$H$16,ADSI!$H$12)","v":6},{"$f":"IF(ADSI!$G$12=\"\",ADSI!$H$16,ADSI!$H$14)","v":""},1061,{"$f":"ADSI!$K$12","v":2021},{"$f":"D18","v":0},0,0,0]
[{"$f":"IF(ADSI!$G$12=\"\",ADSI!$H$16,ADSI!$H$12)","v":6},{"$f":"IF(ADSI!$G$12=\"\",ADSI!$H$16,ADSI!$H$14)","v":""},1070,{"$f":"ADSI!$K$12","v":2021},{"$f":"D19","v":0},0,0,0]

{"sheet":"P-XXII","index":25,"n_rows":521,"n_cols":70,"rows_kept":521,"cut":false,"hidden":false,"merged":[[230,52,230,53],[231,52,231,53],[232,52,232,53],[233,52,233,53],[203,69,205,69],[203,52,205,52],[203,53,205,53],[203,54,203,68],[204,64,204,68],[204,59,204,63],[204,54,204,58],[229,52,229,53],[228,52,228,53],[4,18,6,18],[5,3,5,7],[5,8,5,12],[5,13,5,17],[4,3,4,17],[35,3,35,12],[31,0,31,2],[32,0,32,2],[33,0,33,2],[34,0,34,2],[0,6,1,15],[4,0,6,0],[29,0,29,2],[30,0,30,2],[4,1,6,1],[4,2,6,2]]}
[{"$f":"ADSI!$B$1","v":"Goa, , ADSI-2021"},null,null,null,null,null,"Central Armed Police Force (CAPF) includes Assam Rifles (AR), Border Security Force (BSF), Central Industrial Security Force (CISF), Central Reserve Police Force (CRPF), Indo Tibetan Border Police (ITBP), National Security Guard (NSG) and Sashastra Seema Bal (SSB)"]
["Errors",null,{"$f":"COUNTIF(D31:S31,FALSE)","v":0},null,"Abnormal Variations",{"$f":"COUNTIF(D32:S35,\"ABVAR\")","v":0}]
["Proforma–XXII"]
["Distribution of Suicides of Central Armed Police Force (CAPF) Personnel by Causes"]
["Code","Sl. No.","Causes","Number of Suicidal Deaths",null,null,null,null,null,null,null,null,null,null,null,null,null,null,"Grand Total [col. (7)+(12)+(17)]"]
[null,null,null,"Male",null,null,null,null,"Female",null,null,null,null,"Transgender"]
[null,null,null,"18 and above – below 30 years","30 and above – below 45 years","45 and above – below 60 years","60 years & above"," Total [sum of  (3) to (6)]","18 and above – below 30 years","30 and above – below 45 years","45 and above – below 60 years","60 years & above","Total \n[sum of (8) to (11)]","18 and above – below 30 years","30 and above – below 45 years","45 and above – below 60 years","60 years & above","Total \n[sum of (13) to (16)]"]
[null,"(1)","(2)","(3)","(4)","(5)","(6)","(7)","(8)","(9)","(10)","(11)","(12)","(13)","(14)","(15)","(16)","(17)","(18)"]
[1075,1,"Bankruptcy or indebtedness",0,0,0,0,{"$f":"SUM(D9:G9)","v":0},0,0,0,0,{"$f":"SUM(I9:L9)","v":0},0,0,0,0,{"$f":"SUM(N9:Q9)","v":0},{"$f":"SUM(H9+M9+R9)","v":0}]
[1076,2,"Marriage Related Isuues (sum of 2.1 to 2.5)",{"$f":"SUM(D11:D15)","v":0},{"$f":"SUM(E11:E15)","v":0},0,0,{"$f":"SUM(D10:G10)","v":0},{"$f":"SUM(I11:I15)","v":0},0,0,0,{"$f":"SUM(I10:L10)","v":0},0,0,0,0,{"$f":"SUM(N10:Q10)","v":0},{"$f":"SUM(H10+M10+R10)","v":0}]
[1077,null,"2.1 Non Settlement of Marriage",0,0,0,0,0,0,0,0,0,0,0,0,0,0,0,0]
[1078,null,"2.2 Dowry Related Issues",0,0,0,0,0,0,0,0,0,0,0,0,0,0,0,0]
[1079,null,"2.3 Extra Marital affairs",0,0,0,0,0,0,0,0,0,0,0,0,0,0,0,0]
[1080,null,"2.4 Divorce",0,0,0,0,0,0,0,0,0,0,0,0,0,0,0,0]
[1081,null,"2.5 Others",0,0,0,0,0,0,0,0,0,0,0,0,0,0,0,0]
[1082,3,"Property dispute",0,0,0,0,0,0,0,0,0,0,0,0,0,0,0,0]
[1083,4,"Impotency/Infertility",0,0,0,0,0,0,0,0,0,0,0,0,0,0,0,0]
[1084,5,"Family problems",0,0,0,0,0,0,0,0,0,0,0,0,0,0,0,0]
[1085,6,"Service Related Issues (sum of 6.1 to 6.5)",{"$f":"SUM(D20:D24)","v":0},{"$f":"SUM(E20:E24)","v":0},0,0,{"$f":"SUM(D19:G19)","v":0},{"$f":"SUM(I20:I24)","v":0},0,0,0,0,0,0,0,0,0,0]
[1086,null,"6.1 Physical  fatigue",0,0,0,0,0,0,0,0,0,0,0,0,0,0,0,0]
[1087,null,"6.2 Mental Depression",0,0,0,0,0,0,0,0,0,0,0,0,0,0,0,0]
[1088,null,"6.3 Promotion related issues",0,0,0,0,0,0,0,0,0,0,0,0,0,0,0,0]
[1089,null,"6.4 Leave related issues",0,0,0,0,0,0,0,0,0,0,0,0,0,0,0,0]
[1090,null,"6.5 Other service conditions",0,0,0,0,0,0,0,0,0,0,0,0,0,0,0,0]
[1091,7,"Drug abuse/Alcoholic addiction",0,0,0,0,0,0,0,0,0,0,0,0,0,0,0,0]
[1092,8,"Fall in social reputation",0,0,0,0,0,0,0,0,0,0,0,0,0,0,0,0]
[1093,9,"Causes not known",0,0,0,0,0,0,0,0,0,0,0,0,0,0,0,0]
[1094,10,"Other causes",0,0,0,0,0,0,0,0,0,0,0,0,0,0,0,{"$f":"SUM(H28+M28+R28)","v":0}]
[1110,11,"Total (sum of Sl. 1 to 10)",{"$f":"SUM(D9:D10,D16:D19,D25:D28)","v":0},{"$f":"SUM(E9:E10,E16:E19,E25:E28)","v":0},0,0,{"$f":"SUM(D29:G29)","v":0},0,0,0,0,{"$f":"SUM(I29:L29)","v":0},0,0,0,0,{"$f":"SUM(N29:Q29)","v":0},{"$f":"SUM(H29+M29+R29)","v":0}]
["Proforma-XIV VALUES [Sl. 21 (Total)]",null,null,{"$f":"'P-XIV'!F38","v":65},{"$f":"'P-XIV'!G38","v":79},{"$f":"'P-XIV'!H38","v":81},{"$f":"'P-XIV'!I38","v":16},{"$f":"'P-XIV'!J38","v":249},{"$f":"'P-XIV'!M38","v":19},{"$f":"'P-XIV'!N38","v":21},{"$f":"'P-XIV'!O38","v":11},{"$f":"'P-XIV'!P38","v":16},{"$f":"'P-XIV'!Q38","v":72},{"$f":"'P-XIV'!T38","v":0},{"$f":"'P-XIV'!U38","v":0},{"$f":"'P-XIV'!V38","v":0},{"$f":"'P-XIV'!W38","v":0},{"$f":"'P-XIV'!X38","v":0},{"$f":"'P-XIV'!Y38","v":321}]
["VALIDATION  WITH  PROFORMA–XIV [Sl.–21 (Total)]",null,null,{"$f":"IF(D29<='P-XIV'!F38,\"\",FALSE)","v":""},{"$f":"IF(E29<='P-XIV'!G38,\"\",FALSE)","v":""},{"$f":"IF(F29<='P-XIV'!H38,\"\",FALSE)","v":""},{"$f":"IF(G29<='P-XIV'!I38,\"\",FALSE)","v":""},{"$f":"IF(H29<='P-XIV'!J38,\"\",FALSE)","v":""},{"$f":"IF(I29<='P-XIV'!M38,\"\",FALSE)","v":""},{"$f":"IF(J29<='P-XIV'!N38,\"\",FALSE)","v":""},{"$f":"IF(K29<='P-XIV'!O38,\"\",FALSE)","v":""},{"$f":"IF(L29<='P-XIV'!P38,\"\",FALSE)","v":""},{"$f":"IF(M29<='P-XIV'!Q38,\"\",FALSE)","v":""},{"$f":"IF(N29<='P-XIV'!T38,\"\",FALSE)","v":""},{"$f":"IF(O29<='P-XIV'!U38,\"\",FALSE)","v":""},{"$f":"IF(P29<='P-XIV'!V38,\"\",FALSE)","v":""},{"$f":"IF(Q29<='P-XIV'!W38,\"\",FALSE)","v":""},{"$f":"IF(R29<='P-XIV'!X38,\"\",FALSE)","v":""},{"$f":"IF(S29<='P-XIV'!Y38,\"\",FALSE)","v":""}]
["SL-2.5 ABNORMAL VARIATION IN \"OTHERS\" DATA",null,null,{"$f":"IF(D10>0,IF((D15/D10*100)>10,\"ABVAR\",\"\"),\"\")","v":""},{"$f":"IF(E10>0,IF((E15/E10*100)>10,\"ABVAR\",\"\"),\"\")","v":""},"","","","","","","","","","","","","",""]
["SL-6.5 ABNORMAL VARIATION IN \"OTHER SERVICE CONDITIONS\" DATA",null,null,{"$f":"IF(D19>0,IF((D24/D19*100)>10,\"ABVAR\",\"\"),\"\")","v":""},{"$f":"IF(E19>0,IF((E24/E19*100)>10,\"ABVAR\",\"\"),\"\")","v":""},"","","","","","","","","","","","","",""]
["SL-9 ABNORMAL VARIATION IN \"CAUSES NOT KNOWN\" DATA",null,null,{"$f":"IF(D29>0,IF((D27/D29*100)>10,\"ABVAR\",\"\"),\"\")","v":""},{"$f":"IF(E29>0,IF((E27/E29*100)>10,\"ABVAR\",\"\"),\"\")","v":""},"","","","","","","","","","","","","",""]
["SL-10 ABNORMAL VARIATION IN \"OTHER CAUSES\" DATA",null,null,{"$f":"IF(D29>0,IF((D28/D29*100)>10,\"ABVAR\",\"\"),\"\")","v":""},{"$f":"IF(E29>0,IF((E28/E29*100)>10,\"ABVAR\",\"\"),\"\")","v":""},"","","","","","","","","","","","","",""]
[]
["Note: If causes of suicides is found as more than one, the most immediate cause of suicides should be considered."]
[]
[]
[]
[]
[]
[]
[]
[]
[]
[]
[]
[]
[]
[]
[]
[]
[]
[]
[]
[]
[]
[]
[]
[]
[]
[]
[]
[]
[]
[]
[]
[]
[]
[]
[]
[]
[]
[]
[]
[]
[]
[]
[]
[]
[]
[]
[]
[]
[]
[]
[]
[]
[]
[]
[]
[]
[]
[]
[]
[]
[]
[]
[]
[]
[]
[]
[]
[]
[]
[]
[]
[]
[]
[]
[]
[]
[]
[]
[]
[]
[]
[]
[]
[]
[]
[]
[]
[]
[]
[]
[]
[]
[]
[]
[]
[]
[]
[]
[]
[]
[]
[]
[]
[]
[]
[]
[]
[]
[]
[]
[]
[]
[]
[]
[]
[]
[]
[]
[]
[]
[]
[]
[]
[]
[]
[]
[]
[]
[]
[]
[]
[]
[]
[]
[]
[]
[]
[]
[]
[]
[]
[]
[]
[]
[]
[]
[]
[]
[]
[]
[]
[]
[]
[]
[]
[]
[]
[]
[]
[]
[]
[]
[null,null,null,null,null,null,null,null,null,null,null,null,null,null,null,null,null,null,null,null,null,null,null,null,null,null,null,null,null,null,null,null,null,null,null,null,null,null,null,null,null,null,null,null,null,null,null,null,null,null,null,null,{"$f":"A1","v":"Goa, , ADSI-2021"}]
[null,null,null,null,null,null,null,null,null,null,null,null,null,null,null,null,null,null,null,null,null,null,null,null,null,null,null,null,null,null,null,null,null,null,null,null,null,null,null,null,null,null,null,null,null,null,null,null,null,null,null,null,{"$f":"A2","v":"Errors"},{"$f":"C2","v":0},null,{"$f":"E2","v":"Abnormal Variations"},{"$f":"F2","v":0}]
[null,null,null,null,null,null,null,null,null,null,null,null,null,null,null,null,null,null,null,null,null,null,null,null,null,null,null,null,null,null,null,null,null,null,null,null,null,null,null,null,null,null,null,null,null,null,null,null,null,null,null,null,{"$f":"A3","v":"Proforma–XXII"}]
[null,null,null,null,null,null,null,null,null,null,null,null,null,null,null,null,null,null,null,null,null,null,null,null,null,null,null,null,null,null,null,null,null,null,null,null,null,null,null,null,null,null,null,null,null,null,null,null,null,null,null,null,{"$f":"A4","v":"Distribution of Suicides of Central Armed Police Force (CAPF) Personnel by Causes"}]
[null,null,null,null,null,null,null,null,null,null,null,null,null,null,null,null,null,null,null,null,null,null,null,null,null,null,null,null,null,null,null,null,null,null,null,null,null,null,null,null,null,null,null,null,null,null,null,null,null,null,null,null,{"$f":"B5","v":"Sl. No."},{"$f":"C5","v":"Causes"},{"$f":"D5","v":"Number of Suicidal Deaths"},null,null,null,null,null,null,null,null,null,null,null,null,null,null,{"$f":"S5","v":"Grand Total [col. (7)+(12)+(17)]"}]
[null,null,null,null,null,null,null,null,null,null,null,null,null,null,null,null,null,null,null,null,null,null,null,null,null,null,null,null,null,null,null,null,null,null,null,null,null,null,null,null,null,null,null,null,null,null,null,null,null,null,null,null,null,null,{"$f":"D6","v":"Male"},null,null,null,null,{"$f":"I6","v":"Female"},null,null,null,null,{"$f":"N6","v":"Transgender"}]
[null,null,null,null,null,null,null,null,null,null,null,null,null,null,null,null,null,null,null,null,null,null,null,null,null,null,null,null,null,null,null,null,null,null,null,null,null,null,null,null,null,null,null,null,null,null,null,null,null,null,null,null,null,null,"18 and above – below 30 years",{"$f":"E7","v":"30 and above – below 45 years"},{"$f":"F7","v":"45 and above – below 60 years"},{"$f":"G7","v":"60 years & above"},{"$f":"H7","v":" Total [sum of  (3) to (6)]"},"18 and above – below 30 years",{"$f":"J7","v":"30 and above – below 45 years"},{"$f":"K7","v":"45 and above – below 60 years"},{"$f":"L7","v":"60 years & above"},{"$f":"M7","v":"Total \n[sum of (8) to (11)]"},"18 and above – below 30 years",{"$f":"O7","v":"30 and above – below 45 years"},{"$f":"P7","v":"45 and above – below 60 years"},{"$f":"Q7","v":"60 years & above"},{"$f":"R7","v":"Total \n[sum of (13) to (16)]"}]
[null,null,null,null,null,null,null,null,null,null,null,null,null,null,null,null,null,null,null,null,null,null,null,null,null,null,null,null,null,null,null,null,null,null,null,null,null,null,null,null,null,null,null,null,null,null,null,null,null,null,null,null,{"$f":"B8","v":"(1)"},{"$f":"C8","v":"(2)"},"(3)","(4)","(5)","(6)","(7)","(8)","(9)","(10)","(11)","(12)","(13)","(14)","(15)","(16)","(17)",{"$f":"S8","v":"(18)"}]
[null,null,null,null,null,null,null,null,null,null,null,null,null,null,null,null,null,null,null,null,null,null,null,null,null,null,null,null,null,null,null,null,null,null,null,null,null,null,null,null,null,null,null,null,null,null,null,null,null,null,null,null,1,"Bankruptcy or indebtedness",0,0,0,0,0,0,0,0,0,0,0,0,0,0,0,0]
[null,null,null,null,null,null,null,null,null,null,null,null,null,null,null,null,null,null,null,null,null,null,null,null,null,null,null,null,null,null,null,null,null,null,null,null,null,null,null,null,null,null,null,null,null,null,null,null,null,null,null,null,2,"Marriage Related Isuues (sum of 2.1 to 2.5)",0,0,0,0,0,0,0,0,0,0,0,0,0,0,0,0]
[null,null,null,null,null,null,null,null,null,null,null,null,null,null,null,null,null,null,null,null,null,null,null,null,null,null,null,null,null,null,null,null,null,null,null,null,null,null,null,null,null,null,null,null,null,null,null,null,null,null,null,null,null,"2.1 Non Settlement of Marriage",0,0,0,0,0,0,0,0,0,0,0,0,0,0,0,0]
[null,null,null,null,null,null,null,null,null,null,null,null,null,null,null,null,null,null,null,null,null,null,null,null,null,null,null,null,null,null,null,null,null,null,null,null,null,null,null,null,null,null,null,null,null,null,null,null,null,null,null,null,null,"2.2 Dowry Related Issues",0,0,0,0,0,0,0,0,0,0,0,0,0,0,0,0]
[null,null,null,null,null,null,null,null,null,null,null,null,null,null,null,null,null,null,null,null,null,null,null,null,null,null,null,null,null,null,null,null,null,null,null,null,null,null,null,null,null,null,null,null,null,null,null,null,null,null,null,null,null,"2.3 Extra Marital affairs",0,0,0,0,0,0,0,0,0,0,0,0,0,0,0,0]
[null,null,null,null,null,null,null,null,null,null,null,null,null,null,null,null,null,null,null,null,null,null,null,null,null,null,null,null,null,null,null,null,null,null,null,null,null,null,null,null,null,null,null,null,null,null,null,null,null,null,null,null,null,"2.4 Divorce",0,0,0,0,0,0,0,0,0,0,0,0,0,0,0,0]
[null,null,null,null,null,null,null,null,null,null,null,null,null,null,null,null,null,null,null,null,null,null,null,null,null,null,null,null,null,null,null,null,null,null,null,null,null,null,null,null,null,null,null,null,null,null,null,null,null,null,null,null,null,"2.5 Others",0,0,0,0,0,0,0,0,0,0,0,0,0,0,0,0]
[null,null,null,null,null,null,null,null,null,null,null,null,null,null,null,null,null,null,null,null,null,null,null,null,null,null,null,null,null,null,null,null,null,null,null,null,null,null,null,null,null,null,null,null,null,null,null,null,null,null,null,null,3,"Property dispute",0,0,0,0,0,0,0,0,0,0,0,0,0,0,0,0]
[null,null,null,null,null,null,null,null,null,null,null,null,null,null,null,null,null,null,null,null,null,null,null,null,null,null,null,null,null,null,null,null,null,null,null,null,null,null,null,null,null,null,null,null,null,null,null,null,null,null,null,null,4,"Impotency/Infertility",0,0,0,0,0,0,0,0,0,0,0,0,0,0,0,0]
[null,null,null,null,null,null,null,null,null,null,null,null,null,null,null,null,null,null,null,null,null,null,null,null,null,null,null,null,null,null,null,null,null,null,null,null,null,null,null,null,null,null,null,null,null,null,null,null,null,null,null,null,5,"Family problems",0,0,0,0,0,0,0,0,0,0,0,0,0,0,0,0]
[null,null,null,null,null,null,null,null,null,null,null,null,null,null,null,null,null,null,null,null,null,null,null,null,null,null,null,null,null,null,null,null,null,null,null,null,null,null,null,null,null,null,null,null,null,null,null,null,null,null,null,null,6,"Service Related Issues (sum of 6.1 to 6.5)",0,0,0,0,0,0,0,0,0,0,0,0,0,0,0,0]
[null,null,null,null,null,null,null,null,null,null,null,null,null,null,null,null,null,null,null,null,null,null,null,null,null,null,null,null,null,null,null,null,null,null,null,null,null,null,null,null,null,null,null,null,null,null,null,null,null,null,null,null,null,"6.1 Physical  fatigue",0,0,0,0,0,0,0,0,0,0,0,0,0,0,0,0]
[null,null,null,null,null,null,null,null,null,null,null,null,null,null,null,null,null,null,null,null,null,null,null,null,null,null,null,null,null,null,null,null,null,null,null,null,null,null,null,null,null,null,null,null,null,null,null,null,null,null,null,null,null,"6.2 Mental Depression",0,0,0,0,0,0,0,0,0,0,0,0,0,0,0,0]
[null,null,null,null,null,null,null,null,null,null,null,null,null,null,null,null,null,null,null,null,null,null,null,null,null,null,null,null,null,null,null,null,null,null,null,null,null,null,null,null,null,null,null,null,null,null,null,null,null,null,null,null,null,"6.3 Promotion related issues",0,0,0,0,0,0,0,0,0,0,0,0,0,0,0,0]
[null,null,null,null,null,null,null,null,null,null,null,null,null,null,null,null,null,null,null,null,null,null,null,null,null,null,null,null,null,null,null,null,null,null,null,null,null,null,null,null,null,null,null,null,null,null,null,null,null,null,null,null,null,"6.4 Leave related issues",0,0,0,0,0,0,0,0,0,0,0,0,0,0,0,0]
[null,null,null,null,null,null,null,null,null,null,null,null,null,null,null,null,null,null,null,null,null,null,null,null,null,null,null,null,null,null,null,null,null,null,null,null,null,null,null,null,null,null,null,null,null,null,null,null,null,null,null,null,null,"6.5 Other service conditions",0,0,0,0,0,0,0,0,0,0,0,0,0,0,0,0]
[null,null,null,null,null,null,null,null,null,null,null,null,null,null,null,null,null,null,null,null,null,null,null,null,null,null,null,null,null,null,null,null,null,null,null,null,null,null,null,null,null,null,null,null,null,null,null,null,null,null,null,null,7,"Drug abuse/Alcoholic addiction",0,0,0,0,0,0,0,0,0,0,0,0,0,0,0,0]
[null,null,null,null,null,null,null,null,null,null,null,null,null,null,null,null,null,null,null,null,null,null,null,null,null,null,null,null,null,null,null,null,null,null,null,null,null,null,null,null,null,null,null,null,null,null,null,null,null,null,null,null,8,"Fall in social reputation",0,0,0,0,0,0,0,0,0,0,0,0,0,0,0,0]
[null,null,null,null,null,null,null,null,null,null,null,null,null,null,null,null,null,null,null,null,null,null,null,null,null,null,null,null,null,null,null,null,null,null,null,null,null,null,null,null,null,null,null,null,null,null,null,null,null,null,null,null,9,"Causes not known",0,0,0,0,0,0,0,0,0,0,0,0,0,0,0,0]
[null,null,null,null,null,null,null,null,null,null,null,null,null,null,null,null,null,null,null,null,null,null,null,null,null,null,null,null,null,null,null,null,null,null,null,null,null,null,null,null,null,null,null,null,null,null,null,null,null,null,null,null,10,"Other causes",0,0,0,0,0,0,0,0,0,0,0,0,0,0,0,0]
[null,null,null,null,null,null,null,null,null,null,null,null,null,null,null,null,null,null,null,null,null,null,null,null,null,null,null,null,null,null,null,null,null,null,null,null,null,null,null,null,null,null,null,null,null,null,null,null,null,null,null,null,11,"Total (sum of Sl. 1 to 10)",0,0,0,0,0,0,0,0,0,0,0,0,0,0,0,0]
[null,null,null,null,null,null,null,null,null,null,null,null,null,null,null,null,null,null,null,null,null,null,null,null,null,null,null,null,null,null,null,null,null,null,null,null,null,null,null,null,null,null,null,null,null,null,null,null,null,null,null,null,{"$f":"A30","v":"Proforma-XIV VALUES [Sl. 21 (Total)]"},null,{"$f":"D30","v":65},79,81,16,249,19,21,11,16,72,0,0,0,0,0,321]
[null,null,null,null,null,null,null,null,null,null,null,null,null,null,null,null,null,null,null,null,null,null,null,null,null,null,null,null,null,null,null,null,null,null,null,null,null,null,null,null,null,null,null,null,null,null,null,null,null,null,null,null,{"$f":"A31","v":"VALIDATION  WITH  PROFORMA–XIV [Sl.–21 (Total)]"},null,{"$f":"D31","v":""},"","","","","","","","","","","","","","",""]
[null,null,null,null,null,null,null,null,null,null,null,null,null,null,null,null,null,null,null,null,null,null,null,null,null,null,null,null,null,null,null,null,null,null,null,null,null,null,null,null,null,null,null,null,null,null,null,null,null,null,null,null,{"$f":"A32","v":"SL-2.5 ABNORMAL VARIATION IN \"OTHERS\" DATA"},null,{"$f":"D32","v":""},"","","","","","","","","","","","","","",""]
[null,null,null,null,null,null,null,null,null,null,null,null,null,null,null,null,null,null,null,null,null,null,null,null,null,null,null,null,null,null,null,null,null,null,null,null,null,null,null,null,null,null,null,null,null,null,null,null,null,null,null,null,{"$f":"A33","v":"SL-6.5 ABNORMAL VARIATION IN \"OTHER SERVICE CONDITIONS\" DATA"},null,{"$f":"D33","v":""},"","","","","","","","","","","","","","",""]
[null,null,null,null,null,null,null,null,null,null,null,null,null,null,null,null,null,null,null,null,null,null,null,null,null,null,null,null,null,null,null,null,null,null,null,null,null,null,null,null,null,null,null,null,null,null,null,null,null,null,null,null,"SL-9 ABNORMAL VARIATION IN \"CAUSES NOT KNOWN\" DATA",null,"","","","","","","","","","","","","","","",""]
[null,null,null,null,null,null,null,null,null,null,null,null,null,null,null,null,null,null,null,null,null,null,null,null,null,null,null,null,null,null,null,null,null,null,null,null,null,null,null,null,null,null,null,null,null,null,null,null,null,null,null,null,"SL-10 ABNORMAL VARIATION IN \"OTHER CAUSES\" DATA",null,"","","","","","","","","","","","","","","",""]
[]
[]
[]
[]
[]
[]
[]
[]
[]
[]
[]
[]
[]
[]
[]
[]
[]
[]
[]
[]
[]
[]
[]
[]
[]
[]
[]
[]
[]
[]
[]
[]
[]
[]
[]
[]
[]
[]
[]
[]
[]
[]
[]
[]
[]
[]
[]
[]
[]
[]
[]
[]
[]
[]
[]
[]
[]
[]
[]
[]
[]
[]
[]
[]
[]
[]
[]
[]
[]
[]
[]
[]
[]
[]
[]
[]
[]
[]
[]
[]
[]
[]
[]
[]
[]
[]
[]
[]
[]
[]
[]
[]
[]
[]
[]
[]
[]
[]
[]
[]
[]
[]
[]
[]
[]
[]
[]
[]
[]
[]
[]
[]
[]
[]
[]
[]
[]
[]
[]
[]
[]
[]
[]
[]
[]
[]
[]
[]
[]
[]
[]
[]
[]
[]
[]
[]
[]
[]
[]
[]
[]
[]
[]
[]
[]
[]
[]
[]
[]
[]
[]
[]
[]
[]
[]
[]
[]
[]
[]
[]
[]
[]
[]
[]
[]
[]
[]
[]
[]
[]
[]
[]
[]
[]
[]
[]
[]
[]
[]
[]
[]
[]
[]
[]
[]
[]
[]
[]
[]
[]
[]
[]
[]
[]
[]
[]
[]
[]
[]
[]
[]
[]
[]
[]
[]
[]
[]
[]
[]
[]
[]
[]
[]
[]
[]
[]
[]
[]
[]
[]
[]
[]
[]
[]
[]
[]
[]
[]
[]
[]
[]
[]
[]
[]
[]
[]
[]
[]
[]
[]
[]
[]
[]
[]
[]
[]
[]
[]
[]
[]
[]
[]
[]
[]
[]
[]
[]
[]
[]
[]
[]
[]
[]
[]
[]
["StateUTCityCode","DistrictCode","CrimeCode","DataYear","Male_18 and above – below 30 years","Male_30 and above – below 45 years","Male_45 and above – below 60 years","Male_60 years & above","Male_Total","Female_18 and above – below 30 years","Female_30 and above – below 45 years","Female_45 and above – below 60 years","Female_60 years & above","Female_Total","Trans_18 and above – below 30 years","Trans_30 and above – below 45 years","Trans_45 and above – below 60 years","Trans_60 years & above","Trans_Total","Grand Total"]
[{"$f":"IF(ADSI!$G$12=\"\",ADSI!$H$16,ADSI!$H$12)","v":6},{"$f":"IF(ADSI!$G$12=\"\",ADSI!$H$16,ADSI!$H$14)","v":""},{"$f":"A9","v":1075},{"$f":"ADSI!$K$12","v":2021},{"$f":"D9","v":0},{"$f":"E9","v":0},0,0,0,0,0,0,0,0,0,0,0,0,0,0]
[{"$f":"IF(ADSI!$G$12=\"\",ADSI!$H$16,ADSI!$H$12)","v":6},{"$f":"IF(ADSI!$G$12=\"\",ADSI!$H$16,ADSI!$H$14)","v":""},{"$f":"A10","v":1076},{"$f":"ADSI!$K$12","v":2021},{"$f":"D10","v":0},0,0,0,0,0,0,0,0,0,0,0,0,0,0,0]
[{"$f":"IF(ADSI!$G$12=\"\",ADSI!$H$16,ADSI!$H$12)","v":6},{"$f":"IF(ADSI!$G$12=\"\",ADSI!$H$16,ADSI!$H$14)","v":""},1077,{"$f":"ADSI!$K$12","v":2021},{"$f":"D11","v":0},0,0,0,0,0,0,0,0,0,0,0,0,0,0,0]
[{"$f":"IF(ADSI!$G$12=\"\",ADSI!$H$16,ADSI!$H$12)","v":6},{"$f":"IF(ADSI!$G$12=\"\",ADSI!$H$16,ADSI!$H$14)","v":""},1078,{"$f":"ADSI!$K$12","v":2021},{"$f":"D12","v":0},0,0,0,0,0,0,0,0,0,0,0,0,0,0,0]
[{"$f":"IF(ADSI!$G$12=\"\",ADSI!$H$16,ADSI!$H$12)","v":6},{"$f":"IF(ADSI!$G$12=\"\",ADSI!$H$16,ADSI!$H$14)","v":""},1079,{"$f":"ADSI!$K$12","v":2021},{"$f":"D13","v":0},0,0,0,0,0,0,0,0,0,0,0,0,0,0,0]
[{"$f":"IF(ADSI!$G$12=\"\",ADSI!$H$16,ADSI!$H$12)","v":6},{"$f":"IF(ADSI!$G$12=\"\",ADSI!$H$16,ADSI!$H$14)","v":""},1080,{"$f":"ADSI!$K$12","v":2021},{"$f":"D14","v":0},0,0,0,0,0,0,0,0,0,0,0,0,0,0,0]
[{"$f":"IF(ADSI!$G$12=\"\",ADSI!$H$16,ADSI!$H$12)","v":6},{"$f":"IF(ADSI!$G$12=\"\",ADSI!$H$16,ADSI!$H$14)","v":""},1081,{"$f":"ADSI!$K$12","v":2021},{"$f":"D15","v":0},0,0,0,0,0,0,0,0,0,0,0,0,0,0,0]
[{"$f":"IF(ADSI!$G$12=\"\",ADSI!$H$16,ADSI!$H$12)","v":6},{"$f":"IF(ADSI!$G$12=\"\",ADSI!$H$16,ADSI!$H$14)","v":""},1082,{"$f":"ADSI!$K$12","v":2021},{"$f":"D16","v":0},0,0,0,0,0,0,0,0,0,0,0,0,0,0,0]
[{"$f":"IF(ADSI!$G$12=\"\",ADSI!$H$16,ADSI!$H$12)","v":6},{"$f":"IF(ADSI!$G$12=\"\",ADSI!$H$16,ADSI!$H$14)","v":""},1083,{"$f":"ADSI!$K$12","v":2021},{"$f":"D17","v":0},0,0,0,0,0,0,0,0,0,0,0,0,0,0,0]
[{"$f":"IF(ADSI!$G$12=\"\",ADSI!$H$16,ADSI!$H$12)","v":6},{"$f":"IF(ADSI!$G$12=\"\",ADSI!$H$16,ADSI!$H$14)","v":""},1084,{"$f":"ADSI!$K$12","v":2021},{"$f":"D18","v":0},0,0,0,0,0,0,0,0,0,0,0,0,0,0,0]
[{"$f":"IF(ADSI!$G$12=\"\",ADSI!$H$16,ADSI!$H$12)","v":6},{"$f":"IF(ADSI!$G$12=\"\",ADSI!$H$16,ADSI!$H$14)","v":""},1085,{"$f":"ADSI!$K$12","v":2021},{"$f":"D19","v":0},0,0,0,0,0,0,0,0,0,0,0,0,0,0,0]
[{"$f":"IF(ADSI!$G$12=\"\",ADSI!$H$16,ADSI!$H$12)","v":6},{"$f":"IF(ADSI!$G$12=\"\",ADSI!$H$16,ADSI!$H$14)","v":""},1086,{"$f":"ADSI!$K$12","v":2021},{"$f":"D20","v":0},0,0,0,0,0,0,0,0,0,0,0,0,0,0,0]
[{"$f":"IF(ADSI!$G$12=\"\",ADSI!$H$16,ADSI!$H$12)","v":6},{"$f":"IF(ADSI!$G$12=\"\",ADSI!$H$16,ADSI!$H$14)","v":""},1087,{"$f":"ADSI!$K$12","v":2021},{"$f":"D21","v":0},0,0,0,0,0,0,0,0,0,0,0,0,0,0,0]
[{"$f":"IF(ADSI!$G$12=\"\",ADSI!$H$16,ADSI!$H$12)","v":6},{"$f":"IF(ADSI!$G$12=\"\",ADSI!$H$16,ADSI!$H$14)","v":""},1088,{"$f":"ADSI!$K$12","v":2021},{"$f":"D22","v":0},0,0,0,0,0,0,0,0,0,0,0,0,0,0,0]
[{"$f":"IF(ADSI!$G$12=\"\",ADSI!$H$16,ADSI!$H$12)","v":6},{"$f":"IF(ADSI!$G$12=\"\",ADSI!$H$16,ADSI!$H$14)","v":""},1089,{"$f":"ADSI!$K$12","v":2021},{"$f":"D23","v":0},0,0,0,0,0,0,0,0,0,0,0,0,0,0,0]
[{"$f":"IF(ADSI!$G$12=\"\",ADSI!$H$16,ADSI!$H$12)","v":6},{"$f":"IF(ADSI!$G$12=\"\",ADSI!$H$16,ADSI!$H$14)","v":""},1090,{"$f":"ADSI!$K$12","v":2021},{"$f":"D24","v":0},0,0,0,0,0,0,0,0,0,0,0,0,0,0,0]
[{"$f":"IF(ADSI!$G$12=\"\",ADSI!$H$16,ADSI!$H$12)","v":6},{"$f":"IF(ADSI!$G$12=\"\",ADSI!$H$16,ADSI!$H$14)","v":""},1091,{"$f":"ADSI!$K$12","v":2021},{"$f":"D25","v":0},0,0,0,0,0,0,0,0,0,0,0,0,0,0,0]
[{"$f":"IF(ADSI!$G$12=\"\",ADSI!$H$16,ADSI!$H$12)","v":6},{"$f":"IF(ADSI!$G$12=\"\",ADSI!$H$16,ADSI!$H$14)","v":""},1092,{"$f":"ADSI!$K$12","v":2021},{"$f":"D26","v":0},0,0,0,0,0,0,0,0,0,0,0,0,0,0,0]
[{"$f":"IF(ADSI!$G$12=\"\",ADSI!$H$16,ADSI!$H$12)","v":6},{"$f":"IF(ADSI!$G$12=\"\",ADSI!$H$16,ADSI!$H$14)","v":""},1093,{"$f":"ADSI!$K$12","v":2021},{"$f":"D27","v":0},0,0,0,0,0,0,0,0,0,0,0,0,0,0,0]
[{"$f":"IF(ADSI!$G$12=\"\",ADSI!$H$16,ADSI!$H$12)","v":6},{"$f":"IF(ADSI!$G$12=\"\",ADSI!$H$16,ADSI!$H$14)","v":""},{"$f":"A28","v":1094},{"$f":"ADSI!$K$12","v":2021},{"$f":"D28","v":0},0,0,0,0,0,0,0,0,0,0,0,0,0,0,0]
[{"$f":"IF(ADSI!$G$12=\"\",ADSI!$H$16,ADSI!$H$12)","v":6},{"$f":"IF(ADSI!$G$12=\"\",ADSI!$H$16,ADSI!$H$14)","v":""},1110,{"$f":"ADSI!$K$12","v":2021},{"$f":"D29","v":0},0,0,0,0,0,0,0,0,0,0,0,0,0,0,0]

{"sheet":"P-XXIII","index":26,"n_rows":510,"n_cols":66,"rows_kept":510,"cut":false,"hidden":false,"merged":[[203,52,205,52],[207,54,207,65],[217,52,217,61],[218,54,218,61],[218,52,218,53],[208,53,208,65],[204,62,204,65],[204,58,204,61],[204,54,204,57],[203,53,205,53],[203,54,203,65],[216,52,216,53],[216,54,216,65],[4,0,6,0],[18,0,18,2],[18,3,18,10],[19,3,19,10],[19,0,19,2],[4,3,4,14],[4,1,6,1],[4,2,6,2],[5,3,5,6],[5,7,5,10],[5,11,5,14],[8,3,8,14],[9,2,9,14],[17,0,17,2],[17,3,17,14]]}
[{"$f":"ADSI!$B$1","v":"Goa, , ADSI-2021"}]
["Errors",null,{"$f":"COUNTIF(L20:O20,FALSE)+COUNTIF(D18,FALSE)","v":0}]
["Proforma–XXIII"]
["Mass/Family Suicides"]
["Code","Sl. No.","Mass/Family Suicides","No. of Suicides"]
[null,null,null,"Married",null,null,null,"Un-Married",null,null,null,"Grand Total"]
[null,null,null,"Male","Female","Transgender","Total","Male","Female","Transgender","Total","Male","Female","Transgender","Total"]
[null,"(1)","(2)","(3)","(4)","(5)","(6)","(7)","(8)","(9)","(10)","(11)","(12)","(13)","(14)"]
[1125,1,"Total number of cases of Mass/Family Suicides",1]
[null,null,"Age group wise classification of Mass/Family Suicide Victims"]
[1126,2,"below 14 years",0,0,0,{"$f":"SUM(D11:F11)","v":0},0,0,0,{"$f":"SUM(H11:J11)","v":0},{"$f":"SUM(D11+H11)","v":0},{"$f":"SUM(E11+I11)","v":0},{"$f":"SUM(F11+J11)","v":0},{"$f":"SUM(L11:N11)","v":0}]
[1127,3,"14 and above – below 18 years",0,0,0,{"$f":"SUM(D12:F12)","v":0},0,0,0,{"$f":"SUM(H12:J12)","v":0},{"$f":"SUM(D12+H12)","v":0},0,0,{"$f":"SUM(L12:N12)","v":0}]
[1128,4,"18 and above – below 30 years",1,1,0,2,0,0,0,0,1,1,0,2]
[1129,5,"30 and above – below 45 years",1,0,0,1,0,0,0,0,1,0,0,1]
[1130,6,"45 and above – below 60 years",0,0,0,0,0,0,0,0,0,0,0,0]
[1131,7,"60 years & above",0,0,0,0,0,0,0,0,0,0,0,0]
[1132,8,"Total (sum of Sl. 2 to 7)",{"$f":"SUM(D11:D16)","v":2},1,0,{"$f":"SUM(D17:F17)","v":3},0,0,0,{"$f":"SUM(H17:J17)","v":0},2,1,0,{"$f":"SUM(L17:N17)","v":3}]
["VALIDATION WITH NUMBER OF CASES",null,null,{"$f":"IF(AND(OR(G17>0,K17>0),D9=0),FALSE,\"\")","v":""}]
["PROFORMA–XIV VALUES",null,null,"Proforma-XIV Sl.–21 (Total)",null,null,null,null,null,null,null,{"$f":"'P-XIV'!J38","v":249},{"$f":"'P-XIV'!Q38","v":72},{"$f":"'P-XIV'!X38","v":0},{"$f":"'P-XIV'!Y38","v":321}]
["VALIDATION OF TOTAL WITH PROFORMA–XIV [Sl.–21 (Total)]",null,null,"TOTAL (Col. 11, 12, 13 & 14 of Sl.–8) should be less than or equal to Sl.–21 (Total) of Proforma-XIV",null,null,null,null,null,null,null,{"$f":"IF(L17<='P-XIV'!J38,\"\",FALSE)","v":""},{"$f":"IF(M17<='P-XIV'!Q38,\"\",FALSE)","v":""},{"$f":"IF(N17<='P-XIV'!X38,\"\",FALSE)","v":""},{"$f":"IF(O17<='P-XIV'!Y38,\"\",FALSE)","v":""}]
[]
[]
[]
[]
[]
[]
[]
[]
[]
[]
[]
[]
[]
[]
[]
[]
[]
[]
[]
[]
[]
[]
[]
[]
[]
[]
[]
[]
[]
[]
[]
[]
[]
[]
[]
[]
[]
[]
[]
[]
[]
[]
[]
[]
[]
[]
[]
[]
[]
[]
[]
[]
[]
[]
[]
[]
[]
[]
[]
[]
[]
[]
[]
[]
[]
[]
[]
[]
[]
[]
[]
[]
[]
[]
[]
[]
[]
[]
[]
[]
[]
[]
[]
[]
[]
[]
[]
[]
[]
[]
[]
[]
[]
[]
[]
[]
[]
[]
[]
[]
[]
[]
[]
[]
[]
[]
[]
[]
[]
[]
[]
[]
[]
[]
[]
[]
[]
[]
[]
[]
[]
[]
[]
[]
[]
[]
[]
[]
[]
[]
[]
[]
[]
[]
[]
[]
[]
[]
[]
[]
[]
[]
[]
[]
[]
[]
[]
[]
[]
[]
[]
[]
[]
[]
[]
[]
[]
[]
[]
[]
[]
[]
[]
[]
[]
[]
[]
[]
[]
[]
[]
[]
[]
[]
[]
[]
[]
[]
[]
[null,null,null,null,null,null,null,null,null,null,null,null,null,null,null,null,null,null,null,null,null,null,null,null,null,null,null,null,null,null,null,null,null,null,null,null,null,null,null,null,null,null,null,null,null,null,null,null,null,null,null,null,{"$f":"A1","v":"Goa, , ADSI-2021"}]
[null,null,null,null,null,null,null,null,null,null,null,null,null,null,null,null,null,null,null,null,null,null,null,null,null,null,null,null,null,null,null,null,null,null,null,null,null,null,null,null,null,null,null,null,null,null,null,null,null,null,null,null,{"$f":"A2","v":"Errors"},{"$f":"C2","v":0}]
[null,null,null,null,null,null,null,null,null,null,null,null,null,null,null,null,null,null,null,null,null,null,null,null,null,null,null,null,null,null,null,null,null,null,null,null,null,null,null,null,null,null,null,null,null,null,null,null,null,null,null,null,{"$f":"A3","v":"Proforma–XXIII"}]
[null,null,null,null,null,null,null,null,null,null,null,null,null,null,null,null,null,null,null,null,null,null,null,null,null,null,null,null,null,null,null,null,null,null,null,null,null,null,null,null,null,null,null,null,null,null,null,null,null,null,null,null,{"$f":"A4","v":"Mass/Family Suicides"}]
[null,null,null,null,null,null,null,null,null,null,null,null,null,null,null,null,null,null,null,null,null,null,null,null,null,null,null,null,null,null,null,null,null,null,null,null,null,null,null,null,null,null,null,null,null,null,null,null,null,null,null,null,{"$f":"B5","v":"Sl. No."},{"$f":"C5","v":"Mass/Family Suicides"},{"$f":"D5","v":"No. of Suicides"}]
[null,null,null,null,null,null,null,null,null,null,null,null,null,null,null,null,null,null,null,null,null,null,null,null,null,null,null,null,null,null,null,null,null,null,null,null,null,null,null,null,null,null,null,null,null,null,null,null,null,null,null,null,null,null,{"$f":"D6","v":"Married"},null,null,null,{"$f":"H6","v":"Un-Married"},null,null,null,{"$f":"L6","v":"Grand Total"}]
[null,null,null,null,null,null,null,null,null,null,null,null,null,null,null,null,null,null,null,null,null,null,null,null,null,null,null,null,null,null,null,null,null,null,null,null,null,null,null,null,null,null,null,null,null,null,null,null,null,null,null,null,null,null,{"$f":"D7","v":"Male"},{"$f":"E7","v":"Female"},"Transgender","Total",{"$f":"H7","v":"Male"},{"$f":"I7","v":"Female"},"Transgender","Total",{"$f":"L7","v":"Male"},{"$f":"M7","v":"Female"},"Transgender","Total"]
[null,null,null,null,null,null,null,null,null,null,null,null,null,null,null,null,null,null,null,null,null,null,null,null,null,null,null,null,null,null,null,null,null,null,null,null,null,null,null,null,null,null,null,null,null,null,null,null,null,null,null,null,{"$f":"B8","v":"(1)"},{"$f":"C8","v":"(2)"},{"$f":"D8","v":"(3)"},"(4)","(5)","(6)",{"$f":"H8","v":"(7)"},"(8)","(9)","(10)",{"$f":"L8","v":"(11)"},"(12)","(13)","(14)"]
[null,null,null,null,null,null,null,null,null,null,null,null,null,null,null,null,null,null,null,null,null,null,null,null,null,null,null,null,null,null,null,null,null,null,null,null,null,null,null,null,null,null,null,null,null,null,null,null,null,null,null,null,{"$f":"B9","v":1},"Total number of cases of Mass/Family Suicides",{"$f":"D9","v":1}]
[null,null,null,null,null,null,null,null,null,null,null,null,null,null,null,null,null,null,null,null,null,null,null,null,null,null,null,null,null,null,null,null,null,null,null,null,null,null,null,null,null,null,null,null,null,null,null,null,null,null,null,null,null,"Age group wise classification of Mass/Family Suicide Victims"]
[null,null,null,null,null,null,null,null,null,null,null,null,null,null,null,null,null,null,null,null,null,null,null,null,null,null,null,null,null,null,null,null,null,null,null,null,null,null,null,null,null,null,null,null,null,null,null,null,null,null,null,null,{"$f":"B11","v":2},"below 14 years",{"$f":"D11","v":0},0,0,0,0,0,0,0,{"$f":"L11","v":0},0,0,0]
[null,null,null,null,null,null,null,null,null,null,null,null,null,null,null,null,null,null,null,null,null,null,null,null,null,null,null,null,null,null,null,null,null,null,null,null,null,null,null,null,null,null,null,null,null,null,null,null,null,null,null,null,3,"14 and above – below 18 years",0,0,0,0,0,0,0,0,0,0,0,0]
[null,null,null,null,null,null,null,null,null,null,null,null,null,null,null,null,null,null,null,null,null,null,null,null,null,null,null,null,null,null,null,null,null,null,null,null,null,null,null,null,null,null,null,null,null,null,null,null,null,null,null,null,4,"18 and above – below 30 years",1,1,0,2,0,0,0,0,1,1,0,2]
[null,null,null,null,null,null,null,null,null,null,null,null,null,null,null,null,null,null,null,null,null,null,null,null,null,null,null,null,null,null,null,null,null,null,null,null,null,null,null,null,null,null,null,null,null,null,null,null,null,null,null,null,5,"30 and above – below 45 years",1,0,0,1,0,0,0,0,1,0,0,1]
[null,null,null,null,null,null,null,null,null,null,null,null,null,null,null,null,null,null,null,null,null,null,null,null,null,null,null,null,null,null,null,null,null,null,null,null,null,null,null,null,null,null,null,null,null,null,null,null,null,null,null,null,6,"45 and above – below 60 years",0,0,0,0,0,0,0,0,0,0,0,0]
[null,null,null,null,null,null,null,null,null,null,null,null,null,null,null,null,null,null,null,null,null,null,null,null,null,null,null,null,null,null,null,null,null,null,null,null,null,null,null,null,null,null,null,null,null,null,null,null,null,null,null,null,7,"60 years & above",0,0,0,0,0,0,0,0,0,0,0,0]
[null,null,null,null,null,null,null,null,null,null,null,null,null,null,null,null,null,null,null,null,null,null,null,null,null,null,null,null,null,null,null,null,null,null,null,null,null,null,null,null,null,null,null,null,null,null,null,null,null,null,null,null,8,"Total (sum of Sl. 2 to 7)",2,1,0,3,0,0,0,0,2,1,0,3]
[null,null,null,null,null,null,null,null,null,null,null,null,null,null,null,null,null,null,null,null,null,null,null,null,null,null,null,null,null,null,null,null,null,null,null,null,null,null,null,null,null,null,null,null,null,null,null,null,null,null,null,null,{"$f":"A18","v":"VALIDATION WITH NUMBER OF CASES"},null,{"$f":"D18","v":""}]
[null,null,null,null,null,null,null,null,null,null,null,null,null,null,null,null,null,null,null,null,null,null,null,null,null,null,null,null,null,null,null,null,null,null,null,null,null,null,null,null,null,null,null,null,null,null,null,null,null,null,null,null,{"$f":"D19","v":"Proforma-XIV Sl.–21 (Total)"},null,null,null,null,null,null,null,null,null,{"$f":"L19","v":249},{"$f":"M19","v":72},{"$f":"N19","v":0},{"$f":"O19","v":321}]
[null,null,null,null,null,null,null,null,null,null,null,null,null,null,null,null,null,null,null,null,null,null,null,null,null,null,null,null,null,null,null,null,null,null,null,null,null,null,null,null,null,null,null,null,null,null,null,null,null,null,null,null,{"$f":"A20","v":"VALIDATION OF TOTAL WITH PROFORMA–XIV [Sl.–21 (Total)]"},null,{"$f":"D20","v":"TOTAL (Col. 11, 12, 13 & 14 of Sl.–8) should be less than or equal to Sl.–21 (Total) of Proforma-XIV"},null,null,null,null,null,null,null,"","","",""]
[]
[]
[]
[]
[]
[]
[]
[]
[]
[]
[]
[]
[]
[]
[]
[]
[]
[]
[]
[]
[]
[]
[]
[]
[]
[]
[]
[]
[]
[]
[]
[]
[]
[]
[]
[]
[]
[]
[]
[]
[]
[]
[]
[]
[]
[]
[]
[]
[]
[]
[]
[]
[]
[]
[]
[]
[]
[]
[]
[]
[]
[]
[]
[]
[]
[]
[]
[]
[]
[]
[]
[]
[]
[]
[]
[]
[]
[]
[]
[]
[]
[]
[]
[]
[]
[]
[]
[]
[]
[]
[]
[]
[]
[]
[]
[]
[]
[]
[]
[]
[]
[]
[]
[]
[]
[]
[]
[]
[]
[]
[]
[]
[]
[]
[]
[]
[]
[]
[]
[]
[]
[]
[]
[]
[]
[]
[]
[]
[]
[]
[]
[]
[]
[]
[]
[]
[]
[]
[]
[]
[]
[]
[]
[]
[]
[]
[]
[]
[]
[]
[]
[]
[]
[]
[]
[]
[]
[]
[]
[]
[]
[]
[]
[]
[]
[]
[]
[]
[]
[]
[]
[]
[]
[]
[]
[]
[]
[]
[]
[]
[]
[]
[]
[]
[]
[]
[]
[]
[]
[]
[]
[]
[]
[]
[]
[]
[]
[]
[]
[]
[]
[]
[]
[]
[]
[]
[]
[]
[]
[]
[]
[]
[]
[]
[]
[]
[]
[]
[]
[]
[]
[]
[]
[]
[]
[]
[]
[]
[]
[]
[]
[]
[]
[]
[]
[]
[]
[]
[]
[]
[]
[]
[]
[]
[]
[]
[]
[]
[]
[]
[]
[]
[]
[]
[]
[]
[]
[]
[]
[]
[]
[]
[]
[]
[]
[]
[]
[]
[]
[]
[]
[]
[]
[]
[]
[]
[]
[]
[]
[]
["StateUTCityCode","DistrictCode","CrimeCode","DataYear","Total Cases"]
[{"$f":"IF(ADSI!$G$12=\"\",ADSI!$H$16,ADSI!$H$12)","v":6},{"$f":"IF(ADSI!$G$12=\"\",ADSI!$H$16,ADSI!$H$14)","v":""},{"$f":"A9","v":1125},{"$f":"ADSI!$K$12","v":2021},{"$f":"D9","v":1}]
[]
["StateUTCityCode","DistrictCode","CrimeCode","DataYear","Married_Male","Married_Female","Married_Trans","Married_Total","UnMarried_Male","UnMarried_Female","UnMarried_Trans","UnMarried_Total","GrandTotal_Male","GrandTotal_Female","GrandTotal_Trans","GrandTotal_Total"]
[{"$f":"IF(ADSI!$G$12=\"\",ADSI!$H$16,ADSI!$H$12)","v":6},{"$f":"IF(ADSI!$G$12=\"\",ADSI!$H$16,ADSI!$H$14)","v":""},{"$f":"A11","v":1126},{"$f":"ADSI!$K$12","v":2021},{"$f":"D11","v":0},{"$f":"E11","v":0},0,0,0,0,0,0,0,0,0,0]
[{"$f":"IF(ADSI!$G$12=\"\",ADSI!$H$16,ADSI!$H$12)","v":6},{"$f":"IF(ADSI!$G$12=\"\",ADSI!$H$16,ADSI!$H$14)","v":""},{"$f":"A12","v":1127},{"$f":"ADSI!$K$12","v":2021},{"$f":"D12","v":0},0,0,0,0,0,0,0,0,0,0,0]
[{"$f":"IF(ADSI!$G$12=\"\",ADSI!$H$16,ADSI!$H$12)","v":6},{"$f":"IF(ADSI!$G$12=\"\",ADSI!$H$16,ADSI!$H$14)","v":""},1128,{"$f":"ADSI!$K$12","v":2021},{"$f":"D13","v":1},1,0,2,0,0,0,0,1,1,0,2]
[{"$f":"IF(ADSI!$G$12=\"\",ADSI!$H$16,ADSI!$H$12)","v":6},{"$f":"IF(ADSI!$G$12=\"\",ADSI!$H$16,ADSI!$H$14)","v":""},1129,{"$f":"ADSI!$K$12","v":2021},{"$f":"D14","v":1},0,0,1,0,0,0,0,1,0,0,1]
[{"$f":"IF(ADSI!$G$12=\"\",ADSI!$H$16,ADSI!$H$12)","v":6},{"$f":"IF(ADSI!$G$12=\"\",ADSI!$H$16,ADSI!$H$14)","v":""},1130,{"$f":"ADSI!$K$12","v":2021},{"$f":"D15","v":0},0,0,0,0,0,0,0,0,0,0,0]
[{"$f":"IF(ADSI!$G$12=\"\",ADSI!$H$16,ADSI!$H$12)","v":6},{"$f":"IF(ADSI!$G$12=\"\",ADSI!$H$16,ADSI!$H$14)","v":""},1131,{"$f":"ADSI!$K$12","v":2021},{"$f":"D16","v":0},0,0,0,0,0,0,0,0,0,0,0]
[{"$f":"IF(ADSI!$G$12=\"\",ADSI!$H$16,ADSI!$H$12)","v":6},{"$f":"IF(ADSI!$G$12=\"\",ADSI!$H$16,ADSI!$H$14)","v":""},1132,{"$f":"ADSI!$K$12","v":2021},{"$f":"D17","v":2},1,0,3,0,0,0,0,2,1,0,3]

{"sheet":"Status","index":27,"n_rows":7,"n_cols":13,"rows_kept":7,"cut":false,"hidden":false,"merged":[]}
["Consolidation Status"]
["(File generated on 22-04-2022 11:02:33)"]
[]
["SNo","DataYear","StateCode","StateName","DistCode","DistName","MCityCode","MCityName","PSName","TotalError","TotalVariation","FileName","DateOn"]
[1,"2021","6","GOA","3","CID","-","-","-","0","4","D:\\ADSI 2021\\CID DIST.xlsm","22-04-2022 11:01:40"]
[2,"2021","6","GOA","1","North Goa","-","-","-","0","47","D:\\ADSI 2021\\NORTH DIST.xlsm","22-04-2022 11:01:42"]
[3,"2021","6","GOA","2","South Goa","-","-","-","0","46","D:\\ADSI 2021\\SOUTH DIST.xlsm","22-04-2022 11:01:44"]