{"text_format":"1","workbook":"xlsx","n_sheets":29,"sheets":["ADSI","FormData","P-I","P-II","P-II-A","P-III","P-IV","P-V","P-VI","P-VII","P-VIII","P-IX","P-X","P-XI","P-XII","P-XIII","P-XIV","P-XV","P-XVI","P-XVII","P-XVIII","P-XIX","P-XIX-A","P-XX","P-XXI","P-XXII","P-XXIII","Status","LangMaster"],"not_rendered":{"charts":0,"images":4,"macros":1,"external_links":1,"defined_names":121,"comments":26,"pivot_tables":0},"unopened":[],"bounds":{"document_bytes":16777216,"sheet_cells":100000,"rows_first":2000,"rows_last":500,"rows_between":2000,"halvings":0,"cell_chars":16384,"cell_head_chars":4096},"cells_cut":0,"cells_raw":0,"read":"whole","date_system":"1900"}

{"sheet":"ADSI","index":0,"n_rows":495,"n_cols":12,"rows_kept":495,"cut":false,"hidden":false,"merged":[[2,0,2,13],[3,0,3,13],[5,0,5,13]]}
[null,{"$f":"IF($G$12<>\"\",CONCATENATE(PROPER($G$12),\", \",PROPER($G$14),IF($G$18<>\"\",\", \"&$G$18,\"\"),\", ADSI-\",$K$12),IF($G$16<>\"\",CONCATENATE(\"Mega City: \",PROPER($G$16),\", ADSI-\",$K$12)))","v":"Goa, , ADSI-2022"},null,null,null,null,null,null,null,null,"ADSI v3.0","2016-12-22"]
[]
[{"$f":"IF(ADSI!$L$10=1,LangMaster!A2,LangMaster!B2)","v":"Accidental Deaths & Suicides in India"}]
[{"$f":"IF(ADSI!$L$10=1,LangMaster!A3,LangMaster!B3)","v":"(Proformae Revision year 2016)"}]
[]
[{"$f":"IF(ADSI!$L$10=1,LangMaster!A4,LangMaster!B4)","v":"Data Entry Module v5.0"}]
[]
[]
[]
[null,null,null,null,null,null,null,null,null,"Language: ",null,1]
[null,null,null,null,null,null,null,"Code",null,null,{"$f":"YEAR(NOW())-1","v":2022}]
[null,null,{"$f":"IF(ADSI!$L$10=1,LangMaster!A5,LangMaster!B5)","v":"Select the State/UT Name"},null,null,null,"GOA",{"$f":"IF(ISERROR(LOOKUP(G12,StateList,StateCode)),\"\",LOOKUP(G12,StateList,StateCode))","v":6},null,{"$f":"IF(ADSI!$L$10=1,LangMaster!A13,LangMaster!B13)","v":"Data Year"},2022]
[null,null,null,null,null,null,{"$f":"SUBSTITUTE(SUBSTITUTE(G12,\" \",\"_\"),\"&\",\"_\")","v":"GOA"}]
[null,null,{"$f":"IF(ADSI!$L$10=1,LangMaster!A6,LangMaster!B6)","v":"Select the District Name"},null,null,null,null,{"$f":"IF(ISERROR(LOOKUP(G14,INDIRECT(G13),INDIRECT(CONCATENATE(MID(G13,1,7),\"Code\")))),\"\",LOOKUP(G14,INDIRECT(G13),INDIRECT(CONCATENATE(MID(G13,1,7),\"Code\"))))","v":""},null,null,{"$f":"IF(ADSI!$L$10=1,LangMaster!A14,LangMaster!B14)","v":"Number of Errors Found:"},{"$f":"SUM('P-I:P-XXIII'!C2)","v":0}]
[]
[null,null,{"$f":"IF(ADSI!$L$10=1,LangMaster!A7,LangMaster!B7)","v":"Select the Metropolitan City Name"},null,null,null,null,{"$f":"IF(ISNA(LOOKUP(G16,MegaCityName,MegaCityCode)),\"\",LOOKUP(G16,MegaCityName,MegaCityCode))","v":""},null,null,{"$f":"IF(ADSI!$L$10=1,LangMaster!A15,LangMaster!B15)","v":"Total Abnormal variations in data:"},{"$f":"SUM('P-I:P-XXIII'!F2)","v":55}]
[]
[null,null,{"$f":"IF(ADSI!$L$10=1,LangMaster!A8,LangMaster!B8)","v":"Police Station Name"}]
[]
[null,null,{"$f":"IF(ADSI!$L$10=1,LangMaster!A9,LangMaster!B9)","v":"Name of the Officer preparing this report"}]
[null,null,null,null,null,null,null,null,null,null,{"$f":"IF(ADSI!$L$10=1,LangMaster!A16,LangMaster!B16)","v":"(Authorized Signatory)"}]
[null,null,{"$f":"IF(ADSI!$L$10=1,LangMaster!A10,LangMaster!B10)","v":"Whether Original / Revised data?"},null,null,null,"Original data",null,null,{"$f":"IF(ADSI!$L$10=1,LangMaster!A17,LangMaster!B17)","v":"Name :  "},"BOSSUET SILVA,GPS"]
[null,null,null,null,null,null,null,null,null,{"$f":"IF(ADSI!$L$10=1,LangMaster!A18,LangMaster!B18)","v":"Rank :  "},"SUPERINTENDENT OF POLICE"]
[null,null,{"$f":"IF(ADSI!$L$10=1,LangMaster!A11,LangMaster!B11)","v":"Date of Submission of this report"},null,null,null,{"$f":"NOW()","v":"2023-03-24T15:27:19.930"},null,null,{"$f":"IF(ADSI!$L$10=1,LangMaster!A19,LangMaster!B19)","v":"Office seal :  "}]
[]
[null,null,{"$f":"IF(ADSI!$L$10=1,LangMaster!A20,LangMaster!B20)","v":"Note:    1. The output file (after data entry) must be saved in .xlsm format only."}]
[null,null,null,{"$f":"IF(ADSI!$L$10=1,LangMaster!A21,LangMaster!B21)","v":"2. NCRB/SCRB can not import/accept the data until the data is error free (i.e. Error count = 0)"}]
[null,null,null,{"$f":"IF(ADSI!$L$10=1,LangMaster!A22,LangMaster!B22)","v":"3. The proformae output can be printed only on LEGAL size paper."}]
[]
[]
[]
[]
[]
[]
[]
[]
[]
[]
[]
[]
[]
[]
[]
[]
[]
[]
[]
[]
[]
[]
[]
[]
[]
[]
[]
[]
[]
[]
[]
[]
[]
[]
[]
[]
[]
[]
[]
[]
[]
[]
[]
[]
[]
[]
[]
[]
[]
[]
[]
[]
[]
[]
[]
[]
[]
[]
[]
[]
[]
[]
[]
[]
[]
[]
[]
[]
[]
[]
[]
[]
[]
[]
[]
[]
[]
[]
[]
[]
[]
[]
[]
[]
[]
[]
[]
[]
[]
[]
[]
[]
[]
[]
[]
[]
[]
[]
[]
[]
[]
[]
[]
[]
[]
[]
[]
[]
[]
[]
[]
[]
[]
[]
[]
[]
[]
[]
[]
[]
[]
[]
[]
[]
[]
[]
[]
[]
[]
[]
[]
[]
[]
[]
[]
[]
[]
[]
[]
[]
[]
[]
[]
[]
[]
[]
[]
[]
[]
[]
[]
[]
[]
[]
[]
[]
[]
[]
[]
[]
[]
[]
[]
[]
[]
[]
[]
[]
[]
[]
[]
[]
[]
[]
[]
[]
[]
[]
[]
[]
[]
[]
[]
[]
[]
[]
[]
[]
[]
[]
[]
[]
[]
[]
[]
[]
[]
[]
[]
[]
[]
[]
[]
[]
[]
[]
[]
[]
[]
[]
[]
[]
[]
[]
[]
[]
[]
[]
[]
[]
[]
[]
[]
[]
[]
[]
[]
[]
[]
[]
[]
[]
[]
[]
[]
[]
[]
[]
[]
[]
[]
[]
[]
[]
[]
[]
[]
[]
[]
[]
[]
[]
[]
[]
[]
[]
[]
[]
[]
[]
[]
[]
[]
[]
[]
[]
[]
[]
[]
[]
[]
[]
[]
[]
[]
[]
[]
[]
[]
[]
[]
[]
[]
[]
[]
[]
[]
[]
[]
[]
[]
[]
[]
[]
[]
[]
[]
[]
[]
[]
[]
[]
[]
[]
[]
[]
[]
[]
[]
[]
[]
[]
[]
[]
[]
[]
[]
[]
[]
[]
[]
[]
[]
[]
[]
[]
[]
[]
[]
[]
[]
[]
[]
[]
[]
[]
[]
[]
[]
[]
[]
[]
[]
[]
[]
[]
[]
[]
[]
[]
[]
[]
[]
[]
[]
[]
[]
[]
[]
[]
[]
[]
[]
[]
[]
[]
[]
[]
[]
[]
[]
[]
[]
[]
[]
[]
[]
[]
[]
[]
[]
[]
[]
[]
[]
[]
[]
[]
[]
[]
[]
[]
[]
[]
[]
[]
[]
[]
[]
[]
[]
[]
[]
[]
[]
[]
[]
[]
[]
[]
[]
[]
[]
[]
[]
[]
[]
[]
[]
[]
[]
[]
[]
[]
[]
[]
[]
[]
[]
[]
[]
[]
[]
[]
[]
[]
[]
[]
[]
[]
[]
[]
[]
[]
[]
[]
[]
[]
[]
[]
[]
[]
[]
[]
[]
[]
[]
[]
[]
[]
[]
[]
[]
[]
[]
[]
["Errors:",null,{"$f":"L14","v":0}]

{"sheet":"FormData","index":1,"n_rows":81,"n_cols":116,"rows_kept":81,"cut":false,"hidden":true,"merged":[]}
["StateCode","StateList",null,"A&N ISLCode","A&N ISLANDS",null,"ANDHRA Code","ANDHRA PRADESH",null,"ARUNACHCode","ARUNACHAL PRADESH",null,"ASSAMCode","ASSAM",null,"BIHARCode","BIHAR",null,"CHANDIGCode","CHANDIGARH",null,"CHHATTICode","CHHATTISGARH",null,"D&N HAVCode","D&N HAVELI AND DAMAN&DIU",null,"LADAKHCode","LADAKH",null,"DELHICode","DELHI",null,"GOACode","GOA",null,"GUJARATCode","GUJARAT",null,"HARYANACode","HARYANA",null,"HIMACHACode","HIMACHAL PRADESH",null,"JAMMU &Code","JAMMU & KASHMIR",null,"JHARKHACode","JHARKHAND",null,"KARNATACode","KARNATAKA",null,"KERALACode","KERALA",null,"LAKSHADCode","LAKSHADWEEP",null,"MADHYA Code","MADHYA PRADESH",null,"MAHARASCode","MAHARASHTRA",null,"MANIPURCode","MANIPUR",null,"MEGHALACode","MEGHALAYA",null,"MIZORAMCode","MIZORAM",null,"NAGALANCode","NAGALAND",null,"ODISHACode","ODISHA",null,"PUDUCHECode","PUDUCHERRY",null,"PUNJABCode","PUNJAB",null,"RAJASTHCode","RAJASTHAN",null,"SIKKIMCode","SIKKIM",null,"TAMIL NCode","TAMIL NADU",null,"TELANGACode","TELANGANA",null,"TRIPURACode","TRIPURA",null,"UTTAR PCode","UTTAR PRADESH",null,"UTTARAKCode","UTTARAKHAND",null,"WEST BECode","WEST BENGAL",null,"MegaCityCode","MegaCityName",null,"LangCode","LangName"]
[29,"A&N ISLANDS",null,0,"- All Districts -",null,0,"- All Districts -",null,0,"- All Districts -",null,0,"- All Districts -",null,0,"- All Districts -",null,0,"- All Districts -",null,0,"- All Districts -",null,0,"- All Districts -",null,0,"- All Districts -",null,0,"- All Districts -",null,0,"- All Districts -",null,0,"- All Districts -",null,0,"- All Districts -",null,0,"- All Districts -",null,0,"- All Districts -",null,0,"- All Districts -",null,0,"- All Districts -",null,0,"- All Districts -",null,0,"- All Districts -",null,0,"- All Districts -",null,0,"- All Districts -",null,0,"- All Districts -",null,0,"- All Districts -",null,0,"- All Districts -",null,0,"- All Districts -",null,0,"- All Districts -",null,0,"- All Districts -",null,0,"- All Districts -",null,0,"- All Districts -",null,0,"- All Districts -",null,0,"- All Districts -",null,0,"- All Districts -",null,0,"- All Districts -",null,0,"- All Districts -",null,0,"- All Districts -",null,0,"- All Districts -",null,37,"AGRA",null,1,"English"]
[1,"ANDHRA PRADESH",null,3,"Nicobar",null,21,"Alluri Sitharama Raju",null,1,"Anjaw",null,41,"Bajali",null,46,"Anti Terrorist Squad",null,1,"Chandigarh",null,1,"Balod",null,1,"D&N Haveli",null,1,"Kargil",null,1,"Central",null,3,"CID",null,1,"Ahmedabad City",null,25,"Ambala",null,1,"Baddi",null,1,"Anantnag",null,1,"Bokaro",null,1,"Bagalkot",null,1,"Alapuzha",null,1,"Lakshadweep",null,1,"Agar",null,1,"Ahmednagar",null,1,"Bishnupur",null,12,"Cyber Cell",null,1,"Aizawl",null,1,"Dimapur",null,1,"Angul",null,1,"Karaikal",null,1,"Amritsar Rural",null,1,"Ajmer",null,5,"CID",null,1,"Ariyalur",null,"30","Adilabad ",null,1,"Dhalai",null,1,"Agra",null,1,"Almora",null,3,"Alipurduar",null,38,"AHMEDABAD",null,2,"Hindi"]
[2,"ARUNACHAL PRADESH",null,2,"North & Middle Andaman",null,22,"Anakapalli",null,2,"Changlang",null,3,"Baksa",null,1,"Araria",null,null,null,null,2,"Balodbazar",null,2,"Daman",null,2,"Leh",null,2,"Crime Branch",null,1,"North Goa",null,2,"Ahmedabad Rural",null,3,"Bhiwani",null,2,"Bilaspur",null,33,"Anti Narcotic Task Force Jammu",null,2,"Chaibasa",null,5,"Ballari",null,21,"Crime Branch",null,null,null,null,2,"Alirajpur",null,2,"Akola",null,2,"Chandel",null,1,"Garo Hills East",null,2,"Champhai",null,2,"Kiphire",null,2,"Balasore",null,2,"Puducherry",null,2,"Barnala",null,2,"Alwar",null,1,"Gangtok (East)",null,49,"Avadi",null,31,"Badhradhri Kothagudem",null,2,"Gomati",null,2,"Aligarh",null,2,"Bageshwar",null,4,"Asansol-Durgapur PC",null,39,"ALLAHABAD",null,3,"Regional Language"]
[3,"ASSAM",null,1,"South Andaman",null,23,"Anantapuramu",null,3,"Crime Branch",null,2,"Barpeta",null,2,"Arwal",null,null,null,null,3,"Balrampur",null,3,"Diu",null,null,null,null,22,"Dwarka",null,2,"South Goa",null,3,"Amreli",null,26,"Charkhi Dadri",null,3,"Chamba",null,34,"Anti Narcotic Task Force Kashmir",null,3,"Chatra",null,36,"Belagavi City",null,2,"Ernakulam Commr.",null,null,null,null,3,"Anuppur",null,3,"Amravati Commr.",null,3,"Churachandpur",null,2,"Garo Hills North",null,11,"Hnahthial",null,3,"Kohima",null,3,"Baragarh",null,null,null,null,3,"Batala",null,3,"Banswara",null,7,"Gyalshing (West)",null,43,"Chengalpattu",null,21,"Cyberabad Commissionerate",null,3,"GRP",null,3,"Allahabad",null,3,"Chamoli",null,5,"Bankura",null,40,"AMRITSAR"]
[4,"BIHAR",null,null,null,null,24,"Annamayya",null,4,"Dibang Valley",null,1,"BIEO",null,3,"Aurangabad",null,null,null,null,4,"Bemetra",null,null,null,null,null,null,null,3,"East",null,null,null,null,4,"Anand",null,4,"Faridabad",null,4,"CID",null,2,"Awantipora",null,4,"Deoghar",null,4,"Belagavi District",null,3,"Ernakulam Rural",null,null,null,null,4,"Ashok Nagar",null,4,"Amravati Rural",null,4,"CID",null,3,"Garo Hills South",null,12,"Khawzawl",null,4,"Longleng",null,4,"Berhampur",null,null,null,null,4,"Bathinda",null,4,"Baran",null,2,"Mangan (North)",null,2,"Chennai",null,22,"Hyderabad Commissionerate",null,4,"Kowai",null,4,"Ambedkar Nagar",null,4,"Champawat",null,38,"Barasat Police District",null,41,"ASANSOL"]
[30,"CHANDIGARH",null,null,null,null,25,"Bapatla",null,5,"Kameng East",null,37,"Biswanath",null,4,"Bagaha",null,null,null,null,5,"Bilaspur",null,null,null,null,null,null,null,4,"EOW",null,null,null,null,5,"Arvalli",null,5,"Fatehabad",null,5,"GRP",null,3,"Bandipora",null,5,"Dhanbad",null,2,"Bengaluru City",null,4,"Idukki",null,null,null,null,5,"Balaghat",null,5,"Aurangabad Commr.",null,5,"Imphal East",null,4,"Garo Hills South West",null,3,"Kolasib",null,5,"Mokokchung",null,5,"Bhadrak",null,null,null,null,5,"CP Amritsar",null,5,"Barmer",null,3,"Namchi (South)",null,3,"Coimbatore",null,32,"Jagityal",null,5,"North",null,5,"Amethi",null,5,"Dehradun",null,6,"Barrackpur PC",null,42,"AURANGABAD"]
[5,"CHHATTISGARH",null,null,null,null,26,"Chittoor",null,6,"Kameng West",null,4,"Bongaigaon",null,5,"Banka",null,null,null,null,6,"Bizapur",null,null,null,null,null,null,null,5,"IGI Airport",null,null,null,null,6,"Banaskantha",null,6,"GRP",null,6,"Hamirpur",null,4,"Baramulla",null,6,"Dhanbad Railway",null,3,"Bengaluru District",null,5,"Kannur City",null,null,null,null,6,"Barwani",null,48,"Aurangabad Railway",null,6,"Imphal West",null,5,"Garo Hills West",null,4,"Lawngtlai",null,6,"Mon",null,6,"Bolangir",null,null,null,null,6,"CP Jalandhar",null,6,"Bharatpur",null,6,"Pakyong (East)",null,4,"Coimbatore City",null,33,"Jayashankar Bhupalpalli",null,6,"Sipahijala",null,6,"Amroha",null,14,"GRP",null,31,"Baruipur Police ",null,43,"BENGALURU"]
[31,"D&N HAVELI AND DAMAN & DIU",null,null,null,null,27,"Dr BR Ambedkar Konaseema",null,27,"Kamle",null,6,"Cachar",null,6,"Begusarai",null,null,null,null,7,"Dantewara",null,null,null,null,null,null,null,6,"Metro",null,null,null,null,7,"Bharuch",null,7,"Gurgaon",null,7,"Kangra",null,5,"Budgam",null,7,"Dumka",null,6,"Bidar",null,22,"Kannur Rural",null,null,null,null,7,"Betul",null,6,"Aurangabad Rural",null,11,"Jiribam",null,7,"Jaintia Hills East",null,5,"Lunglei",null,7,"Peren",null,7,"Boudh",null,null,null,null,7,"CP Ludhiana",null,7,"Bhilwara",null,4,"Soreng (West)",null,5,"Cuddalore",null,34,"Jogulamba Gadwal",null,7,"South",null,7,"Auraiya",null,6,"Haridwar",null,43,"Basirhat Police District",null,44,"BHOPAL"]
[32,"DELHI",null,null,null,null,28,"East Godavari",null,23,"Kra Daadi",null,40,"Charaideo",null,7,"Bettiah",null,null,null,null,8,"Dhamtari",null,null,null,null,null,null,null,7,"New Delhi",null,null,null,null,8,"Bhavnagar",null,27,"Hansi",null,8,"Kinnaur",null,37,"CICE Jammu",null,8,"Garhwa",null,9,"Chamarajnagar",null,6,"Kasargod",null,null,null,null,8,"Bhind",null,7,"Beed",null,13,"Kakching",null,6,"Jaintia Hills West",null,6,"Mamit",null,8,"Phek",null,8,"Cuttack",null,null,null,null,8,"Faridkot",null,49,"Bhiwadi",null,null,null,null,41,"Cyber Cell",null,35,"Kamareddy ",null,8,"Unakoti",null,8,"Azamgarh",null,7,"Nainital",null,7,"Bidhannagar PC",null,45,"CHANDIGARH CITY"]
[6,"GOA",null,null,null,null,29,"Eluru",null,7,"Kurung Kumey",null,7,"Chirang",null,8,"Bhabhua",null,null,null,null,9,"Durg",null,null,null,null,null,null,null,8,"North",null,null,null,null,9,"Botad",null,8,"Hissar",null,9,"Kullu",null,38,"CICE Kashmir",null,9,"Giridih",null,8,"Chikkaballapura",null,7,"Kollam Commr.",null,null,null,null,9,"Bhopal commissionerate",null,8,"Bhandara",null,15,"Kamjong",null,8,"Khasi Hills East",null,7,"Saiha",null,9,"Tuensang",null,9,"DCP BBSR",null,null,null,null,9,"Fatehgarh Sahib",null,8,"Bikaner",null,null,null,null,6,"Dharmapuri",null,23,"Karimnagar Commissionerate",null,9,"West",null,9,"Badaun",null,8,"Pauri Garhwal",null,8,"Birbhum",null,46,"CHENNAI"]
[7,"GUJARAT",null,null,null,null,30,"Guntakal Railway",null,25,"Lepa Rada",null,5,"CID",null,9,"Bhagalpur",null,null,null,null,10,"Gariyaband",null,null,null,null,null,null,null,9,"North-East",null,null,null,null,10,"Chhotaudepur",null,24,"Irrigation & Power",null,10,"Lahaul & Spiti",null,31,"Cyber Crime Jammu",null,10,"Godda",null,10,"Chikkamagaluru",null,8,"Kollam Rural",null,null,null,null,10,"Bhopal Railway",null,9,"Buldhana",null,12,"Kangpokpi",null,13,"Khasi Hills Eastern West",null,13,"Saitual",null,10,"Wokha",null,10,"DCP CTC",null,null,null,null,10,"Fazilka",null,9,"Bundi",null,null,null,null,7,"Dindigul",null,24,"Khammam Commissionerate",null,null,null,null,10,"Baghpat",null,9,"Pithoragarh",null,37,"Bongaon Police District",null,47,"COIMBATORE"]
[8,"HARYANA",null,null,null,null,31,"Guntur",null,8,"Lohit",null,8,"Darrang",null,10,"Bhojpur",null,null,null,null,30,"Gaurela-Pendra-Marwahi",null,null,null,null,null,null,null,10,"North-West",null,null,null,null,11,"CID Crime",null,9,"Jhajjar",null,11,"Mandi",null,32,"Cyber Crime Kashmir",null,11,"Gumla",null,11,"Chitradurga",null,9,"Kottayam",null,null,null,null,57,"Bhopal Rural",null,10,"Chandrapur",null,16,"Noney",null,9,"Khasi Hills South West",null,8,"Serchhip",null,11,"Zunheboto",null,11,"Deogarh",null,null,null,null,11,"Ferozepur",null,10,"Chittorgarh",null,null,null,null,8,"Erode",null,36,"Komarmbheem Asifabad",null,null,null,null,11,"Bahraich",null,10,"Rudra Prayag",null,32,"Chandannagar PC",null,48,"DELHI CITY"]
[9,"HIMACHAL PRADESH",null,null,null,null,32,"Kakinada",null,9,"Longding",null,9,"Dhemaji",null,11,"Buxar",null,null,null,null,11,"GRP Raipur",null,null,null,null,null,null,null,11,"Outer",null,null,null,null,12,"Dahod",null,10,"Jind",null,12,"Shimla",null,8,"Doda",null,12,"Hazaribagh",null,12,"Dakshina Kannada",null,10,"Kozhikode Commr.",null,null,null,null,11,"Burhanpur",null,11,"Dhule",null,17,"Pherzawl",null,10,"Khasi Hills West",null,10,"Spl Narcotic",null,null,null,null,12,"Dhenkanal",null,null,null,null,12,"G.R.P",null,11,"Churu",null,null,null,null,44,"Kallakurichi",null,37,"Mahabubbad",null,null,null,null,12,"Ballia",null,11,"Tehri Garhwal",null,10,"Coochbehar",null,49,"DHANBAD"]
[33,"JAMMU & KASHMIR",null,null,null,null,33,"Krishna",null,10,"Lower Dibang Valley",null,10,"Dhubri",null,12,"Darbhanga",null,null,null,null,12,"Jagdalpur",null,null,null,null,null,null,null,23,"Outer North",null,null,null,null,13,"Dang",null,11,"Kaithal",null,13,"Sirmaur",null,35,"EOW Jammu",null,13,"Jamshedpur",null,13,"Davanagere",null,11,"Kozhikode Rural",null,null,null,null,12,"Chhatarpur",null,12,"Gadchiroli",null,7,"Senapati",null,11,"Ri-Bhoi",null,9,"Spl Traffic",null,null,null,null,13,"Gajapati",null,null,null,null,13,"Gurdaspur",null,12,"Dausa",null,null,null,null,9,"Kanchipuram",null,38,"Mahabubnagar",null,null,null,null,13,"Balrampur",null,12,"Udhamsingh Nagar",null,11,"Dakshin Dinajpur",null,50,"DURG-BHILAINAGAR"]
[10,"JHARKHAND",null,null,null,null,34,"Kurnool",null,22,"Lower Siang",null,11,"Dibrugarh",null,45,"Economic Offences Unit",null,null,null,null,13,"Janjgir",null,null,null,null,null,null,null,12,"RAILWAY",null,null,null,null,14,"Devbhumi Dwarka",null,12,"Karnal",null,14,"Solan",null,36,"EOW Kashmir",null,14,"Jamshedpur Railway",null,14,"Dharwad",null,12,"Malappuram",null,null,null,null,13,"Chhindwara",null,13,"Gondia",null,8,"Tamenglong",null,null,null,null,null,null,null,null,null,null,14,"Ganjam",null,null,null,null,14,"Hoshiarpur",null,13,"Dholpur",null,null,null,null,10,"Kanyakumari",null,39,"Medak",null,null,null,null,14,"Banda",null,13,"Uttarkashi",null,12,"Darjeeling",null,51,"FARIDABAD"]
[11,"KARNATAKA",null,null,null,null,35,"Nandyal",null,20,"Namsai",null,25,"Dima Hasao",null,13,"Gaya",null,null,null,null,14,"Jashpur",null,null,null,null,null,null,null,20,"Rohini",null,null,null,null,15,"Gandhinagar",null,13,"Kurukshetra",null,15,"Una",null,9,"Ganderbal",null,15,"Jamtara",null,15,"Gadag",null,13,"Palakkad",null,null,null,null,55,"Cyber Crime Cell",null,14,"Hingoli",null,14,"Tengnoupal",null,null,null,null,null,null,null,null,null,null,15,"Jagatsinghpur",null,null,null,null,15,"Jalandhar Rural",null,43,"DISCOM",null,null,null,null,11,"Karur",null,49,"Mulug",null,null,null,null,15,"Barabanki",null,null,null,null,33,"Diamond Harbour Police",null,52,"GHAZIABAD"]
[12,"KERALA",null,null,null,null,36,"NTR",null,26,"Pakke Kessang",null,13,"Goalpara",null,14,"Gopalganj",null,null,null,null,15,"Kabirdham",null,null,null,null,null,null,null,21,"Shahdara",null,null,null,null,16,"Gir Somnath",null,14,"Mahendergarh",null,null,null,null,10,"Handwara",null,16,"Khunti",null,17,"Hassan",null,14,"Pathanamthitta",null,null,null,null,14,"Damoh",null,15,"Jalgaon",null,9,"Thoubal",null,null,null,null,null,null,null,null,null,null,16,"Jajpur",null,null,null,null,16,"Kapurthala",null,14,"Dungarpur",null,null,null,null,12,"Krishnagiri",null,40,"Nagarkurnool",null,null,null,null,16,"Bareilly",null,null,null,null,13,"Hooghly Rural Police",null,53,"GWALIOR"]
[34,"LADAKH",null,null,null,null,37,"Palnadu",null,11,"Papum Pare City",null,14,"Golaghat",null,15,"Jamalpur Railway",null,null,null,null,16,"Kanker",null,null,null,null,null,null,null,13,"South",null,null,null,null,17,"Jamnagar",null,15,"Mewat",null,null,null,null,11,"Jammu",null,17,"Koderma",null,18,"Haveri",null,15,"Railways",null,null,null,null,15,"Datia",null,16,"Jalna",null,10,"Ukhrul",null,null,null,null,null,null,null,null,null,null,17,"Jharsuguda",null,null,null,null,17,"Khanna",null,15,"G.R.P.Ajmer",null,null,null,null,13,"Madurai",null,41,"Nalgonda",null,null,null,null,17,"Basti",null,null,null,null,14,"Howrah G. R. P.",null,54,"HYDERABAD"]
[35,"LAKSHADWEEP",null,null,null,null,38,"Parvathipuram Manyam",null,12,"Papum Pare Rural",null,12,"GRP",null,16,"Jamui",null,null,null,null,31,"Khairagarh - Chhuikhadan-Gandai",null,null,null,null,null,null,null,14,"South-East",null,null,null,null,18,"Junagadh",null,16,"Palwal",null,null,null,null,13,"Kathua",null,18,"Latehar",null,19,"Hubballi Dharwad City",null,16,"Thrissur Commr.",null,null,null,null,16,"Dewas",null,17,"Kolhapur",null,null,null,null,null,null,null,null,null,null,null,null,null,18,"Kalahandi",null,null,null,null,18,"Ludhiana Rural",null,16,"G.R.P.Jodhpur",null,null,null,null,14,"Madurai City",null,50,"Narayanpet",null,null,null,null,18,"Bijnor",null,null,null,null,15,"Howrah PC",null,55,"INDORE"]
[13,"MADHYA PRADESH",null,null,null,null,39,"Prakasam",null,24,"Shiyomi",null,15,"Guwahati City",null,17,"Jehanabad",null,null,null,null,17,"Kondagaon",null,null,null,null,null,null,null,15,"South-West",null,null,null,null,19,"Kachchh East(G)",null,17,"Panchkula",null,null,null,null,14,"Kishtwar",null,19,"Lohardagga",null,20,"K.G.F.",null,17,"Thrissur Rural",null,null,null,null,17,"Dhar",null,18,"Latur",null,null,null,null,null,null,null,null,null,null,null,null,null,19,"Kandhamal",null,null,null,null,29,"Malerkotla",null,17,"Ganganagar",null,null,null,null,48,"Mayiladuthurai",null,42,"Nirmal",null,null,null,null,19,"Bulandshahar",null,null,null,null,16,"Howrah Rural",null,56,"JABALPUR"]
[14,"MAHARASHTRA",null,null,null,null,40,"Sri Potti Sriramulu Nellore",null,21,"Siang",null,16,"Hailakandi",null,18,"Katihar",null,null,null,null,18,"Korba",null,null,null,null,null,null,null,16,"Spl Cell",null,null,null,null,20,"Kachchh West(B)",null,18,"Panipat",null,null,null,null,15,"Kulgam",null,20,"Pakur",null,29,"K.Railways",null,18,"Trivandrum Commr.",null,null,null,null,18,"Dindori",null,49,"Mira Bhayandar Vasai Virar",null,null,null,null,null,null,null,null,null,null,null,null,null,20,"Kendrapara",null,null,null,null,19,"Mansa",null,18,"Hanumangarh",null,null,null,null,15,"Nagapattinam",null,25,"Nizamabad Commissionerate",null,null,null,null,20,"Chandoli",null,null,null,null,39,"Islampore Police District",null,57,"JAIPUR"]
[15,"MANIPUR",null,null,null,null,41,"Sri Sathya Sai",null,13,"Siang East",null,17,"Hamren",null,19,"Katihar Railway",null,null,null,null,20,"Koriya",null,null,null,null,null,null,null,17,"SPUWAC",null,null,null,null,21,"Kheda",null,19,"Rewari",null,null,null,null,16,"Kupwara",null,21,"Palamu",null,16,"Kalaburgi",null,19,"Trivandrum Rural",null,null,null,null,19,"Guna",null,19,"Mumbai Commr.",null,null,null,null,null,null,null,null,null,null,null,null,null,21,"Keonjhar",null,null,null,null,20,"Moga",null,48,"Jaipur Crime",null,null,null,null,16,"Namakkal",null,26,"Rachakonda Commissionerate",null,null,null,null,21,"Chitrakoot",null,null,null,null,17,"Jalpaiguri",null,58,"JAMSHEDPUR"]
[16,"MEGHALAYA",null,null,null,null,42,"Srikakulam",null,14,"Siang Upper",null,38,"Hojai",null,20,"Khagaria",null,null,null,null,21,"Mahasamund",null,null,null,null,null,null,null,18,"Vigilance",null,null,null,null,22,"Mahisagar",null,20,"Rohtak",null,null,null,null,18,"Poonch",null,22,"Ramgarh",null,37,"Kalaburgi City",null,20,"Wayanadu",null,null,null,null,20,"Gwalior",null,20,"Mumbai Railway",null,null,null,null,null,null,null,null,null,null,null,null,null,22,"Khurda",null,null,null,null,21,"Muktsar",null,19,"Jaipur East",null,null,null,null,17,"Nilgiris",null,48,"Railway Police Secunderabad",null,null,null,null,22,"Deoria",null,null,null,null,46,"Jangipur Police District",null,59,"JODHPUR"]
[17,"MIZORAM",null,null,null,null,43,"Tirupati",null,15,"Siang West",null,18,"Jorhat",null,21,"Kishanganj",null,null,null,null,32,"Manendragarh-Chirmiri-Bharatpur",null,null,null,null,null,null,null,19,"West",null,null,null,null,23,"Mehsana",null,21,"Sirsa",null,null,null,null,19,"Pulwama",null,23,"Ranchi",null,21,"Kodagu",null,null,null,null,null,null,null,21,"Harda",null,21,"Nagpur Commr.",null,null,null,null,null,null,null,null,null,null,null,null,null,23,"Koraput",null,null,null,null,22,"Pathankot",null,44,"Jaipur Metro",null,null,null,null,42,"Other Units",null,43,"Rajanna Siricilla",null,null,null,null,23,"Etah",null,null,null,null,18,"Jhargram",null,60,"KANNUR"]
[18,"NAGALAND",null,null,null,null,44,"Viiayawada Railway",null,16,"Subansiri Lower",null,19,"Kamrup",null,22,"Lakhisarai",null,null,null,null,33,"Mohla-Manpur-Ambagarh Chouki",null,null,null,null,null,null,null,null,null,null,null,null,null,24,"Morbi",null,22,"Sonipat",null,null,null,null,20,"Railways Jammu",null,24,"Sahebganj",null,22,"Kolar",null,null,null,null,null,null,null,23,"Indore commissionerate",null,22,"Nagpur Railway",null,null,null,null,null,null,null,null,null,null,null,null,null,24,"Malkangiri",null,null,null,null,23,"Patiala",null,20,"Jaipur North",null,null,null,null,18,"Perambalur",null,27,"Ramagundam Commissionerate",null,null,null,null,24,"Etawah",null,null,null,null,34,"Kalimpong",null,61,"KANPUR"]
[19,"ODISHA",null,null,null,null,45,"Visakhapatnam",null,17,"Subansiri Upper",null,20,"Karbi Anglong",null,23,"Madhepura",null,null,null,null,22,"Mungali",null,null,null,null,null,null,null,null,null,null,null,null,null,25,"Narmada",null,23,"Yamunanagar",null,null,null,null,21,"Railways Kashmir",null,25,"Saraikela",null,23,"Koppal",null,null,null,null,null,null,null,24,"Indore Railway",null,23,"Nagpur Rural",null,null,null,null,null,null,null,null,null,null,null,null,null,25,"Mayurbhanj",null,null,null,null,24,"Ropar",null,21,"Jaipur Rural",null,null,null,null,19,"Pudukottai",null,44,"Sangareddy",null,null,null,null,25,"Faizabad",null,null,null,null,19,"Kharagpur G. R. P.",null,62,"KOCHI"]
[36,"PUDUCHERRY",null,null,null,null,46,"Vizianagaram",null,18,"Tawang",null,21,"Karimganj",null,24,"Madhubani",null,null,null,null,23,"Narayanpur",null,null,null,null,null,null,null,null,null,null,null,null,null,26,"Navsari",null,null,null,null,null,null,null,22,"Railways Katra",null,26,"Simdega",null,24,"Mandya",null,null,null,null,null,null,null,58,"Indore Rural",null,24,"Nanded",null,null,null,null,null,null,null,null,null,null,null,null,null,27,"Nabarangpur",null,null,null,null,25,"Sangrur",null,22,"Jaipur South",null,null,null,null,21,"Railway Chennai",null,28,"Siddipet Commissionerate",null,null,null,null,26,"Fatehgarh",null,null,null,null,20,"Kolkata",null,63,"KOLKATA"]
[20,"PUNJAB",null,null,null,null,47,"West Godavari",null,19,"Tirap",null,22,"Kokrajhar",null,25,"Motihari",null,null,null,null,24,"Raigarh",null,null,null,null,null,null,null,null,null,null,null,null,null,27,"Panchmahal",null,null,null,null,null,null,null,23,"Rajouri",null,null,null,null,25,"Mangaluru City",null,null,null,null,null,null,null,25,"Jabalpur",null,25,"Nandurbar",null,null,null,null,null,null,null,null,null,null,null,null,null,26,"Nayagarh",null,null,null,null,26,"SAS Nagar",null,23,"Jaipur West",null,null,null,null,22,"Railway Trichy",null,45,"Suryapet",null,null,null,null,27,"Fatehpur",null,null,null,null,45,"Krishna Nagar Police District",null,64,"KOLLAM"]
[21,"RAJASTHAN",null,null,null,null,48,"YSR",null,null,null,null,23,"Lakhimpur",null,26,"Munger",null,null,null,null,25,"Raipur",null,null,null,null,null,null,null,null,null,null,null,null,null,28,"Patan",null,null,null,null,null,null,null,24,"Ramban",null,null,null,null,26,"Mysuru City",null,null,null,null,null,null,null,26,"Jabalpur Railway",null,26,"Nasik Commr.",null,null,null,null,null,null,null,null,null,null,null,null,null,28,"Nuapada",null,null,null,null,27,"SBS Nagar",null,24,"Jaisalmer",null,null,null,null,20,"Ramnathapuram",null,46,"Vikarabad",null,null,null,null,28,"Firozabad",null,null,null,null,21,"Malda",null,65,"KOTA"]
[22,"SIKKIM",null,null,null,null,null,null,null,null,null,null,36,"Majuli",null,27,"Muzaffarpur",null,null,null,null,26,"Rajnandgaon",null,null,null,null,null,null,null,null,null,null,null,null,null,29,"Porbandar",null,null,null,null,null,null,null,25,"Reasi",null,null,null,null,27,"Mysuru District",null,null,null,null,null,null,null,27,"Jhabua",null,27,"Nasik Rural",null,null,null,null,null,null,null,null,null,null,null,null,null,29,"Puri",null,null,null,null,28,"Tarn Taran",null,25,"Jalore",null,null,null,null,45,"Ranipet",null,47,"Wanaparthy",null,null,null,null,29,"G.R.P.",null,null,null,null,22,"Murshidabad Police District",null,66,"KOZHIKODE"]
[23,"TAMIL NADU",null,null,null,null,null,null,null,null,null,null,24,"Morigaon",null,28,"Muzaffarpur Railway",null,null,null,null,34,"Sakti",null,null,null,null,null,null,null,null,null,null,null,null,null,30,"Rajkot City",null,null,null,null,null,null,null,26,"Samba",null,null,null,null,28,"Raichur",null,null,null,null,null,null,null,28,"Katni",null,28,"Navi Mumbai",null,null,null,null,null,null,null,null,null,null,null,null,null,30,"Rayagada",null,null,null,null,null,null,null,26,"Jhalawar",null,null,null,null,23,"Salem",null,29,"Warangal Commissionerate",null,null,null,null,30,"Gautambudh Nagar Commissionerate",null,null,null,null,24,"Paschim Medinipur",null,67,"LUCKNOW"]
[24,"TELANGANA",null,null,null,null,null,null,null,null,null,null,26,"Nagaon",null,29,"Nalanda",null,null,null,null,35,"Sarangarh-Bilaigarh",null,null,null,null,null,null,null,null,null,null,null,null,null,31,"Rajkot Rural",null,null,null,null,null,null,null,27,"Shopian",null,null,null,null,30,"Ramanagara",null,null,null,null,null,null,null,29,"Khandwa",null,29,"Osmanabad",null,null,null,null,null,null,null,null,null,null,null,null,null,31,"Rourkela",null,null,null,null,null,null,null,27,"Jhunjhunu",null,null,null,null,24,"Salem City",null,null,null,null,null,null,null,31,"Ghaziabad",null,null,null,null,25,"Purab Medinipur",null,68,"LUDHIANA"]
[25,"TRIPURA",null,null,null,null,null,null,null,null,null,null,27,"Nalbari",null,30,"Naugachia",null,null,null,null,27,"Sarguja",null,null,null,null,null,null,null,null,null,null,null,null,null,32,"Sabarkantha",null,null,null,null,null,null,null,28,"Sopore",null,null,null,null,31,"Shimoga",null,null,null,null,null,null,null,30,"Khargone",null,30,"Palghar",null,null,null,null,null,null,null,null,null,null,null,null,null,32,"Sambalpur",null,null,null,null,null,null,null,28,"Jodhpur (East)",null,null,null,null,25,"Sivagangai",null,null,null,null,null,null,null,32,"Ghazipur",null,null,null,null,35,"Purba Bardhaman",null,69,"MADURAI"]
[26,"UTTAR PRADESH",null,null,null,null,null,null,null,null,null,null,28,"RPO",null,31,"Nawadah",null,null,null,null,28,"Sukma",null,null,null,null,null,null,null,null,null,null,null,null,null,33,"Surat City",null,null,null,null,null,null,null,6,"Special Crime Wing Jammu",null,null,null,null,32,"Tumakuru",null,null,null,null,null,null,null,31,"Mandla",null,31,"Parbhani",null,null,null,null,null,null,null,null,null,null,null,null,null,33,"Sonepur",null,null,null,null,null,null,null,29,"Jodhpur (West)",null,null,null,null,50,"Tambaram",null,null,null,null,null,null,null,33,"Gonda",null,null,null,null,26,"Purulia",null,70,"MALAPPURAM"]
[27,"UTTARAKHAND",null,null,null,null,null,null,null,null,null,null,35,"Sadia",null,32,"Patna",null,null,null,null,29,"Surajpur",null,null,null,null,null,null,null,null,null,null,null,null,null,34,"Surat Rural",null,null,null,null,null,null,null,7,"Special Crime Wing Kashmir",null,null,null,null,33,"Udupi",null,null,null,null,null,null,null,32,"Mandsaur",null,47,"Pimpri Chinchwad City",null,null,null,null,null,null,null,null,null,null,null,null,null,34,"SRP(Cuttack)",null,null,null,null,null,null,null,30,"Jodhpur Rural",null,null,null,null,47,"Tenkasi",null,null,null,null,null,null,null,34,"Gorakhpur",null,null,null,null,44,"Raiganj Police District",null,71,"MEERUT"]
[28,"WEST BENGAL",null,null,null,null,null,null,null,null,null,null,31,"Sibsagar",null,33,"Patna Railway",null,null,null,null,null,null,null,null,null,null,null,null,null,null,null,null,null,null,null,35,"Surendranagar",null,null,null,null,null,null,null,29,"Srinagar",null,null,null,null,34,"Uttara Kannada",null,null,null,null,null,null,null,33,"Morena",null,32,"Pune Commr.",null,null,null,null,null,null,null,null,null,null,null,null,null,35,"SRP(Rourkela)",null,null,null,null,null,null,null,31,"Karauli",null,null,null,null,26,"Thanjavur",null,null,null,null,null,null,null,35,"Hamirpur",null,null,null,null,40,"Ranaghat Police District",null,72,"MUMBAI"]
[null,null,null,null,null,null,null,null,null,null,null,null,32,"Sonitpur",null,34,"Purnea",null,null,null,null,null,null,null,null,null,null,null,null,null,null,null,null,null,null,null,36,"Tapi",null,null,null,null,null,null,null,30,"Udhampur",null,null,null,null,38,"Vijayanagara",null,null,null,null,null,null,null,22,"Narmadapuram",null,33,"Pune Railway",null,null,null,null,null,null,null,null,null,null,null,null,null,36,"Sundargarh",null,null,null,null,null,null,null,32,"Kota City",null,null,null,null,27,"Theni",null,null,null,null,null,null,null,36,"Hapur",null,null,null,null,27,"Sealdah G. R. P.",null,73,"NAGPUR"]
[null,null,null,null,null,null,null,null,null,null,null,null,29,"SOU",null,35,"Rohtas",null,null,null,null,null,null,null,null,null,null,null,null,null,null,null,null,null,null,null,37,"Vadodara City",null,null,null,null,null,null,null,null,null,null,null,null,null,7,"Vijayapura",null,null,null,null,null,null,null,34,"Narsinghpur",null,34,"Pune Rural",null,null,null,null,null,null,null,null,null,null,null,null,null,null,null,null,null,null,null,null,null,null,33,"Kota Rural",null,null,null,null,28,"Thirunelveli",null,null,null,null,null,null,null,37,"Hardoi",null,null,null,null,28,"Siliguri G. R. P.",null,74,"NASIK"]
[null,null,null,null,null,null,null,null,null,null,null,null,39,"South Salmara",null,36,"Saharsa",null,null,null,null,null,null,null,null,null,null,null,null,null,null,null,null,null,null,null,38,"Vadodara Rural",null,null,null,null,null,null,null,null,null,null,null,null,null,35,"Yadgiri",null,null,null,null,null,null,null,35,"Neemuch",null,35,"Raigad",null,null,null,null,null,null,null,null,null,null,null,null,null,null,null,null,null,null,null,null,null,null,34,"Nagaur",null,null,null,null,29,"Thirunelveli City",null,null,null,null,null,null,null,38,"Hathras",null,null,null,null,29,"Siliguri PC",null,75,"PATNA"]
[null,null,null,null,null,null,null,null,null,null,null,null,30,"STF",null,37,"Samastipur",null,null,null,null,null,null,null,null,null,null,null,null,null,null,null,null,null,null,null,39,"Valsad",null,null,null,null,null,null,null,null,null,null,null,null,null,null,null,null,null,null,null,null,null,null,56,"Niwari",null,36,"Ratnagiri",null,null,null,null,null,null,null,null,null,null,null,null,null,null,null,null,null,null,null,null,null,null,35,"Pali",null,null,null,null,30,"Thiruvallur",null,null,null,null,null,null,null,39,"Jalaun",null,null,null,null,36,"Sundarban Police District",null,76,"PUNE"]
[null,null,null,null,null,null,null,null,null,null,null,null,42,"Tamulpur",null,38,"Saran",null,null,null,null,null,null,null,null,null,null,null,null,null,null,null,null,null,null,null,40,"W.Rly Ahmedabad",null,null,null,null,null,null,null,null,null,null,null,null,null,null,null,null,null,null,null,null,null,null,36,"Panna",null,37,"Sangli",null,null,null,null,null,null,null,null,null,null,null,null,null,null,null,null,null,null,null,null,null,null,36,"Pratapgarh",null,null,null,null,31,"Thiruvannamalai",null,null,null,null,null,null,null,40,"Jaunpur",null,null,null,null,null,null,null,77,"RAIPUR"]
[null,null,null,null,null,null,null,null,null,null,null,null,33,"Tinsukia",null,39,"Sheikhpura",null,null,null,null,null,null,null,null,null,null,null,null,null,null,null,null,null,null,null,41,"W.Rly Vadodara",null,null,null,null,null,null,null,null,null,null,null,null,null,null,null,null,null,null,null,null,null,null,37,"Raisen",null,38,"Satara",null,null,null,null,null,null,null,null,null,null,null,null,null,null,null,null,null,null,null,null,null,null,37,"Rajsamand",null,null,null,null,32,"Thiruvarur",null,null,null,null,null,null,null,41,"Jhansi",null,null,null,null,null,null,null,78,"RAJKOT"]
[null,null,null,null,null,null,null,null,null,null,null,null,34,"Udalguri",null,40,"Sheohar",null,null,null,null,null,null,null,null,null,null,null,null,null,null,null,null,null,null,null,null,null,null,null,null,null,null,null,null,null,null,null,null,null,null,null,null,null,null,null,null,null,null,null,38,"Rajgarh",null,39,"Sindhudurg",null,null,null,null,null,null,null,null,null,null,null,null,null,null,null,null,null,null,null,null,null,null,38,"Sawai Madhopur",null,null,null,null,33,"Thoothukudi",null,null,null,null,null,null,null,42,"Kannauj",null,null,null,null,null,null,null,79,"RANCHI"]
[null,null,null,null,null,null,null,null,null,null,null,null,null,null,null,41,"Sitamarhi",null,null,null,null,null,null,null,null,null,null,null,null,null,null,null,null,null,null,null,null,null,null,null,null,null,null,null,null,null,null,null,null,null,null,null,null,null,null,null,null,null,null,null,39,"Ratlam",null,40,"Solapur Commr.",null,null,null,null,null,null,null,null,null,null,null,null,null,null,null,null,null,null,null,null,null,null,45,"SCRB",null,null,null,null,46,"Tiruppattur",null,null,null,null,null,null,null,44,"Kanpur Commissionerate",null,null,null,null,null,null,null,80,"SRINAGAR"]
[null,null,null,null,null,null,null,null,null,null,null,null,null,null,null,42,"Siwan",null,null,null,null,null,null,null,null,null,null,null,null,null,null,null,null,null,null,null,null,null,null,null,null,null,null,null,null,null,null,null,null,null,null,null,null,null,null,null,null,null,null,null,40,"Rewa",null,41,"Solapur Rural",null,null,null,null,null,null,null,null,null,null,null,null,null,null,null,null,null,null,null,null,null,null,39,"Sikar",null,null,null,null,34,"Tiruppur",null,null,null,null,null,null,null,43,"Kanpur Dehat",null,null,null,null,null,null,null,81,"SURAT"]
[null,null,null,null,null,null,null,null,null,null,null,null,null,null,null,48,"Special Unit Vigilence",null,null,null,null,null,null,null,null,null,null,null,null,null,null,null,null,null,null,null,null,null,null,null,null,null,null,null,null,null,null,null,null,null,null,null,null,null,null,null,null,null,null,null,41,"Sagar",null,42,"Thane Commr.",null,null,null,null,null,null,null,null,null,null,null,null,null,null,null,null,null,null,null,null,null,null,40,"Sirohi",null,null,null,null,35,"Tiruppur City",null,null,null,null,null,null,null,78,"Kanpur Outer",null,null,null,null,null,null,null,82,"THIRUVANANTHAPURAM"]
[null,null,null,null,null,null,null,null,null,null,null,null,null,null,null,47,"State Vigilence",null,null,null,null,null,null,null,null,null,null,null,null,null,null,null,null,null,null,null,null,null,null,null,null,null,null,null,null,null,null,null,null,null,null,null,null,null,null,null,null,null,null,null,42,"Satna",null,43,"Thane Rural",null,null,null,null,null,null,null,null,null,null,null,null,null,null,null,null,null,null,null,null,null,null,46,"SOG",null,null,null,null,36,"Trichy",null,null,null,null,null,null,null,45,"Kasganj",null,null,null,null,null,null,null,83,"THRISSUR"]
[null,null,null,null,null,null,null,null,null,null,null,null,null,null,null,43,"Supaul",null,null,null,null,null,null,null,null,null,null,null,null,null,null,null,null,null,null,null,null,null,null,null,null,null,null,null,null,null,null,null,null,null,null,null,null,null,null,null,null,null,null,null,49,"Sehore",null,44,"Wardha",null,null,null,null,null,null,null,null,null,null,null,null,null,null,null,null,null,null,null,null,null,null,47,"SSB",null,null,null,null,37,"Trichy City",null,null,null,null,null,null,null,46,"Kaushambi",null,null,null,null,null,null,null,84,"TIRUCHIRAPALLI"]
[null,null,null,null,null,null,null,null,null,null,null,null,null,null,null,44,"Vaishali",null,null,null,null,null,null,null,null,null,null,null,null,null,null,null,null,null,null,null,null,null,null,null,null,null,null,null,null,null,null,null,null,null,null,null,null,null,null,null,null,null,null,null,43,"Seoni",null,45,"Washim",null,null,null,null,null,null,null,null,null,null,null,null,null,null,null,null,null,null,null,null,null,null,41,"Tonk",null,null,null,null,38,"Vellore",null,null,null,null,null,null,null,47,"Khiri",null,null,null,null,null,null,null,85,"VADODARA"]
[null,null,null,null,null,null,null,null,null,null,null,null,null,null,null,null,null,null,null,null,null,null,null,null,null,null,null,null,null,null,null,null,null,null,null,null,null,null,null,null,null,null,null,null,null,null,null,null,null,null,null,null,null,null,null,null,null,null,null,null,44,"Shahdol",null,46,"Yavatmal",null,null,null,null,null,null,null,null,null,null,null,null,null,null,null,null,null,null,null,null,null,null,42,"Udaipur",null,null,null,null,39,"Villupuram",null,null,null,null,null,null,null,48,"Kushi Nagar",null,null,null,null,null,null,null,86,"VARANASI"]
[null,null,null,null,null,null,null,null,null,null,null,null,null,null,null,null,null,null,null,null,null,null,null,null,null,null,null,null,null,null,null,null,null,null,null,null,null,null,null,null,null,null,null,null,null,null,null,null,null,null,null,null,null,null,null,null,null,null,null,null,45,"Shajapur",null,null,null,null,null,null,null,null,null,null,null,null,null,null,null,null,null,null,null,null,null,null,null,null,null,null,null,null,null,null,null,40,"Virudhunagar",null,null,null,null,null,null,null,49,"Lalitpur",null,null,null,null,null,null,null,87,"VASAI VIRAR"]
[null,null,null,null,null,null,null,null,null,null,null,null,null,null,null,null,null,null,null,null,null,null,null,null,null,null,null,null,null,null,null,null,null,null,null,null,null,null,null,null,null,null,null,null,null,null,null,null,null,null,null,null,null,null,null,null,null,null,null,null,46,"Sheopur",null,null,null,null,null,null,null,null,null,null,null,null,null,null,null,null,null,null,null,null,null,null,null,null,null,null,null,null,null,null,null,null,null,null,null,null,null,null,null,null,50,"Lucknow Commissionerate",null,null,null,null,null,null,null,88,"VIJAYAWADA"]
[null,null,null,null,null,null,null,null,null,null,null,null,null,null,null,null,null,null,null,null,null,null,null,null,null,null,null,null,null,null,null,null,null,null,null,null,null,null,null,null,null,null,null,null,null,null,null,null,null,null,null,null,null,null,null,null,null,null,null,null,47,"Shivpuri",null,null,null,null,null,null,null,null,null,null,null,null,null,null,null,null,null,null,null,null,null,null,null,null,null,null,null,null,null,null,null,null,null,null,null,null,null,null,null,null,77,"Lucknow Grameen",null,null,null,null,null,null,null,89,"VISHAKHAPATNAM"]
[null,null,null,null,null,null,null,null,null,null,null,null,null,null,null,null,null,null,null,null,null,null,null,null,null,null,null,null,null,null,null,null,null,null,null,null,null,null,null,null,null,null,null,null,null,null,null,null,null,null,null,null,null,null,null,null,null,null,null,null,48,"Sidhi",null,null,null,null,null,null,null,null,null,null,null,null,null,null,null,null,null,null,null,null,null,null,null,null,null,null,null,null,null,null,null,null,null,null,null,null,null,null,null,null,51,"Maharajganj"]
[null,null,null,null,null,null,null,null,null,null,null,null,null,null,null,null,null,null,null,null,null,null,null,null,null,null,null,null,null,null,null,null,null,null,null,null,null,null,null,null,null,null,null,null,null,null,null,null,null,null,null,null,null,null,null,null,null,null,null,null,50,"Singrauli",null,null,null,null,null,null,null,null,null,null,null,null,null,null,null,null,null,null,null,null,null,null,null,null,null,null,null,null,null,null,null,null,null,null,null,null,null,null,null,null,52,"Mahoba"]
[null,null,null,null,null,null,null,null,null,null,null,null,null,null,null,null,null,null,null,null,null,null,null,null,null,null,null,null,null,null,null,null,null,null,null,null,null,null,null,null,null,null,null,null,null,null,null,null,null,null,null,null,null,null,null,null,null,null,null,null,51,"Tikamgarh",null,null,null,null,null,null,null,null,null,null,null,null,null,null,null,null,null,null,null,null,null,null,null,null,null,null,null,null,null,null,null,null,null,null,null,null,null,null,null,null,53,"Mainpuri"]
[null,null,null,null,null,null,null,null,null,null,null,null,null,null,null,null,null,null,null,null,null,null,null,null,null,null,null,null,null,null,null,null,null,null,null,null,null,null,null,null,null,null,null,null,null,null,null,null,null,null,null,null,null,null,null,null,null,null,null,null,52,"Ujjain",null,null,null,null,null,null,null,null,null,null,null,null,null,null,null,null,null,null,null,null,null,null,null,null,null,null,null,null,null,null,null,null,null,null,null,null,null,null,null,null,54,"Mathura"]
[null,null,null,null,null,null,null,null,null,null,null,null,null,null,null,null,null,null,null,null,null,null,null,null,null,null,null,null,null,null,null,null,null,null,null,null,null,null,null,null,null,null,null,null,null,null,null,null,null,null,null,null,null,null,null,null,null,null,null,null,53,"Umaria",null,null,null,null,null,null,null,null,null,null,null,null,null,null,null,null,null,null,null,null,null,null,null,null,null,null,null,null,null,null,null,null,null,null,null,null,null,null,null,null,55,"Mau"]
[null,null,null,null,null,null,null,null,null,null,null,null,null,null,null,null,null,null,null,null,null,null,null,null,null,null,null,null,null,null,null,null,null,null,null,null,null,null,null,null,null,null,null,null,null,null,null,null,null,null,null,null,null,null,null,null,null,null,null,null,54,"Vidisha",null,null,null,null,null,null,null,null,null,null,null,null,null,null,null,null,null,null,null,null,null,null,null,null,null,null,null,null,null,null,null,null,null,null,null,null,null,null,null,null,56,"Meerut"]
[null,null,null,null,null,null,null,null,null,null,null,null,null,null,null,null,null,null,null,null,null,null,null,null,null,null,null,null,null,null,null,null,null,null,null,null,null,null,null,null,null,null,null,null,null,null,null,null,null,null,null,null,null,null,null,null,null,null,null,null,null,null,null,null,null,null,null,null,null,null,null,null,null,null,null,null,null,null,null,null,null,null,null,null,null,null,null,null,null,null,null,null,null,null,null,null,null,null,null,null,null,null,57,"Mirzapur"]
[null,null,null,null,null,null,null,null,null,null,null,null,null,null,null,null,null,null,null,null,null,null,null,null,null,null,null,null,null,null,null,null,null,null,null,null,null,null,null,null,null,null,null,null,null,null,null,null,null,null,null,null,null,null,null,null,null,null,null,null,null,null,null,null,null,null,null,null,null,null,null,null,null,null,null,null,null,null,null,null,null,null,null,null,null,null,null,null,null,null,null,null,null,null,null,null,null,null,null,null,null,null,58,"Moradabad"]
[null,null,null,null,null,null,null,null,null,null,null,null,null,null,null,null,null,null,null,null,null,null,null,null,null,null,null,null,null,null,null,null,null,null,null,null,null,null,null,null,null,null,null,null,null,null,null,null,null,null,null,null,null,null,null,null,null,null,null,null,null,null,null,null,null,null,null,null,null,null,null,null,null,null,null,null,null,null,null,null,null,null,null,null,null,null,null,null,null,null,null,null,null,null,null,null,null,null,null,null,null,null,59,"Muzaffarnagar"]
[null,null,null,null,null,null,null,null,null,null,null,null,null,null,null,null,null,null,null,null,null,null,null,null,null,null,null,null,null,null,null,null,null,null,null,null,null,null,null,null,null,null,null,null,null,null,null,null,null,null,null,null,null,null,null,null,null,null,null,null,null,null,null,null,null,null,null,null,null,null,null,null,null,null,null,null,null,null,null,null,null,null,null,null,null,null,null,null,null,null,null,null,null,null,null,null,null,null,null,null,null,null,60,"Pilibhit"]
[null,null,null,null,null,null,null,null,null,null,null,null,null,null,null,null,null,null,null,null,null,null,null,null,null,null,null,null,null,null,null,null,null,null,null,null,null,null,null,null,null,null,null,null,null,null,null,null,null,null,null,null,null,null,null,null,null,null,null,null,null,null,null,null,null,null,null,null,null,null,null,null,null,null,null,null,null,null,null,null,null,null,null,null,null,null,null,null,null,null,null,null,null,null,null,null,null,null,null,null,null,null,61,"Pratapgarh"]
[null,null,null,null,null,null,null,null,null,null,null,null,null,null,null,null,null,null,null,null,null,null,null,null,null,null,null,null,null,null,null,null,null,null,null,null,null,null,null,null,null,null,null,null,null,null,null,null,null,null,null,null,null,null,null,null,null,null,null,null,null,null,null,null,null,null,null,null,null,null,null,null,null,null,null,null,null,null,null,null,null,null,null,null,null,null,null,null,null,null,null,null,null,null,null,null,null,null,null,null,null,null,62,"Raibareilly"]
[null,null,null,null,null,null,null,null,null,null,null,null,null,null,null,null,null,null,null,null,null,null,null,null,null,null,null,null,null,null,null,null,null,null,null,null,null,null,null,null,null,null,null,null,null,null,null,null,null,null,null,null,null,null,null,null,null,null,null,null,null,null,null,null,null,null,null,null,null,null,null,null,null,null,null,null,null,null,null,null,null,null,null,null,null,null,null,null,null,null,null,null,null,null,null,null,null,null,null,null,null,null,63,"Rampur"]
[null,null,null,null,null,null,null,null,null,null,null,null,null,null,null,null,null,null,null,null,null,null,null,null,null,null,null,null,null,null,null,null,null,null,null,null,null,null,null,null,null,null,null,null,null,null,null,null,null,null,null,null,null,null,null,null,null,null,null,null,null,null,null,null,null,null,null,null,null,null,null,null,null,null,null,null,null,null,null,null,null,null,null,null,null,null,null,null,null,null,null,null,null,null,null,null,null,null,null,null,null,null,64,"Saharanpur"]
[null,null,null,null,null,null,null,null,null,null,null,null,null,null,null,null,null,null,null,null,null,null,null,null,null,null,null,null,null,null,null,null,null,null,null,null,null,null,null,null,null,null,null,null,null,null,null,null,null,null,null,null,null,null,null,null,null,null,null,null,null,null,null,null,null,null,null,null,null,null,null,null,null,null,null,null,null,null,null,null,null,null,null,null,null,null,null,null,null,null,null,null,null,null,null,null,null,null,null,null,null,null,65,"Sambhal"]
[null,null,null,null,null,null,null,null,null,null,null,null,null,null,null,null,null,null,null,null,null,null,null,null,null,null,null,null,null,null,null,null,null,null,null,null,null,null,null,null,null,null,null,null,null,null,null,null,null,null,null,null,null,null,null,null,null,null,null,null,null,null,null,null,null,null,null,null,null,null,null,null,null,null,null,null,null,null,null,null,null,null,null,null,null,null,null,null,null,null,null,null,null,null,null,null,null,null,null,null,null,null,66,"Sant Kabirnagar"]
[null,null,null,null,null,null,null,null,null,null,null,null,null,null,null,null,null,null,null,null,null,null,null,null,null,null,null,null,null,null,null,null,null,null,null,null,null,null,null,null,null,null,null,null,null,null,null,null,null,null,null,null,null,null,null,null,null,null,null,null,null,null,null,null,null,null,null,null,null,null,null,null,null,null,null,null,null,null,null,null,null,null,null,null,null,null,null,null,null,null,null,null,null,null,null,null,null,null,null,null,null,null,67,"Shahjahanpur"]
[null,null,null,null,null,null,null,null,null,null,null,null,null,null,null,null,null,null,null,null,null,null,null,null,null,null,null,null,null,null,null,null,null,null,null,null,null,null,null,null,null,null,null,null,null,null,null,null,null,null,null,null,null,null,null,null,null,null,null,null,null,null,null,null,null,null,null,null,null,null,null,null,null,null,null,null,null,null,null,null,null,null,null,null,null,null,null,null,null,null,null,null,null,null,null,null,null,null,null,null,null,null,68,"Shamli"]
[null,null,null,null,null,null,null,null,null,null,null,null,null,null,null,null,null,null,null,null,null,null,null,null,null,null,null,null,null,null,null,null,null,null,null,null,null,null,null,null,null,null,null,null,null,null,null,null,null,null,null,null,null,null,null,null,null,null,null,null,null,null,null,null,null,null,null,null,null,null,null,null,null,null,null,null,null,null,null,null,null,null,null,null,null,null,null,null,null,null,null,null,null,null,null,null,null,null,null,null,null,null,69,"Shrawasti"]
[null,null,null,null,null,null,null,null,null,null,null,null,null,null,null,null,null,null,null,null,null,null,null,null,null,null,null,null,null,null,null,null,null,null,null,null,null,null,null,null,null,null,null,null,null,null,null,null,null,null,null,null,null,null,null,null,null,null,null,null,null,null,null,null,null,null,null,null,null,null,null,null,null,null,null,null,null,null,null,null,null,null,null,null,null,null,null,null,null,null,null,null,null,null,null,null,null,null,null,null,null,null,70,"Sidharthnagar"]
[null,null,null,null,null,null,null,null,null,null,null,null,null,null,null,null,null,null,null,null,null,null,null,null,null,null,null,null,null,null,null,null,null,null,null,null,null,null,null,null,null,null,null,null,null,null,null,null,null,null,null,null,null,null,null,null,null,null,null,null,null,null,null,null,null,null,null,null,null,null,null,null,null,null,null,null,null,null,null,null,null,null,null,null,null,null,null,null,null,null,null,null,null,null,null,null,null,null,null,null,null,null,71,"Sitapur"]
[null,null,null,null,null,null,null,null,null,null,null,null,null,null,null,null,null,null,null,null,null,null,null,null,null,null,null,null,null,null,null,null,null,null,null,null,null,null,null,null,null,null,null,null,null,null,null,null,null,null,null,null,null,null,null,null,null,null,null,null,null,null,null,null,null,null,null,null,null,null,null,null,null,null,null,null,null,null,null,null,null,null,null,null,null,null,null,null,null,null,null,null,null,null,null,null,null,null,null,null,null,null,72,"Sonbhadra"]
[null,null,null,null,null,null,null,null,null,null,null,null,null,null,null,null,null,null,null,null,null,null,null,null,null,null,null,null,null,null,null,null,null,null,null,null,null,null,null,null,null,null,null,null,null,null,null,null,null,null,null,null,null,null,null,null,null,null,null,null,null,null,null,null,null,null,null,null,null,null,null,null,null,null,null,null,null,null,null,null,null,null,null,null,null,null,null,null,null,null,null,null,null,null,null,null,null,null,null,null,null,null,73,"St.Ravidasnagar"]
[null,null,null,null,null,null,null,null,null,null,null,null,null,null,null,null,null,null,null,null,null,null,null,null,null,null,null,null,null,null,null,null,null,null,null,null,null,null,null,null,null,null,null,null,null,null,null,null,null,null,null,null,null,null,null,null,null,null,null,null,null,null,null,null,null,null,null,null,null,null,null,null,null,null,null,null,null,null,null,null,null,null,null,null,null,null,null,null,null,null,null,null,null,null,null,null,null,null,null,null,null,null,74,"Sultanpur"]
[null,null,null,null,null,null,null,null,null,null,null,null,null,null,null,null,null,null,null,null,null,null,null,null,null,null,null,null,null,null,null,null,null,null,null,null,null,null,null,null,null,null,null,null,null,null,null,null,null,null,null,null,null,null,null,null,null,null,null,null,null,null,null,null,null,null,null,null,null,null,null,null,null,null,null,null,null,null,null,null,null,null,null,null,null,null,null,null,null,null,null,null,null,null,null,null,null,null,null,null,null,null,75,"Unnao"]
[null,null,null,null,null,null,null,null,null,null,null,null,null,null,null,null,null,null,null,null,null,null,null,null,null,null,null,null,null,null,null,null,null,null,null,null,null,null,null,null,null,null,null,null,null,null,null,null,null,null,null,null,null,null,null,null,null,null,null,null,null,null,null,null,null,null,null,null,null,null,null,null,null,null,null,null,null,null,null,null,null,null,null,null,null,null,null,null,null,null,null,null,null,null,null,null,null,null,null,null,null,null,76,"Varanasi Commissionerate"]
[null,null,null,null,null,null,null,null,null,null,null,null,null,null,null,null,null,null,null,null,null,null,null,null,null,null,null,null,null,null,null,null,null,null,null,null,null,null,null,null,null,null,null,null,null,null,null,null,null,null,null,null,null,null,null,null,null,null,null,null,null,null,null,null,null,null,null,null,null,null,null,null,null,null,null,null,null,null,null,null,null,null,null,null,null,null,null,null,null,null,null,null,null,null,null,null,null,null,null,null,null,null,79,"Varanasi Dehat"]

{"sheet":"P-I","index":2,"n_rows":516,"n_cols":76,"rows_kept":516,"cut":false,"hidden":false,"merged":[[202,75,204,75],[203,54,203,60],[203,61,203,67],[203,68,203,74],[3,0,5,0],[3,1,5,1],[3,2,5,2],[3,24,5,24],[3,3,3,23],[4,10,4,16],[4,17,4,23],[4,3,4,9],[222,52,222,53],[23,0,23,2],[202,52,204,52],[202,53,204,53],[202,54,202,74]]}
[{"$f":"ADSI!$B$1","v":"Goa, , ADSI-2022"}]
[{"$f":"IF(ADSI!$L$10=1,LangMaster!A23,LangMaster!B23)","v":"Proforma-I"},null,null,null,"Abnormal Variations",{"$f":"COUNTIF(D24:Y24,\"ABVAR\")","v":5}]
[{"$f":"IF(ADSI!$L$10=1,LangMaster!A24,LangMaster!B24)","v":"Accidental Deaths due to Natural Calamities"}]
[{"$f":"IF(ADSI!$L$10=1,LangMaster!A26,LangMaster!B26)","v":"Code"},{"$f":"IF(ADSI!$L$10=1,LangMaster!A27,LangMaster!B27)","v":"S.No."},{"$f":"IF(ADSI!$L$10=1,LangMaster!A28,LangMaster!B28)","v":"Factors"},{"$f":"IF(ADSI!$L$10=1,LangMaster!A29,LangMaster!B29)","v":"Number of Accidental Deaths"},null,null,null,null,null,null,null,null,null,null,null,null,null,null,null,null,null,null,null,null,{"$f":"IF(ADSI!$L$10=1,LangMaster!A473,LangMaster!B473)","v":"Grand Total (9) + (16)+(23)"}]
[null,null,null,{"$f":"IF(ADSI!$L$10=1,LangMaster!A30,LangMaster!B30)","v":"Male"},null,null,null,null,null,null,{"$f":"IF(ADSI!$L$10=1,LangMaster!A31,LangMaster!B31)","v":"Female"},null,null,null,null,null,null,{"$f":"IF(ADSI!$L$10=1,LangMaster!A32,LangMaster!B32)","v":"Transgender"}]
[null,null,null,{"$f":"IF(ADSI!$L$10=1,LangMaster!A461,LangMaster!B461)","v":"below 14 years"},{"$f":"IF(ADSI!$L$10=1,LangMaster!A462,LangMaster!B462)","v":"14 and above – below 18 years"},{"$f":"IF(ADSI!$L$10=1,LangMaster!A463,LangMaster!B463)","v":"18 and above – below 30 years"},{"$f":"IF(ADSI!$L$10=1,LangMaster!A464,LangMaster!B464)","v":"30 and above – below 45 years"},{"$f":"IF(ADSI!$L$10=1,LangMaster!A465,LangMaster!B465)","v":"45 and above – below 60 years"},{"$f":"IF(ADSI!$L$10=1,LangMaster!A466,LangMaster!B466)","v":"60 years & above"},{"$f":"IF(ADSI!$L$10=1,LangMaster!A470,LangMaster!B470)","v":" Total [sum of (3) to (8)]"},{"$f":"IF(ADSI!$L$10=1,LangMaster!A461,LangMaster!B461)","v":"below 14 years"},{"$f":"IF(ADSI!$L$10=1,LangMaster!A462,LangMaster!B462)","v":"14 and above – below 18 years"},{"$f":"IF(ADSI!$L$10=1,LangMaster!A463,LangMaster!B463)","v":"18 and above – below 30 years"},{"$f":"IF(ADSI!$L$10=1,LangMaster!A464,LangMaster!B464)","v":"30 and above – below 45 years"},{"$f":"IF(ADSI!$L$10=1,LangMaster!A465,LangMaster!B465)","v":"45 and above – below 60 years"},{"$f":"IF(ADSI!$L$10=1,LangMaster!A466,LangMaster!B466)","v":"60 years & above"},{"$f":"IF(ADSI!$L$10=1,LangMaster!A471,LangMaster!B471)","v":"Total    [sum of (10) to (15)]"},{"$f":"IF(ADSI!$L$10=1,LangMaster!A461,LangMaster!B461)","v":"below 14 years"},{"$f":"IF(ADSI!$L$10=1,LangMaster!A462,LangMaster!B462)","v":"14 and above – below 18 years"},{"$f":"IF(ADSI!$L$10=1,LangMaster!A463,LangMaster!B463)","v":"18 and above – below 30 years"},{"$f":"IF(ADSI!$L$10=1,LangMaster!A464,LangMaster!B464)","v":"30 and above – below 45 years"},{"$f":"IF(ADSI!$L$10=1,LangMaster!A465,LangMaster!B465)","v":"45 and above – below 60 years"},{"$f":"IF(ADSI!$L$10=1,LangMaster!A466,LangMaster!B466)","v":"60 years & above"},{"$f":"IF(ADSI!$L$10=1,LangMaster!A472,LangMaster!B472)","v":"Total [sum of (17) to (22)]"}]
[null,"(1)","(2)","(3)","(4)","(5)","(6)","(7)","(8)","(9)","(10)","(11)","(12)","(13)","(14)","(15)","(16)","(17)","(18)","(19)","(20)","(21)","(22)","(23)","(24)"]
[1,1,{"$f":"IF(ADSI!$L$10=1,LangMaster!A42,LangMaster!B42)","v":"Avalanche"},0,0,0,0,0,0,{"$f":"SUM(D8:I8)","v":0},0,0,0,0,0,0,{"$f":"SUM(K8:P8)","v":0},0,0,0,0,0,0,{"$f":"SUM(R8:W8)","v":0},{"$f":"J8+Q8+X8","v":0}]
[2,2,{"$f":"IF(ADSI!$L$10=1,LangMaster!A43,LangMaster!B43)","v":"Exposure to cold"},0,0,0,0,0,0,{"$f":"SUM(D9:I9)","v":0},0,0,0,0,0,0,{"$f":"SUM(K9:P9)","v":0},0,0,0,0,0,0,{"$f":"SUM(R9:W9)","v":0},{"$f":"J9+Q9+X9","v":0}]
[3,3,{"$f":"IF(ADSI!$L$10=1,LangMaster!A44,LangMaster!B44)","v":"Cyclone"},0,0,0,0,0,0,0,0,0,0,0,0,0,0,0,0,0,0,0,0,0,0]
[4,4,{"$f":"IF(ADSI!$L$10=1,LangMaster!A45,LangMaster!B45)","v":"Tornado"},0,0,0,0,0,0,0,0,0,0,0,0,0,0,0,0,0,0,0,0,0,0]
[5,5,{"$f":"IF(ADSI!$L$10=1,LangMaster!A46,LangMaster!B46)","v":"Tsunami"},0,0,0,0,0,0,0,0,0,0,0,0,0,0,0,0,0,0,0,0,0,0]
[6,6,{"$f":"IF(ADSI!$L$10=1,LangMaster!A47,LangMaster!B47)","v":"Starvation due to natural calamity"},0,0,0,0,0,0,0,0,0,0,0,0,0,0,0,0,0,0,0,0,0,0]
[7,7,{"$f":"IF(ADSI!$L$10=1,LangMaster!A48,LangMaster!B48)","v":"Earthquake"},0,0,0,0,0,0,0,0,0,0,0,0,0,0,0,0,0,0,0,0,0,0]
[8,8,{"$f":"IF(ADSI!$L$10=1,LangMaster!A49,LangMaster!B49)","v":"Epidemic"},0,0,0,0,0,0,0,0,0,0,0,0,0,0,0,0,0,0,0,0,0,0]
[9,9,{"$f":"IF(ADSI!$L$10=1,LangMaster!A50,LangMaster!B50)","v":"Flood"},0,0,0,0,0,0,0,0,0,0,0,0,0,0,0,0,0,0,0,0,0,0]
[10,10,{"$f":"IF(ADSI!$L$10=1,LangMaster!A51,LangMaster!B51)","v":"Heat/Sun Stroke"},0,0,0,0,0,0,0,0,0,0,0,0,0,0,0,0,0,0,0,0,0,0]
[11,11,{"$f":"IF(ADSI!$L$10=1,LangMaster!A52,LangMaster!B52)","v":"Landslide"},0,0,0,0,0,0,0,0,0,0,0,0,1,1,0,0,0,0,0,0,0,1]
[12,12,{"$f":"IF(ADSI!$L$10=1,LangMaster!A53,LangMaster!B53)","v":"Lightning"},0,0,0,1,0,0,1,0,0,0,0,0,0,0,0,0,0,0,0,0,0,1]
[13,13,{"$f":"IF(ADSI!$L$10=1,LangMaster!A54,LangMaster!B54)","v":"Torrential Rain"},0,0,0,0,0,0,0,0,0,0,0,0,0,0,0,0,0,0,0,0,0,0]
[14,14,{"$f":"IF(ADSI!$L$10=1,LangMaster!A55,LangMaster!B55)","v":"Forest Fire"},0,0,0,0,0,0,0,0,0,0,0,0,0,0,0,0,0,0,0,0,0,0]
[15,15,{"$f":"IF(ADSI!$L$10=1,LangMaster!A56,LangMaster!B56)","v":"Other Natural Causes"},0,0,0,0,1,0,1,0,0,0,1,0,0,1,0,0,0,0,0,0,0,2]
[30,16,{"$f":"IF(ADSI!$L$10=1,LangMaster!A102,LangMaster!B102)","v":"Total (sum of Sl. 1 to 15)"},{"$f":"SUM(D8:D22)","v":0},{"$f":"SUM(E8:E22)","v":0},0,1,1,0,{"$f":"SUM(D23:I23)","v":2},0,0,0,1,0,1,{"$f":"SUM(K23:P23)","v":2},{"$f":"SUM(R8:R22)","v":0},0,0,0,0,0,{"$f":"SUM(R23:W23)","v":0},{"$f":"J23+Q23+X23","v":4}]
["SL-15 ABNORMAL VARIATION IN \"OTHER NATURAL CAUSES\" DATA",null,null,{"$f":"IF(D23>0,IF((D22/D23*100)>20,\"ABVAR\",\"\"),\"\")","v":""},{"$f":"IF(E23>0,IF((E22/E23*100)>20,\"ABVAR\",\"\"),\"\")","v":""},"","","ABVAR","","ABVAR","","","","ABVAR","","","ABVAR","","","","","","","","ABVAR"]
[]
[]
[]
[]
[]
[]
[]
[]
[]
[]
[]
[]
[]
[]
[]
[]
[]
[]
[]
[]
[]
[]
[]
[]
[]
[]
[]
[]
[]
[]
[]
[]
[]
[]
[]
[]
[]
[]
[]
[]
[]
[]
[]
[]
[]
[]
[]
[]
[]
[]
[]
[]
[]
[]
[]
[]
[]
[]
[]
[]
[]
[]
[]
[]
[]
[]
[]
[]
[]
[]
[]
[]
[]
[]
[]
[]
[]
[]
[]
[]
[]
[]
[]
[]
[]
[]
[]
[]
[]
[]
[]
[]
[]
[]
[]
[]
[]
[]
[]
[]
[]
[]
[]
[]
[]
[]
[]
[]
[]
[]
[]
[]
[]
[]
[]
[]
[]
[]
[]
[]
[]
[]
[]
[]
[]
[]
[]
[]
[]
[]
[]
[]
[]
[]
[]
[]
[]
[]
[]
[]
[]
[]
[]
[]
[]
[]
[]
[]
[]
[]
[]
[]
[]
[]
[]
[]
[]
[]
[]
[]
[]
[]
[]
[]
[]
[]
[]
[]
[]
[]
[]
[]
[]
[]
[]
[null,null,null,null,null,null,null,null,null,null,null,null,null,null,null,null,null,null,null,null,null,null,null,null,null,null,null,null,null,null,null,null,null,null,null,null,null,null,null,null,null,null,null,null,null,null,null,null,null,null,null,null,{"$f":"A1","v":"Goa, , ADSI-2022"}]
[null,null,null,null,null,null,null,null,null,null,null,null,null,null,null,null,null,null,null,null,null,null,null,null,null,null,null,null,null,null,null,null,null,null,null,null,null,null,null,null,null,null,null,null,null,null,null,null,null,null,null,null,{"$f":"A2","v":"Proforma-I"},null,null,null,{"$f":"E2","v":"Abnormal Variations"},{"$f":"F2","v":5}]
[null,null,null,null,null,null,null,null,null,null,null,null,null,null,null,null,null,null,null,null,null,null,null,null,null,null,null,null,null,null,null,null,null,null,null,null,null,null,null,null,null,null,null,null,null,null,null,null,null,null,null,null,{"$f":"A3","v":"Accidental Deaths due to Natural Calamities"}]
[null,null,null,null,null,null,null,null,null,null,null,null,null,null,null,null,null,null,null,null,null,null,null,null,null,null,null,null,null,null,null,null,null,null,null,null,null,null,null,null,null,null,null,null,null,null,null,null,null,null,null,null,{"$f":"B4","v":"S.No."},{"$f":"C4","v":"Factors"},{"$f":"D4","v":"Number of Accidental Deaths"},null,null,null,null,null,null,null,null,null,null,null,null,null,null,null,null,null,null,null,null,{"$f":"Y4","v":"Grand Total (9) + (16)+(23)"}]
[null,null,null,null,null,null,null,null,null,null,null,null,null,null,null,null,null,null,null,null,null,null,null,null,null,null,null,null,null,null,null,null,null,null,null,null,null,null,null,null,null,null,null,null,null,null,null,null,null,null,null,null,null,null,{"$f":"D5","v":"Male"},null,null,null,null,null,null,{"$f":"K5","v":"Female"},null,null,null,null,null,null,{"$f":"R5","v":"Transgender"}]
[null,null,null,null,null,null,null,null,null,null,null,null,null,null,null,null,null,null,null,null,null,null,null,null,null,null,null,null,null,null,null,null,null,null,null,null,null,null,null,null,null,null,null,null,null,null,null,null,null,null,null,null,null,null,"below 14 years",{"$f":"E6","v":"14 and above – below 18 years"},{"$f":"F6","v":"18 and above – below 30 years"},{"$f":"G6","v":"30 and above – below 45 years"},{"$f":"H6","v":"45 and above – below 60 years"},{"$f":"I6","v":"60 years & above"},{"$f":"J6","v":" Total [sum of (3) to (8)]"},"below 14 years",{"$f":"L6","v":"14 and above – below 18 years"},{"$f":"M6","v":"18 and above – below 30 years"},{"$f":"N6","v":"30 and above – below 45 years"},{"$f":"O6","v":"45 and above – below 60 years"},{"$f":"P6","v":"60 years & above"},{"$f":"Q6","v":"Total    [sum of (10) to (15)]"},"below 14 years",{"$f":"S6","v":"14 and above – below 18 years"},{"$f":"T6","v":"18 and above – below 30 years"},{"$f":"U6","v":"30 and above – below 45 years"},{"$f":"V6","v":"45 and above – below 60 years"},{"$f":"W6","v":"60 years & above"},{"$f":"X6","v":"Total [sum of (17) to (22)]"}]
[null,null,null,null,null,null,null,null,null,null,null,null,null,null,null,null,null,null,null,null,null,null,null,null,null,null,null,null,null,null,null,null,null,null,null,null,null,null,null,null,null,null,null,null,null,null,null,null,null,null,null,null,{"$f":"B7","v":"(1)"},{"$f":"C7","v":"(2)"},"(3)","(4)","(5)","(6)","(7)","(8)","(9)","(10)","(11)","(12)","(13)","(14)","(15)","(16)","(17)","(18)","(19)","(20)","(21)","(22)","(23)",{"$f":"Y7","v":"(24)"}]
[null,null,null,null,null,null,null,null,null,null,null,null,null,null,null,null,null,null,null,null,null,null,null,null,null,null,null,null,null,null,null,null,null,null,null,null,null,null,null,null,null,null,null,null,null,null,null,null,null,null,null,null,1,"Avalanche",0,0,0,0,0,0,0,0,0,0,0,0,0,0,0,0,0,0,0,0,0,0]
[null,null,null,null,null,null,null,null,null,null,null,null,null,null,null,null,null,null,null,null,null,null,null,null,null,null,null,null,null,null,null,null,null,null,null,null,null,null,null,null,null,null,null,null,null,null,null,null,null,null,null,null,2,"Exposure to cold",0,0,0,0,0,0,0,0,0,0,0,0,0,0,0,0,0,0,0,0,0,0]
[null,null,null,null,null,null,null,null,null,null,null,null,null,null,null,null,null,null,null,null,null,null,null,null,null,null,null,null,null,null,null,null,null,null,null,null,null,null,null,null,null,null,null,null,null,null,null,null,null,null,null,null,3,"Cyclone",0,0,0,0,0,0,0,0,0,0,0,0,0,0,0,0,0,0,0,0,0,0]
[null,null,null,null,null,null,null,null,null,null,null,null,null,null,null,null,null,null,null,null,null,null,null,null,null,null,null,null,null,null,null,null,null,null,null,null,null,null,null,null,null,null,null,null,null,null,null,null,null,null,null,null,4,"Tornado",0,0,0,0,0,0,0,0,0,0,0,0,0,0,0,0,0,0,0,0,0,0]
[null,null,null,null,null,null,null,null,null,null,null,null,null,null,null,null,null,null,null,null,null,null,null,null,null,null,null,null,null,null,null,null,null,null,null,null,null,null,null,null,null,null,null,null,null,null,null,null,null,null,null,null,5,"Tsunami",0,0,0,0,0,0,0,0,0,0,0,0,0,0,0,0,0,0,0,0,0,0]
[null,null,null,null,null,null,null,null,null,null,null,null,null,null,null,null,null,null,null,null,null,null,null,null,null,null,null,null,null,null,null,null,null,null,null,null,null,null,null,null,null,null,null,null,null,null,null,null,null,null,null,null,6,"Starvation due to natural calamity",0,0,0,0,0,0,0,0,0,0,0,0,0,0,0,0,0,0,0,0,0,0]
[null,null,null,null,null,null,null,null,null,null,null,null,null,null,null,null,null,null,null,null,null,null,null,null,null,null,null,null,null,null,null,null,null,null,null,null,null,null,null,null,null,null,null,null,null,null,null,null,null,null,null,null,7,"Earthquake",0,0,0,0,0,0,0,0,0,0,0,0,0,0,0,0,0,0,0,0,0,0]
[null,null,null,null,null,null,null,null,null,null,null,null,null,null,null,null,null,null,null,null,null,null,null,null,null,null,null,null,null,null,null,null,null,null,null,null,null,null,null,null,null,null,null,null,null,null,null,null,null,null,null,null,8,"Epidemic",0,0,0,0,0,0,0,0,0,0,0,0,0,0,0,0,0,0,0,0,0,0]
[null,null,null,null,null,null,null,null,null,null,null,null,null,null,null,null,null,null,null,null,null,null,null,null,null,null,null,null,null,null,null,null,null,null,null,null,null,null,null,null,null,null,null,null,null,null,null,null,null,null,null,null,9,"Flood",0,0,0,0,0,0,0,0,0,0,0,0,0,0,0,0,0,0,0,0,0,0]
[null,null,null,null,null,null,null,null,null,null,null,null,null,null,null,null,null,null,null,null,null,null,null,null,null,null,null,null,null,null,null,null,null,null,null,null,null,null,null,null,null,null,null,null,null,null,null,null,null,null,null,null,10,"Heat/Sun Stroke",0,0,0,0,0,0,0,0,0,0,0,0,0,0,0,0,0,0,0,0,0,0]
[null,null,null,null,null,null,null,null,null,null,null,null,null,null,null,null,null,null,null,null,null,null,null,null,null,null,null,null,null,null,null,null,null,null,null,null,null,null,null,null,null,null,null,null,null,null,null,null,null,null,null,null,11,"Landslide",0,0,0,0,0,0,0,0,0,0,0,0,1,1,0,0,0,0,0,0,0,1]
[null,null,null,null,null,null,null,null,null,null,null,null,null,null,null,null,null,null,null,null,null,null,null,null,null,null,null,null,null,null,null,null,null,null,null,null,null,null,null,null,null,null,null,null,null,null,null,null,null,null,null,null,12,"Lightning",0,0,0,1,0,0,1,0,0,0,0,0,0,0,0,0,0,0,0,0,0,1]
[null,null,null,null,null,null,null,null,null,null,null,null,null,null,null,null,null,null,null,null,null,null,null,null,null,null,null,null,null,null,null,null,null,null,null,null,null,null,null,null,null,null,null,null,null,null,null,null,null,null,null,null,13,"Torrential Rain",0,0,0,0,0,0,0,0,0,0,0,0,0,0,0,0,0,0,0,0,0,0]
[null,null,null,null,null,null,null,null,null,null,null,null,null,null,null,null,null,null,null,null,null,null,null,null,null,null,null,null,null,null,null,null,null,null,null,null,null,null,null,null,null,null,null,null,null,null,null,null,null,null,null,null,14,"Forest Fire",0,0,0,0,0,0,0,0,0,0,0,0,0,0,0,0,0,0,0,0,0,0]
[null,null,null,null,null,null,null,null,null,null,null,null,null,null,null,null,null,null,null,null,null,null,null,null,null,null,null,null,null,null,null,null,null,null,null,null,null,null,null,null,null,null,null,null,null,null,null,null,null,null,null,null,15,"Other Natural Causes",0,0,0,0,1,0,1,0,0,0,1,0,0,1,0,0,0,0,0,0,0,2]
[null,null,null,null,null,null,null,null,null,null,null,null,null,null,null,null,null,null,null,null,null,null,null,null,null,null,null,null,null,null,null,null,null,null,null,null,null,null,null,null,null,null,null,null,null,null,null,null,null,null,null,null,16,"Total (sum of Sl. 1 to 15)",0,0,0,1,1,0,2,0,0,0,1,0,1,2,0,0,0,0,0,0,0,4]
[null,null,null,null,null,null,null,null,null,null,null,null,null,null,null,null,null,null,null,null,null,null,null,null,null,null,null,null,null,null,null,null,null,null,null,null,null,null,null,null,null,null,null,null,null,null,null,null,null,null,null,null,{"$f":"A24","v":"SL-15 ABNORMAL VARIATION IN \"OTHER NATURAL CAUSES\" DATA"},null,"","","","","ABVAR","","ABVAR","","","","ABVAR","","","ABVAR","","","","","","","","ABVAR"]
[]
[]
[]
[]
[]
[]
[]
[]
[]
[]
[]
[]
[]
[]
[]
[]
[]
[]
[]
[]
[]
[]
[]
[]
[]
[]
[]
[]
[]
[]
[]
[]
[]
[]
[]
[]
[]
[]
[]
[]
[]
[]
[]
[]
[]
[]
[]
[]
[]
[]
[]
[]
[]
[]
[]
[]
[]
[]
[]
[]
[]
[]
[]
[]
[]
[]
[]
[]
[]
[]
[]
[]
[]
[]
[]
[]
[]
[]
[]
[]
[]
[]
[]
[]
[]
[]
[]
[]
[]
[]
[]
[]
[]
[]
[]
[]
[]
[]
[]
[]
[]
[]
[]
[]
[]
[]
[]
[]
[]
[]
[]
[]
[]
[]
[]
[]
[]
[]
[]
[]
[]
[]
[]
[]
[]
[]
[]
[]
[]
[]
[]
[]
[]
[]
[]
[]
[]
[]
[]
[]
[]
[]
[]
[]
[]
[]
[]
[]
[]
[]
[]
[]
[]
[]
[]
[]
[]
[]
[]
[]
[]
[]
[]
[]
[]
[]
[]
[]
[]
[]
[]
[]
[]
[]
[]
[]
[]
[]
[]
[]
[]
[]
[]
[]
[]
[]
[]
[]
[]
[]
[]
[]
[]
[]
[]
[]
[]
[]
[]
[]
[]
[]
[]
[]
[]
[]
[]
[]
[]
[]
[]
[]
[]
[]
[]
[]
[]
[]
[]
[]
[]
[]
[]
[]
[]
[]
[]
[]
[]
[]
[]
[]
[]
[]
[]
[]
[]
[]
[]
[]
[]
[]
[]
[]
[]
[]
[]
[]
[]
[]
[]
[]
[]
[]
[]
[]
[]
[]
[]
[]
[]
[]
[]
[]
[]
[]
[]
[]
[]
[]
[]
[]
[]
[]
[]
[]
["StateUTCityCode","DistrictCode","CrimeCode","DataYear","Male_below 14 years","Male_14 and above – below 18 years","Male_18 and above – below 30 years","Male_30 and above – below 45 years","Male_45 and above – below 60 years","Male_60 years & above","Male_Total","Female_below 14 years","Female_14 and above – below 18 years","Female_18 and above – below 30 years","Female_30 and above – below 45 years","Female_45 and above – below 60 years","Female_60 years & above","Female_Total","Trans_below 14 years","Trans_14 and above – below 18 years","Trans_18 and above – below 30 years","Trans_30 and above – below 45 years","Trans_45 and above – below 60 years","Trans_60 years & above","Trans_Total","Grand Total"]
[{"$f":"IF(ADSI!$G$12=\"\",ADSI!$H$16,ADSI!$H$12)","v":6},{"$f":"IF(ADSI!$G$12=\"\",ADSI!$H$16,ADSI!$H$14)","v":""},{"$f":"A8","v":1},{"$f":"ADSI!$K$12","v":2022},{"$f":"D8","v":0},{"$f":"E8","v":0},0,0,0,0,0,0,0,0,0,0,0,0,0,0,0,0,0,0,0,0]
[{"$f":"IF(ADSI!$G$12=\"\",ADSI!$H$16,ADSI!$H$12)","v":6},{"$f":"IF(ADSI!$G$12=\"\",ADSI!$H$16,ADSI!$H$14)","v":""},{"$f":"A9","v":2},{"$f":"ADSI!$K$12","v":2022},{"$f":"D9","v":0},0,0,0,0,0,0,0,0,0,0,0,0,0,0,0,0,0,0,0,0,0]
[{"$f":"IF(ADSI!$G$12=\"\",ADSI!$H$16,ADSI!$H$12)","v":6},{"$f":"IF(ADSI!$G$12=\"\",ADSI!$H$16,ADSI!$H$14)","v":""},3,{"$f":"ADSI!$K$12","v":2022},{"$f":"D10","v":0},0,0,0,0,0,0,0,0,0,0,0,0,0,0,0,0,0,0,0,0,0]
[{"$f":"IF(ADSI!$G$12=\"\",ADSI!$H$16,ADSI!$H$12)","v":6},{"$f":"IF(ADSI!$G$12=\"\",ADSI!$H$16,ADSI!$H$14)","v":""},4,{"$f":"ADSI!$K$12","v":2022},{"$f":"D11","v":0},0,0,0,0,0,0,0,0,0,0,0,0,0,0,0,0,0,0,0,0,0]
[{"$f":"IF(ADSI!$G$12=\"\",ADSI!$H$16,ADSI!$H$12)","v":6},{"$f":"IF(ADSI!$G$12=\"\",ADSI!$H$16,ADSI!$H$14)","v":""},5,{"$f":"ADSI!$K$12","v":2022},{"$f":"D12","v":0},0,0,0,0,0,0,0,0,0,0,0,0,0,0,0,0,0,0,0,0,0]
[{"$f":"IF(ADSI!$G$12=\"\",ADSI!$H$16,ADSI!$H$12)","v":6},{"$f":"IF(ADSI!$G$12=\"\",ADSI!$H$16,ADSI!$H$14)","v":""},6,{"$f":"ADSI!$K$12","v":2022},{"$f":"D13","v":0},0,0,0,0,0,0,0,0,0,0,0,0,0,0,0,0,0,0,0,0,0]
[{"$f":"IF(ADSI!$G$12=\"\",ADSI!$H$16,ADSI!$H$12)","v":6},{"$f":"IF(ADSI!$G$12=\"\",ADSI!$H$16,ADSI!$H$14)","v":""},7,{"$f":"ADSI!$K$12","v":2022},{"$f":"D14","v":0},0,0,0,0,0,0,0,0,0,0,0,0,0,0,0,0,0,0,0,0,0]
[{"$f":"IF(ADSI!$G$12=\"\",ADSI!$H$16,ADSI!$H$12)","v":6},{"$f":"IF(ADSI!$G$12=\"\",ADSI!$H$16,ADSI!$H$14)","v":""},8,{"$f":"ADSI!$K$12","v":2022},{"$f":"D15","v":0},0,0,0,0,0,0,0,0,0,0,0,0,0,0,0,0,0,0,0,0,0]
[{"$f":"IF(ADSI!$G$12=\"\",ADSI!$H$16,ADSI!$H$12)","v":6},{"$f":"IF(ADSI!$G$12=\"\",ADSI!$H$16,ADSI!$H$14)","v":""},9,{"$f":"ADSI!$K$12","v":2022},{"$f":"D16","v":0},0,0,0,0,0,0,0,0,0,0,0,0,0,0,0,0,0,0,0,0,0]
[{"$f":"IF(ADSI!$G$12=\"\",ADSI!$H$16,ADSI!$H$12)","v":6},{"$f":"IF(ADSI!$G$12=\"\",ADSI!$H$16,ADSI!$H$14)","v":""},10,{"$f":"ADSI!$K$12","v":2022},{"$f":"D17","v":0},0,0,0,0,0,0,0,0,0,0,0,0,0,0,0,0,0,0,0,0,0]
[{"$f":"IF(ADSI!$G$12=\"\",ADSI!$H$16,ADSI!$H$12)","v":6},{"$f":"IF(ADSI!$G$12=\"\",ADSI!$H$16,ADSI!$H$14)","v":""},11,{"$f":"ADSI!$K$12","v":2022},{"$f":"D18","v":0},0,0,0,0,0,0,0,0,0,0,0,1,1,0,0,0,0,0,0,0,1]
[{"$f":"IF(ADSI!$G$12=\"\",ADSI!$H$16,ADSI!$H$12)","v":6},{"$f":"IF(ADSI!$G$12=\"\",ADSI!$H$16,ADSI!$H$14)","v":""},12,{"$f":"ADSI!$K$12","v":2022},{"$f":"D19","v":0},0,0,1,0,0,1,0,0,0,0,0,0,0,0,0,0,0,0,0,0,1]
[{"$f":"IF(ADSI!$G$12=\"\",ADSI!$H$16,ADSI!$H$12)","v":6},{"$f":"IF(ADSI!$G$12=\"\",ADSI!$H$16,ADSI!$H$14)","v":""},13,{"$f":"ADSI!$K$12","v":2022},{"$f":"D20","v":0},0,0,0,0,0,0,0,0,0,0,0,0,0,0,0,0,0,0,0,0,0]
[{"$f":"IF(ADSI!$G$12=\"\",ADSI!$H$16,ADSI!$H$12)","v":6},{"$f":"IF(ADSI!$G$12=\"\",ADSI!$H$16,ADSI!$H$14)","v":""},14,{"$f":"ADSI!$K$12","v":2022},{"$f":"D21","v":0},0,0,0,0,0,0,0,0,0,0,0,0,0,0,0,0,0,0,0,0,0]
[{"$f":"IF(ADSI!$G$12=\"\",ADSI!$H$16,ADSI!$H$12)","v":6},{"$f":"IF(ADSI!$G$12=\"\",ADSI!$H$16,ADSI!$H$14)","v":""},15,{"$f":"ADSI!$K$12","v":2022},{"$f":"D22","v":0},0,0,0,1,0,1,0,0,0,1,0,0,1,0,0,0,0,0,0,0,2]
[{"$f":"IF(ADSI!$G$12=\"\",ADSI!$H$16,ADSI!$H$12)","v":6},{"$f":"IF(ADSI!$G$12=\"\",ADSI!$H$16,ADSI!$H$14)","v":""},30,{"$f":"ADSI!$K$12","v":2022},{"$f":"D23","v":0},0,0,1,1,0,2,0,0,0,1,0,1,2,0,0,0,0,0,0,0,4]

{"sheet":"P-II","index":3,"n_rows":544,"n_cols":64,"rows_kept":544,"cut":false,"hidden":false,"merged":[[4,13,6,13],[203,55,205,55],[51,0,51,2],[52,0,52,2],[53,0,53,2],[4,0,5,0],[4,2,5,2],[4,9,4,12],[4,1,5,1],[4,5,4,8],[4,3,5,3],[4,4,5,4],[250,52,250,53],[251,52,251,53],[252,52,252,53],[203,60,203,63],[203,52,204,52],[203,53,204,53],[203,54,204,54],[203,56,203,59]]}
[{"$f":"ADSI!$B$1","v":"Goa, , ADSI-2022"}]
["Errors",null,{"$f":"COUNTIF(E8:E51,FALSE)","v":0},null,"Abnormal Variations",{"$f":"COUNTIF(D52:M54,\"ABVAR\")","v":0}]
[{"$f":"IF(ADSI!$L$10=1,LangMaster!A57,LangMaster!B57)","v":"Proforma-II"}]
[{"$f":"IF(ADSI!$L$10=1,LangMaster!A58,LangMaster!B58)","v":"Cause-wise distribution of Un-natural Accidents"}]
[{"$f":"IF(ADSI!$L$10=1,LangMaster!A26,LangMaster!B26)","v":"Code"},{"$f":"IF(ADSI!$L$10=1,LangMaster!A27,LangMaster!B27)","v":"S.No."},{"$f":"IF(ADSI!$L$10=1,LangMaster!A478,LangMaster!B478)","v":"Causes"},{"$f":"IF(ADSI!$L$10=1,LangMaster!A479,LangMaster!B479)","v":"No. of Cases"},{"$f":"IF(ADSI!$L$10=1,LangMaster!A480,LangMaster!B480)","v":"VALIDATION WITH NUMBER OF CASES"},{"$f":"IF(ADSI!$L$10=1,LangMaster!A481,LangMaster!B481)","v":"No. of Persons Injured"},null,null,null,{"$f":"IF(ADSI!$L$10=1,LangMaster!A482,LangMaster!B482)","v":"No. of Persons Died"}]
[null,null,null,null,null,{"$f":"IF(ADSI!$L$10=1,LangMaster!A30,LangMaster!B30)","v":"Male"},{"$f":"IF(ADSI!$L$10=1,LangMaster!A31,LangMaster!B31)","v":"Female"},{"$f":"IF(ADSI!$L$10=1,LangMaster!A32,LangMaster!B32)","v":"Transgender"},{"$f":"IF(ADSI!$L$10=1,LangMaster!A483,LangMaster!B483)","v":" Total[sum of (4) to (6)]"},{"$f":"IF(ADSI!$L$10=1,LangMaster!A30,LangMaster!B30)","v":"Male"},{"$f":"IF(ADSI!$L$10=1,LangMaster!A31,LangMaster!B31)","v":"Female"},{"$f":"IF(ADSI!$L$10=1,LangMaster!A32,LangMaster!B32)","v":"Transgender"},{"$f":"IF(ADSI!$L$10=1,LangMaster!A484,LangMaster!B484)","v":" Total[sum of (8) to (10)]"}]
[null,"(1)","(2)","(3)",null,"(4)","(5)","(6)","(7)","(8)","(9)","(10)","(11)"]
[50,1,{"$f":"IF(ADSI!$L$10=1,LangMaster!A59,LangMaster!B59)","v":"Air Crash"},0,{"$f":"IF(AND(OR(I8>0,M8>0),D8=0),FALSE,\"\")","v":""},0,0,0,{"$f":"SUM(F8:H8)","v":0},0,0,0,{"$f":"SUM(J8:L8)","v":0}]
[51,2,{"$f":"IF(ADSI!$L$10=1,LangMaster!A60,LangMaster!B60)","v":"Ship Accidents"},0,{"$f":"IF(AND(OR(I9>0,M9>0),D9=0),FALSE,\"\")","v":""},0,0,0,{"$f":"SUM(F9:H9)","v":0},0,0,0,{"$f":"SUM(J9:L9)","v":0}]
[52,3,{"$f":"IF(ADSI!$L$10=1,LangMaster!A61,LangMaster!B61)","v":"Collapse of Structure (Total) (sum of 3.1 to 3.5)"},{"$f":"SUM(D11:D15)","v":4},"",{"$f":"SUM(F11:F15)","v":0},0,0,0,4,{"$f":"SUM(K11:K15)","v":0},{"$f":"SUM(L11:L15)","v":0},4]
[53,null,{"$f":"IF(ADSI!$L$10=1,LangMaster!A62,LangMaster!B62)","v":"3.1 Collapse of Dwelling House/Residential building"},3,"",0,0,0,0,3,0,0,3]
[54,null,{"$f":"IF(ADSI!$L$10=1,LangMaster!A63,LangMaster!B63)","v":"3.2 Collapse of Official/Commercial Building"},0,"",0,0,0,0,0,0,0,0]
[55,null,{"$f":"IF(ADSI!$L$10=1,LangMaster!A64,LangMaster!B64)","v":"3.3 Collapse of Dam"},0,"",0,0,0,0,0,0,0,0]
[56,null,{"$f":"IF(ADSI!$L$10=1,LangMaster!A65,LangMaster!B65)","v":"3.4 Collapse of  Bridge"},0,"",0,0,0,0,0,0,0,0]
[57,null,{"$f":"IF(ADSI!$L$10=1,LangMaster!A66,LangMaster!B66)","v":"3.5 Others"},1,"",0,0,0,0,1,0,0,1]
[58,4,{"$f":"IF(ADSI!$L$10=1,LangMaster!A67,LangMaster!B67)","v":"Drowning (Total) (sum of 4.1 to 4.3)"},{"$f":"SUM(D17:D19)","v":97},"",{"$f":"SUM(F17:F19)","v":0},0,0,0,{"$f":"SUM(J17:J19)","v":92},{"$f":"SUM(K17:K19)","v":8},{"$f":"SUM(L17:L19)","v":0},100]
[59,null,{"$f":"IF(ADSI!$L$10=1,LangMaster!A68,LangMaster!B68)","v":"4.1 Boat Capsize"},0,"",0,0,0,0,0,0,0,0]
[60,null,{"$f":"IF(ADSI!$L$10=1,LangMaster!A69,LangMaster!B69)","v":"4.2 Accidental Falls into Waterbody"},78,"",0,0,0,0,76,5,0,81]
[61,null,{"$f":"IF(ADSI!$L$10=1,LangMaster!A70,LangMaster!B70)","v":"4.3 Other Cases"},19,"",0,0,0,0,16,3,0,19]
[62,5,{"$f":"IF(ADSI!$L$10=1,LangMaster!A71,LangMaster!B71)","v":"Electrocution"},15,"",0,0,0,0,14,1,0,15]
[63,6,{"$f":"IF(ADSI!$L$10=1,LangMaster!A72,LangMaster!B72)","v":"Accidental Explosion (Total) (sum of 6.1 to 6.4)"},{"$f":"SUM(D22:D25)","v":0},"",{"$f":"SUM(F22:F25)","v":0},0,0,0,{"$f":"SUM(J22:J25)","v":0},0,0,0]
[64,null,{"$f":"IF(ADSI!$L$10=1,LangMaster!A73,LangMaster!B73)","v":"6.1 Domestic Gas Cylinder"},0,"",0,0,0,0,0,0,0,0]
[65,null,{"$f":"IF(ADSI!$L$10=1,LangMaster!A74,LangMaster!B74)","v":"6.2 Industrial Boiler/Gas cylinder explosion"},0,"",0,0,0,0,0,0,0,0]
[66,null,{"$f":"IF(ADSI!$L$10=1,LangMaster!A75,LangMaster!B75)","v":"6.3 Ammunition explosion in Armed Forces/Police/CPMF"},0,"",0,0,0,0,0,0,0,0]
[67,null,{"$f":"IF(ADSI!$L$10=1,LangMaster!A76,LangMaster!B76)","v":"6.4 Other"},0,"",0,0,0,0,0,0,0,0]
[68,7,{"$f":"IF(ADSI!$L$10=1,LangMaster!A77,LangMaster!B77)","v":"Falls (Total) (sum of 7.1 to 7.6)"},{"$f":"SUM(D27:D32)","v":142},"",{"$f":"SUM(F27:F32)","v":4},0,0,4,{"$f":"SUM(J27:J32)","v":125},15,0,140]
[69,null,{"$f":"IF(ADSI!$L$10=1,LangMaster!A78,LangMaster!B78)","v":"7.1 Fall from Height"},84,"",2,0,0,2,74,9,0,83]
[70,null,{"$f":"IF(ADSI!$L$10=1,LangMaster!A79,LangMaster!B79)","v":"7.2 Fall from Vehicles (Automobile like Bus, Trucks, etc.)"},0,"",0,0,0,0,0,0,0,0]
[71,null,{"$f":"IF(ADSI!$L$10=1,LangMaster!A80,LangMaster!B80)","v":"7.3 Fall into Manhole / Sewer"},3,"",1,0,0,1,3,0,0,3]
[72,null,{"$f":"IF(ADSI!$L$10=1,LangMaster!A81,LangMaster!B81)","v":"7.4 Fall into Pit"},0,"",0,0,0,0,0,0,0,0]
[73,null,{"$f":"IF(ADSI!$L$10=1,LangMaster!A82,LangMaster!B82)","v":"7.5 Fall into Borewell"},0,"",0,0,0,0,0,0,0,0]
[74,null,{"$f":"IF(ADSI!$L$10=1,LangMaster!A83,LangMaster!B83)","v":"7.6 Others"},55,"",1,0,0,1,48,6,0,54]
[75,8,{"$f":"IF(ADSI!$L$10=1,LangMaster!A84,LangMaster!B84)","v":"Factory/Machine accidents"},0,"",0,0,0,0,0,0,0,0]
[76,9,{"$f":"IF(ADSI!$L$10=1,LangMaster!A85,LangMaster!B85)","v":"Accidental Fire (Total) (sum of 9.1 to 9.5)"},{"$f":"SUM(D35:D39)","v":55},"",{"$f":"SUM(F35:F39)","v":0},0,0,0,{"$f":"SUM(J35:J39)","v":5},13,0,18]
[77,null,{"$f":"IF(ADSI!$L$10=1,LangMaster!A86,LangMaster!B86)","v":"9.1 Electrical Short circuit"},21,"",0,0,0,0,1,0,0,1]
[78,null,{"$f":"IF(ADSI!$L$10=1,LangMaster!A87,LangMaster!B87)","v":"9.2 Riot/Agitation"},0,"",0,0,0,0,0,0,0,0]
[79,null,{"$f":"IF(ADSI!$L$10=1,LangMaster!A88,LangMaster!B88)","v":"9.3 Fireworks"},0,"",0,0,0,0,0,0,0,0]
[80,null,{"$f":"IF(ADSI!$L$10=1,LangMaster!A89,LangMaster!B89)","v":"9.4 Cooking Gas cylinder/stove burst"},6,"",0,0,0,0,1,4,0,5]
[81,null,{"$f":"IF(ADSI!$L$10=1,LangMaster!A90,LangMaster!B90)","v":"9.5 Other Causes"},28,"",0,0,0,0,3,9,0,12]
[82,10,{"$f":"IF(ADSI!$L$10=1,LangMaster!A91,LangMaster!B91)","v":"Firearm"},0,"",0,0,0,0,0,0,0,0]
[83,11,{"$f":"IF(ADSI!$L$10=1,LangMaster!A92,LangMaster!B92)","v":"Mines or Quarry disaster"},0,"",0,0,0,0,0,0,0,0]
[84,12,{"$f":"IF(ADSI!$L$10=1,LangMaster!A93,LangMaster!B93)","v":"Traffic Accidents (Total) (sum of 12.1, 12.2 and 12.3)"},{"$f":"SUM(D43,D46:D47)","v":3066},"",{"$f":"SUM(F43,F46:F47)","v":842},229,0,1071,{"$f":"SUM(J43,J46:J47)","v":287},41,0,328]
[85,null,{"$f":"IF(ADSI!$L$10=1,LangMaster!A94,LangMaster!B94)","v":"12.1 Road Accidents "},{"$f":"SUM(D44:D45)","v":3012},"",{"$f":"SUM(F44:F45)","v":842},229,0,1071,{"$f":"SUM(J44:J45)","v":233},41,0,274]
[86,null,{"$f":"IF(ADSI!$L$10=1,LangMaster!A95,LangMaster!B95)","v":0},0,"",0,0,0,0,0,0,0,0]
[87,null,{"$f":"IF(ADSI!$L$10=1,LangMaster!A96,LangMaster!B96)","v":0},3012,"",842,229,0,1071,233,41,0,274]
[88,null,{"$f":"IF(ADSI!$L$10=1,LangMaster!A97,LangMaster!B97)","v":"12.2 Railway Crossing Accidents"},0,"",0,0,0,0,0,0,0,0]
[89,null,{"$f":"IF(ADSI!$L$10=1,LangMaster!A98,LangMaster!B98)","v":"12.3 Railway Accidents "},54,"",0,0,0,0,54,0,0,54]
[90,13,{"$f":"IF(ADSI!$L$10=1,LangMaster!A99,LangMaster!B99)","v":"Stampede"},0,"",0,0,0,0,0,0,0,0]
[91,14,{"$f":"IF(ADSI!$L$10=1,LangMaster!A100,LangMaster!B100)","v":"Other Unnatural Causes"},12,"",0,0,0,0,5,7,0,12]
[92,15,{"$f":"IF(ADSI!$L$10=1,LangMaster!A101,LangMaster!B101)","v":"Causes not known"},17,"",0,0,0,0,15,2,0,17]
[120,16,{"$f":"IF(ADSI!$L$10=1,LangMaster!A102,LangMaster!B102)","v":"Total (sum of Sl. 1 to 15)"},{"$f":"SUM(D8:D10,D16,D20:D21,D26,D33:D34,D40:D41,D42,D48:D50)","v":3408},"",{"$f":"SUM(F8:F10,F16,F20:F21,F26,F33:F34,F40:F41,F42,F48:F50)","v":846},229,0,1075,547,87,0,634]
["SL-12.1.1 ABNORMAL VARIATION IN \"ROAD RAGE INCIDENTS\" DATA",null,null,{"$f":"IF(D43>0,IF((D44/D43*100)>10,\"ABVAR\",\"\"),\"\")","v":""},null,{"$f":"IF(F43>0,IF((F44/F43*100)>10,\"ABVAR\",\"\"),\"\")","v":""},"","","","","","",""]
["SL-14 ABNORMAL VARIATION IN \"OTHER UNNATURAL CAUSES\" DATA",null,null,{"$f":"IF(D51>0,IF((D49/D51*100)>20,\"ABVAR\",\"\"),\"\")","v":""},null,{"$f":"IF(F51>0,IF((F49/F51*100)>20,\"ABVAR\",\"\"),\"\")","v":""},"","","","","","",""]
["SL-15 ABNORMAL VARIATION IN \"CAUSES NOT KNOWN\" DATA",null,null,{"$f":"IF(D51>0,IF((D50/D51*100)>20,\"ABVAR\",\"\"),\"\")","v":""},null,{"$f":"IF(F51>0,IF((F50/F51*100)>20,\"ABVAR\",\"\"),\"\")","v":""},"","","","","","",""]
[]
[]
[]
[]
[]
[]
[]
[]
[]
[]
[]
[]
[]
[]
[]
[]
[]
[]
[]
[]
[]
[]
[]
[]
[]
[]
[]
[]
[]
[]
[]
[]
[]
[]
[]
[]
[]
[]
[]
[]
[]
[]
[]
[]
[]
[]
[]
[]
[]
[]
[]
[]
[]
[]
[]
[]
[]
[]
[]
[]
[]
[]
[]
[]
[]
[]
[]
[]
[]
[]
[]
[]
[]
[]
[]
[]
[]
[]
[]
[]
[]
[]
[]
[]
[]
[]
[]
[]
[]
[]
[]
[]
[]
[]
[]
[]
[]
[]
[]
[]
[]
[]
[]
[]
[]
[]
[]
[]
[]
[]
[]
[]
[]
[]
[]
[]
[]
[]
[]
[]
[]
[]
[]
[]
[]
[]
[]
[]
[]
[]
[]
[]
[]
[]
[]
[]
[]
[]
[]
[]
[]
[]
[]
[]
[]
[null,null,null,null,null,null,null,null,null,null,null,null,null,null,null,null,null,null,null,null,null,null,null,null,null,null,null,null,null,null,null,null,null,null,null,null,null,null,null,null,null,null,null,null,null,null,null,null,null,null,null,null,{"$f":"A1","v":"Goa, , ADSI-2022"}]
[null,null,null,null,null,null,null,null,null,null,null,null,null,null,null,null,null,null,null,null,null,null,null,null,null,null,null,null,null,null,null,null,null,null,null,null,null,null,null,null,null,null,null,null,null,null,null,null,null,null,null,null,{"$f":"A2","v":"Errors"},{"$f":"C2","v":0},null,{"$f":"E2","v":"Abnormal Variations"},{"$f":"F2","v":0}]
[null,null,null,null,null,null,null,null,null,null,null,null,null,null,null,null,null,null,null,null,null,null,null,null,null,null,null,null,null,null,null,null,null,null,null,null,null,null,null,null,null,null,null,null,null,null,null,null,null,null,null,null,{"$f":"A3","v":"Proforma-II"}]
[null,null,null,null,null,null,null,null,null,null,null,null,null,null,null,null,null,null,null,null,null,null,null,null,null,null,null,null,null,null,null,null,null,null,null,null,null,null,null,null,null,null,null,null,null,null,null,null,null,null,null,null,{"$f":"A4","v":"Cause-wise distribution of Un-natural Accidents"}]
[null,null,null,null,null,null,null,null,null,null,null,null,null,null,null,null,null,null,null,null,null,null,null,null,null,null,null,null,null,null,null,null,null,null,null,null,null,null,null,null,null,null,null,null,null,null,null,null,null,null,null,null,{"$f":"B5","v":"S.No."},{"$f":"C5","v":"Causes"},{"$f":"D5","v":"No. of Cases"},{"$f":"E5","v":"VALIDATION WITH NUMBER OF CASES"},{"$f":"F5","v":"No. of Persons Injured"},null,null,null,{"$f":"J5","v":"No. of Persons Died"}]
[null,null,null,null,null,null,null,null,null,null,null,null,null,null,null,null,null,null,null,null,null,null,null,null,null,null,null,null,null,null,null,null,null,null,null,null,null,null,null,null,null,null,null,null,null,null,null,null,null,null,null,null,null,null,null,null,{"$f":"F6","v":"Male"},{"$f":"G6","v":"Female"},{"$f":"H6","v":"Transgender"},{"$f":"I6","v":" Total[sum of (4) to (6)]"},"Male",{"$f":"K6","v":"Female"},{"$f":"L6","v":"Transgender"},{"$f":"M6","v":" Total[sum of (8) to (10)]"}]
[null,null,null,null,null,null,null,null,null,null,null,null,null,null,null,null,null,null,null,null,null,null,null,null,null,null,null,null,null,null,null,null,null,null,null,null,null,null,null,null,null,null,null,null,null,null,null,null,null,null,null,null,{"$f":"B7","v":"(1)"},{"$f":"C7","v":"(2)"},{"$f":"D7","v":"(3)"},null,"(4)","(5)","(6)","(7)","(8)","(9)","(10)","(11)"]
[null,null,null,null,null,null,null,null,null,null,null,null,null,null,null,null,null,null,null,null,null,null,null,null,null,null,null,null,null,null,null,null,null,null,null,null,null,null,null,null,null,null,null,null,null,null,null,null,null,null,null,null,{"$f":"B8","v":1},"Air Crash",0,{"$f":"E8","v":""},0,0,0,0,0,0,0,0]
[null,null,null,null,null,null,null,null,null,null,null,null,null,null,null,null,null,null,null,null,null,null,null,null,null,null,null,null,null,null,null,null,null,null,null,null,null,null,null,null,null,null,null,null,null,null,null,null,null,null,null,null,{"$f":"B9","v":2},"Ship Accidents",0,{"$f":"E9","v":""},0,0,0,0,0,0,0,0]
[null,null,null,null,null,null,null,null,null,null,null,null,null,null,null,null,null,null,null,null,null,null,null,null,null,null,null,null,null,null,null,null,null,null,null,null,null,null,null,null,null,null,null,null,null,null,null,null,null,null,null,null,{"$f":"B10","v":3},"Collapse of Structure (Total) (sum of 3.1 to 3.5)",4,"",0,0,0,0,4,0,0,4]
[null,null,null,null,null,null,null,null,null,null,null,null,null,null,null,null,null,null,null,null,null,null,null,null,null,null,null,null,null,null,null,null,null,null,null,null,null,null,null,null,null,null,null,null,null,null,null,null,null,null,null,null,null,"3.1 Collapse of Dwelling House/Residential building",3,"",0,0,0,0,3,0,0,3]
[null,null,null,null,null,null,null,null,null,null,null,null,null,null,null,null,null,null,null,null,null,null,null,null,null,null,null,null,null,null,null,null,null,null,null,null,null,null,null,null,null,null,null,null,null,null,null,null,null,null,null,null,null,"3.2 Collapse of Official/Commercial Building",0,"",0,0,0,0,0,0,0,0]
[null,null,null,null,null,null,null,null,null,null,null,null,null,null,null,null,null,null,null,null,null,null,null,null,null,null,null,null,null,null,null,null,null,null,null,null,null,null,null,null,null,null,null,null,null,null,null,null,null,null,null,null,null,"3.3 Collapse of Dam",0,"",0,0,0,0,0,0,0,0]
[null,null,null,null,null,null,null,null,null,null,null,null,null,null,null,null,null,null,null,null,null,null,null,null,null,null,null,null,null,null,null,null,null,null,null,null,null,null,null,null,null,null,null,null,null,null,null,null,null,null,null,null,null,"3.4 Collapse of  Bridge",0,"",0,0,0,0,0,0,0,0]
[null,null,null,null,null,null,null,null,null,null,null,null,null,null,null,null,null,null,null,null,null,null,null,null,null,null,null,null,null,null,null,null,null,null,null,null,null,null,null,null,null,null,null,null,null,null,null,null,null,null,null,null,null,"3.5 Others",1,"",0,0,0,0,1,0,0,1]
[null,null,null,null,null,null,null,null,null,null,null,null,null,null,null,null,null,null,null,null,null,null,null,null,null,null,null,null,null,null,null,null,null,null,null,null,null,null,null,null,null,null,null,null,null,null,null,null,null,null,null,null,{"$f":"B16","v":4},"Drowning (Total) (sum of 4.1 to 4.3)",97,"",0,0,0,0,92,8,0,100]
[null,null,null,null,null,null,null,null,null,null,null,null,null,null,null,null,null,null,null,null,null,null,null,null,null,null,null,null,null,null,null,null,null,null,null,null,null,null,null,null,null,null,null,null,null,null,null,null,null,null,null,null,null,"4.1 Boat Capsize",0,"",0,0,0,0,0,0,0,0]
[null,null,null,null,null,null,null,null,null,null,null,null,null,null,null,null,null,null,null,null,null,null,null,null,null,null,null,null,null,null,null,null,null,null,null,null,null,null,null,null,null,null,null,null,null,null,null,null,null,null,null,null,null,"4.2 Accidental Falls into Waterbody",78,"",0,0,0,0,76,5,0,81]
[null,null,null,null,null,null,null,null,null,null,null,null,null,null,null,null,null,null,null,null,null,null,null,null,null,null,null,null,null,null,null,null,null,null,null,null,null,null,null,null,null,null,null,null,null,null,null,null,null,null,null,null,null,"4.3 Other Cases",19,"",0,0,0,0,16,3,0,19]
[null,null,null,null,null,null,null,null,null,null,null,null,null,null,null,null,null,null,null,null,null,null,null,null,null,null,null,null,null,null,null,null,null,null,null,null,null,null,null,null,null,null,null,null,null,null,null,null,null,null,null,null,{"$f":"B20","v":5},"Electrocution",15,"",0,0,0,0,14,1,0,15]
[null,null,null,null,null,null,null,null,null,null,null,null,null,null,null,null,null,null,null,null,null,null,null,null,null,null,null,null,null,null,null,null,null,null,null,null,null,null,null,null,null,null,null,null,null,null,null,null,null,null,null,null,{"$f":"B21","v":6},"Accidental Explosion (Total) (sum of 6.1 to 6.4)",0,"",0,0,0,0,0,0,0,0]
[null,null,null,null,null,null,null,null,null,null,null,null,null,null,null,null,null,null,null,null,null,null,null,null,null,null,null,null,null,null,null,null,null,null,null,null,null,null,null,null,null,null,null,null,null,null,null,null,null,null,null,null,null,"6.1 Domestic Gas Cylinder",0,"",0,0,0,0,0,0,0,0]
[null,null,null,null,null,null,null,null,null,null,null,null,null,null,null,null,null,null,null,null,null,null,null,null,null,null,null,null,null,null,null,null,null,null,null,null,null,null,null,null,null,null,null,null,null,null,null,null,null,null,null,null,null,"6.2 Industrial Boiler/Gas cylinder explosion",0,"",0,0,0,0,0,0,0,0]
[null,null,null,null,null,null,null,null,null,null,null,null,null,null,null,null,null,null,null,null,null,null,null,null,null,null,null,null,null,null,null,null,null,null,null,null,null,null,null,null,null,null,null,null,null,null,null,null,null,null,null,null,null,"6.3 Ammunition explosion in Armed Forces/Police/CPMF",0,"",0,0,0,0,0,0,0,0]
[null,null,null,null,null,null,null,null,null,null,null,null,null,null,null,null,null,null,null,null,null,null,null,null,null,null,null,null,null,null,null,null,null,null,null,null,null,null,null,null,null,null,null,null,null,null,null,null,null,null,null,null,null,"6.4 Other",0,"",0,0,0,0,0,0,0,0]
[null,null,null,null,null,null,null,null,null,null,null,null,null,null,null,null,null,null,null,null,null,null,null,null,null,null,null,null,null,null,null,null,null,null,null,null,null,null,null,null,null,null,null,null,null,null,null,null,null,null,null,null,{"$f":"B26","v":7},"Falls (Total) (sum of 7.1 to 7.6)",142,"",4,0,0,4,125,15,0,140]
[null,null,null,null,null,null,null,null,null,null,null,null,null,null,null,null,null,null,null,null,null,null,null,null,null,null,null,null,null,null,null,null,null,null,null,null,null,null,null,null,null,null,null,null,null,null,null,null,null,null,null,null,null,"7.1 Fall from Height",84,"",2,0,0,2,74,9,0,83]
[null,null,null,null,null,null,null,null,null,null,null,null,null,null,null,null,null,null,null,null,null,null,null,null,null,null,null,null,null,null,null,null,null,null,null,null,null,null,null,null,null,null,null,null,null,null,null,null,null,null,null,null,null,"7.2 Fall from Vehicles (Automobile like Bus, Trucks, etc.)",0,"",0,0,0,0,0,0,0,0]
[null,null,null,null,null,null,null,null,null,null,null,null,null,null,null,null,null,null,null,null,null,null,null,null,null,null,null,null,null,null,null,null,null,null,null,null,null,null,null,null,null,null,null,null,null,null,null,null,null,null,null,null,null,"7.3 Fall into Manhole / Sewer",3,"",1,0,0,1,3,0,0,3]
[null,null,null,null,null,null,null,null,null,null,null,null,null,null,null,null,null,null,null,null,null,null,null,null,null,null,null,null,null,null,null,null,null,null,null,null,null,null,null,null,null,null,null,null,null,null,null,null,null,null,null,null,null,"7.4 Fall into Pit",0,"",0,0,0,0,0,0,0,0]
[null,null,null,null,null,null,null,null,null,null,null,null,null,null,null,null,null,null,null,null,null,null,null,null,null,null,null,null,null,null,null,null,null,null,null,null,null,null,null,null,null,null,null,null,null,null,null,null,null,null,null,null,null,"7.5 Fall into Borewell",0,"",{"$f":"F31","v":0},{"$f":"G31","v":0},{"$f":"H31","v":0},{"$f":"I31","v":0},{"$f":"J31","v":0},{"$f":"K31","v":0},{"$f":"L31","v":0},{"$f":"M31","v":0}]
[null,null,null,null,null,null,null,null,null,null,null,null,null,null,null,null,null,null,null,null,null,null,null,null,null,null,null,null,null,null,null,null,null,null,null,null,null,null,null,null,null,null,null,null,null,null,null,null,null,null,null,null,null,{"$f":"C32","v":"7.6 Others"},{"$f":"D32","v":55},"",{"$f":"F32","v":1},{"$f":"G32","v":0},{"$f":"H32","v":0},{"$f":"I32","v":1},{"$f":"J32","v":48},{"$f":"K32","v":6},{"$f":"L32","v":0},{"$f":"M32","v":54}]
[null,null,null,null,null,null,null,null,null,null,null,null,null,null,null,null,null,null,null,null,null,null,null,null,null,null,null,null,null,null,null,null,null,null,null,null,null,null,null,null,null,null,null,null,null,null,null,null,null,null,null,null,{"$f":"B33","v":8},"Factory/Machine accidents",0,"",0,0,0,0,0,0,0,0]
[null,null,null,null,null,null,null,null,null,null,null,null,null,null,null,null,null,null,null,null,null,null,null,null,null,null,null,null,null,null,null,null,null,null,null,null,null,null,null,null,null,null,null,null,null,null,null,null,null,null,null,null,{"$f":"B34","v":9},"Accidental Fire (Total) (sum of 9.1 to 9.5)",55,"",0,0,0,0,5,13,0,18]
[null,null,null,null,null,null,null,null,null,null,null,null,null,null,null,null,null,null,null,null,null,null,null,null,null,null,null,null,null,null,null,null,null,null,null,null,null,null,null,null,null,null,null,null,null,null,null,null,null,null,null,null,null,"9.1 Electrical Short circuit",21,"",0,0,0,0,1,0,0,1]
[null,null,null,null,null,null,null,null,null,null,null,null,null,null,null,null,null,null,null,null,null,null,null,null,null,null,null,null,null,null,null,null,null,null,null,null,null,null,null,null,null,null,null,null,null,null,null,null,null,null,null,null,null,"9.2 Riot/Agitation",0,"",0,0,0,0,0,0,0,0]
[null,null,null,null,null,null,null,null,null,null,null,null,null,null,null,null,null,null,null,null,null,null,null,null,null,null,null,null,null,null,null,null,null,null,null,null,null,null,null,null,null,null,null,null,null,null,null,null,null,null,null,null,null,"9.3 Fireworks",0,"",0,0,0,0,0,0,0,0]
[null,null,null,null,null,null,null,null,null,null,null,null,null,null,null,null,null,null,null,null,null,null,null,null,null,null,null,null,null,null,null,null,null,null,null,null,null,null,null,null,null,null,null,null,null,null,null,null,null,null,null,null,null,"9.4 Cooking Gas cylinder/stove burst",6,"",0,0,0,0,1,4,0,5]
[null,null,null,null,null,null,null,null,null,null,null,null,null,null,null,null,null,null,null,null,null,null,null,null,null,null,null,null,null,null,null,null,null,null,null,null,null,null,null,null,null,null,null,null,null,null,null,null,null,null,null,null,null,"9.5 Other Causes",28,"",0,0,0,0,3,9,0,12]
[null,null,null,null,null,null,null,null,null,null,null,null,null,null,null,null,null,null,null,null,null,null,null,null,null,null,null,null,null,null,null,null,null,null,null,null,null,null,null,null,null,null,null,null,null,null,null,null,null,null,null,null,{"$f":"B40","v":10},"Firearm",0,"",0,0,0,0,0,0,0,0]
[null,null,null,null,null,null,null,null,null,null,null,null,null,null,null,null,null,null,null,null,null,null,null,null,null,null,null,null,null,null,null,null,null,null,null,null,null,null,null,null,null,null,null,null,null,null,null,null,null,null,null,null,{"$f":"B41","v":11},"Mines or Quarry disaster",0,"",0,0,0,0,0,0,0,0]
[null,null,null,null,null,null,null,null,null,null,null,null,null,null,null,null,null,null,null,null,null,null,null,null,null,null,null,null,null,null,null,null,null,null,null,null,null,null,null,null,null,null,null,null,null,null,null,null,null,null,null,null,{"$f":"B42","v":12},"Traffic Accidents (Total) (sum of 12.1, 12.2 and 12.3)",3066,"",842,229,0,1071,287,41,0,328]
[null,null,null,null,null,null,null,null,null,null,null,null,null,null,null,null,null,null,null,null,null,null,null,null,null,null,null,null,null,null,null,null,null,null,null,null,null,null,null,null,null,null,null,null,null,null,null,null,null,null,null,null,null,"12.1 Road Accidents ",3012,"",842,229,0,1071,233,41,0,274]
[null,null,null,null,null,null,null,null,null,null,null,null,null,null,null,null,null,null,null,null,null,null,null,null,null,null,null,null,null,null,null,null,null,null,null,null,null,null,null,null,null,null,null,null,null,null,null,null,null,null,null,null,null,0,0,"",0,0,0,0,0,0,0,0]
[null,null,null,null,null,null,null,null,null,null,null,null,null,null,null,null,null,null,null,null,null,null,null,null,null,null,null,null,null,null,null,null,null,null,null,null,null,null,null,null,null,null,null,null,null,null,null,null,null,null,null,null,null,0,3012,"",842,229,0,1071,233,41,0,274]
[null,null,null,null,null,null,null,null,null,null,null,null,null,null,null,null,null,null,null,null,null,null,null,null,null,null,null,null,null,null,null,null,null,null,null,null,null,null,null,null,null,null,null,null,null,null,null,null,null,null,null,null,null,"12.2 Railway Crossing Accidents",0,"",0,0,0,0,0,0,0,0]
[null,null,null,null,null,null,null,null,null,null,null,null,null,null,null,null,null,null,null,null,null,null,null,null,null,null,null,null,null,null,null,null,null,null,null,null,null,null,null,null,null,null,null,null,null,null,null,null,null,null,null,null,null,"12.3 Railway Accidents ",54,"",0,0,0,0,54,0,0,54]
[null,null,null,null,null,null,null,null,null,null,null,null,null,null,null,null,null,null,null,null,null,null,null,null,null,null,null,null,null,null,null,null,null,null,null,null,null,null,null,null,null,null,null,null,null,null,null,null,null,null,null,null,{"$f":"B48","v":13},"Stampede",0,"",0,0,0,0,0,0,0,0]
[null,null,null,null,null,null,null,null,null,null,null,null,null,null,null,null,null,null,null,null,null,null,null,null,null,null,null,null,null,null,null,null,null,null,null,null,null,null,null,null,null,null,null,null,null,null,null,null,null,null,null,null,{"$f":"B49","v":14},"Other Unnatural Causes",12,"",0,0,0,0,5,7,0,12]
[null,null,null,null,null,null,null,null,null,null,null,null,null,null,null,null,null,null,null,null,null,null,null,null,null,null,null,null,null,null,null,null,null,null,null,null,null,null,null,null,null,null,null,null,null,null,null,null,null,null,null,null,{"$f":"B50","v":15},"Causes not known",17,"",0,0,0,0,15,2,0,17]
[null,null,null,null,null,null,null,null,null,null,null,null,null,null,null,null,null,null,null,null,null,null,null,null,null,null,null,null,null,null,null,null,null,null,null,null,null,null,null,null,null,null,null,null,null,null,null,null,null,null,null,null,{"$f":"B51","v":16},"Total (sum of Sl. 1 to 15)",3408,"",846,229,0,1075,547,87,0,634]
[null,null,null,null,null,null,null,null,null,null,null,null,null,null,null,null,null,null,null,null,null,null,null,null,null,null,null,null,null,null,null,null,null,null,null,null,null,null,null,null,null,null,null,null,null,null,null,null,null,null,null,null,{"$f":"A52","v":"SL-12.1.1 ABNORMAL VARIATION IN \"ROAD RAGE INCIDENTS\" DATA"},null,{"$f":"D52","v":""},null,"","","","","","","",""]
[null,null,null,null,null,null,null,null,null,null,null,null,null,null,null,null,null,null,null,null,null,null,null,null,null,null,null,null,null,null,null,null,null,null,null,null,null,null,null,null,null,null,null,null,null,null,null,null,null,null,null,null,{"$f":"A53","v":"SL-14 ABNORMAL VARIATION IN \"OTHER UNNATURAL CAUSES\" DATA"},null,{"$f":"D53","v":""},null,"","","","","","","",""]
[null,null,null,null,null,null,null,null,null,null,null,null,null,null,null,null,null,null,null,null,null,null,null,null,null,null,null,null,null,null,null,null,null,null,null,null,null,null,null,null,null,null,null,null,null,null,null,null,null,null,null,null,"SL-15 ABNORMAL VARIATION IN \"CAUSES NOT KNOWN\" DATA",null,"",null,"","","","","","","",""]
[]
[]
[]
[]
[]
[]
[]
[]
[]
[]
[]
[]
[]
[]
[]
[]
[]
[]
[]
[]
[]
[]
[]
[]
[]
[]
[]
[]
[]
[]
[]
[]
[]
[]
[]
[]
[]
[]
[]
[]
[]
[]
[]
[]
[]
[]
[]
[]
[]
[]
[]
[]
[]
[]
[]
[]
[]
[]
[]
[]
[]
[]
[]
[]
[]
[]
[]
[]
[]
[]
[]
[]
[]
[]
[]
[]
[]
[]
[]
[]
[]
[]
[]
[]
[]
[]
[]
[]
[]
[]
[]
[]
[]
[]
[]
[]
[]
[]
[]
[]
[]
[]
[]
[]
[]
[]
[]
[]
[]
[]
[]
[]
[]
[]
[]
[]
[]
[]
[]
[]
[]
[]
[]
[]
[]
[]
[]
[]
[]
[]
[]
[]
[]
[]
[]
[]
[]
[]
[]
[]
[]
[]
[]
[]
[]
[]
[]
[]
[]
[]
[]
[]
[]
[]
[]
[]
[]
[]
[]
[]
[]
[]
[]
[]
[]
[]
[]
[]
[]
[]
[]
[]
[]
[]
[]
[]
[]
[]
[]
[]
[]
[]
[]
[]
[]
[]
[]
[]
[]
[]
[]
[]
[]
[]
[]
[]
[]
[]
[]
[]
[]
[]
[]
[]
[]
[]
[]
[]
[]
[]
[]
[]
[]
[]
[]
[]
[]
[]
[]
[]
[]
[]
[]
[]
[]
[]
[]
[]
[]
[]
[]
[]
[]
[]
[]
[]
[]
[]
[]
[]
[]
[]
[]
[]
[]
[]
["StateUTCityCode","DistrictCode","CrimeCode","DataYear","Number of Cases","Injured_Male","Injured_Female","Injured_Trans","Injured_Total","Died_Male","Died_Female","Died_Trans","Died_Total"]
[{"$f":"IF(ADSI!$G$12=\"\",ADSI!$H$16,ADSI!$H$12)","v":6},{"$f":"IF(ADSI!$G$12=\"\",ADSI!$H$16,ADSI!$H$14)","v":""},{"$f":"A8","v":50},{"$f":"ADSI!$K$12","v":2022},{"$f":"D8","v":0},{"$f":"F8","v":0},{"$f":"G8","v":0},0,0,{"$f":"J8","v":0},0,0,0]
[{"$f":"IF(ADSI!$G$12=\"\",ADSI!$H$16,ADSI!$H$12)","v":6},{"$f":"IF(ADSI!$G$12=\"\",ADSI!$H$16,ADSI!$H$14)","v":""},{"$f":"A9","v":51},{"$f":"ADSI!$K$12","v":2022},{"$f":"D9","v":0},{"$f":"F9","v":0},0,0,0,0,0,0,0]
[{"$f":"IF(ADSI!$G$12=\"\",ADSI!$H$16,ADSI!$H$12)","v":6},{"$f":"IF(ADSI!$G$12=\"\",ADSI!$H$16,ADSI!$H$14)","v":""},52,{"$f":"ADSI!$K$12","v":2022},4,{"$f":"F10","v":0},0,0,0,4,0,0,4]
[{"$f":"IF(ADSI!$G$12=\"\",ADSI!$H$16,ADSI!$H$12)","v":6},{"$f":"IF(ADSI!$G$12=\"\",ADSI!$H$16,ADSI!$H$14)","v":""},53,{"$f":"ADSI!$K$12","v":2022},3,{"$f":"F11","v":0},0,0,0,3,0,0,3]
[{"$f":"IF(ADSI!$G$12=\"\",ADSI!$H$16,ADSI!$H$12)","v":6},{"$f":"IF(ADSI!$G$12=\"\",ADSI!$H$16,ADSI!$H$14)","v":""},54,{"$f":"ADSI!$K$12","v":2022},0,{"$f":"F12","v":0},0,0,0,0,0,0,0]
[{"$f":"IF(ADSI!$G$12=\"\",ADSI!$H$16,ADSI!$H$12)","v":6},{"$f":"IF(ADSI!$G$12=\"\",ADSI!$H$16,ADSI!$H$14)","v":""},55,{"$f":"ADSI!$K$12","v":2022},0,{"$f":"F13","v":0},0,0,0,0,0,0,0]
[{"$f":"IF(ADSI!$G$12=\"\",ADSI!$H$16,ADSI!$H$12)","v":6},{"$f":"IF(ADSI!$G$12=\"\",ADSI!$H$16,ADSI!$H$14)","v":""},56,{"$f":"ADSI!$K$12","v":2022},0,{"$f":"F14","v":0},0,0,0,0,0,0,0]
[{"$f":"IF(ADSI!$G$12=\"\",ADSI!$H$16,ADSI!$H$12)","v":6},{"$f":"IF(ADSI!$G$12=\"\",ADSI!$H$16,ADSI!$H$14)","v":""},57,{"$f":"ADSI!$K$12","v":2022},1,{"$f":"F15","v":0},0,0,0,1,0,0,1]
[{"$f":"IF(ADSI!$G$12=\"\",ADSI!$H$16,ADSI!$H$12)","v":6},{"$f":"IF(ADSI!$G$12=\"\",ADSI!$H$16,ADSI!$H$14)","v":""},58,{"$f":"ADSI!$K$12","v":2022},97,{"$f":"F16","v":0},0,0,0,92,8,0,100]
[{"$f":"IF(ADSI!$G$12=\"\",ADSI!$H$16,ADSI!$H$12)","v":6},{"$f":"IF(ADSI!$G$12=\"\",ADSI!$H$16,ADSI!$H$14)","v":""},59,{"$f":"ADSI!$K$12","v":2022},0,{"$f":"F17","v":0},0,0,0,0,0,0,0]
[{"$f":"IF(ADSI!$G$12=\"\",ADSI!$H$16,ADSI!$H$12)","v":6},{"$f":"IF(ADSI!$G$12=\"\",ADSI!$H$16,ADSI!$H$14)","v":""},60,{"$f":"ADSI!$K$12","v":2022},78,{"$f":"F18","v":0},0,0,0,76,5,0,81]
[{"$f":"IF(ADSI!$G$12=\"\",ADSI!$H$16,ADSI!$H$12)","v":6},{"$f":"IF(ADSI!$G$12=\"\",ADSI!$H$16,ADSI!$H$14)","v":""},61,{"$f":"ADSI!$K$12","v":2022},19,{"$f":"F19","v":0},0,0,0,16,3,0,19]
[{"$f":"IF(ADSI!$G$12=\"\",ADSI!$H$16,ADSI!$H$12)","v":6},{"$f":"IF(ADSI!$G$12=\"\",ADSI!$H$16,ADSI!$H$14)","v":""},62,{"$f":"ADSI!$K$12","v":2022},15,{"$f":"F20","v":0},0,0,0,14,1,0,15]
[{"$f":"IF(ADSI!$G$12=\"\",ADSI!$H$16,ADSI!$H$12)","v":6},{"$f":"IF(ADSI!$G$12=\"\",ADSI!$H$16,ADSI!$H$14)","v":""},63,{"$f":"ADSI!$K$12","v":2022},0,{"$f":"F21","v":0},0,0,0,0,0,0,0]
[{"$f":"IF(ADSI!$G$12=\"\",ADSI!$H$16,ADSI!$H$12)","v":6},{"$f":"IF(ADSI!$G$12=\"\",ADSI!$H$16,ADSI!$H$14)","v":""},64,{"$f":"ADSI!$K$12","v":2022},0,{"$f":"F22","v":0},0,0,0,0,0,0,0]
[{"$f":"IF(ADSI!$G$12=\"\",ADSI!$H$16,ADSI!$H$12)","v":6},{"$f":"IF(ADSI!$G$12=\"\",ADSI!$H$16,ADSI!$H$14)","v":""},65,{"$f":"ADSI!$K$12","v":2022},0,{"$f":"F23","v":0},0,0,0,0,0,0,0]
[{"$f":"IF(ADSI!$G$12=\"\",ADSI!$H$16,ADSI!$H$12)","v":6},{"$f":"IF(ADSI!$G$12=\"\",ADSI!$H$16,ADSI!$H$14)","v":""},66,{"$f":"ADSI!$K$12","v":2022},0,{"$f":"F24","v":0},0,0,0,0,0,0,0]
[{"$f":"IF(ADSI!$G$12=\"\",ADSI!$H$16,ADSI!$H$12)","v":6},{"$f":"IF(ADSI!$G$12=\"\",ADSI!$H$16,ADSI!$H$14)","v":""},67,{"$f":"ADSI!$K$12","v":2022},0,{"$f":"F25","v":0},0,0,0,0,0,0,0]
[{"$f":"IF(ADSI!$G$12=\"\",ADSI!$H$16,ADSI!$H$12)","v":6},{"$f":"IF(ADSI!$G$12=\"\",ADSI!$H$16,ADSI!$H$14)","v":""},68,{"$f":"ADSI!$K$12","v":2022},142,{"$f":"F26","v":4},0,0,4,125,15,0,140]
[{"$f":"IF(ADSI!$G$12=\"\",ADSI!$H$16,ADSI!$H$12)","v":6},{"$f":"IF(ADSI!$G$12=\"\",ADSI!$H$16,ADSI!$H$14)","v":""},69,{"$f":"ADSI!$K$12","v":2022},84,{"$f":"F27","v":2},0,0,2,74,9,0,83]
[{"$f":"IF(ADSI!$G$12=\"\",ADSI!$H$16,ADSI!$H$12)","v":6},{"$f":"IF(ADSI!$G$12=\"\",ADSI!$H$16,ADSI!$H$14)","v":""},70,{"$f":"ADSI!$K$12","v":2022},0,{"$f":"F28","v":0},0,0,0,0,0,0,0]
[{"$f":"IF(ADSI!$G$12=\"\",ADSI!$H$16,ADSI!$H$12)","v":6},{"$f":"IF(ADSI!$G$12=\"\",ADSI!$H$16,ADSI!$H$14)","v":""},71,{"$f":"ADSI!$K$12","v":2022},3,{"$f":"F29","v":1},0,0,1,3,0,0,3]
[{"$f":"IF(ADSI!$G$12=\"\",ADSI!$H$16,ADSI!$H$12)","v":6},{"$f":"IF(ADSI!$G$12=\"\",ADSI!$H$16,ADSI!$H$14)","v":""},72,{"$f":"ADSI!$K$12","v":2022},0,{"$f":"F30","v":0},0,0,0,0,0,0,0]
[{"$f":"IF(ADSI!$G$12=\"\",ADSI!$H$16,ADSI!$H$12)","v":6},{"$f":"IF(ADSI!$G$12=\"\",ADSI!$H$16,ADSI!$H$14)","v":""},73,{"$f":"ADSI!$K$12","v":2022},0,{"$f":"F31","v":0},0,0,0,0,0,0,0]
[{"$f":"IF(ADSI!$G$12=\"\",ADSI!$H$16,ADSI!$H$12)","v":6},{"$f":"IF(ADSI!$G$12=\"\",ADSI!$H$16,ADSI!$H$14)","v":""},74,{"$f":"ADSI!$K$12","v":2022},55,{"$f":"F32","v":1},0,0,1,48,6,0,54]
[{"$f":"IF(ADSI!$G$12=\"\",ADSI!$H$16,ADSI!$H$12)","v":6},{"$f":"IF(ADSI!$G$12=\"\",ADSI!$H$16,ADSI!$H$14)","v":""},75,{"$f":"ADSI!$K$12","v":2022},0,{"$f":"F33","v":0},0,0,0,0,0,0,0]
[{"$f":"IF(ADSI!$G$12=\"\",ADSI!$H$16,ADSI!$H$12)","v":6},{"$f":"IF(ADSI!$G$12=\"\",ADSI!$H$16,ADSI!$H$14)","v":""},76,{"$f":"ADSI!$K$12","v":2022},55,{"$f":"F34","v":0},0,0,0,5,13,0,18]
[{"$f":"IF(ADSI!$G$12=\"\",ADSI!$H$16,ADSI!$H$12)","v":6},{"$f":"IF(ADSI!$G$12=\"\",ADSI!$H$16,ADSI!$H$14)","v":""},77,{"$f":"ADSI!$K$12","v":2022},21,{"$f":"F35","v":0},0,0,0,1,0,0,1]
[{"$f":"IF(ADSI!$G$12=\"\",ADSI!$H$16,ADSI!$H$12)","v":6},{"$f":"IF(ADSI!$G$12=\"\",ADSI!$H$16,ADSI!$H$14)","v":""},78,{"$f":"ADSI!$K$12","v":2022},0,{"$f":"F36","v":0},0,0,0,0,0,0,0]
[{"$f":"IF(ADSI!$G$12=\"\",ADSI!$H$16,ADSI!$H$12)","v":6},{"$f":"IF(ADSI!$G$12=\"\",ADSI!$H$16,ADSI!$H$14)","v":""},79,{"$f":"ADSI!$K$12","v":2022},0,{"$f":"F37","v":0},0,0,0,0,0,0,0]
[{"$f":"IF(ADSI!$G$12=\"\",ADSI!$H$16,ADSI!$H$12)","v":6},{"$f":"IF(ADSI!$G$12=\"\",ADSI!$H$16,ADSI!$H$14)","v":""},80,{"$f":"ADSI!$K$12","v":2022},6,{"$f":"F38","v":0},0,0,0,1,4,0,5]
[{"$f":"IF(ADSI!$G$12=\"\",ADSI!$H$16,ADSI!$H$12)","v":6},{"$f":"IF(ADSI!$G$12=\"\",ADSI!$H$16,ADSI!$H$14)","v":""},81,{"$f":"ADSI!$K$12","v":2022},28,{"$f":"F39","v":0},0,0,0,3,9,0,12]
[{"$f":"IF(ADSI!$G$12=\"\",ADSI!$H$16,ADSI!$H$12)","v":6},{"$f":"IF(ADSI!$G$12=\"\",ADSI!$H$16,ADSI!$H$14)","v":""},82,{"$f":"ADSI!$K$12","v":2022},0,{"$f":"F40","v":0},0,0,0,0,0,0,0]
[{"$f":"IF(ADSI!$G$12=\"\",ADSI!$H$16,ADSI!$H$12)","v":6},{"$f":"IF(ADSI!$G$12=\"\",ADSI!$H$16,ADSI!$H$14)","v":""},83,{"$f":"ADSI!$K$12","v":2022},0,{"$f":"F41","v":0},0,0,0,0,0,0,0]
[{"$f":"IF(ADSI!$G$12=\"\",ADSI!$H$16,ADSI!$H$12)","v":6},{"$f":"IF(ADSI!$G$12=\"\",ADSI!$H$16,ADSI!$H$14)","v":""},84,{"$f":"ADSI!$K$12","v":2022},3066,{"$f":"F42","v":842},229,0,1071,287,41,0,328]
[{"$f":"IF(ADSI!$G$12=\"\",ADSI!$H$16,ADSI!$H$12)","v":6},{"$f":"IF(ADSI!$G$12=\"\",ADSI!$H$16,ADSI!$H$14)","v":""},85,{"$f":"ADSI!$K$12","v":2022},3012,{"$f":"F43","v":842},229,0,1071,233,41,0,274]
[{"$f":"IF(ADSI!$G$12=\"\",ADSI!$H$16,ADSI!$H$12)","v":6},{"$f":"IF(ADSI!$G$12=\"\",ADSI!$H$16,ADSI!$H$14)","v":""},{"$f":"A44","v":86},{"$f":"ADSI!$K$12","v":2022},0,{"$f":"F44","v":0},0,0,0,0,0,0,0]
[{"$f":"IF(ADSI!$G$12=\"\",ADSI!$H$16,ADSI!$H$12)","v":6},{"$f":"IF(ADSI!$G$12=\"\",ADSI!$H$16,ADSI!$H$14)","v":""},87,{"$f":"ADSI!$K$12","v":2022},3012,{"$f":"F45","v":842},229,0,1071,233,41,0,274]
[{"$f":"IF(ADSI!$G$12=\"\",ADSI!$H$16,ADSI!$H$12)","v":6},{"$f":"IF(ADSI!$G$12=\"\",ADSI!$H$16,ADSI!$H$14)","v":""},88,{"$f":"ADSI!$K$12","v":2022},0,{"$f":"F46","v":0},0,0,0,0,0,0,0]
[{"$f":"IF(ADSI!$G$12=\"\",ADSI!$H$16,ADSI!$H$12)","v":6},{"$f":"IF(ADSI!$G$12=\"\",ADSI!$H$16,ADSI!$H$14)","v":""},89,{"$f":"ADSI!$K$12","v":2022},54,{"$f":"F47","v":0},0,0,0,54,0,0,54]
[{"$f":"IF(ADSI!$G$12=\"\",ADSI!$H$16,ADSI!$H$12)","v":6},{"$f":"IF(ADSI!$G$12=\"\",ADSI!$H$16,ADSI!$H$14)","v":""},90,{"$f":"ADSI!$K$12","v":2022},0,{"$f":"F48","v":0},0,0,0,0,0,0,0]
[{"$f":"IF(ADSI!$G$12=\"\",ADSI!$H$16,ADSI!$H$12)","v":6},{"$f":"IF(ADSI!$G$12=\"\",ADSI!$H$16,ADSI!$H$14)","v":""},91,{"$f":"ADSI!$K$12","v":2022},12,{"$f":"F49","v":0},0,0,0,5,7,0,12]
[{"$f":"IF(ADSI!$G$12=\"\",ADSI!$H$16,ADSI!$H$12)","v":6},{"$f":"IF(ADSI!$G$12=\"\",ADSI!$H$16,ADSI!$H$14)","v":""},{"$f":"A50","v":92},{"$f":"ADSI!$K$12","v":2022},17,{"$f":"F50","v":0},0,0,0,15,2,0,17]
[{"$f":"IF(ADSI!$G$12=\"\",ADSI!$H$16,ADSI!$H$12)","v":6},{"$f":"IF(ADSI!$G$12=\"\",ADSI!$H$16,ADSI!$H$14)","v":""},120,{"$f":"ADSI!$K$12","v":2022},3408,{"$f":"F51","v":846},229,0,1075,547,87,0,634]

{"sheet":"P-II-A","index":4,"n_rows":514,"n_cols":64,"rows_kept":514,"cut":false,"hidden":false,"merged":[[203,54,204,54],[203,56,203,59],[203,60,203,63],[4,5,4,8],[4,9,4,12],[203,55,205,55],[4,0,5,0],[4,4,5,4],[203,52,204,52],[4,1,5,1],[4,2,5,2],[4,3,5,3],[23,0,23,2],[222,52,222,53],[220,52,220,53],[221,52,221,53],[21,0,21,2],[22,0,22,2],[203,53,204,53]]}
[{"$f":"ADSI!$B$1","v":"Goa, , ADSI-2022"}]
["Errors",null,{"$f":"COUNTIF(E8:E21,FALSE)+COUNTIF(D23:M23,FALSE)","v":0},null,"Abnormal Variations",{"$f":"COUNTIF(D24:M24,\"ABVAR\")","v":4}]
[{"$f":"IF(ADSI!$L$10=1,LangMaster!A103,LangMaster!B103)","v":"Proforma-II(A)"}]
[{"$f":"IF(ADSI!$L$10=1,LangMaster!A104,LangMaster!B104)","v":"Fire Accidents classified according to Place of Occurrence "}]
[{"$f":"IF(ADSI!$L$10=1,LangMaster!A26,LangMaster!B26)","v":"Code"},{"$f":"IF(ADSI!$L$10=1,LangMaster!A27,LangMaster!B27)","v":"S.No."},{"$f":"IF(ADSI!$L$10=1,LangMaster!A105,LangMaster!B105)","v":"Place of occurrence"},{"$f":"IF(ADSI!$L$10=1,LangMaster!A479,LangMaster!B479)","v":"No. of Cases"},{"$f":"IF(ADSI!$L$10=1,LangMaster!A480,LangMaster!B480)","v":"VALIDATION WITH NUMBER OF CASES"},{"$f":"IF(ADSI!$L$10=1,LangMaster!A481,LangMaster!B481)","v":"No. of Persons Injured"},null,null,null,{"$f":"IF(ADSI!$L$10=1,LangMaster!A482,LangMaster!B482)","v":"No. of Persons Died"}]
[null,null,null,null,null,{"$f":"IF(ADSI!$L$10=1,LangMaster!A30,LangMaster!B30)","v":"Male"},{"$f":"IF(ADSI!$L$10=1,LangMaster!A31,LangMaster!B31)","v":"Female"},{"$f":"IF(ADSI!$L$10=1,LangMaster!A32,LangMaster!B32)","v":"Transgender"},{"$f":"IF(ADSI!$L$10=1,LangMaster!A483,LangMaster!B483)","v":" Total[sum of (4) to (6)]"},{"$f":"IF(ADSI!$L$10=1,LangMaster!A30,LangMaster!B30)","v":"Male"},{"$f":"IF(ADSI!$L$10=1,LangMaster!A31,LangMaster!B31)","v":"Female"},{"$f":"IF(ADSI!$L$10=1,LangMaster!A32,LangMaster!B32)","v":"Transgender"},{"$f":"IF(ADSI!$L$10=1,LangMaster!A484,LangMaster!B484)","v":" Total[sum of (8) to (10)]"}]
[null,"(1)","(2)","(3)",null,"(4)","(5)","(6)","(7)","(8)","(9)","(10)","(11)"]
[150,1,{"$f":"IF(ADSI!$L$10=1,LangMaster!A106,LangMaster!B106)","v":"Fire in School Buildings"},1,{"$f":"IF(AND(OR(I8>0,M8>0),D8=0),FALSE,\"\")","v":""},0,0,0,{"$f":"SUM(F8:H8)","v":0},0,0,0,{"$f":"SUM(J8:L8)","v":0}]
[151,2,{"$f":"IF(ADSI!$L$10=1,LangMaster!A107,LangMaster!B107)","v":"Fire in Commercial Buildings"},2,{"$f":"IF(AND(OR(I9>0,M9>0),D9=0),FALSE,\"\")","v":""},0,0,0,{"$f":"SUM(F9:H9)","v":0},0,0,0,{"$f":"SUM(J9:L9)","v":0}]
[152,3,{"$f":"IF(ADSI!$L$10=1,LangMaster!A108,LangMaster!B108)","v":"Fire in Residential/Dwelling Building"},17,"",0,0,0,0,2,9,0,11]
[153,4,{"$f":"IF(ADSI!$L$10=1,LangMaster!A109,LangMaster!B109)","v":"Fire in Government Buildings"},2,"",0,0,0,0,0,0,0,0]
[154,5,{"$f":"IF(ADSI!$L$10=1,LangMaster!A110,LangMaster!B110)","v":"Fire in the Mines"},0,"",0,0,0,0,0,0,0,0]
[155,6,{"$f":"IF(ADSI!$L$10=1,LangMaster!A111,LangMaster!B111)","v":"Fire in Factory manufacturing combustible materials including Cracker/Match Box Factories"},0,"",0,0,0,0,0,0,0,0]
[156,7,{"$f":"IF(ADSI!$L$10=1,LangMaster!A112,LangMaster!B112)","v":"Fire in the factories (other than Sl.-6)"},0,"",0,0,0,0,0,0,0,0]
[157,8,{"$f":"IF(ADSI!$L$10=1,LangMaster!A113,LangMaster!B113)","v":"Accidental Fire in Train(s)"},0,"",0,0,0,0,0,0,0,0]
[158,9,{"$f":"IF(ADSI!$L$10=1,LangMaster!A114,LangMaster!B114)","v":"Accidental Fire in Vehicles (Automobiles) (Total) (sum of 9.1 to 9.3)"},{"$f":"SUM(D17:D19)","v":19},"",{"$f":"SUM(F17:F19)","v":0},0,0,0,{"$f":"SUM(J17:J19)","v":0},0,0,0]
[159,null,{"$f":"IF(ADSI!$L$10=1,LangMaster!A115,LangMaster!B115)","v":"9.1 Passenger Vehicle (e.g. Bus/Taxi/ Auto/etc.)"},3,"",0,0,0,0,0,0,0,0]
[160,null,{"$f":"IF(ADSI!$L$10=1,LangMaster!A116,LangMaster!B116)","v":"9.2 Private Vehicle"},12,"",0,0,0,0,0,0,0,0]
[161,null,{"$f":"IF(ADSI!$L$10=1,LangMaster!A117,LangMaster!B117)","v":"9.3 Goods Carriers"},4,"",0,0,0,0,0,0,0,0]
[162,10,{"$f":"IF(ADSI!$L$10=1,LangMaster!A118,LangMaster!B118)","v":"Others"},14,"",0,0,0,0,3,4,0,7]
[180,11,{"$f":"IF(ADSI!$L$10=1,LangMaster!A119,LangMaster!B119)","v":"Total (sum of Sl. 1 to 10)"},{"$f":"SUM(D8:D16, (D20:D20))","v":55},"",{"$f":"SUM(F8:F16, (F20:F20))","v":0},0,0,0,5,13,0,18]
[" PROFORMA–II VALUES [Sl.– 9 (Accidental Fire (Total))]",null,null,{"$f":"'P-II'!D34","v":55},null,{"$f":"'P-II'!F34","v":0},{"$f":"'P-II'!G34","v":0},{"$f":"'P-II'!H34","v":0},{"$f":"'P-II'!I34","v":0},{"$f":"'P-II'!J34","v":5},{"$f":"'P-II'!K34","v":13},{"$f":"'P-II'!L34","v":0},{"$f":"'P-II'!M34","v":18}]
["VALIDATION WITH PROFORMA–II [Sl.– 9 (Accidental Fire (Total))]",null,null,{"$f":"IF(D21='P-II'!D34, \"\", FALSE)","v":""},null,{"$f":"IF(F21='P-II'!F34, \"\", FALSE)","v":""},{"$f":"IF(G21='P-II'!G34, \"\", FALSE)","v":""},{"$f":"IF(H21='P-II'!H34, \"\", FALSE)","v":""},{"$f":"IF(I21='P-II'!I34, \"\", FALSE)","v":""},{"$f":"IF(J21='P-II'!J34, \"\", FALSE)","v":""},{"$f":"IF(K21='P-II'!K34, \"\", FALSE)","v":""},{"$f":"IF(L21='P-II'!L34, \"\", FALSE)","v":""},{"$f":"IF(M21='P-II'!M34, \"\", FALSE)","v":""}]
["SL-10 ABNORMAL VARIATION IN \"OTHERS\" DATA",null,null,{"$f":"IF(D21>0,IF((D20/D21*100)>20,\"ABVAR\",\"\"),\"\")","v":"ABVAR"},null,{"$f":"IF(F21>0,IF((F20/F21*100)>20,\"ABVAR\",\"\"),\"\")","v":""},"","","","ABVAR","ABVAR","","ABVAR"]
[]
[]
[]
[]
[]
[]
[]
[]
[]
[]
[]
[]
[]
[]
[]
[]
[]
[]
[]
[]
[]
[]
[]
[]
[]
[]
[]
[]
[]
[]
[]
[]
[]
[]
[]
[]
[]
[]
[]
[]
[]
[]
[]
[]
[]
[]
[]
[]
[]
[]
[]
[]
[]
[]
[]
[]
[]
[]
[]
[]
[]
[]
[]
[]
[]
[]
[]
[]
[]
[]
[]
[]
[]
[]
[]
[]
[]
[]
[]
[]
[]
[]
[]
[]
[]
[]
[]
[]
[]
[]
[]
[]
[]
[]
[]
[]
[]
[]
[]
[]
[]
[]
[]
[]
[]
[]
[]
[]
[]
[]
[]
[]
[]
[]
[]
[]
[]
[]
[]
[]
[]
[]
[]
[]
[]
[]
[]
[]
[]
[]
[]
[]
[]
[]
[]
[]
[]
[]
[]
[]
[]
[]
[]
[]
[]
[]
[]
[]
[]
[]
[]
[]
[]
[]
[]
[]
[]
[]
[]
[]
[]
[]
[]
[]
[]
[]
[]
[]
[]
[]
[]
[]
[]
[]
[]
[null,null,null,null,null,null,null,null,null,null,null,null,null,null,null,null,null,null,null,null,null,null,null,null,null,null,null,null,null,null,null,null,null,null,null,null,null,null,null,null,null,null,null,null,null,null,null,null,null,null,null,null,{"$f":"A1","v":"Goa, , ADSI-2022"}]
[null,null,null,null,null,null,null,null,null,null,null,null,null,null,null,null,null,null,null,null,null,null,null,null,null,null,null,null,null,null,null,null,null,null,null,null,null,null,null,null,null,null,null,null,null,null,null,null,null,null,null,null,{"$f":"A2","v":"Errors"},{"$f":"C2","v":0},null,{"$f":"E2","v":"Abnormal Variations"},{"$f":"F2","v":4}]
[null,null,null,null,null,null,null,null,null,null,null,null,null,null,null,null,null,null,null,null,null,null,null,null,null,null,null,null,null,null,null,null,null,null,null,null,null,null,null,null,null,null,null,null,null,null,null,null,null,null,null,null,{"$f":"A3","v":"Proforma-II(A)"}]
[null,null,null,null,null,null,null,null,null,null,null,null,null,null,null,null,null,null,null,null,null,null,null,null,null,null,null,null,null,null,null,null,null,null,null,null,null,null,null,null,null,null,null,null,null,null,null,null,null,null,null,null,{"$f":"A4","v":"Fire Accidents classified according to Place of Occurrence "}]
[null,null,null,null,null,null,null,null,null,null,null,null,null,null,null,null,null,null,null,null,null,null,null,null,null,null,null,null,null,null,null,null,null,null,null,null,null,null,null,null,null,null,null,null,null,null,null,null,null,null,null,null,{"$f":"B5","v":"S.No."},{"$f":"C5","v":"Place of occurrence"},{"$f":"D5","v":"No. of Cases"},{"$f":"E5","v":"VALIDATION WITH NUMBER OF CASES"},{"$f":"F5","v":"No. of Persons Injured"},null,null,null,{"$f":"J5","v":"No. of Persons Died"}]
[null,null,null,null,null,null,null,null,null,null,null,null,null,null,null,null,null,null,null,null,null,null,null,null,null,null,null,null,null,null,null,null,null,null,null,null,null,null,null,null,null,null,null,null,null,null,null,null,null,null,null,null,null,null,null,null,"Male",{"$f":"G6","v":"Female"},{"$f":"H6","v":"Transgender"},{"$f":"I6","v":" Total[sum of (4) to (6)]"},"Male",{"$f":"K6","v":"Female"},{"$f":"L6","v":"Transgender"},{"$f":"M6","v":" Total[sum of (8) to (10)]"}]
[null,null,null,null,null,null,null,null,null,null,null,null,null,null,null,null,null,null,null,null,null,null,null,null,null,null,null,null,null,null,null,null,null,null,null,null,null,null,null,null,null,null,null,null,null,null,null,null,null,null,null,null,{"$f":"B7","v":"(1)"},{"$f":"C7","v":"(2)"},{"$f":"D7","v":"(3)"},null,"(4)","(5)","(6)","(7)","(8)","(9)","(10)","(11)"]
[null,null,null,null,null,null,null,null,null,null,null,null,null,null,null,null,null,null,null,null,null,null,null,null,null,null,null,null,null,null,null,null,null,null,null,null,null,null,null,null,null,null,null,null,null,null,null,null,null,null,null,null,1,"Fire in School Buildings",1,{"$f":"E8","v":""},0,0,0,0,0,0,0,0]
[null,null,null,null,null,null,null,null,null,null,null,null,null,null,null,null,null,null,null,null,null,null,null,null,null,null,null,null,null,null,null,null,null,null,null,null,null,null,null,null,null,null,null,null,null,null,null,null,null,null,null,null,2,"Fire in Commercial Buildings",2,{"$f":"E9","v":""},0,0,0,0,0,0,0,0]
[null,null,null,null,null,null,null,null,null,null,null,null,null,null,null,null,null,null,null,null,null,null,null,null,null,null,null,null,null,null,null,null,null,null,null,null,null,null,null,null,null,null,null,null,null,null,null,null,null,null,null,null,3,"Fire in Residential/Dwelling Building",17,"",0,0,0,0,2,9,0,11]
[null,null,null,null,null,null,null,null,null,null,null,null,null,null,null,null,null,null,null,null,null,null,null,null,null,null,null,null,null,null,null,null,null,null,null,null,null,null,null,null,null,null,null,null,null,null,null,null,null,null,null,null,4,"Fire in Government Buildings",2,"",0,0,0,0,0,0,0,0]
[null,null,null,null,null,null,null,null,null,null,null,null,null,null,null,null,null,null,null,null,null,null,null,null,null,null,null,null,null,null,null,null,null,null,null,null,null,null,null,null,null,null,null,null,null,null,null,null,null,null,null,null,5,"Fire in the Mines",0,"",0,0,0,0,0,0,0,0]
[null,null,null,null,null,null,null,null,null,null,null,null,null,null,null,null,null,null,null,null,null,null,null,null,null,null,null,null,null,null,null,null,null,null,null,null,null,null,null,null,null,null,null,null,null,null,null,null,null,null,null,null,6,"Fire in Factory manufacturing combustible materials including Cracker/Match Box Factories",0,"",0,0,0,0,0,0,0,0]
[null,null,null,null,null,null,null,null,null,null,null,null,null,null,null,null,null,null,null,null,null,null,null,null,null,null,null,null,null,null,null,null,null,null,null,null,null,null,null,null,null,null,null,null,null,null,null,null,null,null,null,null,7,"Fire in the factories (other than Sl.-6)",0,"",0,0,0,0,0,0,0,0]
[null,null,null,null,null,null,null,null,null,null,null,null,null,null,null,null,null,null,null,null,null,null,null,null,null,null,null,null,null,null,null,null,null,null,null,null,null,null,null,null,null,null,null,null,null,null,null,null,null,null,null,null,8,"Accidental Fire in Train(s)",0,"",0,0,0,0,0,0,0,0]
[null,null,null,null,null,null,null,null,null,null,null,null,null,null,null,null,null,null,null,null,null,null,null,null,null,null,null,null,null,null,null,null,null,null,null,null,null,null,null,null,null,null,null,null,null,null,null,null,null,null,null,null,9,"Accidental Fire in Vehicles (Automobiles) (Total) (sum of 9.1 to 9.3)",19,"",0,0,0,0,0,0,0,0]
[null,null,null,null,null,null,null,null,null,null,null,null,null,null,null,null,null,null,null,null,null,null,null,null,null,null,null,null,null,null,null,null,null,null,null,null,null,null,null,null,null,null,null,null,null,null,null,null,null,null,null,null,null,{"$f":"C17","v":"9.1 Passenger Vehicle (e.g. Bus/Taxi/ Auto/etc.)"},3,"",0,0,0,0,0,0,0,0]
[null,null,null,null,null,null,null,null,null,null,null,null,null,null,null,null,null,null,null,null,null,null,null,null,null,null,null,null,null,null,null,null,null,null,null,null,null,null,null,null,null,null,null,null,null,null,null,null,null,null,null,null,null,"9.2 Private Vehicle",12,"",0,0,0,0,0,0,0,0]
[null,null,null,null,null,null,null,null,null,null,null,null,null,null,null,null,null,null,null,null,null,null,null,null,null,null,null,null,null,null,null,null,null,null,null,null,null,null,null,null,null,null,null,null,null,null,null,null,null,null,null,null,null,"9.3 Goods Carriers",4,"",0,0,0,0,0,0,0,0]
[null,null,null,null,null,null,null,null,null,null,null,null,null,null,null,null,null,null,null,null,null,null,null,null,null,null,null,null,null,null,null,null,null,null,null,null,null,null,null,null,null,null,null,null,null,null,null,null,null,null,null,null,{"$f":"B20","v":10},{"$f":"C20","v":"Others"},{"$f":"D20","v":14},"",{"$f":"F20","v":0},{"$f":"G20","v":0},{"$f":"H20","v":0},{"$f":"I20","v":0},{"$f":"J20","v":3},{"$f":"K20","v":4},{"$f":"L20","v":0},{"$f":"M20","v":7}]
[null,null,null,null,null,null,null,null,null,null,null,null,null,null,null,null,null,null,null,null,null,null,null,null,null,null,null,null,null,null,null,null,null,null,null,null,null,null,null,null,null,null,null,null,null,null,null,null,null,null,null,null,{"$f":"B21","v":11},"Total (sum of Sl. 1 to 10)",55,"",0,0,0,0,5,13,0,18]
[null,null,null,null,null,null,null,null,null,null,null,null,null,null,null,null,null,null,null,null,null,null,null,null,null,null,null,null,null,null,null,null,null,null,null,null,null,null,null,null,null,null,null,null,null,null,null,null,null,null,null,null,{"$f":"A22","v":" PROFORMA–II VALUES [Sl.– 9 (Accidental Fire (Total))]"},null,{"$f":"D22","v":55},null,0,0,0,0,5,13,0,18]
[null,null,null,null,null,null,null,null,null,null,null,null,null,null,null,null,null,null,null,null,null,null,null,null,null,null,null,null,null,null,null,null,null,null,null,null,null,null,null,null,null,null,null,null,null,null,null,null,null,null,null,null,{"$f":"A23","v":"VALIDATION WITH PROFORMA–II [Sl.– 9 (Accidental Fire (Total))]"},null,{"$f":"D23","v":""},null,"","","","","","","",""]
[null,null,null,null,null,null,null,null,null,null,null,null,null,null,null,null,null,null,null,null,null,null,null,null,null,null,null,null,null,null,null,null,null,null,null,null,null,null,null,null,null,null,null,null,null,null,null,null,null,null,null,null,{"$f":"A24","v":"SL-10 ABNORMAL VARIATION IN \"OTHERS\" DATA"},null,{"$f":"D24","v":"ABVAR"},null,"","","","","ABVAR","ABVAR","","ABVAR"]
[]
[]
[]
[]
[]
[]
[]
[]
[]
[]
[]
[]
[]
[]
[]
[]
[]
[]
[]
[]
[]
[]
[]
[]
[]
[]
[]
[]
[]
[]
[]
[]
[]
[]
[]
[]
[]
[]
[]
[]
[]
[]
[]
[]
[]
[]
[]
[]
[]
[]
[]
[]
[]
[]
[]
[]
[]
[]
[]
[]
[]
[]
[]
[]
[]
[]
[]
[]
[]
[]
[]
[]
[]
[]
[]
[]
[]
[]
[]
[]
[]
[]
[]
[]
[]
[]
[]
[]
[]
[]
[]
[]
[]
[]
[]
[]
[]
[]
[]
[]
[]
[]
[]
[]
[]
[]
[]
[]
[]
[]
[]
[]
[]
[]
[]
[]
[]
[]
[]
[]
[]
[]
[]
[]
[]
[]
[]
[]
[]
[]
[]
[]
[]
[]
[]
[]
[]
[]
[]
[]
[]
[]
[]
[]
[]
[]
[]
[]
[]
[]
[]
[]
[]
[]
[]
[]
[]
[]
[]
[]
[]
[]
[]
[]
[]
[]
[]
[]
[]
[]
[]
[]
[]
[]
[]
[]
[]
[]
[]
[]
[]
[]
[]
[]
[]
[]
[]
[]
[]
[]
[]
[]
[]
[]
[]
[]
[]
[]
[]
[]
[]
[]
[]
[]
[]
[]
[]
[]
[]
[]
[]
[]
[]
[]
[]
[]
[]
[]
[]
[]
[]
[]
[]
[]
[]
[]
[]
[]
[]
[]
[]
[]
[]
[]
[]
[]
[]
[]
[]
[]
[]
[]
[]
[]
[]
[]
[]
[]
[]
[]
[]
[]
[]
[]
[]
[]
[]
[]
[]
[]
[]
[]
[]
[]
[]
[]
[]
[]
[]
[]
[]
[]
[]
[]
[]
[]
["StateUTCityCode","DistrictCode","CrimeCode","DataYear","Number of Cases","Injured_Male","Injured_Female","Injured_Trans","Injured_Total","Died_Male","Died_Female","Died_Trans","Died_Total"]
[{"$f":"IF(ADSI!$G$12=\"\",ADSI!$H$16,ADSI!$H$12)","v":6},{"$f":"IF(ADSI!$G$12=\"\",ADSI!$H$16,ADSI!$H$14)","v":""},{"$f":"A8","v":150},{"$f":"ADSI!$K$12","v":2022},{"$f":"D8","v":1},{"$f":"F8","v":0},{"$f":"G8","v":0},0,0,0,0,0,0]
[{"$f":"IF(ADSI!$G$12=\"\",ADSI!$H$16,ADSI!$H$12)","v":6},{"$f":"IF(ADSI!$G$12=\"\",ADSI!$H$16,ADSI!$H$14)","v":""},{"$f":"A9","v":151},{"$f":"ADSI!$K$12","v":2022},{"$f":"D9","v":2},{"$f":"F9","v":0},0,0,0,0,0,0,0]
[{"$f":"IF(ADSI!$G$12=\"\",ADSI!$H$16,ADSI!$H$12)","v":6},{"$f":"IF(ADSI!$G$12=\"\",ADSI!$H$16,ADSI!$H$14)","v":""},152,{"$f":"ADSI!$K$12","v":2022},17,{"$f":"F10","v":0},0,0,0,2,9,0,11]
[{"$f":"IF(ADSI!$G$12=\"\",ADSI!$H$16,ADSI!$H$12)","v":6},{"$f":"IF(ADSI!$G$12=\"\",ADSI!$H$16,ADSI!$H$14)","v":""},153,{"$f":"ADSI!$K$12","v":2022},2,{"$f":"F11","v":0},0,0,0,0,0,0,0]
[{"$f":"IF(ADSI!$G$12=\"\",ADSI!$H$16,ADSI!$H$12)","v":6},{"$f":"IF(ADSI!$G$12=\"\",ADSI!$H$16,ADSI!$H$14)","v":""},154,{"$f":"ADSI!$K$12","v":2022},0,{"$f":"F12","v":0},0,0,0,0,0,0,0]
[{"$f":"IF(ADSI!$G$12=\"\",ADSI!$H$16,ADSI!$H$12)","v":6},{"$f":"IF(ADSI!$G$12=\"\",ADSI!$H$16,ADSI!$H$14)","v":""},155,{"$f":"ADSI!$K$12","v":2022},0,{"$f":"F13","v":0},0,0,0,0,0,0,0]
[{"$f":"IF(ADSI!$G$12=\"\",ADSI!$H$16,ADSI!$H$12)","v":6},{"$f":"IF(ADSI!$G$12=\"\",ADSI!$H$16,ADSI!$H$14)","v":""},156,{"$f":"ADSI!$K$12","v":2022},0,{"$f":"F14","v":0},0,0,0,0,0,0,0]
[{"$f":"IF(ADSI!$G$12=\"\",ADSI!$H$16,ADSI!$H$12)","v":6},{"$f":"IF(ADSI!$G$12=\"\",ADSI!$H$16,ADSI!$H$14)","v":""},157,{"$f":"ADSI!$K$12","v":2022},0,{"$f":"F15","v":0},0,0,0,0,0,0,0]
[{"$f":"IF(ADSI!$G$12=\"\",ADSI!$H$16,ADSI!$H$12)","v":6},{"$f":"IF(ADSI!$G$12=\"\",ADSI!$H$16,ADSI!$H$14)","v":""},158,{"$f":"ADSI!$K$12","v":2022},19,{"$f":"F16","v":0},0,0,0,0,0,0,0]
[{"$f":"IF(ADSI!$G$12=\"\",ADSI!$H$16,ADSI!$H$12)","v":6},{"$f":"IF(ADSI!$G$12=\"\",ADSI!$H$16,ADSI!$H$14)","v":""},159,{"$f":"ADSI!$K$12","v":2022},3,{"$f":"F17","v":0},0,0,0,0,0,0,0]
[{"$f":"IF(ADSI!$G$12=\"\",ADSI!$H$16,ADSI!$H$12)","v":6},{"$f":"IF(ADSI!$G$12=\"\",ADSI!$H$16,ADSI!$H$14)","v":""},160,{"$f":"ADSI!$K$12","v":2022},12,{"$f":"F18","v":0},0,0,0,0,0,0,0]
[{"$f":"IF(ADSI!$G$12=\"\",ADSI!$H$16,ADSI!$H$12)","v":6},{"$f":"IF(ADSI!$G$12=\"\",ADSI!$H$16,ADSI!$H$14)","v":""},161,{"$f":"ADSI!$K$12","v":2022},4,{"$f":"F19","v":0},0,0,0,0,0,0,0]
[{"$f":"IF(ADSI!$G$12=\"\",ADSI!$H$16,ADSI!$H$12)","v":6},{"$f":"IF(ADSI!$G$12=\"\",ADSI!$H$16,ADSI!$H$14)","v":""},162,{"$f":"ADSI!$K$12","v":2022},14,{"$f":"F20","v":0},0,0,0,3,4,0,7]
[{"$f":"IF(ADSI!$G$12=\"\",ADSI!$H$16,ADSI!$H$12)","v":6},{"$f":"IF(ADSI!$G$12=\"\",ADSI!$H$16,ADSI!$H$14)","v":""},180,{"$f":"ADSI!$K$12","v":2022},55,{"$f":"F21","v":0},0,0,0,5,13,0,18]

{"sheet":"P-III","index":5,"n_rows":544,"n_cols":84,"rows_kept":544,"cut":false,"hidden":false,"merged":[[4,0,6,0],[5,3,5,11],[5,12,5,20],[5,21,5,29],[4,3,4,29],[4,31,6,31],[4,32,6,32],[4,1,6,1],[4,2,6,2],[4,30,6,30],[203,81,205,81],[203,82,206,82],[203,83,206,83],[203,52,205,52],[203,53,205,53],[203,54,203,80],[204,54,204,62],[204,63,204,71],[204,72,204,80],[205,79,206,79],[205,80,206,80],[205,70,206,70],[205,71,206,71],[205,61,206,61],[205,62,206,62],[252,52,252,53],[253,52,253,53],[251,52,251,53],[52,0,52,2],[53,0,53,2],[54,0,54,2]]}
[{"$f":"ADSI!$B$1","v":"Goa, , ADSI-2022"}]
["Errors",null,{"$f":"COUNTIF(L9:L52,FALSE)+COUNTIF(U9:U52,FALSE)+COUNTIF(AD9:AD52,FALSE)+COUNTIF(AG9:AG52,FALSE)","v":0},null,"Abnormal Variations",{"$f":"COUNTIF(D53:AG55,\"ABVAR\")","v":1}]
[{"$f":"IF(ADSI!$L$10=1,LangMaster!A120,LangMaster!B120)","v":"Proforma-III"}]
[{"$f":"IF(ADSI!$L$10=1,LangMaster!A121,LangMaster!B121)","v":"Age wise Distribution of Accidental Deaths by Un-Natural Causes"}]
[{"$f":"IF(ADSI!$L$10=1,LangMaster!A26,LangMaster!B26)","v":"Code"},{"$f":"IF(ADSI!$L$10=1,LangMaster!A27,LangMaster!B27)","v":"S.No."},{"$f":"IF(ADSI!$L$10=1,LangMaster!A478,LangMaster!B478)","v":"Causes"},{"$f":"IF(ADSI!$L$10=1,LangMaster!A29,LangMaster!B29)","v":"Number of Accidental Deaths"},null,null,null,null,null,null,null,null,null,null,null,null,null,null,null,null,null,null,null,null,null,null,null,null,null,null,{"$f":"IF(ADSI!$L$10=1,LangMaster!A473,LangMaster!B473)","v":"Grand Total (9) + (16)+(23)"}," PROFORMA–II VALUES [Col.–(11) (Total Died)]","VALIDATION  WITH PROFORMA-II [Col.–(11) (Total Died)]"]
[null,null,null,{"$f":"IF(ADSI!$L$10=1,LangMaster!A30,LangMaster!B30)","v":"Male"},null,null,null,null,null,null,null,null,{"$f":"IF(ADSI!$L$10=1,LangMaster!A31,LangMaster!B31)","v":"Female"},null,null,null,null,null,null,null,null,{"$f":"IF(ADSI!$L$10=1,LangMaster!A32,LangMaster!B32)","v":"Transgender"}]
[null,null,null,{"$f":"IF(ADSI!$L$10=1,LangMaster!A461,LangMaster!B461)","v":"below 14 years"},{"$f":"IF(ADSI!$L$10=1,LangMaster!A462,LangMaster!B462)","v":"14 and above – below 18 years"},{"$f":"IF(ADSI!$L$10=1,LangMaster!A463,LangMaster!B463)","v":"18 and above – below 30 years"},{"$f":"IF(ADSI!$L$10=1,LangMaster!A464,LangMaster!B464)","v":"30 and above – below 45 years"},{"$f":"IF(ADSI!$L$10=1,LangMaster!A465,LangMaster!B465)","v":"45 and above – below 60 years"},{"$f":"IF(ADSI!$L$10=1,LangMaster!A466,LangMaster!B466)","v":"60 years & above"},{"$f":"IF(ADSI!$L$10=1,LangMaster!A470,LangMaster!B470)","v":" Total [sum of (3) to (8)]"}," PROFORMA–II VALUES [Col.–(8) (Male Died)]","VALIDATION  WITH PROFORMA-II [Col.–(8) (Male Died)]",{"$f":"IF(ADSI!$L$10=1,LangMaster!A461,LangMaster!B461)","v":"below 14 years"},{"$f":"IF(ADSI!$L$10=1,LangMaster!A462,LangMaster!B462)","v":"14 and above – below 18 years"},{"$f":"IF(ADSI!$L$10=1,LangMaster!A463,LangMaster!B463)","v":"18 and above – below 30 years"},{"$f":"IF(ADSI!$L$10=1,LangMaster!A464,LangMaster!B464)","v":"30 and above – below 45 years"},{"$f":"IF(ADSI!$L$10=1,LangMaster!A465,LangMaster!B465)","v":"45 and above – below 60 years"},{"$f":"IF(ADSI!$L$10=1,LangMaster!A466,LangMaster!B466)","v":"60 years & above"},{"$f":"IF(ADSI!$L$10=1,LangMaster!A471,LangMaster!B471)","v":"Total    [sum of (10) to (15)]"}," PROFORMA–II VALUES [Col.–(9) (Female Died)]","VALIDATION  WITH PROFORMA-II [Col.–(9) (Female Died)]",{"$f":"IF(ADSI!$L$10=1,LangMaster!A461,LangMaster!B461)","v":"below 14 years"},{"$f":"IF(ADSI!$L$10=1,LangMaster!A462,LangMaster!B462)","v":"14 and above – below 18 years"},{"$f":"IF(ADSI!$L$10=1,LangMaster!A463,LangMaster!B463)","v":"18 and above – below 30 years"},{"$f":"IF(ADSI!$L$10=1,LangMaster!A464,LangMaster!B464)","v":"30 and above – below 45 years"},{"$f":"IF(ADSI!$L$10=1,LangMaster!A465,LangMaster!B465)","v":"45 and above – below 60 years"},{"$f":"IF(ADSI!$L$10=1,LangMaster!A466,LangMaster!B466)","v":"60 years & above"},{"$f":"IF(ADSI!$L$10=1,LangMaster!A472,LangMaster!B472)","v":"Total [sum of (17) to (22)]"}," PROFORMA–II VALUES [Col.–(10) (Transgender Died)]","VALIDATION  WITH PROFORMA-II [Col.–(10) (Transgender Died)]"]
[null,"(1)","(2)","(3)","(4)","(5)","(6)","(7)","(8)","(9)",null,null,"(10)","(11)","(12)","(13)","(14)","(15)","(16)",null,null,"(17)","(18)","(19)","(20)","(21)","(22)","(23)",null,null,"(24)"]
[200,1,{"$f":"IF(ADSI!$L$10=1,LangMaster!A59,LangMaster!B59)","v":"Air Crash"},0,0,0,0,0,0,{"$f":"SUM(D9:I9)","v":0},{"$f":"'P-II'!J8","v":0},{"$f":"IF(J9='P-II'!J8,\"\",FALSE)","v":""},0,0,0,0,0,0,{"$f":"SUM(M9:R9)","v":0},{"$f":"'P-II'!K8","v":0},{"$f":"IF(S9='P-II'!K8,\"\",FALSE)","v":""},0,0,0,0,0,0,{"$f":"SUM(V9:AA9)","v":0},{"$f":"'P-II'!L8","v":0},{"$f":"IF(AB9='P-II'!L8,\"\",FALSE)","v":""},{"$f":"SUM(J9+S9+AB9)","v":0},{"$f":"'P-II'!M8","v":0},{"$f":"IF(AE9='P-II'!M8,\"\",FALSE)","v":""}]
[201,2,{"$f":"IF(ADSI!$L$10=1,LangMaster!A60,LangMaster!B60)","v":"Ship Accidents"},0,0,0,0,0,0,0,{"$f":"'P-II'!J9","v":0},{"$f":"IF(J10='P-II'!J9,\"\",FALSE)","v":""},0,0,0,0,0,0,{"$f":"SUM(M10:R10)","v":0},{"$f":"'P-II'!K9","v":0},{"$f":"IF(S10='P-II'!K9,\"\",FALSE)","v":""},0,0,0,0,0,0,{"$f":"SUM(V10:AA10)","v":0},{"$f":"'P-II'!L9","v":0},{"$f":"IF(AB10='P-II'!L9,\"\",FALSE)","v":""},{"$f":"SUM(J10+S10+AB10)","v":0},{"$f":"'P-II'!M9","v":0},{"$f":"IF(AE10='P-II'!M9,\"\",FALSE)","v":""}]
[202,3,{"$f":"IF(ADSI!$L$10=1,LangMaster!A61,LangMaster!B61)","v":"Collapse of Structure (Total) (sum of 3.1 to 3.5)"},{"$f":"SUM(D12:D16)","v":0},{"$f":"SUM(E12:E16)","v":0},1,3,{"$f":"SUM(H12:H16)","v":0},{"$f":"SUM(I12:I16)","v":0},4,{"$f":"'P-II'!J10","v":4},{"$f":"IF(J11='P-II'!J10,\"\",FALSE)","v":""},0,{"$f":"SUM(N12:N16)","v":0},{"$f":"SUM(O12:O16)","v":0},{"$f":"SUM(P12:P16)","v":0},{"$f":"SUM(Q12:Q16)","v":0},{"$f":"SUM(R12:R16)","v":0},0,{"$f":"'P-II'!K10","v":0},{"$f":"IF(S11='P-II'!K10,\"\",FALSE)","v":""},0,0,0,0,0,0,0,{"$f":"'P-II'!L10","v":0},{"$f":"IF(AB11='P-II'!L10,\"\",FALSE)","v":""},4,{"$f":"'P-II'!M10","v":4},{"$f":"IF(AE11='P-II'!M10,\"\",FALSE)","v":""}]
[203,null,{"$f":"IF(ADSI!$L$10=1,LangMaster!A62,LangMaster!B62)","v":"3.1 Collapse of Dwelling House/Residential building"},0,0,1,2,0,0,3,{"$f":"'P-II'!J11","v":3},{"$f":"IF(J12='P-II'!J11,\"\",FALSE)","v":""},0,0,0,0,0,0,0,{"$f":"'P-II'!K11","v":0},{"$f":"IF(S12='P-II'!K11,\"\",FALSE)","v":""},0,0,0,0,0,0,0,{"$f":"'P-II'!L11","v":0},{"$f":"IF(AB12='P-II'!L11,\"\",FALSE)","v":""},3,{"$f":"'P-II'!M11","v":3},{"$f":"IF(AE12='P-II'!M11,\"\",FALSE)","v":""}]
[204,null,{"$f":"IF(ADSI!$L$10=1,LangMaster!A63,LangMaster!B63)","v":"3.2 Collapse of Official/Commercial Building"},0,0,0,0,0,0,0,{"$f":"'P-II'!J12","v":0},{"$f":"IF(J13='P-II'!J12,\"\",FALSE)","v":""},0,0,0,0,0,0,0,{"$f":"'P-II'!K12","v":0},{"$f":"IF(S13='P-II'!K12,\"\",FALSE)","v":""},0,0,0,0,0,0,0,{"$f":"'P-II'!L12","v":0},{"$f":"IF(AB13='P-II'!L12,\"\",FALSE)","v":""},0,{"$f":"'P-II'!M12","v":0},{"$f":"IF(AE13='P-II'!M12,\"\",FALSE)","v":""}]
[205,null,{"$f":"IF(ADSI!$L$10=1,LangMaster!A64,LangMaster!B64)","v":"3.3 Collapse of Dam"},0,0,0,0,0,0,0,{"$f":"'P-II'!J13","v":0},{"$f":"IF(J14='P-II'!J13,\"\",FALSE)","v":""},0,0,0,0,0,0,0,{"$f":"'P-II'!K13","v":0},{"$f":"IF(S14='P-II'!K13,\"\",FALSE)","v":""},0,0,0,0,0,0,0,{"$f":"'P-II'!L13","v":0},{"$f":"IF(AB14='P-II'!L13,\"\",FALSE)","v":""},0,{"$f":"'P-II'!M13","v":0},{"$f":"IF(AE14='P-II'!M13,\"\",FALSE)","v":""}]
[206,null,{"$f":"IF(ADSI!$L$10=1,LangMaster!A65,LangMaster!B65)","v":"3.4 Collapse of  Bridge"},0,0,0,0,0,0,0,{"$f":"'P-II'!J14","v":0},{"$f":"IF(J15='P-II'!J14,\"\",FALSE)","v":""},0,0,0,0,0,0,0,{"$f":"'P-II'!K14","v":0},{"$f":"IF(S15='P-II'!K14,\"\",FALSE)","v":""},0,0,0,0,0,0,0,{"$f":"'P-II'!L14","v":0},{"$f":"IF(AB15='P-II'!L14,\"\",FALSE)","v":""},0,{"$f":"'P-II'!M14","v":0},{"$f":"IF(AE15='P-II'!M14,\"\",FALSE)","v":""}]
[207,null,{"$f":"IF(ADSI!$L$10=1,LangMaster!A66,LangMaster!B66)","v":"3.5 Others"},0,0,0,1,0,0,1,{"$f":"'P-II'!J15","v":1},{"$f":"IF(J16='P-II'!J15,\"\",FALSE)","v":""},0,0,0,0,0,0,0,{"$f":"'P-II'!K15","v":0},{"$f":"IF(S16='P-II'!K15,\"\",FALSE)","v":""},0,0,0,0,0,0,0,{"$f":"'P-II'!L15","v":0},{"$f":"IF(AB16='P-II'!L15,\"\",FALSE)","v":""},1,{"$f":"'P-II'!M15","v":1},{"$f":"IF(AE16='P-II'!M15,\"\",FALSE)","v":""}]
[208,4,{"$f":"IF(ADSI!$L$10=1,LangMaster!A67,LangMaster!B67)","v":"Drowning (Total) (sum of 4.1 to 4.3)"},{"$f":"SUM(D18:D20)","v":7},{"$f":"SUM(E18:E20)","v":2},30,23,18,12,92,{"$f":"'P-II'!J16","v":92},{"$f":"IF(J17='P-II'!J16,\"\",FALSE)","v":""},1,{"$f":"SUM(N18:N20)","v":2},{"$f":"SUM(O18:O20)","v":3},{"$f":"SUM(P18:P20)","v":0},{"$f":"SUM(Q18:Q20)","v":0},{"$f":"SUM(R18:R20)","v":2},8,{"$f":"'P-II'!K16","v":8},{"$f":"IF(S17='P-II'!K16,\"\",FALSE)","v":""},{"$f":"SUM(V18:V20)","v":0},{"$f":"SUM(W18:W20)","v":0},0,0,0,0,0,{"$f":"'P-II'!L16","v":0},{"$f":"IF(AB17='P-II'!L16,\"\",FALSE)","v":""},100,{"$f":"'P-II'!M16","v":100},{"$f":"IF(AE17='P-II'!M16,\"\",FALSE)","v":""}]
[209,null,{"$f":"IF(ADSI!$L$10=1,LangMaster!A68,LangMaster!B68)","v":"4.1 Boat Capsize"},0,0,0,0,0,0,0,{"$f":"'P-II'!J17","v":0},{"$f":"IF(J18='P-II'!J17,\"\",FALSE)","v":""},0,0,0,0,0,0,0,{"$f":"'P-II'!K17","v":0},{"$f":"IF(S18='P-II'!K17,\"\",FALSE)","v":""},0,0,0,0,0,0,0,{"$f":"'P-II'!L17","v":0},{"$f":"IF(AB18='P-II'!L17,\"\",FALSE)","v":""},0,{"$f":"'P-II'!M17","v":0},{"$f":"IF(AE18='P-II'!M17,\"\",FALSE)","v":""}]
[210,null,{"$f":"IF(ADSI!$L$10=1,LangMaster!A69,LangMaster!B69)","v":"4.2 Accidental Falls into Waterbody"},6,2,23,18,16,11,76,{"$f":"'P-II'!J18","v":76},{"$f":"IF(J19='P-II'!J18,\"\",FALSE)","v":""},1,1,1,0,0,2,5,{"$f":"'P-II'!K18","v":5},{"$f":"IF(S19='P-II'!K18,\"\",FALSE)","v":""},0,0,0,0,0,0,0,{"$f":"'P-II'!L18","v":0},{"$f":"IF(AB19='P-II'!L18,\"\",FALSE)","v":""},81,{"$f":"'P-II'!M18","v":81},{"$f":"IF(AE19='P-II'!M18,\"\",FALSE)","v":""}]
[211,null,{"$f":"IF(ADSI!$L$10=1,LangMaster!A70,LangMaster!B70)","v":"4.3 Other Cases"},1,0,7,5,2,1,16,{"$f":"'P-II'!J19","v":16},{"$f":"IF(J20='P-II'!J19,\"\",FALSE)","v":""},0,1,2,0,0,0,3,{"$f":"'P-II'!K19","v":3},{"$f":"IF(S20='P-II'!K19,\"\",FALSE)","v":""},0,0,0,0,0,0,0,{"$f":"'P-II'!L19","v":0},{"$f":"IF(AB20='P-II'!L19,\"\",FALSE)","v":""},19,{"$f":"'P-II'!M19","v":19},{"$f":"IF(AE20='P-II'!M19,\"\",FALSE)","v":""}]
[212,5,{"$f":"IF(ADSI!$L$10=1,LangMaster!A71,LangMaster!B71)","v":"Electrocution"},1,2,5,5,1,0,14,{"$f":"'P-II'!J20","v":14},{"$f":"IF(J21='P-II'!J20,\"\",FALSE)","v":""},0,0,0,0,0,1,1,{"$f":"'P-II'!K20","v":1},{"$f":"IF(S21='P-II'!K20,\"\",FALSE)","v":""},0,0,0,0,0,0,0,{"$f":"'P-II'!L20","v":0},{"$f":"IF(AB21='P-II'!L20,\"\",FALSE)","v":""},15,{"$f":"'P-II'!M20","v":15},{"$f":"IF(AE21='P-II'!M20,\"\",FALSE)","v":""}]
[213,6,{"$f":"IF(ADSI!$L$10=1,LangMaster!A72,LangMaster!B72)","v":"Accidental Explosion (Total) (sum of 6.1 to 6.4)"},{"$f":"SUM(D23:D26)","v":0},{"$f":"SUM(E23:E26)","v":0},0,0,0,0,0,{"$f":"'P-II'!J21","v":0},{"$f":"IF(J22='P-II'!J21,\"\",FALSE)","v":""},{"$f":"SUM(M23:M26)","v":0},{"$f":"SUM(N23:N26)","v":0},{"$f":"SUM(O23:O26)","v":0},{"$f":"SUM(P23:P26)","v":0},{"$f":"SUM(Q23:Q26)","v":0},{"$f":"SUM(R23:R26)","v":0},0,{"$f":"'P-II'!K21","v":0},{"$f":"IF(S22='P-II'!K21,\"\",FALSE)","v":""},{"$f":"SUM(V23:V26)","v":0},{"$f":"SUM(W23:W26)","v":0},0,0,0,0,0,{"$f":"'P-II'!L21","v":0},{"$f":"IF(AB22='P-II'!L21,\"\",FALSE)","v":""},0,{"$f":"'P-II'!M21","v":0},{"$f":"IF(AE22='P-II'!M21,\"\",FALSE)","v":""}]
[214,null,{"$f":"IF(ADSI!$L$10=1,LangMaster!A73,LangMaster!B73)","v":"6.1 Domestic Gas Cylinder"},0,0,0,0,0,0,0,{"$f":"'P-II'!J22","v":0},{"$f":"IF(J23='P-II'!J22,\"\",FALSE)","v":""},0,0,0,0,0,0,0,{"$f":"'P-II'!K22","v":0},{"$f":"IF(S23='P-II'!K22,\"\",FALSE)","v":""},0,0,0,0,0,0,0,{"$f":"'P-II'!L22","v":0},{"$f":"IF(AB23='P-II'!L22,\"\",FALSE)","v":""},0,{"$f":"'P-II'!M22","v":0},{"$f":"IF(AE23='P-II'!M22,\"\",FALSE)","v":""}]
[215,null,{"$f":"IF(ADSI!$L$10=1,LangMaster!A74,LangMaster!B74)","v":"6.2 Industrial Boiler/Gas cylinder explosion"},0,0,0,0,0,0,0,{"$f":"'P-II'!J23","v":0},{"$f":"IF(J24='P-II'!J23,\"\",FALSE)","v":""},0,0,0,0,0,0,0,{"$f":"'P-II'!K23","v":0},{"$f":"IF(S24='P-II'!K23,\"\",FALSE)","v":""},0,0,0,0,0,0,0,{"$f":"'P-II'!L23","v":0},{"$f":"IF(AB24='P-II'!L23,\"\",FALSE)","v":""},0,{"$f":"'P-II'!M23","v":0},{"$f":"IF(AE24='P-II'!M23,\"\",FALSE)","v":""}]
[216,null,{"$f":"IF(ADSI!$L$10=1,LangMaster!A75,LangMaster!B75)","v":"6.3 Ammunition explosion in Armed Forces/Police/CPMF"},0,0,0,0,0,0,0,{"$f":"'P-II'!J24","v":0},{"$f":"IF(J25='P-II'!J24,\"\",FALSE)","v":""},0,0,0,0,0,0,0,{"$f":"'P-II'!K24","v":0},{"$f":"IF(S25='P-II'!K24,\"\",FALSE)","v":""},0,0,0,0,0,0,0,{"$f":"'P-II'!L24","v":0},{"$f":"IF(AB25='P-II'!L24,\"\",FALSE)","v":""},0,{"$f":"'P-II'!M24","v":0},{"$f":"IF(AE25='P-II'!M24,\"\",FALSE)","v":""}]
[217,null,{"$f":"IF(ADSI!$L$10=1,LangMaster!A76,LangMaster!B76)","v":"6.4 Other"},0,0,0,0,0,0,0,{"$f":"'P-II'!J25","v":0},{"$f":"IF(J26='P-II'!J25,\"\",FALSE)","v":""},0,0,0,0,0,0,0,{"$f":"'P-II'!K25","v":0},{"$f":"IF(S26='P-II'!K25,\"\",FALSE)","v":""},0,0,0,0,0,0,0,{"$f":"'P-II'!L25","v":0},{"$f":"IF(AB26='P-II'!L25,\"\",FALSE)","v":""},{"$f":"SUM(J26+S26+AB26)","v":0},{"$f":"'P-II'!M25","v":0},{"$f":"IF(AE26='P-II'!M25,\"\",FALSE)","v":""}]
[218,7,{"$f":"IF(ADSI!$L$10=1,LangMaster!A77,LangMaster!B77)","v":"Falls (Total) (sum of 7.1 to 7.6)"},{"$f":"SUM(D28:D33)","v":1},{"$f":"SUM(E28:E33)","v":1},13,40,38,32,125,{"$f":"'P-II'!J26","v":125},{"$f":"IF(J27='P-II'!J26,\"\",FALSE)","v":""},{"$f":"SUM(M28:M33)","v":1},{"$f":"SUM(N28:N33)","v":0},{"$f":"SUM(O28:O33)","v":1},{"$f":"SUM(P28:P33)","v":2},{"$f":"SUM(Q28:Q33)","v":2},{"$f":"SUM(R28:R33)","v":9},15,{"$f":"'P-II'!K26","v":15},{"$f":"IF(S27='P-II'!K26,\"\",FALSE)","v":""},{"$f":"SUM(V28:V33)","v":0},{"$f":"SUM(W28:W33)","v":0},0,0,0,0,0,{"$f":"'P-II'!L26","v":0},{"$f":"IF(AB27='P-II'!L26,\"\",FALSE)","v":""},140,{"$f":"'P-II'!M26","v":140},{"$f":"IF(AE27='P-II'!M26,\"\",FALSE)","v":""}]
[219,null,{"$f":"IF(ADSI!$L$10=1,LangMaster!A78,LangMaster!B78)","v":"7.1 Fall from Height"},1,1,11,28,19,14,74,{"$f":"'P-II'!J27","v":74},{"$f":"IF(J28='P-II'!J27,\"\",FALSE)","v":""},1,0,1,1,1,5,9,{"$f":"'P-II'!K27","v":9},{"$f":"IF(S28='P-II'!K27,\"\",FALSE)","v":""},0,0,0,0,0,0,0,{"$f":"'P-II'!L27","v":0},{"$f":"IF(AB28='P-II'!L27,\"\",FALSE)","v":""},83,{"$f":"'P-II'!M27","v":83},{"$f":"IF(AE28='P-II'!M27,\"\",FALSE)","v":""}]
[220,null,{"$f":"IF(ADSI!$L$10=1,LangMaster!A79,LangMaster!B79)","v":"7.2 Fall from Vehicles (Automobile like Bus, Trucks, etc.)"},0,0,0,0,0,0,0,{"$f":"'P-II'!J28","v":0},{"$f":"IF(J29='P-II'!J28,\"\",FALSE)","v":""},0,0,0,0,0,0,0,{"$f":"'P-II'!K28","v":0},{"$f":"IF(S29='P-II'!K28,\"\",FALSE)","v":""},0,0,0,0,0,0,0,{"$f":"'P-II'!L28","v":0},{"$f":"IF(AB29='P-II'!L28,\"\",FALSE)","v":""},0,{"$f":"'P-II'!M28","v":0},{"$f":"IF(AE29='P-II'!M28,\"\",FALSE)","v":""}]
[221,null,{"$f":"IF(ADSI!$L$10=1,LangMaster!A80,LangMaster!B80)","v":"7.3 Fall into Manhole / Sewer"},0,0,1,2,0,0,3,{"$f":"'P-II'!J29","v":3},{"$f":"IF(J30='P-II'!J29,\"\",FALSE)","v":""},0,0,0,0,0,0,0,{"$f":"'P-II'!K29","v":0},{"$f":"IF(S30='P-II'!K29,\"\",FALSE)","v":""},0,0,0,0,0,0,0,{"$f":"'P-II'!L29","v":0},{"$f":"IF(AB30='P-II'!L29,\"\",FALSE)","v":""},3,{"$f":"'P-II'!M29","v":3},{"$f":"IF(AE30='P-II'!M29,\"\",FALSE)","v":""}]
[222,null,{"$f":"IF(ADSI!$L$10=1,LangMaster!A81,LangMaster!B81)","v":"7.4 Fall into Pit"},0,0,0,0,0,0,0,{"$f":"'P-II'!J30","v":0},{"$f":"IF(J31='P-II'!J30,\"\",FALSE)","v":""},0,0,0,0,0,0,0,{"$f":"'P-II'!K30","v":0},{"$f":"IF(S31='P-II'!K30,\"\",FALSE)","v":""},0,0,0,0,0,0,0,{"$f":"'P-II'!L30","v":0},{"$f":"IF(AB31='P-II'!L30,\"\",FALSE)","v":""},{"$f":"SUM(J31+S31+AB31)","v":0},{"$f":"'P-II'!M30","v":0},{"$f":"IF(AE31='P-II'!M30,\"\",FALSE)","v":""}]
[223,null,{"$f":"IF(ADSI!$L$10=1,LangMaster!A82,LangMaster!B82)","v":"7.5 Fall into Borewell"},0,0,0,0,0,0,0,{"$f":"'P-II'!J31","v":0},{"$f":"IF(J32='P-II'!J31,\"\",FALSE)","v":""},0,0,0,0,0,0,0,{"$f":"'P-II'!K31","v":0},{"$f":"IF(S32='P-II'!K31,\"\",FALSE)","v":""},0,0,0,0,0,0,0,{"$f":"'P-II'!L31","v":0},{"$f":"IF(AB32='P-II'!L31,\"\",FALSE)","v":""},{"$f":"SUM(J32+S32+AB32)","v":0},{"$f":"'P-II'!M31","v":0},{"$f":"IF(AE32='P-II'!M31,\"\",FALSE)","v":""}]
[224,null,{"$f":"IF(ADSI!$L$10=1,LangMaster!A83,LangMaster!B83)","v":"7.6 Others"},0,0,1,10,19,18,48,{"$f":"'P-II'!J32","v":48},{"$f":"IF(J33='P-II'!J32,\"\",FALSE)","v":""},0,0,0,1,1,4,6,{"$f":"'P-II'!K32","v":6},{"$f":"IF(S33='P-II'!K32,\"\",FALSE)","v":""},0,0,0,0,0,0,0,{"$f":"'P-II'!L32","v":0},{"$f":"IF(AB33='P-II'!L32,\"\",FALSE)","v":""},54,{"$f":"'P-II'!M32","v":54},{"$f":"IF(AE33='P-II'!M32,\"\",FALSE)","v":""}]
[225,8,{"$f":"IF(ADSI!$L$10=1,LangMaster!A84,LangMaster!B84)","v":"Factory/Machine accidents"},0,0,0,0,0,0,0,{"$f":"'P-II'!J33","v":0},{"$f":"IF(J34='P-II'!J33,\"\",FALSE)","v":""},0,0,0,0,0,0,0,{"$f":"'P-II'!K33","v":0},{"$f":"IF(S34='P-II'!K33,\"\",FALSE)","v":""},0,0,0,0,0,0,0,{"$f":"'P-II'!L33","v":0},{"$f":"IF(AB34='P-II'!L33,\"\",FALSE)","v":""},0,{"$f":"'P-II'!M33","v":0},{"$f":"IF(AE34='P-II'!M33,\"\",FALSE)","v":""}]
[226,9,{"$f":"IF(ADSI!$L$10=1,LangMaster!A85,LangMaster!B85)","v":"Accidental Fire (Total) (sum of 9.1 to 9.5)"},{"$f":"SUM(D36:D40)","v":0},{"$f":"SUM(E36:E40)","v":0},2,1,1,{"$f":"SUM(I36:I40)","v":1},5,{"$f":"'P-II'!J34","v":5},{"$f":"IF(J35='P-II'!J34,\"\",FALSE)","v":""},{"$f":"SUM(M36:M40)","v":0},{"$f":"SUM(N36:N40)","v":0},{"$f":"SUM(O36:O40)","v":4},{"$f":"SUM(P36:P40)","v":1},{"$f":"SUM(Q36:Q40)","v":4},{"$f":"SUM(R36:R40)","v":4},13,{"$f":"'P-II'!K34","v":13},{"$f":"IF(S35='P-II'!K34,\"\",FALSE)","v":""},{"$f":"SUM(V36:V40)","v":0},0,0,0,0,0,0,{"$f":"'P-II'!L34","v":0},{"$f":"IF(AB35='P-II'!L34,\"\",FALSE)","v":""},18,{"$f":"'P-II'!M34","v":18},{"$f":"IF(AE35='P-II'!M34,\"\",FALSE)","v":""}]
[227,null,{"$f":"IF(ADSI!$L$10=1,LangMaster!A86,LangMaster!B86)","v":"9.1 Electrical Short circuit"},0,0,1,0,0,0,1,{"$f":"'P-II'!J35","v":1},{"$f":"IF(J36='P-II'!J35,\"\",FALSE)","v":""},0,0,0,0,0,0,0,{"$f":"'P-II'!K35","v":0},{"$f":"IF(S36='P-II'!K35,\"\",FALSE)","v":""},0,0,0,0,0,0,0,{"$f":"'P-II'!L35","v":0},{"$f":"IF(AB36='P-II'!L35,\"\",FALSE)","v":""},1,{"$f":"'P-II'!M35","v":1},{"$f":"IF(AE36='P-II'!M35,\"\",FALSE)","v":""}]
[228,null,{"$f":"IF(ADSI!$L$10=1,LangMaster!A87,LangMaster!B87)","v":"9.2 Riot/Agitation"},0,0,0,0,0,0,0,{"$f":"'P-II'!J36","v":0},{"$f":"IF(J37='P-II'!J36,\"\",FALSE)","v":""},0,0,0,0,0,0,0,{"$f":"'P-II'!K36","v":0},{"$f":"IF(S37='P-II'!K36,\"\",FALSE)","v":""},0,0,0,0,0,0,0,{"$f":"'P-II'!L36","v":0},{"$f":"IF(AB37='P-II'!L36,\"\",FALSE)","v":""},0,{"$f":"'P-II'!M36","v":0},{"$f":"IF(AE37='P-II'!M36,\"\",FALSE)","v":""}]
[229,null,{"$f":"IF(ADSI!$L$10=1,LangMaster!A88,LangMaster!B88)","v":"9.3 Fireworks"},0,0,0,0,0,0,0,{"$f":"'P-II'!J37","v":0},{"$f":"IF(J38='P-II'!J37,\"\",FALSE)","v":""},0,0,0,0,0,0,0,{"$f":"'P-II'!K37","v":0},{"$f":"IF(S38='P-II'!K37,\"\",FALSE)","v":""},0,0,0,0,0,0,0,{"$f":"'P-II'!L37","v":0},{"$f":"IF(AB38='P-II'!L37,\"\",FALSE)","v":""},0,{"$f":"'P-II'!M37","v":0},{"$f":"IF(AE38='P-II'!M37,\"\",FALSE)","v":""}]
[230,null,{"$f":"IF(ADSI!$L$10=1,LangMaster!A89,LangMaster!B89)","v":"9.4 Cooking Gas cylinder/stove burst"},0,0,0,1,0,0,1,{"$f":"'P-II'!J38","v":1},{"$f":"IF(J39='P-II'!J38,\"\",FALSE)","v":""},0,0,2,0,2,0,4,{"$f":"'P-II'!K38","v":4},{"$f":"IF(S39='P-II'!K38,\"\",FALSE)","v":""},0,0,0,0,0,0,0,{"$f":"'P-II'!L38","v":0},{"$f":"IF(AB39='P-II'!L38,\"\",FALSE)","v":""},5,{"$f":"'P-II'!M38","v":5},{"$f":"IF(AE39='P-II'!M38,\"\",FALSE)","v":""}]
[231,null,{"$f":"IF(ADSI!$L$10=1,LangMaster!A90,LangMaster!B90)","v":"9.5 Other Causes"},0,0,1,0,1,1,3,{"$f":"'P-II'!J39","v":3},{"$f":"IF(J40='P-II'!J39,\"\",FALSE)","v":""},0,0,2,1,2,4,9,{"$f":"'P-II'!K39","v":9},{"$f":"IF(S40='P-II'!K39,\"\",FALSE)","v":""},0,0,0,0,0,0,0,{"$f":"'P-II'!L39","v":0},{"$f":"IF(AB40='P-II'!L39,\"\",FALSE)","v":""},12,{"$f":"'P-II'!M39","v":12},{"$f":"IF(AE40='P-II'!M39,\"\",FALSE)","v":""}]
[232,10,{"$f":"IF(ADSI!$L$10=1,LangMaster!A91,LangMaster!B91)","v":"Firearm"},0,0,0,0,0,0,0,{"$f":"'P-II'!J40","v":0},{"$f":"IF(J41='P-II'!J40,\"\",FALSE)","v":""},0,0,0,0,0,0,0,{"$f":"'P-II'!K40","v":0},{"$f":"IF(S41='P-II'!K40,\"\",FALSE)","v":""},0,0,0,0,0,0,0,{"$f":"'P-II'!L40","v":0},{"$f":"IF(AB41='P-II'!L40,\"\",FALSE)","v":""},0,{"$f":"'P-II'!M40","v":0},{"$f":"IF(AE41='P-II'!M40,\"\",FALSE)","v":""}]
[233,11,{"$f":"IF(ADSI!$L$10=1,LangMaster!A92,LangMaster!B92)","v":"Mines or Quarry disaster"},0,0,0,0,0,0,0,{"$f":"'P-II'!J41","v":0},{"$f":"IF(J42='P-II'!J41,\"\",FALSE)","v":""},0,0,0,0,0,0,0,{"$f":"'P-II'!K41","v":0},{"$f":"IF(S42='P-II'!K41,\"\",FALSE)","v":""},0,0,0,0,0,0,0,{"$f":"'P-II'!L41","v":0},{"$f":"IF(AB42='P-II'!L41,\"\",FALSE)","v":""},0,{"$f":"'P-II'!M41","v":0},{"$f":"IF(AE42='P-II'!M41,\"\",FALSE)","v":""}]
[234,12,{"$f":"IF(ADSI!$L$10=1,LangMaster!A93,LangMaster!B93)","v":"Traffic Accidents (Total) (sum of 12.1, 12.2 and 12.3)"},{"$f":"SUM(D44,D47,D48)","v":3},{"$f":"SUM(E44,E47,E48)","v":6},89,94,64,31,287,{"$f":"'P-II'!J42","v":287},{"$f":"IF(J43='P-II'!J42,\"\",FALSE)","v":""},{"$f":"SUM(M44,M47,M48)","v":1},{"$f":"SUM(N44,N47,N48)","v":0},{"$f":"SUM(O44,O47,O48)","v":6},{"$f":"SUM(P44,P47,P48)","v":11},{"$f":"SUM(Q44,Q47,Q48)","v":13},{"$f":"SUM(R44,R47,R48)","v":10},41,{"$f":"'P-II'!K42","v":41},{"$f":"IF(S43='P-II'!K42,\"\",FALSE)","v":""},0,0,0,0,0,0,0,{"$f":"'P-II'!L42","v":0},{"$f":"IF(AB43='P-II'!L42,\"\",FALSE)","v":""},328,{"$f":"'P-II'!M42","v":328},{"$f":"IF(AE43='P-II'!M42,\"\",FALSE)","v":""}]
[235,null,{"$f":"IF(ADSI!$L$10=1,LangMaster!A94,LangMaster!B94)","v":"12.1 Road Accidents "},{"$f":"SUM(D45:D46)","v":3},{"$f":"SUM(E45:E46)","v":6},79,65,53,27,233,{"$f":"'P-II'!J43","v":233},{"$f":"IF(J44='P-II'!J43,\"\",FALSE)","v":""},{"$f":"SUM(M45:M46)","v":1},{"$f":"SUM(N45:N46)","v":0},{"$f":"SUM(O45:O46)","v":6},{"$f":"SUM(P45:P46)","v":11},{"$f":"SUM(Q45:Q46)","v":13},{"$f":"SUM(R45:R46)","v":10},41,{"$f":"'P-II'!K43","v":41},{"$f":"IF(S44='P-II'!K43,\"\",FALSE)","v":""},0,0,0,0,0,0,0,{"$f":"'P-II'!L43","v":0},{"$f":"IF(AB44='P-II'!L43,\"\",FALSE)","v":""},274,{"$f":"'P-II'!M43","v":274},{"$f":"IF(AE44='P-II'!M43,\"\",FALSE)","v":""}]
[236,null,{"$f":"IF(ADSI!$L$10=1,LangMaster!A95,LangMaster!B95)","v":0},0,0,0,0,0,0,0,{"$f":"'P-II'!J44","v":0},{"$f":"IF(J45='P-II'!J44,\"\",FALSE)","v":""},0,0,0,0,0,0,0,{"$f":"'P-II'!K44","v":0},{"$f":"IF(S45='P-II'!K44,\"\",FALSE)","v":""},0,0,0,0,0,0,0,{"$f":"'P-II'!L44","v":0},{"$f":"IF(AB45='P-II'!L44,\"\",FALSE)","v":""},0,{"$f":"'P-II'!M44","v":0},{"$f":"IF(AE45='P-II'!M44,\"\",FALSE)","v":""}]
[237,null,{"$f":"IF(ADSI!$L$10=1,LangMaster!A96,LangMaster!B96)","v":0},3,6,79,65,53,27,233,{"$f":"'P-II'!J45","v":233},{"$f":"IF(J46='P-II'!J45,\"\",FALSE)","v":""},1,0,6,11,13,10,41,{"$f":"'P-II'!K45","v":41},{"$f":"IF(S46='P-II'!K45,\"\",FALSE)","v":""},0,0,0,0,0,0,0,{"$f":"'P-II'!L45","v":0},{"$f":"IF(AB46='P-II'!L45,\"\",FALSE)","v":""},274,{"$f":"'P-II'!M45","v":274},{"$f":"IF(AE46='P-II'!M45,\"\",FALSE)","v":""}]
[238,null,{"$f":"IF(ADSI!$L$10=1,LangMaster!A97,LangMaster!B97)","v":"12.2 Railway Crossing Accidents"},0,0,0,0,0,0,0,{"$f":"'P-II'!J46","v":0},{"$f":"IF(J47='P-II'!J46,\"\",FALSE)","v":""},0,0,0,0,0,0,0,{"$f":"'P-II'!K46","v":0},{"$f":"IF(S47='P-II'!K46,\"\",FALSE)","v":""},0,0,0,0,0,0,0,{"$f":"'P-II'!L46","v":0},{"$f":"IF(AB47='P-II'!L46,\"\",FALSE)","v":""},{"$f":"SUM(J47+S47+AB47)","v":0},{"$f":"'P-II'!M46","v":0},{"$f":"IF(AE47='P-II'!M46,\"\",FALSE)","v":""}]
[239,null,{"$f":"IF(ADSI!$L$10=1,LangMaster!A98,LangMaster!B98)","v":"12.3 Railway Accidents "},0,0,10,29,11,4,54,{"$f":"'P-II'!J47","v":54},{"$f":"IF(J48='P-II'!J47,\"\",FALSE)","v":""},0,0,0,0,0,0,0,{"$f":"'P-II'!K47","v":0},{"$f":"IF(S48='P-II'!K47,\"\",FALSE)","v":""},0,0,0,0,0,0,0,{"$f":"'P-II'!L47","v":0},{"$f":"IF(AB48='P-II'!L47,\"\",FALSE)","v":""},54,{"$f":"'P-II'!M47","v":54},{"$f":"IF(AE48='P-II'!M47,\"\",FALSE)","v":""}]
[240,13,{"$f":"IF(ADSI!$L$10=1,LangMaster!A99,LangMaster!B99)","v":"Stampede"},0,0,0,0,0,0,0,{"$f":"'P-II'!J48","v":0},{"$f":"IF(J49='P-II'!J48,\"\",FALSE)","v":""},0,0,0,0,0,0,0,{"$f":"'P-II'!K48","v":0},{"$f":"IF(S49='P-II'!K48,\"\",FALSE)","v":""},0,0,0,0,0,0,0,{"$f":"'P-II'!L48","v":0},{"$f":"IF(AB49='P-II'!L48,\"\",FALSE)","v":""},0,{"$f":"'P-II'!M48","v":0},{"$f":"IF(AE49='P-II'!M48,\"\",FALSE)","v":""}]
[241,14,{"$f":"IF(ADSI!$L$10=1,LangMaster!A100,LangMaster!B100)","v":"Other Unnatural Causes"},0,0,0,3,1,1,5,{"$f":"'P-II'!J49","v":5},{"$f":"IF(J50='P-II'!J49,\"\",FALSE)","v":""},1,0,3,3,0,0,7,{"$f":"'P-II'!K49","v":7},{"$f":"IF(S50='P-II'!K49,\"\",FALSE)","v":""},0,0,0,0,0,0,0,{"$f":"'P-II'!L49","v":0},{"$f":"IF(AB50='P-II'!L49,\"\",FALSE)","v":""},12,{"$f":"'P-II'!M49","v":12},{"$f":"IF(AE50='P-II'!M49,\"\",FALSE)","v":""}]
[242,15,{"$f":"IF(ADSI!$L$10=1,LangMaster!A101,LangMaster!B101)","v":"Causes not known"},0,0,2,4,6,3,15,{"$f":"'P-II'!J50","v":15},{"$f":"IF(J51='P-II'!J50,\"\",FALSE)","v":""},0,0,1,1,0,0,2,{"$f":"'P-II'!K50","v":2},{"$f":"IF(S51='P-II'!K50,\"\",FALSE)","v":""},0,0,0,0,0,0,{"$f":"SUM(V51:AA51)","v":0},{"$f":"'P-II'!L50","v":0},{"$f":"IF(AB51='P-II'!L50,\"\",FALSE)","v":""},17,{"$f":"'P-II'!M50","v":17},{"$f":"IF(AE51='P-II'!M50,\"\",FALSE)","v":""}]
[270,16,{"$f":"IF(ADSI!$L$10=1,LangMaster!A102,LangMaster!B102)","v":"Total (sum of Sl. 1 to 15)"},{"$f":"SUM(D9,D10,D11,D17,D21:D22,D27,D34:D35,D41:D43,D49:D51)","v":12},{"$f":"SUM(E9,E10,E11,E17,E21:E22,E27,E34:E35,E41:E43,E49:E51)","v":11},142,173,129,80,547,{"$f":"'P-II'!J51","v":547},{"$f":"IF(J52='P-II'!J51,\"\",FALSE)","v":""},4,{"$f":"SUM(N9,N10,N11,N17,N21:N22,N27,N34:N35,N41:N43,N49:N51)","v":2},{"$f":"SUM(O9,O10,O11,O17,O21:O22,O27,O34:O35,O41:O43,O49:O51)","v":18},{"$f":"SUM(P9,P10,P11,P17,P21:P22,P27,P34:P35,P41:P43,P49:P51)","v":18},{"$f":"SUM(Q9,Q10,Q11,Q17,Q21:Q22,Q27,Q34:Q35,Q41:Q43,Q49:Q51)","v":19},{"$f":"SUM(R9,R10,R11,R17,R21:R22,R27,R34:R35,R41:R43,R49:R51)","v":26},{"$f":"SUM(S9,S10,S11,S17,S21:S22,S27,S34:S35,S41:S43,S49:S51)","v":87},{"$f":"'P-II'!K51","v":87},{"$f":"IF(S52='P-II'!K51,\"\",FALSE)","v":""},0,0,0,0,0,0,0,{"$f":"'P-II'!L51","v":0},{"$f":"IF(AB52='P-II'!L51,\"\",FALSE)","v":""},634,{"$f":"'P-II'!M51","v":634},{"$f":"IF(AE52='P-II'!M51,\"\",FALSE)","v":""}]
["SL-12.1.1 ABNORMAL VARIATION IN \"ROAD RAGE INCIDENTS\" DATA",null,null,{"$f":"IF(D44>0,IF((D45/D44*100)>10,\"ABVAR\",\"\"),\"\")","v":""},{"$f":"IF(E44>0,IF((E45/E44*100)>10,\"ABVAR\",\"\"),\"\")","v":""},"","","","","","",null,"","","","","","","","",null,"","","","","","","","",null,"",""]
["SL-14 ABNORMAL VARIATION IN \"OTHER UNNATURAL CAUSES\" DATA",null,null,{"$f":"IF(D52>0,IF((D50/D52*100)>20,\"ABVAR\",\"\"),\"\")","v":""},{"$f":"IF(E52>0,IF((E50/E52*100)>20,\"ABVAR\",\"\"),\"\")","v":""},"","","","","","",null,"ABVAR","","","","","","","",null,"","","","","","","","",null,"",""]
["SL-15 ABNORMAL VARIATION IN \"CAUSES NOT KNOWN\" DATA",null,null,{"$f":"IF(D52>0,IF((D51/D52*100)>20,\"ABVAR\",\"\"),\"\")","v":""},{"$f":"IF(E52>0,IF((E51/E52*100)>20,\"ABVAR\",\"\"),\"\")","v":""},"","","","","","",null,"","","","","","","","",null,"","","","","","","","",null,"",""]
[]
[]
[]
[]
[]
[]
[]
[]
[]
[]
[]
[]
[]
[]
[]
[]
[]
[]
[]
[]
[]
[]
[]
[]
[]
[]
[]
[]
[]
[]
[]
[]
[]
[]
[]
[]
[]
[]
[]
[]
[]
[]
[]
[]
[]
[]
[]
[]
[]
[]
[]
[]
[]
[]
[]
[]
[]
[]
[]
[]
[]
[]
[]
[]
[]
[]
[]
[]
[]
[]
[]
[]
[]
[]
[]
[]
[]
[]
[]
[]
[]
[]
[]
[]
[]
[]
[]
[]
[]
[]
[]
[]
[]
[]
[]
[]
[]
[]
[]
[]
[]
[]
[]
[]
[]
[]
[]
[]
[]
[]
[]
[]
[]
[]
[]
[]
[]
[]
[]
[]
[]
[]
[]
[]
[]
[]
[]
[]
[]
[]
[]
[]
[]
[]
[]
[]
[]
[]
[]
[]
[]
[]
[]
[]
[null,null,null,null,null,null,null,null,null,null,null,null,null,null,null,null,null,null,null,null,null,null,null,null,null,null,null,null,null,null,null,null,null,null,null,null,null,null,null,null,null,null,null,null,null,null,null,null,null,null,null,null,{"$f":"A1","v":"Goa, , ADSI-2022"}]
[null,null,null,null,null,null,null,null,null,null,null,null,null,null,null,null,null,null,null,null,null,null,null,null,null,null,null,null,null,null,null,null,null,null,null,null,null,null,null,null,null,null,null,null,null,null,null,null,null,null,null,null,{"$f":"A2","v":"Errors"},{"$f":"C2","v":0},null,{"$f":"E2","v":"Abnormal Variations"},{"$f":"F2","v":1}]
[null,null,null,null,null,null,null,null,null,null,null,null,null,null,null,null,null,null,null,null,null,null,null,null,null,null,null,null,null,null,null,null,null,null,null,null,null,null,null,null,null,null,null,null,null,null,null,null,null,null,null,null,{"$f":"A3","v":"Proforma-III"}]
[null,null,null,null,null,null,null,null,null,null,null,null,null,null,null,null,null,null,null,null,null,null,null,null,null,null,null,null,null,null,null,null,null,null,null,null,null,null,null,null,null,null,null,null,null,null,null,null,null,null,null,null,{"$f":"A4","v":"Age wise Distribution of Accidental Deaths by Un-Natural Causes"}]
[null,null,null,null,null,null,null,null,null,null,null,null,null,null,null,null,null,null,null,null,null,null,null,null,null,null,null,null,null,null,null,null,null,null,null,null,null,null,null,null,null,null,null,null,null,null,null,null,null,null,null,null,{"$f":"B5","v":"S.No."},{"$f":"C5","v":"Causes"},{"$f":"D5","v":"Number of Accidental Deaths"},null,null,null,null,null,null,null,null,null,null,null,null,null,null,null,null,null,null,null,null,null,null,null,null,null,null,{"$f":"AE5","v":"Grand Total (9) + (16)+(23)"},{"$f":"AF5","v":" PROFORMA–II VALUES [Col.–(11) (Total Died)]"},{"$f":"AG5","v":"VALIDATION  WITH PROFORMA-II [Col.–(11) (Total Died)]"}]
[null,null,null,null,null,null,null,null,null,null,null,null,null,null,null,null,null,null,null,null,null,null,null,null,null,null,null,null,null,null,null,null,null,null,null,null,null,null,null,null,null,null,null,null,null,null,null,null,null,null,null,null,null,null,{"$f":"D6","v":"Male"},null,null,null,null,null,null,null,null,{"$f":"M6","v":"Female"},null,null,null,null,null,null,null,null,{"$f":"V6","v":"Transgender"}]
[null,null,null,null,null,null,null,null,null,null,null,null,null,null,null,null,null,null,null,null,null,null,null,null,null,null,null,null,null,null,null,null,null,null,null,null,null,null,null,null,null,null,null,null,null,null,null,null,null,null,null,null,null,null,"below 14 years",{"$f":"E7","v":"14 and above – below 18 years"},"18 and above – below 30 years","30 and above – below 45 years","45 and above – below 60 years","60 years & above"," Total [sum of (3) to (8)]"," PROFORMA–II VALUES [Col.–(8) (Male Died)]","VALIDATION  WITH PROFORMA-II [Col.–(8) (Male Died)]","below 14 years",{"$f":"N7","v":"14 and above – below 18 years"},"18 and above – below 30 years","30 and above – below 45 years","45 and above – below 60 years","60 years & above","Total    [sum of (10) to (15)]"," PROFORMA–II VALUES [Col.–(9) (Female Died)]","VALIDATION  WITH PROFORMA-II [Col.–(9) (Female Died)]","below 14 years",{"$f":"W7","v":"14 and above – below 18 years"},"18 and above – below 30 years","30 and above – below 45 years","45 and above – below 60 years","60 years & above","Total [sum of (17) to (22)]"," PROFORMA–II VALUES [Col.–(10) (Transgender Died)]","VALIDATION  WITH PROFORMA-II [Col.–(10) (Transgender Died)]"]
[null,null,null,null,null,null,null,null,null,null,null,null,null,null,null,null,null,null,null,null,null,null,null,null,null,null,null,null,null,null,null,null,null,null,null,null,null,null,null,null,null,null,null,null,null,null,null,null,null,null,null,null,{"$f":"B8","v":"(1)"},{"$f":"C8","v":"(2)"},"(3)",{"$f":"E8","v":"(4)"},{"$f":"F8","v":"(5)"},{"$f":"G8","v":"(6)"},{"$f":"H8","v":"(7)"},{"$f":"I8","v":"(8)"},{"$f":"J8","v":"(9)"},null,null,"(10)",{"$f":"N8","v":"(11)"},{"$f":"O8","v":"(12)"},{"$f":"P8","v":"(13)"},{"$f":"Q8","v":"(14)"},{"$f":"R8","v":"(15)"},{"$f":"S8","v":"(16)"},null,null,"(17)",{"$f":"W8","v":"(18)"},{"$f":"X8","v":"(19)"},{"$f":"Y8","v":"(20)"},{"$f":"Z8","v":"(21)"},{"$f":"AA8","v":"(22)"},{"$f":"AB8","v":"(23)"},null,null,{"$f":"AE8","v":"(24)"}]
[null,null,null,null,null,null,null,null,null,null,null,null,null,null,null,null,null,null,null,null,null,null,null,null,null,null,null,null,null,null,null,null,null,null,null,null,null,null,null,null,null,null,null,null,null,null,null,null,null,null,null,null,1,"Air Crash",0,0,0,0,0,0,0,{"$f":"K9","v":0},{"$f":"L9","v":""},0,0,0,0,0,0,0,{"$f":"T9","v":0},{"$f":"U9","v":""},0,0,0,0,0,0,0,{"$f":"AC9","v":0},{"$f":"AD9","v":""},0,{"$f":"AF9","v":0},{"$f":"AG9","v":""}]
[null,null,null,null,null,null,null,null,null,null,null,null,null,null,null,null,null,null,null,null,null,null,null,null,null,null,null,null,null,null,null,null,null,null,null,null,null,null,null,null,null,null,null,null,null,null,null,null,null,null,null,null,2,"Ship Accidents",0,0,0,0,0,0,0,0,"",0,0,0,0,0,0,0,0,"",0,0,0,0,0,0,0,0,"",0,0,""]
[null,null,null,null,null,null,null,null,null,null,null,null,null,null,null,null,null,null,null,null,null,null,null,null,null,null,null,null,null,null,null,null,null,null,null,null,null,null,null,null,null,null,null,null,null,null,null,null,null,null,null,null,3,"Collapse of Structure (Total) (sum of 3.1 to 3.5)",0,0,1,3,0,0,4,4,"",0,0,0,0,0,0,0,0,"",0,0,0,0,0,0,0,0,"",4,4,""]
[null,null,null,null,null,null,null,null,null,null,null,null,null,null,null,null,null,null,null,null,null,null,null,null,null,null,null,null,null,null,null,null,null,null,null,null,null,null,null,null,null,null,null,null,null,null,null,null,null,null,null,null,null,"3.1 Collapse of Dwelling House/Residential building",0,0,1,2,0,0,3,3,"",0,0,0,0,0,0,0,0,"",0,0,0,0,0,0,0,0,"",3,3,""]
[null,null,null,null,null,null,null,null,null,null,null,null,null,null,null,null,null,null,null,null,null,null,null,null,null,null,null,null,null,null,null,null,null,null,null,null,null,null,null,null,null,null,null,null,null,null,null,null,null,null,null,null,null,"3.2 Collapse of Official/Commercial Building",0,0,0,0,0,0,0,0,"",0,0,0,0,0,0,0,0,"",0,0,0,0,0,0,0,0,"",0,0,""]
[null,null,null,null,null,null,null,null,null,null,null,null,null,null,null,null,null,null,null,null,null,null,null,null,null,null,null,null,null,null,null,null,null,null,null,null,null,null,null,null,null,null,null,null,null,null,null,null,null,null,null,null,null,"3.3 Collapse of Dam",0,0,0,0,0,0,0,0,"",0,0,0,0,0,0,0,0,"",0,0,0,0,0,0,0,0,"",0,0,""]
[null,null,null,null,null,null,null,null,null,null,null,null,null,null,null,null,null,null,null,null,null,null,null,null,null,null,null,null,null,null,null,null,null,null,null,null,null,null,null,null,null,null,null,null,null,null,null,null,null,null,null,null,null,"3.4 Collapse of  Bridge",0,0,0,0,0,0,0,0,"",0,0,0,0,0,0,0,0,"",0,0,0,0,0,0,0,0,"",0,0,""]
[null,null,null,null,null,null,null,null,null,null,null,null,null,null,null,null,null,null,null,null,null,null,null,null,null,null,null,null,null,null,null,null,null,null,null,null,null,null,null,null,null,null,null,null,null,null,null,null,null,null,null,null,null,"3.5 Others",0,0,0,1,0,0,1,1,"",0,0,0,0,0,0,0,0,"",0,0,0,0,0,0,0,0,"",1,1,""]
[null,null,null,null,null,null,null,null,null,null,null,null,null,null,null,null,null,null,null,null,null,null,null,null,null,null,null,null,null,null,null,null,null,null,null,null,null,null,null,null,null,null,null,null,null,null,null,null,null,null,null,null,4,"Drowning (Total) (sum of 4.1 to 4.3)",7,2,30,23,18,12,92,92,"",1,2,3,0,0,2,8,8,"",0,0,0,0,0,0,0,0,"",100,100,""]
[null,null,null,null,null,null,null,null,null,null,null,null,null,null,null,null,null,null,null,null,null,null,null,null,null,null,null,null,null,null,null,null,null,null,null,null,null,null,null,null,null,null,null,null,null,null,null,null,null,null,null,null,null,"4.1 Boat Capsize",0,0,0,0,0,0,0,0,"",0,0,0,0,0,0,0,0,"",0,0,0,0,0,0,0,0,"",0,0,""]
[null,null,null,null,null,null,null,null,null,null,null,null,null,null,null,null,null,null,null,null,null,null,null,null,null,null,null,null,null,null,null,null,null,null,null,null,null,null,null,null,null,null,null,null,null,null,null,null,null,null,null,null,null,"4.2 Accidental Falls into Waterbody",6,2,23,18,16,11,76,76,"",1,1,1,0,0,2,5,5,"",0,0,0,0,0,0,0,0,"",81,81,""]
[null,null,null,null,null,null,null,null,null,null,null,null,null,null,null,null,null,null,null,null,null,null,null,null,null,null,null,null,null,null,null,null,null,null,null,null,null,null,null,null,null,null,null,null,null,null,null,null,null,null,null,null,null,"4.3 Other Cases",1,0,7,5,2,1,16,16,"",0,1,2,0,0,0,3,3,"",0,0,0,0,0,0,0,0,"",19,19,""]
[null,null,null,null,null,null,null,null,null,null,null,null,null,null,null,null,null,null,null,null,null,null,null,null,null,null,null,null,null,null,null,null,null,null,null,null,null,null,null,null,null,null,null,null,null,null,null,null,null,null,null,null,5,"Electrocution",1,2,5,5,1,0,14,14,"",0,0,0,0,0,1,1,1,"",0,0,0,0,0,0,0,0,"",15,15,""]
[null,null,null,null,null,null,null,null,null,null,null,null,null,null,null,null,null,null,null,null,null,null,null,null,null,null,null,null,null,null,null,null,null,null,null,null,null,null,null,null,null,null,null,null,null,null,null,null,null,null,null,null,6,"Accidental Explosion (Total) (sum of 6.1 to 6.4)",0,0,0,0,0,0,0,0,"",0,0,0,0,0,0,0,0,"",0,0,0,0,0,0,0,0,"",0,0,""]
[null,null,null,null,null,null,null,null,null,null,null,null,null,null,null,null,null,null,null,null,null,null,null,null,null,null,null,null,null,null,null,null,null,null,null,null,null,null,null,null,null,null,null,null,null,null,null,null,null,null,null,null,null,"6.1 Domestic Gas Cylinder",0,0,0,0,0,0,0,0,"",0,0,0,0,0,0,0,0,"",0,0,0,0,0,0,0,0,"",0,0,""]
[null,null,null,null,null,null,null,null,null,null,null,null,null,null,null,null,null,null,null,null,null,null,null,null,null,null,null,null,null,null,null,null,null,null,null,null,null,null,null,null,null,null,null,null,null,null,null,null,null,null,null,null,null,"6.2 Industrial Boiler/Gas cylinder explosion",0,0,0,0,0,0,0,0,"",0,0,0,0,0,0,0,0,"",0,0,0,0,0,0,0,0,"",0,0,""]
[null,null,null,null,null,null,null,null,null,null,null,null,null,null,null,null,null,null,null,null,null,null,null,null,null,null,null,null,null,null,null,null,null,null,null,null,null,null,null,null,null,null,null,null,null,null,null,null,null,null,null,null,null,"6.3 Ammunition explosion in Armed Forces/Police/CPMF",0,0,0,0,0,0,0,0,"",0,0,0,0,0,0,0,0,"",0,0,0,0,0,0,0,0,"",0,0,""]
[null,null,null,null,null,null,null,null,null,null,null,null,null,null,null,null,null,null,null,null,null,null,null,null,null,null,null,null,null,null,null,null,null,null,null,null,null,null,null,null,null,null,null,null,null,null,null,null,null,null,null,null,null,"6.4 Other",0,0,0,0,0,0,0,0,"",0,0,0,0,0,0,0,0,"",0,0,0,0,0,0,0,0,"",0,0,""]
[null,null,null,null,null,null,null,null,null,null,null,null,null,null,null,null,null,null,null,null,null,null,null,null,null,null,null,null,null,null,null,null,null,null,null,null,null,null,null,null,null,null,null,null,null,null,null,null,null,null,null,null,7,"Falls (Total) (sum of 7.1 to 7.6)",1,1,13,40,38,32,125,125,"",1,0,1,2,2,9,15,15,"",0,0,0,0,0,0,0,0,"",140,140,""]
[null,null,null,null,null,null,null,null,null,null,null,null,null,null,null,null,null,null,null,null,null,null,null,null,null,null,null,null,null,null,null,null,null,null,null,null,null,null,null,null,null,null,null,null,null,null,null,null,null,null,null,null,null,"7.1 Fall from Height",1,1,11,28,19,14,74,74,"",1,0,1,1,1,5,9,9,"",0,0,0,0,0,0,0,0,"",83,83,""]
[null,null,null,null,null,null,null,null,null,null,null,null,null,null,null,null,null,null,null,null,null,null,null,null,null,null,null,null,null,null,null,null,null,null,null,null,null,null,null,null,null,null,null,null,null,null,null,null,null,null,null,null,null,"7.2 Fall from Vehicles (Automobile like Bus, Trucks, etc.)",0,0,0,0,0,0,0,0,"",0,0,0,0,0,0,0,0,"",0,0,0,0,0,0,0,0,"",0,0,""]
[null,null,null,null,null,null,null,null,null,null,null,null,null,null,null,null,null,null,null,null,null,null,null,null,null,null,null,null,null,null,null,null,null,null,null,null,null,null,null,null,null,null,null,null,null,null,null,null,null,null,null,null,null,"7.3 Fall into Manhole / Sewer",0,0,1,2,0,0,3,3,"",0,0,0,0,0,0,0,0,"",0,0,0,0,0,0,0,0,"",3,3,""]
[null,null,null,null,null,null,null,null,null,null,null,null,null,null,null,null,null,null,null,null,null,null,null,null,null,null,null,null,null,null,null,null,null,null,null,null,null,null,null,null,null,null,null,null,null,null,null,null,null,null,null,null,null,{"$f":"C31","v":"7.4 Fall into Pit"},0,0,0,0,0,0,0,0,"",0,0,0,0,0,0,0,0,"",0,0,0,0,0,0,0,0,"",0,0,""]
[null,null,null,null,null,null,null,null,null,null,null,null,null,null,null,null,null,null,null,null,null,null,null,null,null,null,null,null,null,null,null,null,null,null,null,null,null,null,null,null,null,null,null,null,null,null,null,null,null,null,null,null,null,{"$f":"C32","v":"7.5 Fall into Borewell"},0,0,0,0,0,0,0,0,null,{"$f":"M32","v":0},0,0,0,0,0,0,0,null,{"$f":"V32","v":0},0,0,0,0,0,0,0,null,{"$f":"AE32","v":0},{"$f":"AF32","v":0}]
[null,null,null,null,null,null,null,null,null,null,null,null,null,null,null,null,null,null,null,null,null,null,null,null,null,null,null,null,null,null,null,null,null,null,null,null,null,null,null,null,null,null,null,null,null,null,null,null,null,null,null,null,null,{"$f":"C33","v":"7.6 Others"},{"$f":"D33","v":0},{"$f":"E33","v":0},{"$f":"F33","v":1},{"$f":"G33","v":10},{"$f":"H33","v":19},{"$f":"I33","v":18},{"$f":"J33","v":48},{"$f":"K33","v":48},{"$f":"L33","v":""},{"$f":"M33","v":0},{"$f":"N33","v":0},{"$f":"O33","v":0},{"$f":"P33","v":1},{"$f":"Q33","v":1},{"$f":"R33","v":4},{"$f":"S33","v":6},{"$f":"T33","v":6},{"$f":"U33","v":""},{"$f":"V33","v":0},{"$f":"W33","v":0},{"$f":"X33","v":0},{"$f":"Y33","v":0},{"$f":"Z33","v":0},{"$f":"AA33","v":0},{"$f":"AB33","v":0},{"$f":"AC33","v":0},{"$f":"AD33","v":""},{"$f":"AE33","v":54},{"$f":"AF33","v":54},{"$f":"AG33","v":""}]
[null,null,null,null,null,null,null,null,null,null,null,null,null,null,null,null,null,null,null,null,null,null,null,null,null,null,null,null,null,null,null,null,null,null,null,null,null,null,null,null,null,null,null,null,null,null,null,null,null,null,null,null,8,"Factory/Machine accidents",0,0,0,0,0,0,0,0,"",0,0,0,0,0,0,0,0,"",0,0,0,0,0,0,0,0,"",0,0,""]
[null,null,null,null,null,null,null,null,null,null,null,null,null,null,null,null,null,null,null,null,null,null,null,null,null,null,null,null,null,null,null,null,null,null,null,null,null,null,null,null,null,null,null,null,null,null,null,null,null,null,null,null,9,"Accidental Fire (Total) (sum of 9.1 to 9.5)",0,0,2,1,1,1,5,5,"",0,0,4,1,4,4,13,13,"",0,0,0,0,0,0,0,0,"",18,18,""]
[null,null,null,null,null,null,null,null,null,null,null,null,null,null,null,null,null,null,null,null,null,null,null,null,null,null,null,null,null,null,null,null,null,null,null,null,null,null,null,null,null,null,null,null,null,null,null,null,null,null,null,null,null,"9.1 Electrical Short circuit",0,0,1,0,0,0,1,1,"",0,0,0,0,0,0,0,0,"",0,0,0,0,0,0,0,0,"",1,1,""]
[null,null,null,null,null,null,null,null,null,null,null,null,null,null,null,null,null,null,null,null,null,null,null,null,null,null,null,null,null,null,null,null,null,null,null,null,null,null,null,null,null,null,null,null,null,null,null,null,null,null,null,null,null,"9.2 Riot/Agitation",0,0,0,0,0,0,0,0,"",0,0,0,0,0,0,0,0,"",0,0,0,0,0,0,0,0,"",0,0,""]
[null,null,null,null,null,null,null,null,null,null,null,null,null,null,null,null,null,null,null,null,null,null,null,null,null,null,null,null,null,null,null,null,null,null,null,null,null,null,null,null,null,null,null,null,null,null,null,null,null,null,null,null,null,"9.3 Fireworks",0,0,0,0,0,0,0,0,"",0,0,0,0,0,0,0,0,"",0,0,0,0,0,0,0,0,"",0,0,""]
[null,null,null,null,null,null,null,null,null,null,null,null,null,null,null,null,null,null,null,null,null,null,null,null,null,null,null,null,null,null,null,null,null,null,null,null,null,null,null,null,null,null,null,null,null,null,null,null,null,null,null,null,null,"9.4 Cooking Gas cylinder/stove burst",0,0,0,1,0,0,1,1,"",0,0,2,0,2,0,4,4,"",0,0,0,0,0,0,0,0,"",5,5,""]
[null,null,null,null,null,null,null,null,null,null,null,null,null,null,null,null,null,null,null,null,null,null,null,null,null,null,null,null,null,null,null,null,null,null,null,null,null,null,null,null,null,null,null,null,null,null,null,null,null,null,null,null,null,"9.5 Other Causes",0,0,1,0,1,1,3,3,"",0,0,2,1,2,4,9,9,"",0,0,0,0,0,0,0,0,"",12,12,""]
[null,null,null,null,null,null,null,null,null,null,null,null,null,null,null,null,null,null,null,null,null,null,null,null,null,null,null,null,null,null,null,null,null,null,null,null,null,null,null,null,null,null,null,null,null,null,null,null,null,null,null,null,10,"Firearm",0,0,0,0,0,0,0,0,"",0,0,0,0,0,0,0,0,"",0,0,0,0,0,0,0,0,"",0,0,""]
[null,null,null,null,null,null,null,null,null,null,null,null,null,null,null,null,null,null,null,null,null,null,null,null,null,null,null,null,null,null,null,null,null,null,null,null,null,null,null,null,null,null,null,null,null,null,null,null,null,null,null,null,11,"Mines or Quarry disaster",0,0,0,0,0,0,0,0,"",0,0,0,0,0,0,0,0,"",0,0,0,0,0,0,0,0,"",0,0,""]
[null,null,null,null,null,null,null,null,null,null,null,null,null,null,null,null,null,null,null,null,null,null,null,null,null,null,null,null,null,null,null,null,null,null,null,null,null,null,null,null,null,null,null,null,null,null,null,null,null,null,null,null,12,"Traffic Accidents (Total) (sum of 12.1, 12.2 and 12.3)",3,6,89,94,64,31,287,287,"",1,0,6,11,13,10,41,41,"",0,0,0,0,0,0,0,0,"",328,328,""]
[null,null,null,null,null,null,null,null,null,null,null,null,null,null,null,null,null,null,null,null,null,null,null,null,null,null,null,null,null,null,null,null,null,null,null,null,null,null,null,null,null,null,null,null,null,null,null,null,null,null,null,null,null,"12.1 Road Accidents ",3,6,79,65,53,27,233,233,"",1,0,6,11,13,10,41,41,"",0,0,0,0,0,0,0,0,"",274,274,""]
[null,null,null,null,null,null,null,null,null,null,null,null,null,null,null,null,null,null,null,null,null,null,null,null,null,null,null,null,null,null,null,null,null,null,null,null,null,null,null,null,null,null,null,null,null,null,null,null,null,null,null,null,null,0,0,0,0,0,0,0,0,0,"",0,0,0,0,0,0,0,0,"",0,0,0,0,0,0,0,0,"",0,0,""]
[null,null,null,null,null,null,null,null,null,null,null,null,null,null,null,null,null,null,null,null,null,null,null,null,null,null,null,null,null,null,null,null,null,null,null,null,null,null,null,null,null,null,null,null,null,null,null,null,null,null,null,null,null,0,3,6,79,65,53,27,233,233,"",1,0,6,11,13,10,41,41,"",0,0,0,0,0,0,0,0,"",274,274,""]
[null,null,null,null,null,null,null,null,null,null,null,null,null,null,null,null,null,null,null,null,null,null,null,null,null,null,null,null,null,null,null,null,null,null,null,null,null,null,null,null,null,null,null,null,null,null,null,null,null,null,null,null,null,"12.2 Railway Crossing Accidents",0,0,0,0,0,0,0,0,"",0,0,0,0,0,0,0,0,"",0,0,0,0,0,0,0,0,"",0,0,""]
[null,null,null,null,null,null,null,null,null,null,null,null,null,null,null,null,null,null,null,null,null,null,null,null,null,null,null,null,null,null,null,null,null,null,null,null,null,null,null,null,null,null,null,null,null,null,null,null,null,null,null,null,null,"12.3 Railway Accidents ",0,0,10,29,11,4,54,54,"",0,0,0,0,0,0,0,0,"",0,0,0,0,0,0,0,0,"",54,54,""]
[null,null,null,null,null,null,null,null,null,null,null,null,null,null,null,null,null,null,null,null,null,null,null,null,null,null,null,null,null,null,null,null,null,null,null,null,null,null,null,null,null,null,null,null,null,null,null,null,null,null,null,null,13,"Stampede",0,0,0,0,0,0,0,0,"",0,0,0,0,0,0,0,0,"",0,0,0,0,0,0,0,0,"",0,0,""]
[null,null,null,null,null,null,null,null,null,null,null,null,null,null,null,null,null,null,null,null,null,null,null,null,null,null,null,null,null,null,null,null,null,null,null,null,null,null,null,null,null,null,null,null,null,null,null,null,null,null,null,null,14,"Other Unnatural Causes",0,0,0,3,1,1,5,5,"",1,0,3,3,0,0,7,7,"",0,0,0,0,0,0,0,0,"",12,12,""]
[null,null,null,null,null,null,null,null,null,null,null,null,null,null,null,null,null,null,null,null,null,null,null,null,null,null,null,null,null,null,null,null,null,null,null,null,null,null,null,null,null,null,null,null,null,null,null,null,null,null,null,null,15,"Causes not known",0,0,2,4,6,3,15,15,"",0,0,1,1,0,0,2,2,"",0,0,0,0,0,0,0,0,"",17,17,""]
[null,null,null,null,null,null,null,null,null,null,null,null,null,null,null,null,null,null,null,null,null,null,null,null,null,null,null,null,null,null,null,null,null,null,null,null,null,null,null,null,null,null,null,null,null,null,null,null,null,null,null,null,16,"Total (sum of Sl. 1 to 15)",12,11,142,173,129,80,547,547,"",4,2,18,18,19,26,87,87,"",0,0,0,0,0,0,0,0,"",634,634,""]
[null,null,null,null,null,null,null,null,null,null,null,null,null,null,null,null,null,null,null,null,null,null,null,null,null,null,null,null,null,null,null,null,null,null,null,null,null,null,null,null,null,null,null,null,null,null,null,null,null,null,null,null,{"$f":"A53","v":"SL-12.1.1 ABNORMAL VARIATION IN \"ROAD RAGE INCIDENTS\" DATA"},null,{"$f":"D53","v":""},"","","","","","","",null,"","","","","","","","",null,"","","","","","","","",null,"",""]
[null,null,null,null,null,null,null,null,null,null,null,null,null,null,null,null,null,null,null,null,null,null,null,null,null,null,null,null,null,null,null,null,null,null,null,null,null,null,null,null,null,null,null,null,null,null,null,null,null,null,null,null,{"$f":"A54","v":"SL-14 ABNORMAL VARIATION IN \"OTHER UNNATURAL CAUSES\" DATA"},null,{"$f":"D54","v":""},"","","","","","","",null,"ABVAR","","","","","","","",null,"","","","","","","","",null,{"$f":"AE54","v":""},""]
[null,null,null,null,null,null,null,null,null,null,null,null,null,null,null,null,null,null,null,null,null,null,null,null,null,null,null,null,null,null,null,null,null,null,null,null,null,null,null,null,null,null,null,null,null,null,null,null,null,null,null,null,"SL-15 ABNORMAL VARIATION IN \"CAUSES NOT KNOWN\" DATA",null,"","","","","","","","",null,"","","","","","","","",null,"","","","","","","","",null,"",""]
[]
[]
[]
[]
[]
[]
[]
[]
[]
[]
[]
[]
[]
[]
[]
[]
[]
[]
[]
[]
[]
[]
[]
[]
[]
[]
[]
[]
[]
[]
[]
[]
[]
[]
[]
[]
[]
[]
[]
[]
[]
[]
[]
[]
[]
[]
[]
[]
[]
[]
[]
[]
[]
[]
[]
[]
[]
[]
[]
[]
[]
[]
[]
[]
[]
[]
[]
[]
[]
[]
[]
[]
[]
[]
[]
[]
[]
[]
[]
[]
[]
[]
[]
[]
[]
[]
[]
[]
[]
[]
[]
[]
[]
[]
[]
[]
[]
[]
[]
[]
[]
[]
[]
[]
[]
[]
[]
[]
[]
[]
[]
[]
[]
[]
[]
[]
[]
[]
[]
[]
[]
[]
[]
[]
[]
[]
[]
[]
[]
[]
[]
[]
[]
[]
[]
[]
[]
[]
[]
[]
[]
[]
[]
[]
[]
[]
[]
[]
[]
[]
[]
[]
[]
[]
[]
[]
[]
[]
[]
[]
[]
[]
[]
[]
[]
[]
[]
[]
[]
[]
[]
[]
[]
[]
[]
[]
[]
[]
[]
[]
[]
[]
[]
[]
[]
[]
[]
[]
[]
[]
[]
[]
[]
[]
[]
[]
[]
[]
[]
[]
[]
[]
[]
[]
[]
[]
[]
[]
[]
[]
[]
[]
[]
[]
[]
[]
[]
[]
[]
[]
[]
[]
[]
[]
[]
[]
[]
[]
[]
[]
[]
[]
[]
[]
[]
[]
[]
[]
[]
[]
[]
[]
[]
[]
[]
["StateUTCityCode","DistrictCode","CrimeCode","DataYear","Male_below 14 years","Male_14 and above – below 18 years","Male_18 and above – below 30 years","Male_30 and above – below 45 years","Male_45 and above – below 60 years","Male_60 years & above","Male_Total","Female_below 14 years","Female_14 and above – below 18 years","Female_18 and above – below 30 years","Female_30 and above – below 45 years","Female_45 and above – below 60 years","Female_60 years & above","Female_Total","Trans_below 14 years","Trans_14 and above – below 18 years","Trans_18 and above – below 30 years","Trans_30 and above – below 45 years","Trans_45 and above – below 60 years","Trans_60 years & above","Trans_Total","Grand Total"]
[{"$f":"IF(ADSI!$G$12=\"\",ADSI!$H$16,ADSI!$H$12)","v":6},{"$f":"IF(ADSI!$G$12=\"\",ADSI!$H$16,ADSI!$H$14)","v":""},{"$f":"A9","v":200},{"$f":"ADSI!$K$12","v":2022},{"$f":"D9","v":0},{"$f":"E9","v":0},0,0,0,0,0,{"$f":"M9","v":0},{"$f":"N9","v":0},0,0,0,0,0,{"$f":"V9","v":0},{"$f":"W9","v":0},0,0,0,0,0,{"$f":"AE9","v":0}]
[{"$f":"IF(ADSI!$G$12=\"\",ADSI!$H$16,ADSI!$H$12)","v":6},{"$f":"IF(ADSI!$G$12=\"\",ADSI!$H$16,ADSI!$H$14)","v":""},{"$f":"A10","v":201},{"$f":"ADSI!$K$12","v":2022},{"$f":"D10","v":0},0,0,0,0,0,0,{"$f":"M10","v":0},0,0,0,0,0,0,{"$f":"V10","v":0},{"$f":"W10","v":0},{"$f":"X10","v":0},{"$f":"Y10","v":0},{"$f":"Z10","v":0},{"$f":"AA10","v":0},{"$f":"AB10","v":0},{"$f":"AE10","v":0}]
[{"$f":"IF(ADSI!$G$12=\"\",ADSI!$H$16,ADSI!$H$12)","v":6},{"$f":"IF(ADSI!$G$12=\"\",ADSI!$H$16,ADSI!$H$14)","v":""},202,{"$f":"ADSI!$K$12","v":2022},{"$f":"D11","v":0},0,1,3,0,0,4,{"$f":"M11","v":0},0,0,0,0,0,0,0,0,0,0,0,0,0,4]
[{"$f":"IF(ADSI!$G$12=\"\",ADSI!$H$16,ADSI!$H$12)","v":6},{"$f":"IF(ADSI!$G$12=\"\",ADSI!$H$16,ADSI!$H$14)","v":""},203,{"$f":"ADSI!$K$12","v":2022},{"$f":"D12","v":0},0,1,2,0,0,3,{"$f":"M12","v":0},0,0,0,0,0,0,0,0,0,0,0,0,0,3]
[{"$f":"IF(ADSI!$G$12=\"\",ADSI!$H$16,ADSI!$H$12)","v":6},{"$f":"IF(ADSI!$G$12=\"\",ADSI!$H$16,ADSI!$H$14)","v":""},204,{"$f":"ADSI!$K$12","v":2022},{"$f":"D13","v":0},0,0,0,0,0,0,{"$f":"M13","v":0},0,0,0,0,0,0,0,0,0,0,0,0,0,0]
[{"$f":"IF(ADSI!$G$12=\"\",ADSI!$H$16,ADSI!$H$12)","v":6},{"$f":"IF(ADSI!$G$12=\"\",ADSI!$H$16,ADSI!$H$14)","v":""},205,{"$f":"ADSI!$K$12","v":2022},{"$f":"D14","v":0},0,0,0,0,0,0,{"$f":"M14","v":0},0,0,0,0,0,0,0,0,0,0,0,0,0,0]
[{"$f":"IF(ADSI!$G$12=\"\",ADSI!$H$16,ADSI!$H$12)","v":6},{"$f":"IF(ADSI!$G$12=\"\",ADSI!$H$16,ADSI!$H$14)","v":""},206,{"$f":"ADSI!$K$12","v":2022},{"$f":"D15","v":0},0,0,0,0,0,0,{"$f":"M15","v":0},0,0,0,0,0,0,0,0,0,0,0,0,0,0]
[{"$f":"IF(ADSI!$G$12=\"\",ADSI!$H$16,ADSI!$H$12)","v":6},{"$f":"IF(ADSI!$G$12=\"\",ADSI!$H$16,ADSI!$H$14)","v":""},207,{"$f":"ADSI!$K$12","v":2022},{"$f":"D16","v":0},0,0,1,0,0,1,{"$f":"M16","v":0},0,0,0,0,0,0,0,0,0,0,0,0,0,1]
[{"$f":"IF(ADSI!$G$12=\"\",ADSI!$H$16,ADSI!$H$12)","v":6},{"$f":"IF(ADSI!$G$12=\"\",ADSI!$H$16,ADSI!$H$14)","v":""},208,{"$f":"ADSI!$K$12","v":2022},{"$f":"D17","v":7},2,30,23,18,12,92,{"$f":"M17","v":1},2,3,0,0,2,8,0,0,0,0,0,0,0,100]
[{"$f":"IF(ADSI!$G$12=\"\",ADSI!$H$16,ADSI!$H$12)","v":6},{"$f":"IF(ADSI!$G$12=\"\",ADSI!$H$16,ADSI!$H$14)","v":""},209,{"$f":"ADSI!$K$12","v":2022},{"$f":"D18","v":0},0,0,0,0,0,0,{"$f":"M18","v":0},0,0,0,0,0,0,0,0,0,0,0,0,0,0]
[{"$f":"IF(ADSI!$G$12=\"\",ADSI!$H$16,ADSI!$H$12)","v":6},{"$f":"IF(ADSI!$G$12=\"\",ADSI!$H$16,ADSI!$H$14)","v":""},210,{"$f":"ADSI!$K$12","v":2022},{"$f":"D19","v":6},2,23,18,16,11,76,{"$f":"M19","v":1},1,1,0,0,2,5,0,0,0,0,0,0,0,81]
[{"$f":"IF(ADSI!$G$12=\"\",ADSI!$H$16,ADSI!$H$12)","v":6},{"$f":"IF(ADSI!$G$12=\"\",ADSI!$H$16,ADSI!$H$14)","v":""},211,{"$f":"ADSI!$K$12","v":2022},{"$f":"D20","v":1},0,7,5,2,1,16,{"$f":"M20","v":0},1,2,0,0,0,3,0,0,0,0,0,0,0,19]
[{"$f":"IF(ADSI!$G$12=\"\",ADSI!$H$16,ADSI!$H$12)","v":6},{"$f":"IF(ADSI!$G$12=\"\",ADSI!$H$16,ADSI!$H$14)","v":""},212,{"$f":"ADSI!$K$12","v":2022},{"$f":"D21","v":1},2,5,5,1,0,14,{"$f":"M21","v":0},0,0,0,0,1,1,0,0,0,0,0,0,0,15]
[{"$f":"IF(ADSI!$G$12=\"\",ADSI!$H$16,ADSI!$H$12)","v":6},{"$f":"IF(ADSI!$G$12=\"\",ADSI!$H$16,ADSI!$H$14)","v":""},213,{"$f":"ADSI!$K$12","v":2022},{"$f":"D22","v":0},0,0,0,0,0,0,{"$f":"M22","v":0},0,0,0,0,0,0,0,0,0,0,0,0,0,0]
[{"$f":"IF(ADSI!$G$12=\"\",ADSI!$H$16,ADSI!$H$12)","v":6},{"$f":"IF(ADSI!$G$12=\"\",ADSI!$H$16,ADSI!$H$14)","v":""},214,{"$f":"ADSI!$K$12","v":2022},{"$f":"D23","v":0},0,0,0,0,0,0,{"$f":"M23","v":0},0,0,0,0,0,0,0,0,0,0,0,0,0,0]
[{"$f":"IF(ADSI!$G$12=\"\",ADSI!$H$16,ADSI!$H$12)","v":6},{"$f":"IF(ADSI!$G$12=\"\",ADSI!$H$16,ADSI!$H$14)","v":""},215,{"$f":"ADSI!$K$12","v":2022},{"$f":"D24","v":0},0,0,0,0,0,0,{"$f":"M24","v":0},0,0,0,0,0,0,0,0,0,0,0,0,0,0]
[{"$f":"IF(ADSI!$G$12=\"\",ADSI!$H$16,ADSI!$H$12)","v":6},{"$f":"IF(ADSI!$G$12=\"\",ADSI!$H$16,ADSI!$H$14)","v":""},216,{"$f":"ADSI!$K$12","v":2022},{"$f":"D25","v":0},0,0,0,0,0,0,{"$f":"M25","v":0},0,0,0,0,0,0,0,0,0,0,0,0,0,0]
[{"$f":"IF(ADSI!$G$12=\"\",ADSI!$H$16,ADSI!$H$12)","v":6},{"$f":"IF(ADSI!$G$12=\"\",ADSI!$H$16,ADSI!$H$14)","v":""},217,{"$f":"ADSI!$K$12","v":2022},{"$f":"D26","v":0},0,0,0,0,0,0,{"$f":"M26","v":0},0,0,0,0,0,0,0,0,0,0,0,0,0,0]
[{"$f":"IF(ADSI!$G$12=\"\",ADSI!$H$16,ADSI!$H$12)","v":6},{"$f":"IF(ADSI!$G$12=\"\",ADSI!$H$16,ADSI!$H$14)","v":""},218,{"$f":"ADSI!$K$12","v":2022},{"$f":"D27","v":1},1,13,40,38,32,125,{"$f":"M27","v":1},0,1,2,2,9,15,0,0,0,0,0,0,0,140]
[{"$f":"IF(ADSI!$G$12=\"\",ADSI!$H$16,ADSI!$H$12)","v":6},{"$f":"IF(ADSI!$G$12=\"\",ADSI!$H$16,ADSI!$H$14)","v":""},219,{"$f":"ADSI!$K$12","v":2022},{"$f":"D28","v":1},1,11,28,19,14,74,{"$f":"M28","v":1},0,1,1,1,5,9,0,0,0,0,0,0,0,83]
[{"$f":"IF(ADSI!$G$12=\"\",ADSI!$H$16,ADSI!$H$12)","v":6},{"$f":"IF(ADSI!$G$12=\"\",ADSI!$H$16,ADSI!$H$14)","v":""},220,{"$f":"ADSI!$K$12","v":2022},{"$f":"D29","v":0},0,0,0,0,0,0,{"$f":"M29","v":0},0,0,0,0,0,0,0,0,0,0,0,0,0,0]
[{"$f":"IF(ADSI!$G$12=\"\",ADSI!$H$16,ADSI!$H$12)","v":6},{"$f":"IF(ADSI!$G$12=\"\",ADSI!$H$16,ADSI!$H$14)","v":""},221,{"$f":"ADSI!$K$12","v":2022},{"$f":"D30","v":0},0,1,2,0,0,3,{"$f":"M30","v":0},0,0,0,0,0,0,0,0,0,0,0,0,0,3]
[{"$f":"IF(ADSI!$G$12=\"\",ADSI!$H$16,ADSI!$H$12)","v":6},{"$f":"IF(ADSI!$G$12=\"\",ADSI!$H$16,ADSI!$H$14)","v":""},{"$f":"A31","v":222},{"$f":"ADSI!$K$12","v":2022},{"$f":"D31","v":0},0,0,0,0,0,0,{"$f":"M31","v":0},0,0,0,0,0,0,0,0,0,0,0,0,0,0]
[{"$f":"IF(ADSI!$G$12=\"\",ADSI!$H$16,ADSI!$H$12)","v":6},{"$f":"IF(ADSI!$G$12=\"\",ADSI!$H$16,ADSI!$H$14)","v":""},223,{"$f":"ADSI!$K$12","v":2022},{"$f":"D32","v":0},0,0,0,0,0,0,{"$f":"M32","v":0},0,0,0,0,0,0,0,0,0,0,0,0,0,0]
[{"$f":"IF(ADSI!$G$12=\"\",ADSI!$H$16,ADSI!$H$12)","v":6},{"$f":"IF(ADSI!$G$12=\"\",ADSI!$H$16,ADSI!$H$14)","v":""},224,{"$f":"ADSI!$K$12","v":2022},{"$f":"D33","v":0},0,1,10,19,18,48,{"$f":"M33","v":0},0,0,1,1,4,6,0,0,0,0,0,0,0,54]
[{"$f":"IF(ADSI!$G$12=\"\",ADSI!$H$16,ADSI!$H$12)","v":6},{"$f":"IF(ADSI!$G$12=\"\",ADSI!$H$16,ADSI!$H$14)","v":""},{"$f":"A34","v":225},{"$f":"ADSI!$K$12","v":2022},{"$f":"D34","v":0},0,0,0,0,0,0,{"$f":"M34","v":0},0,0,0,0,0,0,0,0,0,0,0,0,0,0]
[{"$f":"IF(ADSI!$G$12=\"\",ADSI!$H$16,ADSI!$H$12)","v":6},{"$f":"IF(ADSI!$G$12=\"\",ADSI!$H$16,ADSI!$H$14)","v":""},226,{"$f":"ADSI!$K$12","v":2022},{"$f":"D35","v":0},0,2,1,1,1,5,{"$f":"M35","v":0},0,4,1,4,4,13,0,0,0,0,0,0,0,18]
[{"$f":"IF(ADSI!$G$12=\"\",ADSI!$H$16,ADSI!$H$12)","v":6},{"$f":"IF(ADSI!$G$12=\"\",ADSI!$H$16,ADSI!$H$14)","v":""},{"$f":"A36","v":227},{"$f":"ADSI!$K$12","v":2022},{"$f":"D36","v":0},0,1,0,0,0,1,{"$f":"M36","v":0},0,0,0,0,0,0,0,0,0,0,0,0,0,1]
[{"$f":"IF(ADSI!$G$12=\"\",ADSI!$H$16,ADSI!$H$12)","v":6},{"$f":"IF(ADSI!$G$12=\"\",ADSI!$H$16,ADSI!$H$14)","v":""},228,{"$f":"ADSI!$K$12","v":2022},{"$f":"D37","v":0},0,0,0,0,0,0,{"$f":"M37","v":0},0,0,0,0,0,0,0,0,0,0,0,0,0,0]
[{"$f":"IF(ADSI!$G$12=\"\",ADSI!$H$16,ADSI!$H$12)","v":6},{"$f":"IF(ADSI!$G$12=\"\",ADSI!$H$16,ADSI!$H$14)","v":""},229,{"$f":"ADSI!$K$12","v":2022},{"$f":"D38","v":0},0,0,0,0,0,0,{"$f":"M38","v":0},0,0,0,0,0,0,0,0,0,0,0,0,0,0]
[{"$f":"IF(ADSI!$G$12=\"\",ADSI!$H$16,ADSI!$H$12)","v":6},{"$f":"IF(ADSI!$G$12=\"\",ADSI!$H$16,ADSI!$H$14)","v":""},{"$f":"A39","v":230},{"$f":"ADSI!$K$12","v":2022},{"$f":"D39","v":0},0,0,1,0,0,1,{"$f":"M39","v":0},0,2,0,2,0,4,0,0,0,0,0,0,0,5]
[{"$f":"IF(ADSI!$G$12=\"\",ADSI!$H$16,ADSI!$H$12)","v":6},{"$f":"IF(ADSI!$G$12=\"\",ADSI!$H$16,ADSI!$H$14)","v":""},231,{"$f":"ADSI!$K$12","v":2022},{"$f":"D40","v":0},0,1,0,1,1,3,{"$f":"M40","v":0},0,2,1,2,4,9,0,0,0,0,0,0,0,12]
[{"$f":"IF(ADSI!$G$12=\"\",ADSI!$H$16,ADSI!$H$12)","v":6},{"$f":"IF(ADSI!$G$12=\"\",ADSI!$H$16,ADSI!$H$14)","v":""},232,{"$f":"ADSI!$K$12","v":2022},{"$f":"D41","v":0},0,0,0,0,0,0,{"$f":"M41","v":0},0,0,0,0,0,0,0,0,0,0,0,0,0,0]
[{"$f":"IF(ADSI!$G$12=\"\",ADSI!$H$16,ADSI!$H$12)","v":6},{"$f":"IF(ADSI!$G$12=\"\",ADSI!$H$16,ADSI!$H$14)","v":""},{"$f":"A42","v":233},{"$f":"ADSI!$K$12","v":2022},{"$f":"D42","v":0},0,0,0,0,0,0,{"$f":"M42","v":0},0,0,0,0,0,0,0,0,0,0,0,0,0,0]
[{"$f":"IF(ADSI!$G$12=\"\",ADSI!$H$16,ADSI!$H$12)","v":6},{"$f":"IF(ADSI!$G$12=\"\",ADSI!$H$16,ADSI!$H$14)","v":""},234,{"$f":"ADSI!$K$12","v":2022},{"$f":"D43","v":3},6,89,94,64,31,287,{"$f":"M43","v":1},0,6,11,13,10,41,0,0,0,0,0,0,0,328]
[{"$f":"IF(ADSI!$G$12=\"\",ADSI!$H$16,ADSI!$H$12)","v":6},{"$f":"IF(ADSI!$G$12=\"\",ADSI!$H$16,ADSI!$H$14)","v":""},235,{"$f":"ADSI!$K$12","v":2022},{"$f":"D44","v":3},6,79,65,53,27,233,{"$f":"M44","v":1},0,6,11,13,10,41,0,0,0,0,0,0,0,274]
[{"$f":"IF(ADSI!$G$12=\"\",ADSI!$H$16,ADSI!$H$12)","v":6},{"$f":"IF(ADSI!$G$12=\"\",ADSI!$H$16,ADSI!$H$14)","v":""},236,{"$f":"ADSI!$K$12","v":2022},{"$f":"D45","v":0},0,0,0,0,0,0,{"$f":"M45","v":0},0,0,0,0,0,0,0,0,0,0,0,0,0,0]
[{"$f":"IF(ADSI!$G$12=\"\",ADSI!$H$16,ADSI!$H$12)","v":6},{"$f":"IF(ADSI!$G$12=\"\",ADSI!$H$16,ADSI!$H$14)","v":""},237,{"$f":"ADSI!$K$12","v":2022},{"$f":"D46","v":3},6,79,65,53,27,233,{"$f":"M46","v":1},0,6,11,13,10,41,0,0,0,0,0,0,0,274]
[{"$f":"IF(ADSI!$G$12=\"\",ADSI!$H$16,ADSI!$H$12)","v":6},{"$f":"IF(ADSI!$G$12=\"\",ADSI!$H$16,ADSI!$H$14)","v":""},238,{"$f":"ADSI!$K$12","v":2022},{"$f":"D47","v":0},0,0,0,0,0,0,{"$f":"M47","v":0},0,0,0,0,0,0,0,0,0,0,0,0,0,0]
[{"$f":"IF(ADSI!$G$12=\"\",ADSI!$H$16,ADSI!$H$12)","v":6},{"$f":"IF(ADSI!$G$12=\"\",ADSI!$H$16,ADSI!$H$14)","v":""},239,{"$f":"ADSI!$K$12","v":2022},{"$f":"D48","v":0},0,10,29,11,4,54,{"$f":"M48","v":0},0,0,0,0,0,0,0,0,0,0,0,0,0,54]
[{"$f":"IF(ADSI!$G$12=\"\",ADSI!$H$16,ADSI!$H$12)","v":6},{"$f":"IF(ADSI!$G$12=\"\",ADSI!$H$16,ADSI!$H$14)","v":""},240,{"$f":"ADSI!$K$12","v":2022},{"$f":"D49","v":0},0,0,0,0,0,0,{"$f":"M49","v":0},0,0,0,0,0,0,0,0,0,0,0,0,0,0]
[{"$f":"IF(ADSI!$G$12=\"\",ADSI!$H$16,ADSI!$H$12)","v":6},{"$f":"IF(ADSI!$G$12=\"\",ADSI!$H$16,ADSI!$H$14)","v":""},241,{"$f":"ADSI!$K$12","v":2022},{"$f":"D50","v":0},0,0,3,1,1,5,{"$f":"M50","v":1},0,3,3,0,0,7,0,0,0,0,0,0,0,12]
[{"$f":"IF(ADSI!$G$12=\"\",ADSI!$H$16,ADSI!$H$12)","v":6},{"$f":"IF(ADSI!$G$12=\"\",ADSI!$H$16,ADSI!$H$14)","v":""},242,{"$f":"ADSI!$K$12","v":2022},{"$f":"D51","v":0},0,2,4,6,3,15,{"$f":"M51","v":0},0,1,1,0,0,2,0,0,0,0,0,0,0,17]
[{"$f":"IF(ADSI!$G$12=\"\",ADSI!$H$16,ADSI!$H$12)","v":6},{"$f":"IF(ADSI!$G$12=\"\",ADSI!$H$16,ADSI!$H$14)","v":""},270,{"$f":"ADSI!$K$12","v":2022},{"$f":"D52","v":12},11,142,173,129,80,547,{"$f":"M52","v":4},2,18,18,19,26,87,0,0,0,0,0,0,0,634]

{"sheet":"P-IV","index":6,"n_rows":521,"n_cols":64,"rows_kept":521,"cut":false,"hidden":false,"merged":[[203,56,203,59],[203,60,203,63],[4,0,5,0],[4,4,5,4],[203,52,204,52],[203,53,204,53],[203,54,204,54],[4,1,5,1],[4,2,5,2],[4,3,5,3],[4,5,4,8],[4,9,4,12],[203,55,205,55]]}
[{"$f":"ADSI!$B$1","v":"Goa, , ADSI-2022"}]
["Errors",null,{"$f":"COUNTIF(E8:E28,FALSE)","v":0}]
[{"$f":"IF(ADSI!$L$10=1,LangMaster!A122,LangMaster!B122)","v":"Proforma-IV"}]
[{"$f":"IF(ADSI!$L$10=1,LangMaster!A123,LangMaster!B123)","v":"Profile of Accidents due to Other than Un-natural Causes"}]
[{"$f":"IF(ADSI!$L$10=1,LangMaster!A26,LangMaster!B26)","v":"Code"},{"$f":"IF(ADSI!$L$10=1,LangMaster!A27,LangMaster!B27)","v":"S.No."},{"$f":"IF(ADSI!$L$10=1,LangMaster!A478,LangMaster!B478)","v":"Causes"},{"$f":"IF(ADSI!$L$10=1,LangMaster!A479,LangMaster!B479)","v":"No. of Cases"},{"$f":"IF(ADSI!$L$10=1,LangMaster!A480,LangMaster!B480)","v":"VALIDATION WITH NUMBER OF CASES"},{"$f":"IF(ADSI!$L$10=1,LangMaster!A481,LangMaster!B481)","v":"No. of Persons Injured"},null,null,null,{"$f":"IF(ADSI!$L$10=1,LangMaster!A482,LangMaster!B482)","v":"No. of Persons Died"}]
[null,null,null,null,null,{"$f":"IF(ADSI!$L$10=1,LangMaster!A30,LangMaster!B30)","v":"Male"},{"$f":"IF(ADSI!$L$10=1,LangMaster!A31,LangMaster!B31)","v":"Female"},{"$f":"IF(ADSI!$L$10=1,LangMaster!A32,LangMaster!B32)","v":"Transgender"},{"$f":"IF(ADSI!$L$10=1,LangMaster!A483,LangMaster!B483)","v":" Total[sum of (4) to (6)]"},{"$f":"IF(ADSI!$L$10=1,LangMaster!A30,LangMaster!B30)","v":"Male"},{"$f":"IF(ADSI!$L$10=1,LangMaster!A31,LangMaster!B31)","v":"Female"},{"$f":"IF(ADSI!$L$10=1,LangMaster!A32,LangMaster!B32)","v":"Transgender"},{"$f":"IF(ADSI!$L$10=1,LangMaster!A484,LangMaster!B484)","v":" Total[sum of (8) to (10)]"}]
[null,"(1)","(2)","(3)",null,"(4)","(5)","(6)","(7)","(8)","(9)","(10)","(11)"]
[300,1,{"$f":"IF(ADSI!$L$10=1,LangMaster!A124,LangMaster!B124)","v":"Sudden Deaths (Total) (sum of 1.1 to 1.3)"},{"$f":"SUM(D9:D11)","v":49},{"$f":"IF(AND(OR(I8>0,M8>0),D8=0),FALSE,\"\")","v":""},{"$f":"SUM(F9:F11)","v":0},0,0,{"$f":"SUM(F8:H8)","v":0},42,9,0,{"$f":"SUM(J8:L8)","v":51}]
[301,null,{"$f":"IF(ADSI!$L$10=1,LangMaster!A125,LangMaster!B125)","v":"1.1 Industrial Accidents"},1,{"$f":"IF(AND(OR(I9>0,M9>0),D9=0),FALSE,\"\")","v":""},0,0,0,{"$f":"SUM(F9:H9)","v":0},3,0,0,{"$f":"SUM(J9:L9)","v":3}]
[302,null,{"$f":"IF(ADSI!$L$10=1,LangMaster!A126,LangMaster!B126)","v":"1.2 Heart Attack"},39,"",0,0,0,0,32,7,0,39]
[303,null,{"$f":"IF(ADSI!$L$10=1,LangMaster!A127,LangMaster!B127)","v":"1.3 Others"},9,"",0,0,0,0,7,2,0,9]
[304,2,{"$f":"IF(ADSI!$L$10=1,LangMaster!A128,LangMaster!B128)","v":"Deaths of Women during Pregnancy (Total) (sum of 2.1 and 2.2)"},{"$f":"SUM(D13:D14)","v":0},"",{"$f":"SUM(F13:F14)","v":0},0,0,0,0,0,0,0]
[305,null,{"$f":"IF(ADSI!$L$10=1,LangMaster!A129,LangMaster!B129)","v":"2.1 Due  to Abortions"},0,"",0,0,0,0,0,0,0,0]
[306,null,{"$f":"IF(ADSI!$L$10=1,LangMaster!A130,LangMaster!B130)","v":"2.2 Due to Other accidents during Pregnancy"},0,"",0,0,0,0,0,0,0,0]
[307,3,{"$f":"IF(ADSI!$L$10=1,LangMaster!A131,LangMaster!B131)","v":"Deaths Due to consumption of Illicit/Spurious Liquor"},0,"",0,0,0,0,0,0,0,0]
[308,4,{"$f":"IF(ADSI!$L$10=1,LangMaster!A132,LangMaster!B132)","v":"Killed by animals"},0,"",0,0,0,0,0,0,0,0]
[309,5,{"$f":"IF(ADSI!$L$10=1,LangMaster!A133,LangMaster!B133)","v":"Poisoning (Total) (sum of 5.1 to 5.3 & 5.4 to 5.6)"},{"$f":"SUM(D18:D20,D23:D25)","v":4},"",{"$f":"SUM(F18:F20,F23:F25)","v":0},0,0,0,3,1,0,4]
[310,null,{"$f":"IF(ADSI!$L$10=1,LangMaster!A134,LangMaster!B134)","v":"5.1 Food Poisoning"},0,"",0,0,0,0,0,0,0,0]
[311,null,{"$f":"IF(ADSI!$L$10=1,LangMaster!A135,LangMaster!B135)","v":"5.2 Accidental intake of Insecticides/Pesticides"},3,"",0,0,0,0,2,1,0,3]
[312,null,{"$f":"IF(ADSI!$L$10=1,LangMaster!A136,LangMaster!B136)","v":"5.3  Poisonous Gases (Total) (sum of 5.3.1 & 5.3.2)"},{"$f":"SUM(D21:D22)","v":0},"",{"$f":"SUM(F21:F22)","v":0},0,0,0,0,0,0,0]
[313,null,{"$f":"IF(ADSI!$L$10=1,LangMaster!A137,LangMaster!B137)","v":"5.3.1 Carbon Monoxide (CO) Gas"},0,"",0,0,0,0,0,0,0,0]
[314,null,{"$f":"IF(ADSI!$L$10=1,LangMaster!A138,LangMaster!B138)","v":"5.3.2 Other poisonous Gases"},0,"",0,0,0,0,0,0,0,0]
[315,null,{"$f":"IF(ADSI!$L$10=1,LangMaster!A139,LangMaster!B139)","v":"5.4 Snake bite "},1,"",0,0,0,0,1,0,0,1]
[316,null,{"$f":"IF(ADSI!$L$10=1,LangMaster!A140,LangMaster!B140)","v":"5.5 Animal/Reptiles/Insects bite"},0,"",0,0,0,0,0,0,0,0]
[317,null,{"$f":"IF(ADSI!$L$10=1,LangMaster!A141,LangMaster!B141)","v":"5.6 Other"},0,"",0,0,0,0,0,0,0,0]
[318,6,{"$f":"IF(ADSI!$L$10=1,LangMaster!A142,LangMaster!B142)","v":"Suffocation"},1,"",0,0,0,0,1,0,0,1]
[319,7,{"$f":"IF(ADSI!$L$10=1,LangMaster!A143,LangMaster!B143)","v":"Drug Overdose"},2,"",0,0,0,0,1,1,0,2]
[335,8,{"$f":"IF(ADSI!$L$10=1,LangMaster!A144,LangMaster!B144)","v":"Total (sum of Sl. 1 to 7)"},{"$f":"SUM(D8,D12,D15:D17,D26:D27)","v":56},"",{"$f":"SUM(F8,F12,F15:F17,F26:F27)","v":0},{"$f":"SUM(G8,G12,G15:G17,G26:G27)","v":0},{"$f":"SUM(H8,H12,H15:H17,H26:H27)","v":0},0,{"$f":"SUM(J8,J12,J15:J17,J26:J27)","v":47},{"$f":"SUM(K8,K12,K15:K17,K26:K27)","v":11},{"$f":"SUM(L8,L12,L15:L17,L26:L27)","v":0},58]
[]
[]
[]
[]
[]
[]
[]
[]
[]
[]
[]
[]
[]
[]
[]
[]
[]
[]
[]
[]
[]
[]
[]
[]
[]
[]
[]
[]
[]
[]
[]
[]
[]
[]
[]
[]
[]
[]
[]
[]
[]
[]
[]
[]
[]
[]
[]
[]
[]
[]
[]
[]
[]
[]
[]
[]
[]
[]
[]
[]
[]
[]
[]
[]
[]
[]
[]
[]
[]
[]
[]
[]
[]
[]
[]
[]
[]
[]
[]
[]
[]
[]
[]
[]
[]
[]
[]
[]
[]
[]
[]
[]
[]
[]
[]
[]
[]
[]
[]
[]
[]
[]
[]
[]
[]
[]
[]
[]
[]
[]
[]
[]
[]
[]
[]
[]
[]
[]
[]
[]
[]
[]
[]
[]
[]
[]
[]
[]
[]
[]
[]
[]
[]
[]
[]
[]
[]
[]
[]
[]
[]
[]
[]
[]
[]
[]
[]
[]
[]
[]
[]
[]
[]
[]
[]
[]
[]
[]
[]
[]
[]
[]
[]
[]
[]
[]
[]
[]
[]
[]
[]
[null,null,null,null,null,null,null,null,null,null,null,null,null,null,null,null,null,null,null,null,null,null,null,null,null,null,null,null,null,null,null,null,null,null,null,null,null,null,null,null,null,null,null,null,null,null,null,null,null,null,null,null,{"$f":"A1","v":"Goa, , ADSI-2022"}]
[null,null,null,null,null,null,null,null,null,null,null,null,null,null,null,null,null,null,null,null,null,null,null,null,null,null,null,null,null,null,null,null,null,null,null,null,null,null,null,null,null,null,null,null,null,null,null,null,null,null,null,null,{"$f":"A2","v":"Errors"},{"$f":"C2","v":0}]
[null,null,null,null,null,null,null,null,null,null,null,null,null,null,null,null,null,null,null,null,null,null,null,null,null,null,null,null,null,null,null,null,null,null,null,null,null,null,null,null,null,null,null,null,null,null,null,null,null,null,null,null,{"$f":"A3","v":"Proforma-IV"}]
[null,null,null,null,null,null,null,null,null,null,null,null,null,null,null,null,null,null,null,null,null,null,null,null,null,null,null,null,null,null,null,null,null,null,null,null,null,null,null,null,null,null,null,null,null,null,null,null,null,null,null,null,{"$f":"A4","v":"Profile of Accidents due to Other than Un-natural Causes"}]
[null,null,null,null,null,null,null,null,null,null,null,null,null,null,null,null,null,null,null,null,null,null,null,null,null,null,null,null,null,null,null,null,null,null,null,null,null,null,null,null,null,null,null,null,null,null,null,null,null,null,null,null,{"$f":"B5","v":"S.No."},{"$f":"C5","v":"Causes"},{"$f":"D5","v":"No. of Cases"},{"$f":"E5","v":"VALIDATION WITH NUMBER OF CASES"},{"$f":"F5","v":"No. of Persons Injured"},null,null,null,{"$f":"J5","v":"No. of Persons Died"}]
[null,null,null,null,null,null,null,null,null,null,null,null,null,null,null,null,null,null,null,null,null,null,null,null,null,null,null,null,null,null,null,null,null,null,null,null,null,null,null,null,null,null,null,null,null,null,null,null,null,null,null,null,null,null,null,null,{"$f":"F6","v":"Male"},{"$f":"G6","v":"Female"},{"$f":"H6","v":"Transgender"},{"$f":"I6","v":" Total[sum of (4) to (6)]"},"Male",{"$f":"K6","v":"Female"},{"$f":"L6","v":"Transgender"},{"$f":"M6","v":" Total[sum of (8) to (10)]"}]
[null,null,null,null,null,null,null,null,null,null,null,null,null,null,null,null,null,null,null,null,null,null,null,null,null,null,null,null,null,null,null,null,null,null,null,null,null,null,null,null,null,null,null,null,null,null,null,null,null,null,null,null,{"$f":"B7","v":"(1)"},"(2)","(3)",null,"(4)","(5)","(6)","(7)","(8)","(9)","(10)","(11)"]
[null,null,null,null,null,null,null,null,null,null,null,null,null,null,null,null,null,null,null,null,null,null,null,null,null,null,null,null,null,null,null,null,null,null,null,null,null,null,null,null,null,null,null,null,null,null,null,null,null,null,null,null,1,"Sudden Deaths (Total) (sum of 1.1 to 1.3)",49,{"$f":"E8","v":""},0,0,0,0,42,9,0,51]
[null,null,null,null,null,null,null,null,null,null,null,null,null,null,null,null,null,null,null,null,null,null,null,null,null,null,null,null,null,null,null,null,null,null,null,null,null,null,null,null,null,null,null,null,null,null,null,null,null,null,null,null,null,{"$f":"C9","v":"1.1 Industrial Accidents"},{"$f":"D9","v":1},"",0,0,0,0,3,0,0,3]
[null,null,null,null,null,null,null,null,null,null,null,null,null,null,null,null,null,null,null,null,null,null,null,null,null,null,null,null,null,null,null,null,null,null,null,null,null,null,null,null,null,null,null,null,null,null,null,null,null,null,null,null,null,"1.2 Heart Attack",39,"",0,0,0,0,32,7,0,39]
[null,null,null,null,null,null,null,null,null,null,null,null,null,null,null,null,null,null,null,null,null,null,null,null,null,null,null,null,null,null,null,null,null,null,null,null,null,null,null,null,null,null,null,null,null,null,null,null,null,null,null,null,null,"1.3 Others",9,"",0,0,0,0,7,2,0,9]
[null,null,null,null,null,null,null,null,null,null,null,null,null,null,null,null,null,null,null,null,null,null,null,null,null,null,null,null,null,null,null,null,null,null,null,null,null,null,null,null,null,null,null,null,null,null,null,null,null,null,null,null,{"$f":"B12","v":2},"Deaths of Women during Pregnancy (Total) (sum of 2.1 and 2.2)",0,"",0,0,0,0,0,0,0,0]
[null,null,null,null,null,null,null,null,null,null,null,null,null,null,null,null,null,null,null,null,null,null,null,null,null,null,null,null,null,null,null,null,null,null,null,null,null,null,null,null,null,null,null,null,null,null,null,null,null,null,null,null,null,"2.1 Due  to Abortions",0,"",0,0,0,0,0,0,0,0]
[null,null,null,null,null,null,null,null,null,null,null,null,null,null,null,null,null,null,null,null,null,null,null,null,null,null,null,null,null,null,null,null,null,null,null,null,null,null,null,null,null,null,null,null,null,null,null,null,null,null,null,null,null,"2.2 Due to Other accidents during Pregnancy",0,"",0,0,0,0,0,0,0,0]
[null,null,null,null,null,null,null,null,null,null,null,null,null,null,null,null,null,null,null,null,null,null,null,null,null,null,null,null,null,null,null,null,null,null,null,null,null,null,null,null,null,null,null,null,null,null,null,null,null,null,null,null,{"$f":"B15","v":3},"Deaths Due to consumption of Illicit/Spurious Liquor",0,"",0,0,0,0,0,0,0,0]
[null,null,null,null,null,null,null,null,null,null,null,null,null,null,null,null,null,null,null,null,null,null,null,null,null,null,null,null,null,null,null,null,null,null,null,null,null,null,null,null,null,null,null,null,null,null,null,null,null,null,null,null,{"$f":"B16","v":4},"Killed by animals",0,"",0,0,0,0,0,0,0,0]
[null,null,null,null,null,null,null,null,null,null,null,null,null,null,null,null,null,null,null,null,null,null,null,null,null,null,null,null,null,null,null,null,null,null,null,null,null,null,null,null,null,null,null,null,null,null,null,null,null,null,null,null,{"$f":"B17","v":5},"Poisoning (Total) (sum of 5.1 to 5.3 & 5.4 to 5.6)",4,"",0,0,0,0,3,1,0,4]
[null,null,null,null,null,null,null,null,null,null,null,null,null,null,null,null,null,null,null,null,null,null,null,null,null,null,null,null,null,null,null,null,null,null,null,null,null,null,null,null,null,null,null,null,null,null,null,null,null,null,null,null,null,"5.1 Food Poisoning",0,"",0,0,0,0,0,0,0,0]
[null,null,null,null,null,null,null,null,null,null,null,null,null,null,null,null,null,null,null,null,null,null,null,null,null,null,null,null,null,null,null,null,null,null,null,null,null,null,null,null,null,null,null,null,null,null,null,null,null,null,null,null,null,"5.2 Accidental intake of Insecticides/Pesticides",3,"",0,0,0,0,2,1,0,3]
[null,null,null,null,null,null,null,null,null,null,null,null,null,null,null,null,null,null,null,null,null,null,null,null,null,null,null,null,null,null,null,null,null,null,null,null,null,null,null,null,null,null,null,null,null,null,null,null,null,null,null,null,null,"5.3  Poisonous Gases (Total) (sum of 5.3.1 & 5.3.2)",0,"",0,0,0,0,0,0,0,0]
[null,null,null,null,null,null,null,null,null,null,null,null,null,null,null,null,null,null,null,null,null,null,null,null,null,null,null,null,null,null,null,null,null,null,null,null,null,null,null,null,null,null,null,null,null,null,null,null,null,null,null,null,null,"5.3.1 Carbon Monoxide (CO) Gas",0,"",0,0,0,0,0,0,0,0]
[null,null,null,null,null,null,null,null,null,null,null,null,null,null,null,null,null,null,null,null,null,null,null,null,null,null,null,null,null,null,null,null,null,null,null,null,null,null,null,null,null,null,null,null,null,null,null,null,null,null,null,null,null,"5.3.2 Other poisonous Gases",0,"",0,0,0,0,0,0,0,0]
[null,null,null,null,null,null,null,null,null,null,null,null,null,null,null,null,null,null,null,null,null,null,null,null,null,null,null,null,null,null,null,null,null,null,null,null,null,null,null,null,null,null,null,null,null,null,null,null,null,null,null,null,null,"5.4 Snake bite ",1,"",0,0,0,0,1,0,0,1]
[null,null,null,null,null,null,null,null,null,null,null,null,null,null,null,null,null,null,null,null,null,null,null,null,null,null,null,null,null,null,null,null,null,null,null,null,null,null,null,null,null,null,null,null,null,null,null,null,null,null,null,null,null,"5.5 Animal/Reptiles/Insects bite",0,"",0,0,0,0,0,0,0,0]
[null,null,null,null,null,null,null,null,null,null,null,null,null,null,null,null,null,null,null,null,null,null,null,null,null,null,null,null,null,null,null,null,null,null,null,null,null,null,null,null,null,null,null,null,null,null,null,null,null,null,null,null,null,"5.6 Other",0,"",0,0,0,0,0,0,0,0]
[null,null,null,null,null,null,null,null,null,null,null,null,null,null,null,null,null,null,null,null,null,null,null,null,null,null,null,null,null,null,null,null,null,null,null,null,null,null,null,null,null,null,null,null,null,null,null,null,null,null,null,null,{"$f":"B26","v":6},"Suffocation",1,"",0,0,0,0,1,0,0,1]
[null,null,null,null,null,null,null,null,null,null,null,null,null,null,null,null,null,null,null,null,null,null,null,null,null,null,null,null,null,null,null,null,null,null,null,null,null,null,null,null,null,null,null,null,null,null,null,null,null,null,null,null,{"$f":"B27","v":7},"Drug Overdose",2,"",0,0,0,0,1,1,0,2]
[null,null,null,null,null,null,null,null,null,null,null,null,null,null,null,null,null,null,null,null,null,null,null,null,null,null,null,null,null,null,null,null,null,null,null,null,null,null,null,null,null,null,null,null,null,null,null,null,null,null,null,null,{"$f":"B28","v":8},{"$f":"C28","v":"Total (sum of Sl. 1 to 7)"},{"$f":"D28","v":56},{"$f":"E28","v":""},{"$f":"F28","v":0},{"$f":"G28","v":0},{"$f":"H28","v":0},{"$f":"I28","v":0},{"$f":"J28","v":47},{"$f":"K28","v":11},{"$f":"L28","v":0},{"$f":"M28","v":58}]
[]
[]
[]
[]
[]
[]
[]
[]
[]
[]
[]
[]
[]
[]
[]
[]
[]
[]
[]
[]
[]
[]
[]
[]
[]
[]
[]
[]
[]
[]
[]
[]
[]
[]
[]
[]
[]
[]
[]
[]
[]
[]
[]
[]
[]
[]
[]
[]
[]
[]
[]
[]
[]
[]
[]
[]
[]
[]
[]
[]
[]
[]
[]
[]
[]
[]
[]
[]
[]
[]
[]
[]
[]
[]
[]
[]
[]
[]
[]
[]
[]
[]
[]
[]
[]
[]
[]
[]
[]
[]
[]
[]
[]
[]
[]
[]
[]
[]
[]
[]
[]
[]
[]
[]
[]
[]
[]
[]
[]
[]
[]
[]
[]
[]
[]
[]
[]
[]
[]
[]
[]
[]
[]
[]
[]
[]
[]
[]
[]
[]
[]
[]
[]
[]
[]
[]
[]
[]
[]
[]
[]
[]
[]
[]
[]
[]
[]
[]
[]
[]
[]
[]
[]
[]
[]
[]
[]
[]
[]
[]
[]
[]
[]
[]
[]
[]
[]
[]
[]
[]
[]
[]
[]
[]
[]
[]
[]
[]
[]
[]
[]
[]
[]
[]
[]
[]
[]
[]
[]
[]
[]
[]
[]
[]
[]
[]
[]
[]
[]
[]
[]
[]
[]
[]
[]
[]
[]
[]
[]
[]
[]
[]
[]
[]
[]
[]
[]
[]
[]
[]
[]
[]
[]
[]
[]
[]
[]
[]
[]
[]
[]
[]
[]
[]
[]
[]
[]
[]
[]
[]
[]
[]
[]
[]
[]
[]
[]
[]
[]
[]
[]
[]
[]
[]
[]
[]
[]
[]
[]
[]
[]
[]
[]
[]
[]
[]
[]
[]
[]
[]
[]
[]
["StateUTCityCode","DistrictCode","CrimeCode","DataYear","Number of Cases","Injured_Male","Injured_Female","Injured_Trans","Injured_Total","Died_Male","Died_Female","Died_Trans","Died_Total"]
[{"$f":"IF(ADSI!$G$12=\"\",ADSI!$H$16,ADSI!$H$12)","v":6},{"$f":"IF(ADSI!$G$12=\"\",ADSI!$H$16,ADSI!$H$14)","v":""},{"$f":"A8","v":300},{"$f":"ADSI!$K$12","v":2022},{"$f":"D8","v":49},{"$f":"F8","v":0},0,0,0,42,9,0,51]
[{"$f":"IF(ADSI!$G$12=\"\",ADSI!$H$16,ADSI!$H$12)","v":6},{"$f":"IF(ADSI!$G$12=\"\",ADSI!$H$16,ADSI!$H$14)","v":""},301,{"$f":"ADSI!$K$12","v":2022},1,{"$f":"F9","v":0},0,0,0,3,0,0,3]
[{"$f":"IF(ADSI!$G$12=\"\",ADSI!$H$16,ADSI!$H$12)","v":6},{"$f":"IF(ADSI!$G$12=\"\",ADSI!$H$16,ADSI!$H$14)","v":""},302,{"$f":"ADSI!$K$12","v":2022},39,{"$f":"F10","v":0},0,0,0,32,7,0,39]
[{"$f":"IF(ADSI!$G$12=\"\",ADSI!$H$16,ADSI!$H$12)","v":6},{"$f":"IF(ADSI!$G$12=\"\",ADSI!$H$16,ADSI!$H$14)","v":""},303,{"$f":"ADSI!$K$12","v":2022},9,{"$f":"F11","v":0},0,0,0,7,2,0,9]
[{"$f":"IF(ADSI!$G$12=\"\",ADSI!$H$16,ADSI!$H$12)","v":6},{"$f":"IF(ADSI!$G$12=\"\",ADSI!$H$16,ADSI!$H$14)","v":""},304,{"$f":"ADSI!$K$12","v":2022},0,{"$f":"F12","v":0},0,0,0,0,0,0,0]
[{"$f":"IF(ADSI!$G$12=\"\",ADSI!$H$16,ADSI!$H$12)","v":6},{"$f":"IF(ADSI!$G$12=\"\",ADSI!$H$16,ADSI!$H$14)","v":""},305,{"$f":"ADSI!$K$12","v":2022},0,{"$f":"F13","v":0},0,0,0,0,0,0,0]
[{"$f":"IF(ADSI!$G$12=\"\",ADSI!$H$16,ADSI!$H$12)","v":6},{"$f":"IF(ADSI!$G$12=\"\",ADSI!$H$16,ADSI!$H$14)","v":""},306,{"$f":"ADSI!$K$12","v":2022},0,{"$f":"F14","v":0},0,0,0,0,0,0,0]
[{"$f":"IF(ADSI!$G$12=\"\",ADSI!$H$16,ADSI!$H$12)","v":6},{"$f":"IF(ADSI!$G$12=\"\",ADSI!$H$16,ADSI!$H$14)","v":""},307,{"$f":"ADSI!$K$12","v":2022},0,{"$f":"F15","v":0},0,0,0,0,0,0,0]
[{"$f":"IF(ADSI!$G$12=\"\",ADSI!$H$16,ADSI!$H$12)","v":6},{"$f":"IF(ADSI!$G$12=\"\",ADSI!$H$16,ADSI!$H$14)","v":""},308,{"$f":"ADSI!$K$12","v":2022},0,{"$f":"F16","v":0},0,0,0,0,0,0,0]
[{"$f":"IF(ADSI!$G$12=\"\",ADSI!$H$16,ADSI!$H$12)","v":6},{"$f":"IF(ADSI!$G$12=\"\",ADSI!$H$16,ADSI!$H$14)","v":""},309,{"$f":"ADSI!$K$12","v":2022},4,{"$f":"F17","v":0},0,0,0,3,1,0,4]
[{"$f":"IF(ADSI!$G$12=\"\",ADSI!$H$16,ADSI!$H$12)","v":6},{"$f":"IF(ADSI!$G$12=\"\",ADSI!$H$16,ADSI!$H$14)","v":""},310,{"$f":"ADSI!$K$12","v":2022},0,{"$f":"F18","v":0},0,0,0,0,0,0,0]
[{"$f":"IF(ADSI!$G$12=\"\",ADSI!$H$16,ADSI!$H$12)","v":6},{"$f":"IF(ADSI!$G$12=\"\",ADSI!$H$16,ADSI!$H$14)","v":""},311,{"$f":"ADSI!$K$12","v":2022},3,{"$f":"F19","v":0},0,0,0,2,1,0,3]
[{"$f":"IF(ADSI!$G$12=\"\",ADSI!$H$16,ADSI!$H$12)","v":6},{"$f":"IF(ADSI!$G$12=\"\",ADSI!$H$16,ADSI!$H$14)","v":""},312,{"$f":"ADSI!$K$12","v":2022},0,{"$f":"F20","v":0},0,0,0,0,0,0,0]
[{"$f":"IF(ADSI!$G$12=\"\",ADSI!$H$16,ADSI!$H$12)","v":6},{"$f":"IF(ADSI!$G$12=\"\",ADSI!$H$16,ADSI!$H$14)","v":""},313,{"$f":"ADSI!$K$12","v":2022},0,{"$f":"F21","v":0},0,0,0,0,0,0,0]
[{"$f":"IF(ADSI!$G$12=\"\",ADSI!$H$16,ADSI!$H$12)","v":6},{"$f":"IF(ADSI!$G$12=\"\",ADSI!$H$16,ADSI!$H$14)","v":""},314,{"$f":"ADSI!$K$12","v":2022},0,{"$f":"F22","v":0},0,0,0,0,0,0,0]
[{"$f":"IF(ADSI!$G$12=\"\",ADSI!$H$16,ADSI!$H$12)","v":6},{"$f":"IF(ADSI!$G$12=\"\",ADSI!$H$16,ADSI!$H$14)","v":""},315,{"$f":"ADSI!$K$12","v":2022},1,{"$f":"F23","v":0},0,0,0,1,0,0,1]
[{"$f":"IF(ADSI!$G$12=\"\",ADSI!$H$16,ADSI!$H$12)","v":6},{"$f":"IF(ADSI!$G$12=\"\",ADSI!$H$16,ADSI!$H$14)","v":""},316,{"$f":"ADSI!$K$12","v":2022},0,{"$f":"F24","v":0},0,0,0,0,0,0,0]
[{"$f":"IF(ADSI!$G$12=\"\",ADSI!$H$16,ADSI!$H$12)","v":6},{"$f":"IF(ADSI!$G$12=\"\",ADSI!$H$16,ADSI!$H$14)","v":""},317,{"$f":"ADSI!$K$12","v":2022},0,{"$f":"F25","v":0},0,0,0,0,0,0,0]
[{"$f":"IF(ADSI!$G$12=\"\",ADSI!$H$16,ADSI!$H$12)","v":6},{"$f":"IF(ADSI!$G$12=\"\",ADSI!$H$16,ADSI!$H$14)","v":""},318,{"$f":"ADSI!$K$12","v":2022},1,{"$f":"F26","v":0},0,0,0,1,0,0,1]
[{"$f":"IF(ADSI!$G$12=\"\",ADSI!$H$16,ADSI!$H$12)","v":6},{"$f":"IF(ADSI!$G$12=\"\",ADSI!$H$16,ADSI!$H$14)","v":""},319,{"$f":"ADSI!$K$12","v":2022},2,{"$f":"F27","v":0},0,0,0,1,1,0,2]
[{"$f":"IF(ADSI!$G$12=\"\",ADSI!$H$16,ADSI!$H$12)","v":6},{"$f":"IF(ADSI!$G$12=\"\",ADSI!$H$16,ADSI!$H$14)","v":""},335,{"$f":"ADSI!$K$12","v":2022},56,{"$f":"F28","v":0},0,0,0,47,11,0,58]

{"sheet":"P-V","index":7,"n_rows":521,"n_cols":84,"rows_kept":521,"cut":false,"hidden":false,"merged":[[4,32,6,32],[4,0,6,0],[4,1,6,1],[4,2,6,2],[4,30,6,30],[5,3,5,11],[4,3,4,29],[5,21,5,29],[4,31,6,31],[5,12,5,20],[203,52,205,52],[203,81,205,81],[203,82,206,82],[203,83,206,83],[203,54,203,80],[204,72,204,80],[204,63,204,71],[204,54,204,62],[203,53,205,53],[205,80,206,80],[205,79,206,79],[205,70,206,70],[205,71,206,71],[205,61,206,61],[205,62,206,62]]}
[{"$f":"ADSI!$B$1","v":"Goa, , ADSI-2022"}]
["Errors",null,{"$f":"COUNTIF(L9:L29,FALSE)+COUNTIF(U9:U29,FALSE)+COUNTIF(AD9:AD29,FALSE)+COUNTIF(AG9:AG29,FALSE)","v":0}]
[{"$f":"IF(ADSI!$L$10=1,LangMaster!A145,LangMaster!B145)","v":"Proforma-V"}]
[{"$f":"IF(ADSI!$L$10=1,LangMaster!A146,LangMaster!B146)","v":"Age Wise Distribution of Accidental Deaths by Other than Un-natural Causes"}]
[{"$f":"IF(ADSI!$L$10=1,LangMaster!A26,LangMaster!B26)","v":"Code"},{"$f":"IF(ADSI!$L$10=1,LangMaster!A27,LangMaster!B27)","v":"S.No."},{"$f":"IF(ADSI!$L$10=1,LangMaster!A478,LangMaster!B478)","v":"Causes"},{"$f":"IF(ADSI!$L$10=1,LangMaster!A29,LangMaster!B29)","v":"Number of Accidental Deaths"},null,null,null,null,null,null,null,null,null,null,null,null,null,null,null,null,null,null,null,null,null,null,null,null,null,null,{"$f":"IF(ADSI!$L$10=1,LangMaster!A473,LangMaster!B473)","v":"Grand Total (9) + (16)+(23)"}," PROFORMA–IV VALUES [Col.–(11) (Total Died)]","VALIDATION  WITH PROFORMA–IV [Col.–(11) (Total Died)]"]
[null,null,null,{"$f":"IF(ADSI!$L$10=1,LangMaster!A30,LangMaster!B30)","v":"Male"},null,null,null,null,null,null,null,null,{"$f":"IF(ADSI!$L$10=1,LangMaster!A31,LangMaster!B31)","v":"Female"},null,null,null,null,null,null,null,null,{"$f":"IF(ADSI!$L$10=1,LangMaster!A32,LangMaster!B32)","v":"Transgender"}]
[null,null,null,{"$f":"IF(ADSI!$L$10=1,LangMaster!A461,LangMaster!B461)","v":"below 14 years"},{"$f":"IF(ADSI!$L$10=1,LangMaster!A462,LangMaster!B462)","v":"14 and above – below 18 years"},{"$f":"IF(ADSI!$L$10=1,LangMaster!A463,LangMaster!B463)","v":"18 and above – below 30 years"},{"$f":"IF(ADSI!$L$10=1,LangMaster!A464,LangMaster!B464)","v":"30 and above – below 45 years"},{"$f":"IF(ADSI!$L$10=1,LangMaster!A465,LangMaster!B465)","v":"45 and above – below 60 years"},{"$f":"IF(ADSI!$L$10=1,LangMaster!A466,LangMaster!B466)","v":"60 years & above"},{"$f":"IF(ADSI!$L$10=1,LangMaster!A470,LangMaster!B470)","v":" Total [sum of (3) to (8)]"}," PROFORMA–IV VALUES [Col.–(8) (Male Died)]","VALIDATION  WITH PROFORMA–IV [Col.–(8) (Male Died)]",{"$f":"IF(ADSI!$L$10=1,LangMaster!A461,LangMaster!B461)","v":"below 14 years"},{"$f":"IF(ADSI!$L$10=1,LangMaster!A462,LangMaster!B462)","v":"14 and above – below 18 years"},{"$f":"IF(ADSI!$L$10=1,LangMaster!A463,LangMaster!B463)","v":"18 and above – below 30 years"},{"$f":"IF(ADSI!$L$10=1,LangMaster!A464,LangMaster!B464)","v":"30 and above – below 45 years"},{"$f":"IF(ADSI!$L$10=1,LangMaster!A465,LangMaster!B465)","v":"45 and above – below 60 years"},{"$f":"IF(ADSI!$L$10=1,LangMaster!A466,LangMaster!B466)","v":"60 years & above"},{"$f":"IF(ADSI!$L$10=1,LangMaster!A471,LangMaster!B471)","v":"Total    [sum of (10) to (15)]"}," PROFORMA–IV VALUES [Col.–(9) (Female Died)]","VALIDATION  WITH PROFORMA–IV [Col.–(9) (Female Died)]",{"$f":"IF(ADSI!$L$10=1,LangMaster!A461,LangMaster!B461)","v":"below 14 years"},{"$f":"IF(ADSI!$L$10=1,LangMaster!A462,LangMaster!B462)","v":"14 and above – below 18 years"},{"$f":"IF(ADSI!$L$10=1,LangMaster!A463,LangMaster!B463)","v":"18 and above – below 30 years"},{"$f":"IF(ADSI!$L$10=1,LangMaster!A464,LangMaster!B464)","v":"30 and above – below 45 years"},{"$f":"IF(ADSI!$L$10=1,LangMaster!A465,LangMaster!B465)","v":"45 and above – below 60 years"},{"$f":"IF(ADSI!$L$10=1,LangMaster!A466,LangMaster!B466)","v":"60 years & above"},{"$f":"IF(ADSI!$L$10=1,LangMaster!A472,LangMaster!B472)","v":"Total [sum of (17) to (22)]"}," PROFORMA–IV VALUES [Col.–(10) Transgender Died)]","VALIDATION  WITH PROFORMA–IV [Col.–(10) Transgender Died)]"]
[null,"(1)","(2)","(3)","(4)","(5)","(6)","(7)","(8)","(9)",null,null,"(10)","(11)","(12)","(13)","(14)","(15)","(16)",null,null,"(17)","(18)","(19)","(20)","(21)","(22)","(23)",null,null,"(24)"]
[350,1,{"$f":"IF(ADSI!$L$10=1,LangMaster!A124,LangMaster!B124)","v":"Sudden Deaths (Total) (sum of 1.1 to 1.3)"},{"$f":"SUM(D10:D12)","v":0},{"$f":"SUM(E10:E12)","v":0},8,16,13,5,{"$f":"SUM(D9:I9)","v":42},{"$f":"'P-IV'!J8","v":42},{"$f":"IF(J9='P-IV'!J8,\"\",FALSE)","v":""},{"$f":"SUM(M10:M12)","v":0},{"$f":"SUM(N10:N12)","v":0},{"$f":"SUM(O10:O12)","v":0},{"$f":"SUM(P10:P12)","v":2},{"$f":"SUM(Q10:Q12)","v":3},{"$f":"SUM(R10:R12)","v":4},{"$f":"SUM(M9:R9)","v":9},{"$f":"'P-IV'!K8","v":9},{"$f":"IF(S9='P-IV'!K8,\"\",FALSE)","v":""},0,0,0,0,0,0,{"$f":"SUM(V9:AA9)","v":0},{"$f":"'P-IV'!L8","v":0},{"$f":"IF(AB9='P-IV'!L8,\"\",FALSE)","v":""},{"$f":"SUM(J9+S9+AB9)","v":51},{"$f":"'P-IV'!M8","v":51},{"$f":"IF(AE9='P-IV'!M8,\"\",FALSE)","v":""}]
[351,null,{"$f":"IF(ADSI!$L$10=1,LangMaster!A125,LangMaster!B125)","v":"1.1 Industrial Accidents"},0,0,1,2,0,0,{"$f":"SUM(D10:I10)","v":3},{"$f":"'P-IV'!J9","v":3},{"$f":"IF(J10='P-IV'!J9,\"\",FALSE)","v":""},0,0,0,0,0,0,{"$f":"SUM(M10:R10)","v":0},{"$f":"'P-IV'!K9","v":0},{"$f":"IF(S10='P-IV'!K9,\"\",FALSE)","v":""},0,0,0,0,0,0,{"$f":"SUM(V10:AA10)","v":0},{"$f":"'P-IV'!L9","v":0},{"$f":"IF(AB10='P-IV'!L9,\"\",FALSE)","v":""},{"$f":"SUM(J10+S10+AB10)","v":3},{"$f":"'P-IV'!M9","v":3},{"$f":"IF(AE10='P-IV'!M9,\"\",FALSE)","v":""}]
[352,null,{"$f":"IF(ADSI!$L$10=1,LangMaster!A126,LangMaster!B126)","v":"1.2 Heart Attack"},0,0,4,13,10,5,32,{"$f":"'P-IV'!J10","v":32},{"$f":"IF(J11='P-IV'!J10,\"\",FALSE)","v":""},0,0,0,2,2,3,7,{"$f":"'P-IV'!K10","v":7},{"$f":"IF(S11='P-IV'!K10,\"\",FALSE)","v":""},0,0,0,0,0,0,0,{"$f":"'P-IV'!L10","v":0},{"$f":"IF(AB11='P-IV'!L10,\"\",FALSE)","v":""},39,{"$f":"'P-IV'!M10","v":39},{"$f":"IF(AE11='P-IV'!M10,\"\",FALSE)","v":""}]
[353,null,{"$f":"IF(ADSI!$L$10=1,LangMaster!A127,LangMaster!B127)","v":"1.3 Others"},0,0,3,1,3,0,7,{"$f":"'P-IV'!J11","v":7},{"$f":"IF(J12='P-IV'!J11,\"\",FALSE)","v":""},0,0,0,0,1,1,2,{"$f":"'P-IV'!K11","v":2},{"$f":"IF(S12='P-IV'!K11,\"\",FALSE)","v":""},0,0,0,0,0,0,0,{"$f":"'P-IV'!L11","v":0},{"$f":"IF(AB12='P-IV'!L11,\"\",FALSE)","v":""},9,{"$f":"'P-IV'!M11","v":9},{"$f":"IF(AE12='P-IV'!M11,\"\",FALSE)","v":""}]
[354,2,{"$f":"IF(ADSI!$L$10=1,LangMaster!A128,LangMaster!B128)","v":"Deaths of Women during Pregnancy (Total) (sum of 2.1 and 2.2)"},{"$f":"SUM(D14:D15)","v":0},{"$f":"SUM(E14:E15)","v":0},0,0,0,0,0,{"$f":"'P-IV'!J12","v":0},{"$f":"IF(J13='P-IV'!J12,\"\",FALSE)","v":""},0,0,0,0,0,0,0,{"$f":"'P-IV'!K12","v":0},{"$f":"IF(S13='P-IV'!K12,\"\",FALSE)","v":""},0,0,0,{"$f":"SUM(Y14:Y15)","v":0},{"$f":"SUM(Z14:Z15)","v":0},{"$f":"SUM(AA14:AA15)","v":0},0,{"$f":"'P-IV'!L12","v":0},{"$f":"IF(AB13='P-IV'!L12,\"\",FALSE)","v":""},0,{"$f":"'P-IV'!M12","v":0},{"$f":"IF(AE13='P-IV'!M12,\"\",FALSE)","v":""}]
[355,null,{"$f":"IF(ADSI!$L$10=1,LangMaster!A129,LangMaster!B129)","v":"2.1 Due  to Abortions"},0,0,0,0,0,0,0,{"$f":"'P-IV'!J13","v":0},{"$f":"IF(J14='P-IV'!J13,\"\",FALSE)","v":""},0,0,0,0,0,0,0,{"$f":"'P-IV'!K13","v":0},{"$f":"IF(S14='P-IV'!K13,\"\",FALSE)","v":""},0,0,0,0,0,0,0,{"$f":"'P-IV'!L13","v":0},{"$f":"IF(AB14='P-IV'!L13,\"\",FALSE)","v":""},0,{"$f":"'P-IV'!M13","v":0},{"$f":"IF(AE14='P-IV'!M13,\"\",FALSE)","v":""}]
[356,null,{"$f":"IF(ADSI!$L$10=1,LangMaster!A130,LangMaster!B130)","v":"2.2 Due to Other accidents during Pregnancy"},0,0,0,0,0,0,0,{"$f":"'P-IV'!J14","v":0},{"$f":"IF(J15='P-IV'!J14,\"\",FALSE)","v":""},0,0,0,0,0,0,0,{"$f":"'P-IV'!K14","v":0},{"$f":"IF(S15='P-IV'!K14,\"\",FALSE)","v":""},0,0,0,0,0,0,0,{"$f":"'P-IV'!L14","v":0},{"$f":"IF(AB15='P-IV'!L14,\"\",FALSE)","v":""},0,{"$f":"'P-IV'!M14","v":0},{"$f":"IF(AE15='P-IV'!M14,\"\",FALSE)","v":""}]
[357,3,{"$f":"IF(ADSI!$L$10=1,LangMaster!A131,LangMaster!B131)","v":"Deaths Due to consumption of Illicit/Spurious Liquor"},0,0,0,0,0,0,0,{"$f":"'P-IV'!J15","v":0},{"$f":"IF(J16='P-IV'!J15,\"\",FALSE)","v":""},0,0,0,0,0,0,0,{"$f":"'P-IV'!K15","v":0},{"$f":"IF(S16='P-IV'!K15,\"\",FALSE)","v":""},0,0,0,0,0,0,0,{"$f":"'P-IV'!L15","v":0},{"$f":"IF(AB16='P-IV'!L15,\"\",FALSE)","v":""},0,{"$f":"'P-IV'!M15","v":0},{"$f":"IF(AE16='P-IV'!M15,\"\",FALSE)","v":""}]
[358,4,{"$f":"IF(ADSI!$L$10=1,LangMaster!A132,LangMaster!B132)","v":"Killed by animals"},0,0,0,0,0,0,0,{"$f":"'P-IV'!J16","v":0},{"$f":"IF(J17='P-IV'!J16,\"\",FALSE)","v":""},0,0,0,0,0,0,0,{"$f":"'P-IV'!K16","v":0},{"$f":"IF(S17='P-IV'!K16,\"\",FALSE)","v":""},0,0,0,0,0,0,0,{"$f":"'P-IV'!L16","v":0},{"$f":"IF(AB17='P-IV'!L16,\"\",FALSE)","v":""},0,{"$f":"'P-IV'!M16","v":0},{"$f":"IF(AE17='P-IV'!M16,\"\",FALSE)","v":""}]
[359,5,{"$f":"IF(ADSI!$L$10=1,LangMaster!A133,LangMaster!B133)","v":"Poisoning (Total) (sum of 5.1 to 5.3 & 5.4 to 5.6)"},{"$f":"SUM(D19:D21,D24:D26)","v":0},{"$f":"SUM(E19:E21,E24:E26)","v":0},1,2,0,0,3,{"$f":"'P-IV'!J17","v":3},{"$f":"IF(J18='P-IV'!J17,\"\",FALSE)","v":""},{"$f":"SUM(M19:M21,M24:M26)","v":0},0,0,1,0,0,1,{"$f":"'P-IV'!K17","v":1},{"$f":"IF(S18='P-IV'!K17,\"\",FALSE)","v":""},{"$f":"SUM(V19:V21,V24:V26)","v":0},0,0,0,0,0,0,{"$f":"'P-IV'!L17","v":0},{"$f":"IF(AB18='P-IV'!L17,\"\",FALSE)","v":""},4,{"$f":"'P-IV'!M17","v":4},{"$f":"IF(AE18='P-IV'!M17,\"\",FALSE)","v":""}]
[360,null,{"$f":"IF(ADSI!$L$10=1,LangMaster!A134,LangMaster!B134)","v":"5.1 Food Poisoning"},0,0,0,0,0,0,0,{"$f":"'P-IV'!J18","v":0},{"$f":"IF(J19='P-IV'!J18,\"\",FALSE)","v":""},0,0,0,0,0,0,0,{"$f":"'P-IV'!K18","v":0},{"$f":"IF(S19='P-IV'!K18,\"\",FALSE)","v":""},0,0,0,0,0,0,0,{"$f":"'P-IV'!L18","v":0},{"$f":"IF(AB19='P-IV'!L18,\"\",FALSE)","v":""},0,{"$f":"'P-IV'!M18","v":0},{"$f":"IF(AE19='P-IV'!M18,\"\",FALSE)","v":""}]
[361,null,{"$f":"IF(ADSI!$L$10=1,LangMaster!A135,LangMaster!B135)","v":"5.2 Accidental intake of Insecticides/Pesticides"},0,0,1,1,0,0,2,{"$f":"'P-IV'!J19","v":2},{"$f":"IF(J20='P-IV'!J19,\"\",FALSE)","v":""},0,0,0,1,0,0,1,{"$f":"'P-IV'!K19","v":1},{"$f":"IF(S20='P-IV'!K19,\"\",FALSE)","v":""},0,0,0,0,0,0,0,{"$f":"'P-IV'!L19","v":0},{"$f":"IF(AB20='P-IV'!L19,\"\",FALSE)","v":""},3,{"$f":"'P-IV'!M19","v":3},{"$f":"IF(AE20='P-IV'!M19,\"\",FALSE)","v":""}]
[362,null,{"$f":"IF(ADSI!$L$10=1,LangMaster!A136,LangMaster!B136)","v":"5.3  Poisonous Gases (Total) (sum of 5.3.1 & 5.3.2)"},{"$f":"SUM(D22:D23)","v":0},{"$f":"SUM(E22:E23)","v":0},0,0,0,0,0,{"$f":"'P-IV'!J20","v":0},{"$f":"IF(J21='P-IV'!J20,\"\",FALSE)","v":""},{"$f":"SUM(M22:M23)","v":0},{"$f":"SUM(N22:N23)","v":0},{"$f":"SUM(O22:O23)","v":0},{"$f":"SUM(P22:P23)","v":0},{"$f":"SUM(Q22:Q23)","v":0},{"$f":"SUM(R22:R23)","v":0},0,{"$f":"'P-IV'!K20","v":0},{"$f":"IF(S21='P-IV'!K20,\"\",FALSE)","v":""},0,0,0,0,0,0,0,{"$f":"'P-IV'!L20","v":0},{"$f":"IF(AB21='P-IV'!L20,\"\",FALSE)","v":""},0,{"$f":"'P-IV'!M20","v":0},{"$f":"IF(AE21='P-IV'!M20,\"\",FALSE)","v":""}]
[363,null,{"$f":"IF(ADSI!$L$10=1,LangMaster!A137,LangMaster!B137)","v":"5.3.1 Carbon Monoxide (CO) Gas"},0,0,0,0,0,0,0,{"$f":"'P-IV'!J21","v":0},{"$f":"IF(J22='P-IV'!J21,\"\",FALSE)","v":""},0,0,0,0,0,0,0,{"$f":"'P-IV'!K21","v":0},{"$f":"IF(S22='P-IV'!K21,\"\",FALSE)","v":""},0,0,0,0,0,0,0,{"$f":"'P-IV'!L21","v":0},{"$f":"IF(AB22='P-IV'!L21,\"\",FALSE)","v":""},0,{"$f":"'P-IV'!M21","v":0},{"$f":"IF(AE22='P-IV'!M21,\"\",FALSE)","v":""}]
[364,null,{"$f":"IF(ADSI!$L$10=1,LangMaster!A138,LangMaster!B138)","v":"5.3.2 Other poisonous Gases"},0,0,0,0,0,0,0,{"$f":"'P-IV'!J22","v":0},{"$f":"IF(J23='P-IV'!J22,\"\",FALSE)","v":""},0,0,0,0,0,0,0,{"$f":"'P-IV'!K22","v":0},{"$f":"IF(S23='P-IV'!K22,\"\",FALSE)","v":""},0,0,0,0,0,0,0,{"$f":"'P-IV'!L22","v":0},{"$f":"IF(AB23='P-IV'!L22,\"\",FALSE)","v":""},0,{"$f":"'P-IV'!M22","v":0},{"$f":"IF(AE23='P-IV'!M22,\"\",FALSE)","v":""}]
[365,null,{"$f":"IF(ADSI!$L$10=1,LangMaster!A139,LangMaster!B139)","v":"5.4 Snake bite "},0,0,0,1,0,0,1,{"$f":"'P-IV'!J23","v":1},{"$f":"IF(J24='P-IV'!J23,\"\",FALSE)","v":""},0,0,0,0,0,0,0,{"$f":"'P-IV'!K23","v":0},{"$f":"IF(S24='P-IV'!K23,\"\",FALSE)","v":""},0,0,0,0,0,0,0,{"$f":"'P-IV'!L23","v":0},{"$f":"IF(AB24='P-IV'!L23,\"\",FALSE)","v":""},1,{"$f":"'P-IV'!M23","v":1},{"$f":"IF(AE24='P-IV'!M23,\"\",FALSE)","v":""}]
[366,null,{"$f":"IF(ADSI!$L$10=1,LangMaster!A140,LangMaster!B140)","v":"5.5 Animal/Reptiles/Insects bite"},0,0,0,0,0,0,0,{"$f":"'P-IV'!J24","v":0},{"$f":"IF(J25='P-IV'!J24,\"\",FALSE)","v":""},0,0,0,0,0,0,0,{"$f":"'P-IV'!K24","v":0},{"$f":"IF(S25='P-IV'!K24,\"\",FALSE)","v":""},0,0,0,0,0,0,0,{"$f":"'P-IV'!L24","v":0},{"$f":"IF(AB25='P-IV'!L24,\"\",FALSE)","v":""},0,{"$f":"'P-IV'!M24","v":0},{"$f":"IF(AE25='P-IV'!M24,\"\",FALSE)","v":""}]
[367,null,{"$f":"IF(ADSI!$L$10=1,LangMaster!A141,LangMaster!B141)","v":"5.6 Other"},0,0,0,0,0,0,0,{"$f":"'P-IV'!J25","v":0},{"$f":"IF(J26='P-IV'!J25,\"\",FALSE)","v":""},0,0,0,0,0,0,0,{"$f":"'P-IV'!K25","v":0},{"$f":"IF(S26='P-IV'!K25,\"\",FALSE)","v":""},0,0,0,0,0,0,0,{"$f":"'P-IV'!L25","v":0},{"$f":"IF(AB26='P-IV'!L25,\"\",FALSE)","v":""},0,{"$f":"'P-IV'!M25","v":0},{"$f":"IF(AE26='P-IV'!M25,\"\",FALSE)","v":""}]
[368,6,{"$f":"IF(ADSI!$L$10=1,LangMaster!A142,LangMaster!B142)","v":"Suffocation"},0,0,0,1,0,0,1,{"$f":"'P-IV'!J26","v":1},{"$f":"IF(J27='P-IV'!J26,\"\",FALSE)","v":""},0,0,0,0,0,0,0,{"$f":"'P-IV'!K26","v":0},{"$f":"IF(S27='P-IV'!K26,\"\",FALSE)","v":""},0,0,0,0,0,0,0,{"$f":"'P-IV'!L26","v":0},{"$f":"IF(AB27='P-IV'!L26,\"\",FALSE)","v":""},1,{"$f":"'P-IV'!M26","v":1},{"$f":"IF(AE27='P-IV'!M26,\"\",FALSE)","v":""}]
[369,7,{"$f":"IF(ADSI!$L$10=1,LangMaster!A143,LangMaster!B143)","v":"Drug Overdose"},0,0,0,1,0,0,1,{"$f":"'P-IV'!J27","v":1},{"$f":"IF(J28='P-IV'!J27,\"\",FALSE)","v":""},0,0,0,1,0,0,1,{"$f":"'P-IV'!K27","v":1},{"$f":"IF(S28='P-IV'!K27,\"\",FALSE)","v":""},0,0,0,0,0,0,0,{"$f":"'P-IV'!L27","v":0},{"$f":"IF(AB28='P-IV'!L27,\"\",FALSE)","v":""},2,{"$f":"'P-IV'!M27","v":2},{"$f":"IF(AE28='P-IV'!M27,\"\",FALSE)","v":""}]
[390,8,{"$f":"IF(ADSI!$L$10=1,LangMaster!A144,LangMaster!B144)","v":"Total (sum of Sl. 1 to 7)"},{"$f":"SUM(D9,D13,D16:D18,D27:D28)","v":0},0,9,20,13,5,47,{"$f":"'P-IV'!J28","v":47},{"$f":"IF(J29='P-IV'!J28,\"\",FALSE)","v":""},{"$f":"SUM(M9,M13,M16:M18,M27:M28)","v":0},0,0,4,3,4,11,{"$f":"'P-IV'!K28","v":11},{"$f":"IF(S29='P-IV'!K28,\"\",FALSE)","v":""},{"$f":"SUM(V9,V13,V16:V18,V27:V28)","v":0},0,0,0,0,0,0,{"$f":"'P-IV'!L28","v":0},{"$f":"IF(AB29='P-IV'!L28,\"\",FALSE)","v":""},{"$f":"SUM(AE9,AE13,AE16:AE18,AE27:AE28)","v":58},{"$f":"'P-IV'!M28","v":58},{"$f":"IF(AE29='P-IV'!M28,\"\",FALSE)","v":""}]
[]
[]
[]
[]
[]
[]
[]
[]
[]
[]
[]
[]
[]
[]
[]
[]
[]
[]
[]
[]
[]
[]
[]
[]
[]
[]
[]
[]
[]
[]
[]
[]
[]
[]
[]
[]
[]
[]
[]
[]
[]
[]
[]
[]
[]
[]
[]
[]
[]
[]
[]
[]
[]
[]
[]
[]
[]
[]
[]
[]
[]
[]
[]
[]
[]
[]
[]
[]
[]
[]
[]
[]
[]
[]
[]
[]
[]
[]
[]
[]
[]
[]
[]
[]
[]
[]
[]
[]
[]
[]
[]
[]
[]
[]
[]
[]
[]
[]
[]
[]
[]
[]
[]
[]
[]
[]
[]
[]
[]
[]
[]
[]
[]
[]
[]
[]
[]
[]
[]
[]
[]
[]
[]
[]
[]
[]
[]
[]
[]
[]
[]
[]
[]
[]
[]
[]
[]
[]
[]
[]
[]
[]
[]
[]
[]
[]
[]
[]
[]
[]
[]
[]
[]
[]
[]
[]
[]
[]
[]
[]
[]
[]
[]
[]
[]
[]
[]
[]
[]
[]
[null,null,null,null,null,null,null,null,null,null,null,null,null,null,null,null,null,null,null,null,null,null,null,null,null,null,null,null,null,null,null,null,null,null,null,null,null,null,null,null,null,null,null,null,null,null,null,null,null,null,null,null,{"$f":"A1","v":"Goa, , ADSI-2022"}]
[null,null,null,null,null,null,null,null,null,null,null,null,null,null,null,null,null,null,null,null,null,null,null,null,null,null,null,null,null,null,null,null,null,null,null,null,null,null,null,null,null,null,null,null,null,null,null,null,null,null,null,null,{"$f":"A2","v":"Errors"},{"$f":"C2","v":0}]
[null,null,null,null,null,null,null,null,null,null,null,null,null,null,null,null,null,null,null,null,null,null,null,null,null,null,null,null,null,null,null,null,null,null,null,null,null,null,null,null,null,null,null,null,null,null,null,null,null,null,null,null,{"$f":"A3","v":"Proforma-V"}]
[null,null,null,null,null,null,null,null,null,null,null,null,null,null,null,null,null,null,null,null,null,null,null,null,null,null,null,null,null,null,null,null,null,null,null,null,null,null,null,null,null,null,null,null,null,null,null,null,null,null,null,null,{"$f":"A4","v":"Age Wise Distribution of Accidental Deaths by Other than Un-natural Causes"}]
[null,null,null,null,null,null,null,null,null,null,null,null,null,null,null,null,null,null,null,null,null,null,null,null,null,null,null,null,null,null,null,null,null,null,null,null,null,null,null,null,null,null,null,null,null,null,null,null,null,null,null,null,{"$f":"B5","v":"S.No."},{"$f":"C5","v":"Causes"},{"$f":"D5","v":"Number of Accidental Deaths"},null,null,null,null,null,null,null,null,null,null,null,null,null,null,null,null,null,null,null,null,null,null,null,null,null,null,{"$f":"AE5","v":"Grand Total (9) + (16)+(23)"},{"$f":"AF5","v":" PROFORMA–IV VALUES [Col.–(11) (Total Died)]"},{"$f":"AG5","v":"VALIDATION  WITH PROFORMA–IV [Col.–(11) (Total Died)]"}]
[null,null,null,null,null,null,null,null,null,null,null,null,null,null,null,null,null,null,null,null,null,null,null,null,null,null,null,null,null,null,null,null,null,null,null,null,null,null,null,null,null,null,null,null,null,null,null,null,null,null,null,null,null,null,{"$f":"D6","v":"Male"},null,null,null,null,null,null,null,null,{"$f":"M6","v":"Female"},null,null,null,null,null,null,null,null,{"$f":"V6","v":"Transgender"}]
[null,null,null,null,null,null,null,null,null,null,null,null,null,null,null,null,null,null,null,null,null,null,null,null,null,null,null,null,null,null,null,null,null,null,null,null,null,null,null,null,null,null,null,null,null,null,null,null,null,null,null,null,null,null,"below 14 years",{"$f":"E7","v":"14 and above – below 18 years"},"18 and above – below 30 years","30 and above – below 45 years","45 and above – below 60 years","60 years & above"," Total [sum of (3) to (8)]"," PROFORMA–IV VALUES [Col.–(8) (Male Died)]","VALIDATION  WITH PROFORMA–IV [Col.–(8) (Male Died)]","below 14 years",{"$f":"N7","v":"14 and above – below 18 years"},"18 and above – below 30 years","30 and above – below 45 years","45 and above – below 60 years","60 years & above","Total    [sum of (10) to (15)]"," PROFORMA–IV VALUES [Col.–(9) (Female Died)]","VALIDATION  WITH PROFORMA–IV [Col.–(9) (Female Died)]","below 14 years",{"$f":"W7","v":"14 and above – below 18 years"},"18 and above – below 30 years","30 and above – below 45 years","45 and above – below 60 years","60 years & above","Total [sum of (17) to (22)]"," PROFORMA–IV VALUES [Col.–(10) Transgender Died)]","VALIDATION  WITH PROFORMA–IV [Col.–(10) Transgender Died)]"]
[null,null,null,null,null,null,null,null,null,null,null,null,null,null,null,null,null,null,null,null,null,null,null,null,null,null,null,null,null,null,null,null,null,null,null,null,null,null,null,null,null,null,null,null,null,null,null,null,null,null,null,null,{"$f":"B8","v":"(1)"},{"$f":"C8","v":"(2)"},"(3)",{"$f":"E8","v":"(4)"},{"$f":"F8","v":"(5)"},{"$f":"G8","v":"(6)"},{"$f":"H8","v":"(7)"},{"$f":"I8","v":"(8)"},{"$f":"J8","v":"(9)"},null,null,"(10)",{"$f":"N8","v":"(11)"},{"$f":"O8","v":"(12)"},{"$f":"P8","v":"(13)"},{"$f":"Q8","v":"(14)"},{"$f":"R8","v":"(15)"},{"$f":"S8","v":"(16)"},null,null,"(17)",{"$f":"W8","v":"(18)"},{"$f":"X8","v":"(19)"},{"$f":"Y8","v":"(20)"},{"$f":"Z8","v":"(21)"},{"$f":"AA8","v":"(22)"},{"$f":"AB8","v":"(23)"},null,null,{"$f":"AE8","v":"(24)"}]
[null,null,null,null,null,null,null,null,null,null,null,null,null,null,null,null,null,null,null,null,null,null,null,null,null,null,null,null,null,null,null,null,null,null,null,null,null,null,null,null,null,null,null,null,null,null,null,null,null,null,null,null,{"$f":"B9","v":1},{"$f":"C9","v":"Sudden Deaths (Total) (sum of 1.1 to 1.3)"},0,0,8,16,13,5,42,{"$f":"K9","v":42},{"$f":"L9","v":""},0,0,0,2,3,4,9,{"$f":"T9","v":9},{"$f":"U9","v":""},0,0,0,0,0,0,0,{"$f":"AC9","v":0},{"$f":"AD9","v":""},51,{"$f":"AF9","v":51},{"$f":"AG9","v":""}]
[null,null,null,null,null,null,null,null,null,null,null,null,null,null,null,null,null,null,null,null,null,null,null,null,null,null,null,null,null,null,null,null,null,null,null,null,null,null,null,null,null,null,null,null,null,null,null,null,null,null,null,null,null,{"$f":"C10","v":"1.1 Industrial Accidents"},0,0,1,2,0,0,3,3,"",0,0,0,0,0,0,0,0,"",0,0,0,0,0,0,0,0,"",3,3,""]
[null,null,null,null,null,null,null,null,null,null,null,null,null,null,null,null,null,null,null,null,null,null,null,null,null,null,null,null,null,null,null,null,null,null,null,null,null,null,null,null,null,null,null,null,null,null,null,null,null,null,null,null,null,"1.2 Heart Attack",0,0,4,13,10,5,32,32,"",0,0,0,2,2,3,7,7,"",0,0,0,0,0,0,0,0,"",39,39,""]
[null,null,null,null,null,null,null,null,null,null,null,null,null,null,null,null,null,null,null,null,null,null,null,null,null,null,null,null,null,null,null,null,null,null,null,null,null,null,null,null,null,null,null,null,null,null,null,null,null,null,null,null,null,"1.3 Others",0,0,3,1,3,0,7,7,"",0,0,0,0,1,1,2,2,"",0,0,0,0,0,0,0,0,"",9,9,""]
[null,null,null,null,null,null,null,null,null,null,null,null,null,null,null,null,null,null,null,null,null,null,null,null,null,null,null,null,null,null,null,null,null,null,null,null,null,null,null,null,null,null,null,null,null,null,null,null,null,null,null,null,{"$f":"B13","v":2},"Deaths of Women during Pregnancy (Total) (sum of 2.1 and 2.2)",0,0,0,0,0,0,0,0,"",0,0,0,0,0,0,0,0,"",0,0,0,0,0,0,0,0,"",0,0,""]
[null,null,null,null,null,null,null,null,null,null,null,null,null,null,null,null,null,null,null,null,null,null,null,null,null,null,null,null,null,null,null,null,null,null,null,null,null,null,null,null,null,null,null,null,null,null,null,null,null,null,null,null,null,"2.1 Due  to Abortions",0,0,0,0,0,0,0,0,"",0,0,0,0,0,0,0,0,"",0,0,0,0,0,0,0,0,"",0,0,""]
[null,null,null,null,null,null,null,null,null,null,null,null,null,null,null,null,null,null,null,null,null,null,null,null,null,null,null,null,null,null,null,null,null,null,null,null,null,null,null,null,null,null,null,null,null,null,null,null,null,null,null,null,null,"2.2 Due to Other accidents during Pregnancy",0,0,0,0,0,0,0,0,"",0,0,0,0,0,0,0,0,"",0,0,0,0,0,0,0,0,"",0,0,""]
[null,null,null,null,null,null,null,null,null,null,null,null,null,null,null,null,null,null,null,null,null,null,null,null,null,null,null,null,null,null,null,null,null,null,null,null,null,null,null,null,null,null,null,null,null,null,null,null,null,null,null,null,{"$f":"B16","v":3},"Deaths Due to consumption of Illicit/Spurious Liquor",0,0,0,0,0,0,0,0,"",0,0,0,0,0,0,0,0,"",0,0,0,0,0,0,0,0,"",0,0,""]
[null,null,null,null,null,null,null,null,null,null,null,null,null,null,null,null,null,null,null,null,null,null,null,null,null,null,null,null,null,null,null,null,null,null,null,null,null,null,null,null,null,null,null,null,null,null,null,null,null,null,null,null,{"$f":"B17","v":4},"Killed by animals",0,0,0,0,0,0,0,0,"",0,0,0,0,0,0,0,0,"",0,0,0,0,0,0,0,0,"",0,0,""]
[null,null,null,null,null,null,null,null,null,null,null,null,null,null,null,null,null,null,null,null,null,null,null,null,null,null,null,null,null,null,null,null,null,null,null,null,null,null,null,null,null,null,null,null,null,null,null,null,null,null,null,null,{"$f":"B18","v":5},"Poisoning (Total) (sum of 5.1 to 5.3 & 5.4 to 5.6)",0,0,1,2,0,0,3,3,"",0,0,0,1,0,0,1,1,"",0,0,0,0,0,0,0,0,"",4,4,""]
[null,null,null,null,null,null,null,null,null,null,null,null,null,null,null,null,null,null,null,null,null,null,null,null,null,null,null,null,null,null,null,null,null,null,null,null,null,null,null,null,null,null,null,null,null,null,null,null,null,null,null,null,null,"5.1 Food Poisoning",0,0,0,0,0,0,0,0,"",0,0,0,0,0,0,0,0,"",0,0,0,0,0,0,0,0,"",0,0,""]
[null,null,null,null,null,null,null,null,null,null,null,null,null,null,null,null,null,null,null,null,null,null,null,null,null,null,null,null,null,null,null,null,null,null,null,null,null,null,null,null,null,null,null,null,null,null,null,null,null,null,null,null,null,"5.2 Accidental intake of Insecticides/Pesticides",0,0,1,1,0,0,2,2,"",0,0,0,1,0,0,1,1,"",0,0,0,0,0,0,0,0,"",3,3,""]
[null,null,null,null,null,null,null,null,null,null,null,null,null,null,null,null,null,null,null,null,null,null,null,null,null,null,null,null,null,null,null,null,null,null,null,null,null,null,null,null,null,null,null,null,null,null,null,null,null,null,null,null,null,"5.3  Poisonous Gases (Total) (sum of 5.3.1 & 5.3.2)",0,0,0,0,0,0,0,0,"",0,0,0,0,0,0,0,0,"",0,0,0,0,0,0,0,0,"",0,0,""]
[null,null,null,null,null,null,null,null,null,null,null,null,null,null,null,null,null,null,null,null,null,null,null,null,null,null,null,null,null,null,null,null,null,null,null,null,null,null,null,null,null,null,null,null,null,null,null,null,null,null,null,null,null,"5.3.1 Carbon Monoxide (CO) Gas",0,0,0,0,0,0,0,0,"",0,0,0,0,0,0,0,0,"",0,0,0,0,0,0,0,0,"",0,0,""]
[null,null,null,null,null,null,null,null,null,null,null,null,null,null,null,null,null,null,null,null,null,null,null,null,null,null,null,null,null,null,null,null,null,null,null,null,null,null,null,null,null,null,null,null,null,null,null,null,null,null,null,null,null,"5.3.2 Other poisonous Gases",0,0,0,0,0,0,0,0,"",0,0,0,0,0,0,0,0,"",0,0,0,0,0,0,0,0,"",0,0,""]
[null,null,null,null,null,null,null,null,null,null,null,null,null,null,null,null,null,null,null,null,null,null,null,null,null,null,null,null,null,null,null,null,null,null,null,null,null,null,null,null,null,null,null,null,null,null,null,null,null,null,null,null,null,"5.4 Snake bite ",0,0,0,1,0,0,1,1,"",0,0,0,0,0,0,0,0,"",0,0,0,0,0,0,0,0,"",1,1,""]
[null,null,null,null,null,null,null,null,null,null,null,null,null,null,null,null,null,null,null,null,null,null,null,null,null,null,null,null,null,null,null,null,null,null,null,null,null,null,null,null,null,null,null,null,null,null,null,null,null,null,null,null,null,"5.5 Animal/Reptiles/Insects bite",0,0,0,0,0,0,0,0,"",0,0,0,0,0,0,0,0,"",0,0,0,0,0,0,0,0,"",0,0,""]
[null,null,null,null,null,null,null,null,null,null,null,null,null,null,null,null,null,null,null,null,null,null,null,null,null,null,null,null,null,null,null,null,null,null,null,null,null,null,null,null,null,null,null,null,null,null,null,null,null,null,null,null,null,"5.6 Other",0,0,0,0,0,0,0,0,"",0,0,0,0,0,0,0,0,"",0,0,0,0,0,0,0,0,"",0,0,""]
[null,null,null,null,null,null,null,null,null,null,null,null,null,null,null,null,null,null,null,null,null,null,null,null,null,null,null,null,null,null,null,null,null,null,null,null,null,null,null,null,null,null,null,null,null,null,null,null,null,null,null,null,{"$f":"B27","v":6},"Suffocation",0,0,0,1,0,0,1,1,"",0,0,0,0,0,0,0,0,"",0,0,0,0,0,0,0,0,"",1,1,""]
[null,null,null,null,null,null,null,null,null,null,null,null,null,null,null,null,null,null,null,null,null,null,null,null,null,null,null,null,null,null,null,null,null,null,null,null,null,null,null,null,null,null,null,null,null,null,null,null,null,null,null,null,{"$f":"B28","v":7},"Drug Overdose",0,0,0,1,0,0,1,1,"",0,0,0,1,0,0,1,1,"",0,0,0,0,0,0,0,0,"",2,2,""]
[null,null,null,null,null,null,null,null,null,null,null,null,null,null,null,null,null,null,null,null,null,null,null,null,null,null,null,null,null,null,null,null,null,null,null,null,null,null,null,null,null,null,null,null,null,null,null,null,null,null,null,null,{"$f":"B29","v":8},{"$f":"C29","v":"Total (sum of Sl. 1 to 7)"},{"$f":"D29","v":0},{"$f":"E29","v":0},{"$f":"F29","v":9},{"$f":"G29","v":20},{"$f":"H29","v":13},{"$f":"I29","v":5},{"$f":"J29","v":47},{"$f":"K29","v":47},{"$f":"L29","v":""},{"$f":"M29","v":0},{"$f":"N29","v":0},{"$f":"O29","v":0},{"$f":"P29","v":4},{"$f":"Q29","v":3},{"$f":"R29","v":4},{"$f":"S29","v":11},{"$f":"T29","v":11},{"$f":"U29","v":""},{"$f":"V29","v":0},{"$f":"W29","v":0},{"$f":"X29","v":0},{"$f":"Y29","v":0},{"$f":"Z29","v":0},{"$f":"AA29","v":0},{"$f":"AB29","v":0},{"$f":"AC29","v":0},{"$f":"AD29","v":""},{"$f":"AE29","v":58},{"$f":"AF29","v":58},{"$f":"AG29","v":""}]
[]
[]
[]
[]
[]
[]
[]
[]
[]
[]
[]
[]
[]
[]
[]
[]
[]
[]
[]
[]
[]
[]
[]
[]
[]
[]
[]
[]
[]
[]
[]
[]
[]
[]
[]
[]
[]
[]
[]
[]
[]
[]
[]
[]
[]
[]
[]
[]
[]
[]
[]
[]
[]
[]
[]
[]
[]
[]
[]
[]
[]
[]
[]
[]
[]
[]
[]
[]
[]
[]
[]
[]
[]
[]
[]
[]
[]
[]
[]
[]
[]
[]
[]
[]
[]
[]
[]
[]
[]
[]
[]
[]
[]
[]
[]
[]
[]
[]
[]
[]
[]
[]
[]
[]
[]
[]
[]
[]
[]
[]
[]
[]
[]
[]
[]
[]
[]
[]
[]
[]
[]
[]
[]
[]
[]
[]
[]
[]
[]
[]
[]
[]
[]
[]
[]
[]
[]
[]
[]
[]
[]
[]
[]
[]
[]
[]
[]
[]
[]
[]
[]
[]
[]
[]
[]
[]
[]
[]
[]
[]
[]
[]
[]
[]
[]
[]
[]
[]
[]
[]
[]
[]
[]
[]
[]
[]
[]
[]
[]
[]
[]
[]
[]
[]
[]
[]
[]
[]
[]
[]
[]
[]
[]
[]
[]
[]
[]
[]
[]
[]
[]
[]
[]
[]
[]
[]
[]
[]
[]
[]
[]
[]
[]
[]
[]
[]
[]
[]
[]
[]
[]
[]
[]
[]
[]
[]
[]
[]
[]
[]
[]
[]
[]
[]
[]
[]
[]
[]
[]
[]
[]
[]
[]
[]
[]
[]
[]
[]
[]
[]
[]
[]
[]
[]
[]
[]
[]
[]
[]
[]
[]
[]
[]
[]
[]
[]
[]
[]
[]
[]
[]
["StateUTCityCode","DistrictCode","CrimeCode","DataYear","Male_below 14 years","Male_14 and above – below 18 years","Male_18 and above – below 30 years","Male_30 and above – below 45 years","Male_45 and above – below 60 years","Male_60 years & above","Male_Total","Female_below 14 years","Female_14 and above – below 18 years","Female_18 and above – below 30 years","Female_30 and above – below 45 years","Female_45 and above – below 60 years","Female_60 years & above","Female_Total","Trans_below 14 years","Trans_14 and above – below 18 years","Trans_18 and above – below 30 years","Trans_30 and above – below 45 years","Trans_45 and above – below 60 years","Trans_60 years & above","Trans_Total","Grand Total"]
[{"$f":"IF(ADSI!$G$12=\"\",ADSI!$H$16,ADSI!$H$12)","v":6},{"$f":"IF(ADSI!$G$12=\"\",ADSI!$H$16,ADSI!$H$14)","v":""},{"$f":"A9","v":350},{"$f":"ADSI!$K$12","v":2022},{"$f":"D9","v":0},0,8,16,13,5,42,{"$f":"M9","v":0},0,0,2,3,4,9,{"$f":"V9","v":0},{"$f":"W9","v":0},{"$f":"X9","v":0},{"$f":"Y9","v":0},{"$f":"Z9","v":0},{"$f":"AA9","v":0},{"$f":"AB9","v":0},{"$f":"AE9","v":51}]
[{"$f":"IF(ADSI!$G$12=\"\",ADSI!$H$16,ADSI!$H$12)","v":6},{"$f":"IF(ADSI!$G$12=\"\",ADSI!$H$16,ADSI!$H$14)","v":""},351,{"$f":"ADSI!$K$12","v":2022},0,0,1,2,0,0,3,0,0,0,0,0,0,0,0,0,0,0,0,0,0,3]
[{"$f":"IF(ADSI!$G$12=\"\",ADSI!$H$16,ADSI!$H$12)","v":6},{"$f":"IF(ADSI!$G$12=\"\",ADSI!$H$16,ADSI!$H$14)","v":""},352,{"$f":"ADSI!$K$12","v":2022},0,0,4,13,10,5,32,0,0,0,2,2,3,7,0,0,0,0,0,0,0,39]
[{"$f":"IF(ADSI!$G$12=\"\",ADSI!$H$16,ADSI!$H$12)","v":6},{"$f":"IF(ADSI!$G$12=\"\",ADSI!$H$16,ADSI!$H$14)","v":""},353,{"$f":"ADSI!$K$12","v":2022},0,0,3,1,3,0,7,0,0,0,0,1,1,2,0,0,0,0,0,0,0,9]
[{"$f":"IF(ADSI!$G$12=\"\",ADSI!$H$16,ADSI!$H$12)","v":6},{"$f":"IF(ADSI!$G$12=\"\",ADSI!$H$16,ADSI!$H$14)","v":""},354,{"$f":"ADSI!$K$12","v":2022},0,0,0,0,0,0,0,0,0,0,0,0,0,0,0,0,0,0,0,0,0,0]
[{"$f":"IF(ADSI!$G$12=\"\",ADSI!$H$16,ADSI!$H$12)","v":6},{"$f":"IF(ADSI!$G$12=\"\",ADSI!$H$16,ADSI!$H$14)","v":""},355,{"$f":"ADSI!$K$12","v":2022},0,0,0,0,0,0,0,0,0,0,0,0,0,0,0,0,0,0,0,0,0,0]
[{"$f":"IF(ADSI!$G$12=\"\",ADSI!$H$16,ADSI!$H$12)","v":6},{"$f":"IF(ADSI!$G$12=\"\",ADSI!$H$16,ADSI!$H$14)","v":""},356,{"$f":"ADSI!$K$12","v":2022},0,0,0,0,0,0,0,0,0,0,0,0,0,0,0,0,0,0,0,0,0,0]
[{"$f":"IF(ADSI!$G$12=\"\",ADSI!$H$16,ADSI!$H$12)","v":6},{"$f":"IF(ADSI!$G$12=\"\",ADSI!$H$16,ADSI!$H$14)","v":""},357,{"$f":"ADSI!$K$12","v":2022},0,0,0,0,0,0,0,0,0,0,0,0,0,0,0,0,0,0,0,0,0,0]
[{"$f":"IF(ADSI!$G$12=\"\",ADSI!$H$16,ADSI!$H$12)","v":6},{"$f":"IF(ADSI!$G$12=\"\",ADSI!$H$16,ADSI!$H$14)","v":""},358,{"$f":"ADSI!$K$12","v":2022},0,0,0,0,0,0,0,0,0,0,0,0,0,0,0,0,0,0,0,0,0,0]
[{"$f":"IF(ADSI!$G$12=\"\",ADSI!$H$16,ADSI!$H$12)","v":6},{"$f":"IF(ADSI!$G$12=\"\",ADSI!$H$16,ADSI!$H$14)","v":""},359,{"$f":"ADSI!$K$12","v":2022},0,0,1,2,0,0,3,0,0,0,1,0,0,1,0,0,0,0,0,0,0,4]
[{"$f":"IF(ADSI!$G$12=\"\",ADSI!$H$16,ADSI!$H$12)","v":6},{"$f":"IF(ADSI!$G$12=\"\",ADSI!$H$16,ADSI!$H$14)","v":""},360,{"$f":"ADSI!$K$12","v":2022},{"$f":"D19","v":0},0,0,0,0,0,0,{"$f":"M19","v":0},0,0,0,0,0,0,0,0,0,0,0,0,0,0]
[{"$f":"IF(ADSI!$G$12=\"\",ADSI!$H$16,ADSI!$H$12)","v":6},{"$f":"IF(ADSI!$G$12=\"\",ADSI!$H$16,ADSI!$H$14)","v":""},361,{"$f":"ADSI!$K$12","v":2022},0,0,1,1,0,0,2,0,0,0,1,0,0,1,0,0,0,0,0,0,0,3]
[{"$f":"IF(ADSI!$G$12=\"\",ADSI!$H$16,ADSI!$H$12)","v":6},{"$f":"IF(ADSI!$G$12=\"\",ADSI!$H$16,ADSI!$H$14)","v":""},362,{"$f":"ADSI!$K$12","v":2022},0,0,0,0,0,0,0,0,0,0,0,0,0,0,0,0,0,0,0,0,0,0]
[{"$f":"IF(ADSI!$G$12=\"\",ADSI!$H$16,ADSI!$H$12)","v":6},{"$f":"IF(ADSI!$G$12=\"\",ADSI!$H$16,ADSI!$H$14)","v":""},363,{"$f":"ADSI!$K$12","v":2022},0,0,0,0,0,0,0,0,0,0,0,0,0,0,0,0,0,0,0,0,0,0]
[{"$f":"IF(ADSI!$G$12=\"\",ADSI!$H$16,ADSI!$H$12)","v":6},{"$f":"IF(ADSI!$G$12=\"\",ADSI!$H$16,ADSI!$H$14)","v":""},364,{"$f":"ADSI!$K$12","v":2022},0,0,0,0,0,0,0,0,0,0,0,0,0,0,0,0,0,0,0,0,0,0]
[{"$f":"IF(ADSI!$G$12=\"\",ADSI!$H$16,ADSI!$H$12)","v":6},{"$f":"IF(ADSI!$G$12=\"\",ADSI!$H$16,ADSI!$H$14)","v":""},365,{"$f":"ADSI!$K$12","v":2022},0,0,0,1,0,0,1,0,0,0,0,0,0,0,0,0,0,0,0,0,0,1]
[{"$f":"IF(ADSI!$G$12=\"\",ADSI!$H$16,ADSI!$H$12)","v":6},{"$f":"IF(ADSI!$G$12=\"\",ADSI!$H$16,ADSI!$H$14)","v":""},366,{"$f":"ADSI!$K$12","v":2022},0,0,0,0,0,0,0,0,0,0,0,0,0,0,0,0,0,0,0,0,0,0]
[{"$f":"IF(ADSI!$G$12=\"\",ADSI!$H$16,ADSI!$H$12)","v":6},{"$f":"IF(ADSI!$G$12=\"\",ADSI!$H$16,ADSI!$H$14)","v":""},367,{"$f":"ADSI!$K$12","v":2022},0,0,0,0,0,0,0,0,0,0,0,0,0,0,0,0,0,0,0,0,0,0]
[{"$f":"IF(ADSI!$G$12=\"\",ADSI!$H$16,ADSI!$H$12)","v":6},{"$f":"IF(ADSI!$G$12=\"\",ADSI!$H$16,ADSI!$H$14)","v":""},368,{"$f":"ADSI!$K$12","v":2022},0,0,0,1,0,0,1,0,0,0,0,0,0,0,0,0,0,0,0,0,0,1]
[{"$f":"IF(ADSI!$G$12=\"\",ADSI!$H$16,ADSI!$H$12)","v":6},{"$f":"IF(ADSI!$G$12=\"\",ADSI!$H$16,ADSI!$H$14)","v":""},369,{"$f":"ADSI!$K$12","v":2022},0,0,0,1,0,0,1,0,0,0,1,0,0,1,0,0,0,0,0,0,0,2]
[{"$f":"IF(ADSI!$G$12=\"\",ADSI!$H$16,ADSI!$H$12)","v":6},{"$f":"IF(ADSI!$G$12=\"\",ADSI!$H$16,ADSI!$H$14)","v":""},390,{"$f":"ADSI!$K$12","v":2022},{"$f":"D29","v":0},0,9,20,13,5,47,{"$f":"M29","v":0},0,0,4,3,4,11,0,0,0,0,0,0,0,58]

{"sheet":"P-VI","index":8,"n_rows":517,"n_cols":47,"rows_kept":517,"cut":false,"hidden":false,"merged":[[26,8,26,11],[26,4,26,7],[4,0,7,0],[13,1,15,1],[4,1,7,1],[26,0,27,3],[9,2,9,3],[10,2,10,3],[11,2,11,3],[12,2,12,3],[184,39,184,42],[30,0,30,3],[32,0,32,3],[31,0,31,3],[28,0,28,3],[29,0,29,3],[184,43,184,46],[17,2,17,3],[13,2,15,2],[16,2,16,3],[18,2,18,3],[20,2,20,3],[22,2,22,3],[23,2,23,3],[19,2,19,3],[21,2,21,3],[24,2,24,3],[25,2,25,3],[183,36,186,36],[183,37,186,38],[183,39,183,46],[185,39,185,42],[185,43,185,46],[196,37,196,38],[204,37,204,38],[203,37,203,38],[202,37,202,38],[201,37,201,38],[200,37,200,38],[199,37,199,38],[198,37,198,38],[197,37,197,38],[192,37,194,37],[187,37,187,38],[209,36,209,38],[211,36,211,38],[205,36,206,38],[207,36,207,38],[208,36,208,38],[210,36,210,38],[0,7,2,11],[6,8,6,11],[4,2,7,3],[8,2,8,3],[6,4,6,7],[4,4,5,11]]}
[{"$f":"ADSI!$B$1","v":"Goa, , ADSI-2022"}]
["Errors",null,{"$f":"COUNTIF(E31:L33,FALSE)","v":0}]
[{"$f":"IF(ADSI!$L$10=1,LangMaster!A147,LangMaster!B147)","v":"Proforma-VI"}]
[{"$f":"IF(ADSI!$L$10=1,LangMaster!A167,LangMaster!B167)","v":"Details of Road Accident According to Type of Vehicle and Mode of Transport involved"}]
[{"$f":"IF(ADSI!$L$10=1,LangMaster!A26,LangMaster!B26)","v":"Code"},{"$f":"IF(ADSI!$L$10=1,LangMaster!A27,LangMaster!B27)","v":"S.No."},{"$f":"IF(ADSI!$L$10=1,LangMaster!A148,LangMaster!B148)","v":"Mode of Transport"},null,{"$f":"IF(ADSI!$L$10=1,LangMaster!A168,LangMaster!B168)","v":"Number of Persons Travelling in the Involved mode of Transport"}]
[]
[null,null,null,null,{"$f":"IF(ADSI!$L$10=1,LangMaster!A481,LangMaster!B481)","v":"No. of Persons Injured"},null,null,null,{"$f":"IF(ADSI!$L$10=1,LangMaster!A482,LangMaster!B482)","v":"No. of Persons Died"}]
[null,null,null,null,{"$f":"IF(ADSI!$L$10=1,LangMaster!A30,LangMaster!B30)","v":"Male"},{"$f":"IF(ADSI!$L$10=1,LangMaster!A31,LangMaster!B31)","v":"Female"},{"$f":"IF(ADSI!$L$10=1,LangMaster!A32,LangMaster!B32)","v":"Transgender"},{"$f":"IF(ADSI!$L$10=1,LangMaster!A169,LangMaster!B169)","v":"Total [sum of (3) to (5)]"},{"$f":"IF(ADSI!$L$10=1,LangMaster!A30,LangMaster!B30)","v":"Male"},{"$f":"IF(ADSI!$L$10=1,LangMaster!A31,LangMaster!B31)","v":"Female"},{"$f":"IF(ADSI!$L$10=1,LangMaster!A32,LangMaster!B32)","v":"Transgender"},{"$f":"IF(ADSI!$L$10=1,LangMaster!A170,LangMaster!B170)","v":"Total [sum of (7) to (9)]"}]
[null,"(1)","(2)",null,"(3)","(4)","(5)","(6)","(7)","(8)","(9)","(10)"]
[400,1,{"$f":"IF(ADSI!$L$10=1,LangMaster!A149,LangMaster!B149)","v":"Truck/Lorry/Mini Truck"},null,25,3,0,{"$f":"SUM(E10:G10)","v":28},4,0,0,{"$f":"SUM(I10:K10)","v":4}]
[405,2,{"$f":"IF(ADSI!$L$10=1,LangMaster!A150,LangMaster!B150)","v":"Bus"},null,31,9,0,{"$f":"SUM(E11:G11)","v":40},2,1,0,{"$f":"SUM(I11:K11)","v":3}]
[409,3,{"$f":"IF(ADSI!$L$10=1,LangMaster!A151,LangMaster!B151)","v":"SUV / Car / Jeep / etc."},null,135,43,0,178,22,4,0,26]
[420,4,{"$f":"IF(ADSI!$L$10=1,LangMaster!A152,LangMaster!B152)","v":"Tractor"},null,0,0,0,0,1,0,0,1]
[421,5,{"$f":"IF(ADSI!$L$10=1,LangMaster!A153,LangMaster!B153)","v":"Three Wheeler/Auto rickshaw"},{"$f":"IF(ADSI!$L$10=1,LangMaster!A156,LangMaster!B156)","v":"Total (sum of 5.1 & 5.2)"},{"$f":"SUM(E15:E16)","v":3},1,0,4,0,0,0,0]
[422,null,null,{"$f":"IF(ADSI!$L$10=1,LangMaster!A154,LangMaster!B154)","v":"5.1 Passenger Carriers"},2,0,0,2,0,0,0,0]
[423,null,null,{"$f":"IF(ADSI!$L$10=1,LangMaster!A155,LangMaster!B155)","v":"5.2 Goods Carriers"},1,1,0,2,0,0,0,0]
[424,6,{"$f":"IF(ADSI!$L$10=1,LangMaster!A157,LangMaster!B157)","v":"Two Wheeler"},null,584,147,0,731,157,23,0,180]
[428,7,{"$f":"IF(ADSI!$L$10=1,LangMaster!A158,LangMaster!B158)","v":"Other Motor Vehicles"},null,1,1,0,2,0,0,0,0]
[429,8,{"$f":"IF(ADSI!$L$10=1,LangMaster!A159,LangMaster!B159)","v":"Sub-Total (sum of Sl. 1 to 7)"},null,{"$f":"SUM(E10:E14,E17:E18)","v":779},{"$f":"SUM(F10:F14,F17:F18)","v":204},0,983,{"$f":"SUM(I10:I14,I17:I18)","v":186},28,0,214]
[430,9,{"$f":"IF(ADSI!$L$10=1,LangMaster!A160,LangMaster!B160)","v":"Bicycle"},null,9,0,0,9,2,1,0,3]
[431,10,{"$f":"IF(ADSI!$L$10=1,LangMaster!A161,LangMaster!B161)","v":"Hand Drawn Vehicle/Cycle rickshaw"},null,0,0,0,0,0,0,0,0]
[432,11,{"$f":"IF(ADSI!$L$10=1,LangMaster!A162,LangMaster!B162)","v":"Animal Drawn Vehicle"},null,0,0,0,0,0,0,0,0]
[433,12,{"$f":"IF(ADSI!$L$10=1,LangMaster!A163,LangMaster!B163)","v":"Pedestrian"},null,54,25,0,79,42,12,0,54]
[434,13,{"$f":"IF(ADSI!$L$10=1,LangMaster!A164,LangMaster!B164)","v":"Others"},null,0,0,0,0,3,0,0,3]
[435,14,{"$f":"IF(ADSI!$L$10=1,LangMaster!A165,LangMaster!B165)","v":"Sub-Total (sum of Sl. 9 to 13)"},null,{"$f":"SUM(E20:E24)","v":63},25,0,88,47,13,0,60]
[450,null,{"$f":"IF(ADSI!$L$10=1,LangMaster!A166,LangMaster!B166)","v":"Total (sum of Sl. 8 & 14)"},null,{"$f":"SUM(E19+E25)","v":842},229,0,1071,233,41,0,274]
["VALIDATION  WITH PROFORMA–II [Sl.–12.1 (Road Accidents Total)]",null,null,null,"No. of Persons Injured",null,null,null,"No. of Persons Died"]
[null,null,null,null,"Male","Female","Transgender"," Total"," Male"," Female","Transgender","Total"]
[" PROFORMA–II VALUES [Sl.– 12.1 (Road Accidents Total)]",null,null,null,{"$f":"'P-II'!F43","v":842},{"$f":"'P-II'!G43","v":229},{"$f":"'P-II'!H43","v":0},{"$f":"'P-II'!I43","v":1071},{"$f":"'P-II'!J43","v":233},{"$f":"'P-II'!K43","v":41},{"$f":"'P-II'!L43","v":0},{"$f":"'P-II'!M43","v":274}]
["VALIDATION FOR INJURED and DIED [sum of Offending Driver/Pedestrian and Victims]",null,null,null,{"$f":"IF(E26=E29,\"\",FALSE)","v":""},{"$f":"IF(F26=F29,\"\",FALSE)","v":""},"","","","","",""]
["SL-7 ABNORMAL VARIATION  IN \"OTHER MOTOR VEHICLES\" DATA",null,null,null,{"$f":"IF(E19>0,IF((E18/E19*100)>10,\"ABVAR\",\"\"),\"\")","v":""},"","","","","","",""]
["SL-12 ABNORMAL VARIATION  IN \"PEDESTRIAN\" DATA",null,null,null,{"$f":"IF(E25>0,IF((E23/E26*100)>15,\"RE-CHECK\",\"\"),\"\")","v":""},"","","","RE-CHECK","RE-CHECK","","RE-CHECK"]
["SL-13 ABNORMAL VARIATION  IN \"OTHERS\" DATA",null,null,null,{"$f":"IF(E25>0,IF((E24/E25*100)>10,\"ABVAR\",\"\"),\"\")","v":""},"","","","","","",""]
[]
[]
[]
[]
[]
[]
[]
[]
[]
[]
[]
[]
[]
[]
[]
[]
[]
[]
[]
[]
[]
[]
[]
[]
[]
[]
[]
[]
[]
[]
[]
[]
[]
[]
[]
[]
[]
[]
[]
[]
[]
[]
[]
[]
[]
[]
[]
[]
[]
[]
[]
[]
[]
[]
[]
[]
[]
[]
[]
[]
[]
[]
[]
[]
[]
[]
[]
[]
[]
[]
[]
[]
[]
[]
[]
[]
[]
[]
[]
[]
[]
[]
[]
[]
[]
[]
[]
[]
[]
[]
[]
[]
[]
[]
[]
[]
[]
[]
[]
[]
[]
[]
[]
[]
[]
[]
[]
[]
[]
[]
[]
[]
[]
[]
[]
[]
[]
[]
[]
[]
[]
[]
[]
[]
[]
[]
[]
[]
[]
[]
[]
[]
[]
[]
[]
[]
[]
[]
[]
[]
[]
[]
[]
[]
[]
[]
[null,null,null,null,null,null,null,null,null,null,null,null,null,null,null,null,null,null,null,null,null,null,null,null,null,null,null,null,null,null,null,null,null,null,null,null,{"$f":"A1","v":"Goa, , ADSI-2022"}]
[null,null,null,null,null,null,null,null,null,null,null,null,null,null,null,null,null,null,null,null,null,null,null,null,null,null,null,null,null,null,null,null,null,null,null,null,{"$f":"A2","v":"Errors"},{"$f":"C2","v":0}]
[null,null,null,null,null,null,null,null,null,null,null,null,null,null,null,null,null,null,null,null,null,null,null,null,null,null,null,null,null,null,null,null,null,null,null,null,{"$f":"A3","v":"Proforma-VI"}]
[null,null,null,null,null,null,null,null,null,null,null,null,null,null,null,null,null,null,null,null,null,null,null,null,null,null,null,null,null,null,null,null,null,null,null,null,{"$f":"A4","v":"Details of Road Accident According to Type of Vehicle and Mode of Transport involved"}]
[null,null,null,null,null,null,null,null,null,null,null,null,null,null,null,null,null,null,null,null,null,null,null,null,null,null,null,null,null,null,null,null,null,null,null,null,{"$f":"B5","v":"S.No."},{"$f":"C5","v":"Mode of Transport"}]
[null,null,null,null,null,null,null,null,null,null,null,null,null,null,null,null,null,null,null,null,null,null,null,null,null,null,null,null,null,null,null,null,null,null,null,null,null,null,null,{"$f":"E5","v":"Number of Persons Travelling in the Involved mode of Transport"},null,null,null,"Victims"]
[null,null,null,null,null,null,null,null,null,null,null,null,null,null,null,null,null,null,null,null,null,null,null,null,null,null,null,null,null,null,null,null,null,null,null,null,null,null,null,{"$f":"E7","v":"No. of Persons Injured"},null,null,null,{"$f":"I7","v":"No. of Persons Died"}]
[null,null,null,null,null,null,null,null,null,null,null,null,null,null,null,null,null,null,null,null,null,null,null,null,null,null,null,null,null,null,null,null,null,null,null,null,null,null,null,"Male",{"$f":"F8","v":"Female"},{"$f":"G8","v":"Transgender"},{"$f":"H8","v":"Total [sum of (3) to (5)]"},"Male",{"$f":"J8","v":"Female"},{"$f":"K8","v":"Transgender"},{"$f":"L8","v":"Total [sum of (7) to (9)]"}]
[null,null,null,null,null,null,null,null,null,null,null,null,null,null,null,null,null,null,null,null,null,null,null,null,null,null,null,null,null,null,null,null,null,null,null,null,{"$f":"B9","v":"(1)"},"(2)",null,"(3)","(4)","(5)","(6)","(7)","(8)","(9)","(10)"]
[null,null,null,null,null,null,null,null,null,null,null,null,null,null,null,null,null,null,null,null,null,null,null,null,null,null,null,null,null,null,null,null,null,null,null,null,1,"Truck/Lorry/Mini Truck",{"$f":"D10","v":0},25,3,0,28,4,0,0,4]
[null,null,null,null,null,null,null,null,null,null,null,null,null,null,null,null,null,null,null,null,null,null,null,null,null,null,null,null,null,null,null,null,null,null,null,null,2,"Bus",0,31,9,0,40,2,1,0,3]
[null,null,null,null,null,null,null,null,null,null,null,null,null,null,null,null,null,null,null,null,null,null,null,null,null,null,null,null,null,null,null,null,null,null,null,null,3,"SUV / Car / Jeep / etc.",0,135,43,0,178,22,4,0,26]
[null,null,null,null,null,null,null,null,null,null,null,null,null,null,null,null,null,null,null,null,null,null,null,null,null,null,null,null,null,null,null,null,null,null,null,null,4,"Tractor",0,0,0,0,0,1,0,0,1]
[null,null,null,null,null,null,null,null,null,null,null,null,null,null,null,null,null,null,null,null,null,null,null,null,null,null,null,null,null,null,null,null,null,null,null,null,5,"Three Wheeler/Auto rickshaw","Total (sum of 5.1 & 5.2)",3,1,0,4,0,0,0,0]
[null,null,null,null,null,null,null,null,null,null,null,null,null,null,null,null,null,null,null,null,null,null,null,null,null,null,null,null,null,null,null,null,null,null,null,null,null,null,"5.1 Passenger Carriers",2,0,0,2,0,0,0,0]
[null,null,null,null,null,null,null,null,null,null,null,null,null,null,null,null,null,null,null,null,null,null,null,null,null,null,null,null,null,null,null,null,null,null,null,null,null,null,"5.2 Goods Carriers",1,1,0,2,0,0,0,0]
[null,null,null,null,null,null,null,null,null,null,null,null,null,null,null,null,null,null,null,null,null,null,null,null,null,null,null,null,null,null,null,null,null,null,null,null,{"$f":"B17","v":6},{"$f":"C17","v":"Two Wheeler"},0,584,147,0,731,157,23,0,180]
[null,null,null,null,null,null,null,null,null,null,null,null,null,null,null,null,null,null,null,null,null,null,null,null,null,null,null,null,null,null,null,null,null,null,null,null,7,"Other Motor Vehicles",null,1,1,0,2,0,0,0,0]
[null,null,null,null,null,null,null,null,null,null,null,null,null,null,null,null,null,null,null,null,null,null,null,null,null,null,null,null,null,null,null,null,null,null,null,null,8,"Sub-Total (sum of Sl. 1 to 7)",null,779,204,0,983,186,28,0,214]
[null,null,null,null,null,null,null,null,null,null,null,null,null,null,null,null,null,null,null,null,null,null,null,null,null,null,null,null,null,null,null,null,null,null,null,null,9,"Bicycle",null,9,0,0,9,2,1,0,3]
[null,null,null,null,null,null,null,null,null,null,null,null,null,null,null,null,null,null,null,null,null,null,null,null,null,null,null,null,null,null,null,null,null,null,null,null,10,"Hand Drawn Vehicle/Cycle rickshaw",null,0,0,0,0,0,0,0,0]
[null,null,null,null,null,null,null,null,null,null,null,null,null,null,null,null,null,null,null,null,null,null,null,null,null,null,null,null,null,null,null,null,null,null,null,null,11,"Animal Drawn Vehicle",null,0,0,0,0,0,0,0,0]
[null,null,null,null,null,null,null,null,null,null,null,null,null,null,null,null,null,null,null,null,null,null,null,null,null,null,null,null,null,null,null,null,null,null,null,null,12,"Pedestrian",null,54,25,0,79,42,12,0,54]
[null,null,null,null,null,null,null,null,null,null,null,null,null,null,null,null,null,null,null,null,null,null,null,null,null,null,null,null,null,null,null,null,null,null,null,null,13,"Others",null,0,0,0,0,3,0,0,3]
[null,null,null,null,null,null,null,null,null,null,null,null,null,null,null,null,null,null,null,null,null,null,null,null,null,null,null,null,null,null,null,null,null,null,null,null,14,"Sub-Total (sum of Sl. 9 to 13)",null,63,25,0,88,47,13,0,60]
[null,null,null,null,null,null,null,null,null,null,null,null,null,null,null,null,null,null,null,null,null,null,null,null,null,null,null,null,null,null,null,null,null,null,null,null,0,"Total (sum of Sl. 8 & 14)",null,842,229,0,1071,233,41,0,274]
[null,null,null,null,null,null,null,null,null,null,null,null,null,null,null,null,null,null,null,null,null,null,null,null,null,null,null,null,null,null,null,null,null,null,null,null,{"$f":"A27","v":"VALIDATION  WITH PROFORMA–II [Sl.–12.1 (Road Accidents Total)]"}]
[]
[null,null,null,null,null,null,null,null,null,null,null,null,null,null,null,null,null,null,null,null,null,null,null,null,null,null,null,null,null,null,null,null,null,null,null,null,{"$f":"A29","v":" PROFORMA–II VALUES [Sl.– 12.1 (Road Accidents Total)]"}]
[null,null,null,null,null,null,null,null,null,null,null,null,null,null,null,null,null,null,null,null,null,null,null,null,null,null,null,null,null,null,null,null,null,null,null,null,{"$f":"A30","v":"VALIDATION FOR INJURED and DIED [sum of Offending Driver/Pedestrian and Victims]"}]
[null,null,null,null,null,null,null,null,null,null,null,null,null,null,null,null,null,null,null,null,null,null,null,null,null,null,null,null,null,null,null,null,null,null,null,null,{"$f":"A31","v":"SL-7 ABNORMAL VARIATION  IN \"OTHER MOTOR VEHICLES\" DATA"},null,null,{"$f":"E31","v":""},"","","","","","",""]
[null,null,null,null,null,null,null,null,null,null,null,null,null,null,null,null,null,null,null,null,null,null,null,null,null,null,null,null,null,null,null,null,null,null,null,null,{"$f":"A32","v":"SL-12 ABNORMAL VARIATION  IN \"PEDESTRIAN\" DATA"},null,null,{"$f":"E32","v":""},{"$f":"F32","v":""},{"$f":"G32","v":""},{"$f":"H32","v":""},{"$f":"I32","v":"RE-CHECK"},{"$f":"J32","v":"RE-CHECK"},{"$f":"K32","v":""},{"$f":"L32","v":"RE-CHECK"}]
[null,null,null,null,null,null,null,null,null,null,null,null,null,null,null,null,null,null,null,null,null,null,null,null,null,null,null,null,null,null,null,null,null,null,null,null,{"$f":"A33","v":"SL-13 ABNORMAL VARIATION  IN \"OTHERS\" DATA"},null,null,{"$f":"E33","v":""},"","","","","","",""]
[]
[]
[]
[]
[]
[]
[]
[]
[]
[]
[]
[]
[]
[]
[]
[]
[]
[]
[]
[]
[]
[]
[]
[]
[]
[]
[]
[]
[]
[]
[]
[]
[]
[]
[]
[]
[]
[]
[]
[]
[]
[]
[]
[]
[]
[]
[]
[]
[]
[]
[]
[]
[]
[]
[]
[]
[]
[]
[]
[]
[]
[]
[]
[]
[]
[]
[]
[]
[]
[]
[]
[]
[]
[]
[]
[]
[]
[]
[]
[]
[]
[]
[]
[]
[]
[]
[]
[]
[]
[]
[]
[]
[]
[]
[]
[]
[]
[]
[]
[]
[]
[]
[]
[]
[]
[]
[]
[]
[]
[]
[]
[]
[]
[]
[]
[]
[]
[]
[]
[]
[]
[]
[]
[]
[]
[]
[]
[]
[]
[]
[]
[]
[]
[]
[]
[]
[]
[]
[]
[]
[]
[]
[]
[]
[]
[]
[]
[]
[]
[]
[]
[]
[]
[]
[]
[]
[]
[]
[]
[]
[]
[]
[]
[]
[]
[]
[]
[]
[]
[]
[]
[]
[]
[]
[]
[]
[]
[]
[]
[]
[]
[]
[]
[]
[]
[]
[]
[]
[]
[]
[]
[]
[]
[]
[]
[]
[]
[]
[]
[]
[]
[]
[]
[]
[]
[]
[]
[]
[]
[]
[]
[]
[]
[]
[]
[]
[]
[]
[]
[]
[]
[]
[]
[]
[]
[]
[]
[]
[]
[]
[]
[]
[]
[]
[]
[]
[]
[]
[]
[]
[]
[]
[]
[]
[]
[]
[]
[]
[]
[]
[]
[]
[]
[]
[]
[]
[]
[]
[]
[]
[]
[]
[]
[]
[]
[]
[]
["StateUTCityCode","DistrictCode","CrimeCode","DataYear","Victims Died_Male","Victims Died_Female","Victims Died_Trans","Victims Died_Total","Victims Injured_Male","Victims Injured_Female","Victims Injured_Trans","Victims Injured_Total"]
[{"$f":"IF(ADSI!$G$12=\"\",ADSI!$H$16,ADSI!$H$12)","v":6},{"$f":"IF(ADSI!$G$12=\"\",ADSI!$H$16,ADSI!$H$14)","v":""},{"$f":"A10","v":400},{"$f":"ADSI!$K$12","v":2022},{"$f":"E10","v":25},3,0,28,4,0,0,4]
[{"$f":"IF(ADSI!$G$12=\"\",ADSI!$H$16,ADSI!$H$12)","v":6},{"$f":"IF(ADSI!$G$12=\"\",ADSI!$H$16,ADSI!$H$14)","v":""},405,{"$f":"ADSI!$K$12","v":2022},31,9,0,40,2,1,0,3]
[{"$f":"IF(ADSI!$G$12=\"\",ADSI!$H$16,ADSI!$H$12)","v":6},{"$f":"IF(ADSI!$G$12=\"\",ADSI!$H$16,ADSI!$H$14)","v":""},409,{"$f":"ADSI!$K$12","v":2022},135,43,0,178,22,4,0,26]
[{"$f":"IF(ADSI!$G$12=\"\",ADSI!$H$16,ADSI!$H$12)","v":6},{"$f":"IF(ADSI!$G$12=\"\",ADSI!$H$16,ADSI!$H$14)","v":""},420,{"$f":"ADSI!$K$12","v":2022},0,0,0,0,1,0,0,1]
[{"$f":"IF(ADSI!$G$12=\"\",ADSI!$H$16,ADSI!$H$12)","v":6},{"$f":"IF(ADSI!$G$12=\"\",ADSI!$H$16,ADSI!$H$14)","v":""},421,{"$f":"ADSI!$K$12","v":2022},3,1,0,4,0,0,0,0]
[{"$f":"IF(ADSI!$G$12=\"\",ADSI!$H$16,ADSI!$H$12)","v":6},{"$f":"IF(ADSI!$G$12=\"\",ADSI!$H$16,ADSI!$H$14)","v":""},422,{"$f":"ADSI!$K$12","v":2022},2,0,0,2,0,0,0,0]
[{"$f":"IF(ADSI!$G$12=\"\",ADSI!$H$16,ADSI!$H$12)","v":6},{"$f":"IF(ADSI!$G$12=\"\",ADSI!$H$16,ADSI!$H$14)","v":""},423,{"$f":"ADSI!$K$12","v":2022},1,1,0,2,0,0,0,0]
[{"$f":"IF(ADSI!$G$12=\"\",ADSI!$H$16,ADSI!$H$12)","v":6},{"$f":"IF(ADSI!$G$12=\"\",ADSI!$H$16,ADSI!$H$14)","v":""},424,{"$f":"ADSI!$K$12","v":2022},584,147,0,731,157,23,0,180]
[{"$f":"IF(ADSI!$G$12=\"\",ADSI!$H$16,ADSI!$H$12)","v":6},{"$f":"IF(ADSI!$G$12=\"\",ADSI!$H$16,ADSI!$H$14)","v":""},{"$f":"A18","v":428},{"$f":"ADSI!$K$12","v":2022},{"$f":"E18","v":1},1,0,2,0,0,0,0]
[{"$f":"IF(ADSI!$G$12=\"\",ADSI!$H$16,ADSI!$H$12)","v":6},{"$f":"IF(ADSI!$G$12=\"\",ADSI!$H$16,ADSI!$H$14)","v":""},429,{"$f":"ADSI!$K$12","v":2022},{"$f":"E19","v":779},204,0,983,186,28,0,214]
[{"$f":"IF(ADSI!$G$12=\"\",ADSI!$H$16,ADSI!$H$12)","v":6},{"$f":"IF(ADSI!$G$12=\"\",ADSI!$H$16,ADSI!$H$14)","v":""},430,{"$f":"ADSI!$K$12","v":2022},{"$f":"E20","v":9},0,0,9,2,1,0,3]
[{"$f":"IF(ADSI!$G$12=\"\",ADSI!$H$16,ADSI!$H$12)","v":6},{"$f":"IF(ADSI!$G$12=\"\",ADSI!$H$16,ADSI!$H$14)","v":""},431,{"$f":"ADSI!$K$12","v":2022},{"$f":"E21","v":0},0,0,0,0,0,0,0]
[{"$f":"IF(ADSI!$G$12=\"\",ADSI!$H$16,ADSI!$H$12)","v":6},{"$f":"IF(ADSI!$G$12=\"\",ADSI!$H$16,ADSI!$H$14)","v":""},432,{"$f":"ADSI!$K$12","v":2022},{"$f":"E22","v":0},0,0,0,0,0,0,0]
[{"$f":"IF(ADSI!$G$12=\"\",ADSI!$H$16,ADSI!$H$12)","v":6},{"$f":"IF(ADSI!$G$12=\"\",ADSI!$H$16,ADSI!$H$14)","v":""},{"$f":"A23","v":433},{"$f":"ADSI!$K$12","v":2022},{"$f":"E23","v":54},25,0,79,42,12,0,54]
[{"$f":"IF(ADSI!$G$12=\"\",ADSI!$H$16,ADSI!$H$12)","v":6},{"$f":"IF(ADSI!$G$12=\"\",ADSI!$H$16,ADSI!$H$14)","v":""},434,{"$f":"ADSI!$K$12","v":2022},{"$f":"E24","v":0},0,0,0,3,0,0,3]
[{"$f":"IF(ADSI!$G$12=\"\",ADSI!$H$16,ADSI!$H$12)","v":6},{"$f":"IF(ADSI!$G$12=\"\",ADSI!$H$16,ADSI!$H$14)","v":""},435,{"$f":"ADSI!$K$12","v":2022},{"$f":"E25","v":63},25,0,88,47,13,0,60]
[{"$f":"IF(ADSI!$G$12=\"\",ADSI!$H$16,ADSI!$H$12)","v":6},{"$f":"IF(ADSI!$G$12=\"\",ADSI!$H$16,ADSI!$H$14)","v":""},450,{"$f":"ADSI!$K$12","v":2022},{"$f":"E26","v":842},229,0,1071,233,41,0,274]
[]
[]
["StateUTCityCode","DistrictCode","CrimeCode","DataYear","Victims Injured_Male","Victims Injured_Female","Victims Injured_Trans","Victims Injured_Total","Victims Died_Male","Victims Died_Female","Victims Died_Trans","Victims Died_Total"]
[{"$f":"IF(ADSI!$G$12=\"\",ADSI!$H$16,ADSI!$H$12)","v":6},{"$f":"IF(ADSI!$G$12=\"\",ADSI!$H$16,ADSI!$H$14)","v":""},{"$f":"A10","v":400},{"$f":"ADSI!$K$12","v":2022},{"$f":"E10","v":25},{"$f":"F10","v":3},0,28,4,0,0,4]
[{"$f":"IF(ADSI!$G$12=\"\",ADSI!$H$16,ADSI!$H$12)","v":6},{"$f":"IF(ADSI!$G$12=\"\",ADSI!$H$16,ADSI!$H$14)","v":""},{"$f":"A11","v":405},{"$f":"ADSI!$K$12","v":2022},{"$f":"E11","v":31},9,0,40,2,1,0,3]
[{"$f":"IF(ADSI!$G$12=\"\",ADSI!$H$16,ADSI!$H$12)","v":6},{"$f":"IF(ADSI!$G$12=\"\",ADSI!$H$16,ADSI!$H$14)","v":""},409,{"$f":"ADSI!$K$12","v":2022},135,43,0,178,22,4,0,26]
[{"$f":"IF(ADSI!$G$12=\"\",ADSI!$H$16,ADSI!$H$12)","v":6},{"$f":"IF(ADSI!$G$12=\"\",ADSI!$H$16,ADSI!$H$14)","v":""},420,{"$f":"ADSI!$K$12","v":2022},0,0,0,0,1,0,0,1]
[{"$f":"IF(ADSI!$G$12=\"\",ADSI!$H$16,ADSI!$H$12)","v":6},{"$f":"IF(ADSI!$G$12=\"\",ADSI!$H$16,ADSI!$H$14)","v":""},421,{"$f":"ADSI!$K$12","v":2022},3,1,0,4,0,0,0,0]
[{"$f":"IF(ADSI!$G$12=\"\",ADSI!$H$16,ADSI!$H$12)","v":6},{"$f":"IF(ADSI!$G$12=\"\",ADSI!$H$16,ADSI!$H$14)","v":""},422,{"$f":"ADSI!$K$12","v":2022},2,0,0,2,0,0,0,0]
[{"$f":"IF(ADSI!$G$12=\"\",ADSI!$H$16,ADSI!$H$12)","v":6},{"$f":"IF(ADSI!$G$12=\"\",ADSI!$H$16,ADSI!$H$14)","v":""},423,{"$f":"ADSI!$K$12","v":2022},1,1,0,2,0,0,0,0]
[{"$f":"IF(ADSI!$G$12=\"\",ADSI!$H$16,ADSI!$H$12)","v":6},{"$f":"IF(ADSI!$G$12=\"\",ADSI!$H$16,ADSI!$H$14)","v":""},424,{"$f":"ADSI!$K$12","v":2022},584,147,0,731,157,23,0,180]
[{"$f":"IF(ADSI!$G$12=\"\",ADSI!$H$16,ADSI!$H$12)","v":6},{"$f":"IF(ADSI!$G$12=\"\",ADSI!$H$16,ADSI!$H$14)","v":""},428,{"$f":"ADSI!$K$12","v":2022},1,1,0,2,0,0,0,0]
[{"$f":"IF(ADSI!$G$12=\"\",ADSI!$H$16,ADSI!$H$12)","v":6},{"$f":"IF(ADSI!$G$12=\"\",ADSI!$H$16,ADSI!$H$14)","v":""},429,{"$f":"ADSI!$K$12","v":2022},779,204,0,983,186,28,0,214]
[{"$f":"IF(ADSI!$G$12=\"\",ADSI!$H$16,ADSI!$H$12)","v":6},{"$f":"IF(ADSI!$G$12=\"\",ADSI!$H$16,ADSI!$H$14)","v":""},430,{"$f":"ADSI!$K$12","v":2022},9,0,0,9,2,1,0,3]
[{"$f":"IF(ADSI!$G$12=\"\",ADSI!$H$16,ADSI!$H$12)","v":6},{"$f":"IF(ADSI!$G$12=\"\",ADSI!$H$16,ADSI!$H$14)","v":""},431,{"$f":"ADSI!$K$12","v":2022},0,0,0,0,0,0,0,0]
[{"$f":"IF(ADSI!$G$12=\"\",ADSI!$H$16,ADSI!$H$12)","v":6},{"$f":"IF(ADSI!$G$12=\"\",ADSI!$H$16,ADSI!$H$14)","v":""},432,{"$f":"ADSI!$K$12","v":2022},0,0,0,0,0,0,0,0]
[{"$f":"IF(ADSI!$G$12=\"\",ADSI!$H$16,ADSI!$H$12)","v":6},{"$f":"IF(ADSI!$G$12=\"\",ADSI!$H$16,ADSI!$H$14)","v":""},433,{"$f":"ADSI!$K$12","v":2022},54,25,0,79,42,12,0,54]
[{"$f":"IF(ADSI!$G$12=\"\",ADSI!$H$16,ADSI!$H$12)","v":6},{"$f":"IF(ADSI!$G$12=\"\",ADSI!$H$16,ADSI!$H$14)","v":""},434,{"$f":"ADSI!$K$12","v":2022},0,0,0,0,3,0,0,3]
[{"$f":"IF(ADSI!$G$12=\"\",ADSI!$H$16,ADSI!$H$12)","v":6},{"$f":"IF(ADSI!$G$12=\"\",ADSI!$H$16,ADSI!$H$14)","v":""},435,{"$f":"ADSI!$K$12","v":2022},63,25,0,88,47,13,0,60]
[{"$f":"IF(ADSI!$G$12=\"\",ADSI!$H$16,ADSI!$H$12)","v":6},{"$f":"IF(ADSI!$G$12=\"\",ADSI!$H$16,ADSI!$H$14)","v":""},450,{"$f":"ADSI!$K$12","v":2022},842,229,0,1071,233,41,0,274]

{"sheet":"P-VII","index":9,"n_rows":505,"n_cols":64,"rows_kept":505,"cut":false,"hidden":false,"merged":[[211,52,211,53],[212,52,212,53],[203,60,203,63],[203,56,203,59],[203,54,204,54],[203,53,204,53],[203,52,204,52],[203,55,205,55],[12,0,12,2],[4,9,4,12],[13,0,13,2],[4,1,5,1],[4,2,5,2],[4,3,5,3],[4,5,4,8],[4,0,5,0],[4,4,5,4]]}
[{"$f":"ADSI!$B$1","v":"Goa, , ADSI-2022"}]
["Errors",null,{"$f":"COUNTIF(D14:M14,FALSE)+COUNTIF(E8:E12,FALSE)","v":0}]
[{"$f":"IF(ADSI!$L$10=1,LangMaster!A171,LangMaster!B171)","v":"ProformaVII"}]
[{"$f":"IF(ADSI!$L$10=1,LangMaster!A172,LangMaster!B172)","v":"Road Accidents Classified According to classification of Road"}]
[{"$f":"IF(ADSI!$L$10=1,LangMaster!A26,LangMaster!B26)","v":"Code"},{"$f":"IF(ADSI!$L$10=1,LangMaster!A27,LangMaster!B27)","v":"S.No."},{"$f":"IF(ADSI!$L$10=1,LangMaster!A173,LangMaster!B173)","v":"Classification of Roads"},{"$f":"IF(ADSI!$L$10=1,LangMaster!A479,LangMaster!B479)","v":"No. of Cases"},{"$f":"IF(ADSI!$L$10=1,LangMaster!A480,LangMaster!B480)","v":"VALIDATION WITH NUMBER OF CASES"},{"$f":"IF(ADSI!$L$10=1,LangMaster!A481,LangMaster!B481)","v":"No. of Persons Injured"},null,null,null,{"$f":"IF(ADSI!$L$10=1,LangMaster!A482,LangMaster!B482)","v":"No. of Persons Died"}]
[null,null,null,null,null,{"$f":"IF(ADSI!$L$10=1,LangMaster!A30,LangMaster!B30)","v":"Male"},{"$f":"IF(ADSI!$L$10=1,LangMaster!A31,LangMaster!B31)","v":"Female"},{"$f":"IF(ADSI!$L$10=1,LangMaster!A32,LangMaster!B32)","v":"Transgender"},{"$f":"IF(ADSI!$L$10=1,LangMaster!A174,LangMaster!B174)","v":" Total [sum of (4) to (6)]"},{"$f":"IF(ADSI!$L$10=1,LangMaster!A30,LangMaster!B30)","v":"Male"},{"$f":"IF(ADSI!$L$10=1,LangMaster!A31,LangMaster!B31)","v":"Female"},{"$f":"IF(ADSI!$L$10=1,LangMaster!A32,LangMaster!B32)","v":"Transgender"},{"$f":"IF(ADSI!$L$10=1,LangMaster!A175,LangMaster!B175)","v":" Total [sum of (8) to (10)]"}]
[null,"(1)","(2)","(3)",null,"(4)","(5)","(6)","(7)","(8)","(9)","(10)","(11)"]
[476,1,{"$f":"IF(ADSI!$L$10=1,LangMaster!A176,LangMaster!B176)","v":"National Highways"},1227,{"$f":"IF(AND(OR(I8>0,M8>0),D8=0),FALSE,\"\")","v":""},270,74,0,{"$f":"SUM(F8:H8)","v":344},104,17,0,{"$f":"SUM(J8:L8)","v":121}]
[477,2,{"$f":"IF(ADSI!$L$10=1,LangMaster!A177,LangMaster!B177)","v":"State Highways"},408,{"$f":"IF(AND(OR(I9>0,M9>0),D9=0),FALSE,\"\")","v":""},146,48,0,{"$f":"SUM(F9:H9)","v":194},33,4,0,{"$f":"SUM(J9:L9)","v":37}]
[478,3,{"$f":"IF(ADSI!$L$10=1,LangMaster!A178,LangMaster!B178)","v":"Expressways"},0,"",0,0,0,0,0,0,0,0]
[479,4,{"$f":"IF(ADSI!$L$10=1,LangMaster!A179,LangMaster!B179)","v":"Other Roads"},1377,{"$f":"IF(AND(OR(I11>0,M11>0),D11=0),FALSE,\"\")","v":""},426,107,0,533,96,20,0,116]
[490,5,{"$f":"IF(ADSI!$L$10=1,LangMaster!A180,LangMaster!B180)","v":"Total (sum of Sl. 1 to 4)"},{"$f":"SUM(D8:D11)","v":3012},{"$f":"IF(AND(OR(I12>0,M12>0),D12=0),FALSE,\"\")","v":""},{"$f":"SUM(F8:F11)","v":842},229,0,1071,233,41,0,274]
[" PROFORMA–II VALUES [Sl.– 12.1 (Road Accidents Total)]",null,null,{"$f":"'P-II'!D43","v":3012},null,{"$f":"'P-II'!F43","v":842},{"$f":"'P-II'!G43","v":229},{"$f":"'P-II'!H43","v":0},{"$f":"'P-II'!I43","v":1071},{"$f":"'P-II'!J43","v":233},{"$f":"'P-II'!K43","v":41},{"$f":"'P-II'!L43","v":0},{"$f":"'P-II'!M43","v":274}]
["VALIDATION  WITH PROFORMA–II [Sl.– 12.1 (Road Accidents Total)]",null,null,{"$f":"IF(D12='P-II'!D43,\"\",FALSE)","v":""},null,{"$f":"IF(F12='P-II'!F43,\"\",FALSE)","v":""},{"$f":"IF(G12='P-II'!G43,\"\",FALSE)","v":""},{"$f":"IF(H12='P-II'!H43,\"\",FALSE)","v":""},{"$f":"IF(I12='P-II'!I43,\"\",FALSE)","v":""},{"$f":"IF(J12='P-II'!J43,\"\",FALSE)","v":""},{"$f":"IF(K12='P-II'!K43,\"\",FALSE)","v":""},{"$f":"IF(L12='P-II'!L43,\"\",FALSE)","v":""},{"$f":"IF(M12='P-II'!M43,\"\",FALSE)","v":""}]
[]
[]
[]
[]
[]
[]
[]
[]
[]
[]
[]
[]
[]
[]
[]
[]
[]
[]
[]
[]
[]
[]
[]
[]
[]
[]
[]
[]
[]
[]
[]
[]
[]
[]
[]
[]
[]
[]
[]
[]
[]
[]
[]
[]
[]
[]
[]
[]
[]
[]
[]
[]
[]
[]
[]
[]
[]
[]
[]
[]
[]
[]
[]
[]
[]
[]
[]
[]
[]
[]
[]
[]
[]
[]
[]
[]
[]
[]
[]
[]
[]
[]
[]
[]
[]
[]
[]
[]
[]
[]
[]
[]
[]
[]
[]
[]
[]
[]
[]
[]
[]
[]
[]
[]
[]
[]
[]
[]
[]
[]
[]
[]
[]
[]
[]
[]
[]
[]
[]
[]
[]
[]
[]
[]
[]
[]
[]
[]
[]
[]
[]
[]
[]
[]
[]
[]
[]
[]
[]
[]
[]
[]
[]
[]
[]
[]
[]
[]
[]
[]
[]
[]
[]
[]
[]
[]
[]
[]
[]
[]
[]
[]
[]
[]
[]
[]
[]
[]
[]
[]
[]
[]
[]
[]
[]
[]
[]
[]
[]
[]
[]
[]
[]
[]
[]
[null,null,null,null,null,null,null,null,null,null,null,null,null,null,null,null,null,null,null,null,null,null,null,null,null,null,null,null,null,null,null,null,null,null,null,null,null,null,null,null,null,null,null,null,null,null,null,null,null,null,null,null,{"$f":"A1","v":"Goa, , ADSI-2022"}]
[null,null,null,null,null,null,null,null,null,null,null,null,null,null,null,null,null,null,null,null,null,null,null,null,null,null,null,null,null,null,null,null,null,null,null,null,null,null,null,null,null,null,null,null,null,null,null,null,null,null,null,null,{"$f":"A2","v":"Errors"},{"$f":"C2","v":0}]
[null,null,null,null,null,null,null,null,null,null,null,null,null,null,null,null,null,null,null,null,null,null,null,null,null,null,null,null,null,null,null,null,null,null,null,null,null,null,null,null,null,null,null,null,null,null,null,null,null,null,null,null,{"$f":"A3","v":"ProformaVII"}]
[null,null,null,null,null,null,null,null,null,null,null,null,null,null,null,null,null,null,null,null,null,null,null,null,null,null,null,null,null,null,null,null,null,null,null,null,null,null,null,null,null,null,null,null,null,null,null,null,null,null,null,null,{"$f":"A4","v":"Road Accidents Classified According to classification of Road"}]
[null,null,null,null,null,null,null,null,null,null,null,null,null,null,null,null,null,null,null,null,null,null,null,null,null,null,null,null,null,null,null,null,null,null,null,null,null,null,null,null,null,null,null,null,null,null,null,null,null,null,null,null,{"$f":"B5","v":"S.No."},{"$f":"C5","v":"Classification of Roads"},{"$f":"D5","v":"No. of Cases"},{"$f":"E5","v":"VALIDATION WITH NUMBER OF CASES"},{"$f":"F5","v":"No. of Persons Injured"},null,null,null,{"$f":"J5","v":"No. of Persons Died"}]
[null,null,null,null,null,null,null,null,null,null,null,null,null,null,null,null,null,null,null,null,null,null,null,null,null,null,null,null,null,null,null,null,null,null,null,null,null,null,null,null,null,null,null,null,null,null,null,null,null,null,null,null,null,null,null,null,"Male",{"$f":"G6","v":"Female"},{"$f":"H6","v":"Transgender"},{"$f":"I6","v":" Total [sum of (4) to (6)]"},"Male",{"$f":"K6","v":"Female"},{"$f":"L6","v":"Transgender"},{"$f":"M6","v":" Total [sum of (8) to (10)]"}]
[null,null,null,null,null,null,null,null,null,null,null,null,null,null,null,null,null,null,null,null,null,null,null,null,null,null,null,null,null,null,null,null,null,null,null,null,null,null,null,null,null,null,null,null,null,null,null,null,null,null,null,null,{"$f":"B7","v":"(1)"},"(2)","(3)",null,"(4)","(5)","(6)","(7)","(8)","(9)","(10)","(11)"]
[null,null,null,null,null,null,null,null,null,null,null,null,null,null,null,null,null,null,null,null,null,null,null,null,null,null,null,null,null,null,null,null,null,null,null,null,null,null,null,null,null,null,null,null,null,null,null,null,null,null,null,null,1,"National Highways",1227,{"$f":"E8","v":""},270,74,0,344,104,17,0,121]
[null,null,null,null,null,null,null,null,null,null,null,null,null,null,null,null,null,null,null,null,null,null,null,null,null,null,null,null,null,null,null,null,null,null,null,null,null,null,null,null,null,null,null,null,null,null,null,null,null,null,null,null,2,"State Highways",408,{"$f":"E9","v":""},146,48,0,194,33,4,0,37]
[null,null,null,null,null,null,null,null,null,null,null,null,null,null,null,null,null,null,null,null,null,null,null,null,null,null,null,null,null,null,null,null,null,null,null,null,null,null,null,null,null,null,null,null,null,null,null,null,null,null,null,null,3,"Expressways",0,"",0,0,0,0,0,0,0,0]
[null,null,null,null,null,null,null,null,null,null,null,null,null,null,null,null,null,null,null,null,null,null,null,null,null,null,null,null,null,null,null,null,null,null,null,null,null,null,null,null,null,null,null,null,null,null,null,null,null,null,null,null,4,"Other Roads",1377,"",426,107,0,533,96,20,0,116]
[null,null,null,null,null,null,null,null,null,null,null,null,null,null,null,null,null,null,null,null,null,null,null,null,null,null,null,null,null,null,null,null,null,null,null,null,null,null,null,null,null,null,null,null,null,null,null,null,null,null,null,null,5,"Total (sum of Sl. 1 to 4)",3012,"",842,229,0,1071,233,41,0,274]
[null,null,null,null,null,null,null,null,null,null,null,null,null,null,null,null,null,null,null,null,null,null,null,null,null,null,null,null,null,null,null,null,null,null,null,null,null,null,null,null,null,null,null,null,null,null,null,null,null,null,null,null,{"$f":"A13","v":" PROFORMA–II VALUES [Sl.– 12.1 (Road Accidents Total)]"},null,3012,null,842,229,0,1071,233,41,0,274]
[null,null,null,null,null,null,null,null,null,null,null,null,null,null,null,null,null,null,null,null,null,null,null,null,null,null,null,null,null,null,null,null,null,null,null,null,null,null,null,null,null,null,null,null,null,null,null,null,null,null,null,null,{"$f":"A14","v":"VALIDATION  WITH PROFORMA–II [Sl.– 12.1 (Road Accidents Total)]"},null,"",null,"","","","","","","",""]
[]
[]
[]
[]
[]
[]
[]
[]
[]
[]
[]
[]
[]
[]
[]
[]
[]
[]
[]
[]
[]
[]
[]
[]
[]
[]
[]
[]
[]
[]
[]
[]
[]
[]
[]
[]
[]
[]
[]
[]
[]
[]
[]
[]
[]
[]
[]
[]
[]
[]
[]
[]
[]
[]
[]
[]
[]
[]
[]
[]
[]
[]
[]
[]
[]
[]
[]
[]
[]
[]
[]
[]
[]
[]
[]
[]
[]
[]
[]
[]
[]
[]
[]
[]
[]
[]
[]
[]
[]
[]
[]
[]
[]
[]
[]
[]
[]
[]
[]
[]
[]
[]
[]
[]
[]
[]
[]
[]
[]
[]
[]
[]
[]
[]
[]
[]
[]
[]
[]
[]
[]
[]
[]
[]
[]
[]
[]
[]
[]
[]
[]
[]
[]
[]
[]
[]
[]
[]
[]
[]
[]
[]
[]
[]
[]
[]
[]
[]
[]
[]
[]
[]
[]
[]
[]
[]
[]
[]
[]
[]
[]
[]
[]
[]
[]
[]
[]
[]
[]
[]
[]
[]
[]
[]
[]
[]
[]
[]
[]
[]
[]
[]
[]
[]
[]
[]
[]
[]
[]
[]
[]
[]
[]
[]
[]
[]
[]
[]
[]
[]
[]
[]
[]
[]
[]
[]
[]
[]
[]
[]
[]
[]
[]
[]
[]
[]
[]
[]
[]
[]
[]
[]
[]
[]
[]
[]
[]
[]
[]
[]
[]
[]
[]
[]
[]
[]
[]
[]
[]
[]
[]
[]
[]
[]
[]
[]
[]
[]
[]
[]
[]
[]
[]
[]
[]
[]
[]
[]
[]
[]
[]
[]
[]
[]
[]
[]
[]
[]
[]
[]
[]
[]
[]
[]
[]
[]
[]
[]
[]
[]
[]
[]
[]
[]
[]
[]
["StateUTCityCode","DistrictCode","CrimeCode","DataYear","Number of Cases","Injured_Male","Injured_Female","Injured_Trans","Injured_Total","Died_Male","Died_Female","Died_Trans","Died_Total"]
[{"$f":"IF(ADSI!$G$12=\"\",ADSI!$H$16,ADSI!$H$12)","v":6},{"$f":"IF(ADSI!$G$12=\"\",ADSI!$H$16,ADSI!$H$14)","v":""},{"$f":"A8","v":476},{"$f":"ADSI!$K$12","v":2022},{"$f":"D8","v":1227},{"$f":"F8","v":270},{"$f":"G8","v":74},0,344,104,17,0,121]
[{"$f":"IF(ADSI!$G$12=\"\",ADSI!$H$16,ADSI!$H$12)","v":6},{"$f":"IF(ADSI!$G$12=\"\",ADSI!$H$16,ADSI!$H$14)","v":""},{"$f":"A9","v":477},{"$f":"ADSI!$K$12","v":2022},{"$f":"D9","v":408},{"$f":"F9","v":146},48,0,194,33,4,0,37]
[{"$f":"IF(ADSI!$G$12=\"\",ADSI!$H$16,ADSI!$H$12)","v":6},{"$f":"IF(ADSI!$G$12=\"\",ADSI!$H$16,ADSI!$H$14)","v":""},478,{"$f":"ADSI!$K$12","v":2022},0,{"$f":"F10","v":0},0,0,0,0,0,0,0]
[{"$f":"IF(ADSI!$G$12=\"\",ADSI!$H$16,ADSI!$H$12)","v":6},{"$f":"IF(ADSI!$G$12=\"\",ADSI!$H$16,ADSI!$H$14)","v":""},479,{"$f":"ADSI!$K$12","v":2022},1377,{"$f":"F11","v":426},107,0,533,96,20,0,116]
[{"$f":"IF(ADSI!$G$12=\"\",ADSI!$H$16,ADSI!$H$12)","v":6},{"$f":"IF(ADSI!$G$12=\"\",ADSI!$H$16,ADSI!$H$14)","v":""},490,{"$f":"ADSI!$K$12","v":2022},3012,{"$f":"F12","v":842},229,0,1071,233,41,0,274]

{"sheet":"P-VIII","index":10,"n_rows":516,"n_cols":64,"rows_kept":516,"cut":false,"hidden":false,"merged":[[227,52,227,53],[226,52,226,53],[228,52,228,53],[27,0,27,2],[29,0,29,2],[224,52,224,53],[225,52,225,53],[28,0,28,2],[214,56,214,63],[203,56,203,59],[203,60,203,63],[206,52,206,54],[206,56,206,63],[203,55,206,55],[203,52,204,52],[203,53,204,53],[203,54,204,54],[214,52,214,54],[26,0,26,2],[7,0,7,12],[15,0,15,12],[4,1,5,1],[4,2,5,2],[4,3,5,3],[4,5,4,8],[4,9,4,12],[25,0,25,2],[4,4,5,4],[4,0,5,0]]}
[{"$f":"ADSI!$B$1","v":"Goa, , ADSI-2022"}]
["Errors",null,{"$f":"COUNTIF(D27:M27,FALSE)+COUNTIF(E9:E15,FALSE)+COUNTIF(E17:E25,FALSE)","v":0},null,"Abnormal Variations/Re-check",{"$f":"COUNTIF(D28:M30,\"ABVAR\")+COUNTIF(D28:M30,\"RE-CHECK\")","v":12},{"$f":"IF(ADSI!$L$10=1,LangMaster!A183,LangMaster!B183)","v":"Place of occurrence refers to the nearest point from the spot of accident occurred."}]
[{"$f":"IF(ADSI!$L$10=1,LangMaster!A181,LangMaster!B181)","v":"Proforma-VIII"}]
[{"$f":"IF(ADSI!$L$10=1,LangMaster!A182,LangMaster!B182)","v":"Road Accidents Classified According to Place of Occurrence"}]
[{"$f":"IF(ADSI!$L$10=1,LangMaster!A26,LangMaster!B26)","v":"Code"},{"$f":"IF(ADSI!$L$10=1,LangMaster!A27,LangMaster!B27)","v":"S.No."},{"$f":"IF(ADSI!$L$10=1,LangMaster!A185,LangMaster!B185)","v":"Place of Occurrence"},{"$f":"IF(ADSI!$L$10=1,LangMaster!A479,LangMaster!B479)","v":"No. of Cases"},{"$f":"IF(ADSI!$L$10=1,LangMaster!A480,LangMaster!B480)","v":"VALIDATION WITH NUMBER OF CASES"},{"$f":"IF(ADSI!$L$10=1,LangMaster!A481,LangMaster!B481)","v":"No. of Persons Injured"},null,null,null,{"$f":"IF(ADSI!$L$10=1,LangMaster!A482,LangMaster!B482)","v":"No. of Persons Died"}]
[null,null,null,null,null,{"$f":"IF(ADSI!$L$10=1,LangMaster!A30,LangMaster!B30)","v":"Male"},{"$f":"IF(ADSI!$L$10=1,LangMaster!A31,LangMaster!B31)","v":"Female"},{"$f":"IF(ADSI!$L$10=1,LangMaster!A32,LangMaster!B32)","v":"Transgender"},{"$f":"IF(ADSI!$L$10=1,LangMaster!A174,LangMaster!B174)","v":" Total [sum of (4) to (6)]"},{"$f":"IF(ADSI!$L$10=1,LangMaster!A30,LangMaster!B30)","v":"Male"},{"$f":"IF(ADSI!$L$10=1,LangMaster!A31,LangMaster!B31)","v":"Female"},{"$f":"IF(ADSI!$L$10=1,LangMaster!A32,LangMaster!B32)","v":"Transgender"},{"$f":"IF(ADSI!$L$10=1,LangMaster!A175,LangMaster!B175)","v":" Total [sum of (8) to (10)]"}]
[null,"(1)","(2)","(3)",null,"(4)","(5)","(6)","(7)","(8)","(9)","(10)","(11)"]
[{"$f":"IF(ADSI!$L$10=1,LangMaster!A201,LangMaster!B201)","v":"Rural Area"}]
[500,1,{"$f":"IF(ADSI!$L$10=1,LangMaster!A184,LangMaster!B184)","v":"Near School/College/Educational institution"},129,{"$f":"IF(AND(OR(I9>0,M9>0),D9=0),FALSE,\"\")","v":""},48,14,0,{"$f":"SUM(F9:H9)","v":62},12,2,0,{"$f":"SUM(J9:L9)","v":14}]
[501,2,{"$f":"IF(ADSI!$L$10=1,LangMaster!A186,LangMaster!B186)","v":"Near Residential area"},1217,{"$f":"IF(AND(OR(I10>0,M10>0),D10=0),FALSE,\"\")","v":""},338,82,0,{"$f":"SUM(F10:H10)","v":420},118,26,0,{"$f":"SUM(J10:L10)","v":144}]
[502,3,{"$f":"IF(ADSI!$L$10=1,LangMaster!A187,LangMaster!B187)","v":"Near religious place"},201,"",45,16,0,61,10,0,0,10]
[503,4,{"$f":"IF(ADSI!$L$10=1,LangMaster!A188,LangMaster!B188)","v":"Near recreation place/cinema hall"},100,"",25,4,0,29,6,0,0,6]
[504,5,{"$f":"IF(ADSI!$L$10=1,LangMaster!A189,LangMaster!B189)","v":"Near Factory"},163,"",24,6,0,30,10,1,0,11]
[505,6,{"$f":"IF(ADSI!$L$10=1,LangMaster!A190,LangMaster!B190)","v":"Other Rural Area"},400,"",84,21,0,105,34,4,0,38]
[515,7,{"$f":"IF(ADSI!$L$10=1,LangMaster!A191,LangMaster!B191)","v":"Sub-Total (Rural) (sum of Sl. 1 to 6)"},{"$f":"SUM(D9:D14)","v":2210},"",{"$f":"SUM(F9:F14)","v":564},143,0,707,190,33,0,223]
[{"$f":"IF(ADSI!$L$10=1,LangMaster!A202,LangMaster!B202)","v":"Urban Area"}]
[525,8,{"$f":"IF(ADSI!$L$10=1,LangMaster!A192,LangMaster!B192)","v":"Near School/College/Educational institution"},45,"",13,4,0,{"$f":"SUM(F17:H17)","v":17},7,1,0,{"$f":"SUM(J17:L17)","v":8}]
[526,9,{"$f":"IF(ADSI!$L$10=1,LangMaster!A193,LangMaster!B193)","v":"Near Residential area"},345,"",172,47,0,{"$f":"SUM(F18:H18)","v":219},17,4,0,{"$f":"SUM(J18:L18)","v":21}]
[527,10,{"$f":"IF(ADSI!$L$10=1,LangMaster!A194,LangMaster!B194)","v":"Near religious place"},88,"",29,8,0,37,1,0,0,1]
[528,11,{"$f":"IF(ADSI!$L$10=1,LangMaster!A195,LangMaster!B195)","v":"Near recreation place/cinema hall"},84,"",29,13,0,42,4,1,0,5]
[529,12,{"$f":"IF(ADSI!$L$10=1,LangMaster!A196,LangMaster!B196)","v":"Near Factory/Industrial area"},13,"",10,3,0,{"$f":"SUM(F21:H21)","v":13},2,0,0,2]
[530,13,{"$f":"IF(ADSI!$L$10=1,LangMaster!A197,LangMaster!B197)","v":"At Pedestrian crossing"},5,"",0,0,0,0,0,0,0,0]
[531,14,{"$f":"IF(ADSI!$L$10=1,LangMaster!A198,LangMaster!B198)","v":"Other Urban Area"},222,"",25,11,0,36,12,2,0,14]
[532,15,{"$f":"IF(ADSI!$L$10=1,LangMaster!A199,LangMaster!B199)","v":"Sub-Total (Urban) (sum of Sl. 8 to 14)"},{"$f":"SUM(D17:D23)","v":802},"",{"$f":"SUM(F17:F23)","v":278},86,0,364,43,8,0,51]
[545,16,{"$f":"IF(ADSI!$L$10=1,LangMaster!A200,LangMaster!B200)","v":"Grand Total (sum of Sl. 7 & 15)"},{"$f":"D24+D15","v":3012},"",{"$f":"F24+F15","v":842},229,0,1071,233,41,0,{"$f":"SUM(J25:L25)","v":274}]
["PROFORMA–II VALUES [Sl.– 12.1 (Road Accidents Total)]",null,null,{"$f":"'P-II'!D43","v":3012},null,{"$f":"'P-II'!F43","v":842},{"$f":"'P-II'!G43","v":229},{"$f":"'P-II'!H43","v":0},{"$f":"'P-II'!I43","v":1071},{"$f":"'P-II'!J43","v":233},{"$f":"'P-II'!K43","v":41},{"$f":"'P-II'!L43","v":0},{"$f":"'P-II'!M43","v":274}]
["VALIDATION  WITH PROFORMA–II [Sl.– 12.1 (Road Accidents Total)]",null,null,{"$f":"IF(D25='P-II'!D43,\"\",FALSE)","v":""},null,{"$f":"IF(F25='P-II'!F43,\"\",FALSE)","v":""},{"$f":"IF(G25='P-II'!G43,\"\",FALSE)","v":""},{"$f":"IF(H25='P-II'!H43,\"\",FALSE)","v":""},{"$f":"IF(I25='P-II'!I43,\"\",FALSE)","v":""},{"$f":"IF(J25='P-II'!J43,\"\",FALSE)","v":""},{"$f":"IF(K25='P-II'!K43,\"\",FALSE)","v":""},{"$f":"IF(L25='P-II'!L43,\"\",FALSE)","v":""},{"$f":"IF(M25='P-II'!M43,\"\",FALSE)","v":""}]
["SL-6 ABNORMAL VARIATION IN \"OTHER RURAL AREA\" DATA",null,null,{"$f":"IF(D15>0,IF((D14/D15*100)>10,\"ABVAR\",\"\"),\"\")","v":"ABVAR"},null,{"$f":"IF(F15>0,IF((F14/F15*100)>10,\"ABVAR\",\"\"),\"\")","v":"ABVAR"},{"$f":"IF(G15>0,IF((G14/G15*100)>10,\"ABVAR\",\"\"),\"\")","v":"ABVAR"},"","ABVAR","ABVAR","ABVAR","","ABVAR"]
["SL-13 ABNORMAL VARIATION IN \"PEDESTRIAN CROSSING\" DATA WITH PROFORMA-VI \"PEDESTRIAN\" DATA"]
["SL-14 ABNORMAL VARIATION IN \"OTHER URBAN AREA\" DATA",null,null,{"$f":"IF(D24>0,IF((D23/D24*100)>10,\"ABVAR\",\"\"),\"\")","v":"ABVAR"},null,{"$f":"IF(F24>0,IF((F23/F24*100)>10,\"ABVAR\",\"\"),\"\")","v":""},{"$f":"IF(G24>0,IF((G23/G24*100)>10,\"ABVAR\",\"\"),\"\")","v":"ABVAR"},"",{"$f":"IF(I24>0,IF((I23/I24*100)>10,\"ABVAR\",\"\"),\"\")","v":""},"ABVAR","ABVAR","","ABVAR"]
[]
[]
[]
[]
[]
[]
[]
[]
[]
[]
[]
[]
[]
[]
[]
[]
[]
[]
[]
[]
[]
[]
[]
[]
[]
[]
[]
[]
[]
[]
[]
[]
[]
[]
[]
[]
[]
[]
[]
[]
[]
[]
[]
[]
[]
[]
[]
[]
[]
[]
[]
[]
[]
[]
[]
[]
[]
[]
[]
[]
[]
[]
[]
[]
[]
[]
[]
[]
[]
[]
[]
[]
[]
[]
[]
[]
[]
[]
[]
[]
[]
[]
[]
[]
[]
[]
[]
[]
[]
[]
[]
[]
[]
[]
[]
[]
[]
[]
[]
[]
[]
[]
[]
[]
[]
[]
[]
[]
[]
[]
[]
[]
[]
[]
[]
[]
[]
[]
[]
[]
[]
[]
[]
[]
[]
[]
[]
[]
[]
[]
[]
[]
[]
[]
[]
[]
[]
[]
[]
[]
[]
[]
[]
[]
[]
[]
[]
[]
[]
[]
[]
[]
[]
[]
[]
[]
[]
[]
[]
[]
[]
[]
[]
[]
[]
[]
[]
[]
[]
[null,null,null,null,null,null,null,null,null,null,null,null,null,null,null,null,null,null,null,null,null,null,null,null,null,null,null,null,null,null,null,null,null,null,null,null,null,null,null,null,null,null,null,null,null,null,null,null,null,null,null,null,{"$f":"A1","v":"Goa, , ADSI-2022"}]
[null,null,null,null,null,null,null,null,null,null,null,null,null,null,null,null,null,null,null,null,null,null,null,null,null,null,null,null,null,null,null,null,null,null,null,null,null,null,null,null,null,null,null,null,null,null,null,null,null,null,null,null,{"$f":"A2","v":"Errors"},{"$f":"C2","v":0},null,{"$f":"E2","v":"Abnormal Variations/Re-check"},{"$f":"F2","v":12}]
[null,null,null,null,null,null,null,null,null,null,null,null,null,null,null,null,null,null,null,null,null,null,null,null,null,null,null,null,null,null,null,null,null,null,null,null,null,null,null,null,null,null,null,null,null,null,null,null,null,null,null,null,{"$f":"A3","v":"Proforma-VIII"}]
[null,null,null,null,null,null,null,null,null,null,null,null,null,null,null,null,null,null,null,null,null,null,null,null,null,null,null,null,null,null,null,null,null,null,null,null,null,null,null,null,null,null,null,null,null,null,null,null,null,null,null,null,{"$f":"A4","v":"Road Accidents Classified According to Place of Occurrence"}]
[null,null,null,null,null,null,null,null,null,null,null,null,null,null,null,null,null,null,null,null,null,null,null,null,null,null,null,null,null,null,null,null,null,null,null,null,null,null,null,null,null,null,null,null,null,null,null,null,null,null,null,null,{"$f":"B5","v":"S.No."},{"$f":"C5","v":"Place of Occurrence"},{"$f":"D5","v":"No. of Cases"},{"$f":"E5","v":"VALIDATION WITH NUMBER OF CASES"},{"$f":"F5","v":"No. of Persons Injured"},null,null,null,{"$f":"J5","v":"No. of Persons Died"}]
[null,null,null,null,null,null,null,null,null,null,null,null,null,null,null,null,null,null,null,null,null,null,null,null,null,null,null,null,null,null,null,null,null,null,null,null,null,null,null,null,null,null,null,null,null,null,null,null,null,null,null,null,null,null,null,null,{"$f":"F6","v":"Male"},"Female","Transgender"," Total [sum of (4) to (6)]",{"$f":"J6","v":"Male"},{"$f":"K6","v":"Female"},"Transgender"," Total [sum of (8) to (10)]"]
[null,null,null,null,null,null,null,null,null,null,null,null,null,null,null,null,null,null,null,null,null,null,null,null,null,null,null,null,null,null,null,null,null,null,null,null,null,null,null,null,null,null,null,null,null,null,null,null,null,null,null,null,{"$f":"B7","v":"(1)"},{"$f":"C7","v":"(2)"},{"$f":"D7","v":"(3)"},null,"(4)","(5)","(6)","(7)",{"$f":"J7","v":"(8)"},"(9)","(10)","(11)"]
[null,null,null,null,null,null,null,null,null,null,null,null,null,null,null,null,null,null,null,null,null,null,null,null,null,null,null,null,null,null,null,null,null,null,null,null,null,null,null,null,null,null,null,null,null,null,null,null,null,null,null,null,{"$f":"A8","v":"Rural Area"}]
[null,null,null,null,null,null,null,null,null,null,null,null,null,null,null,null,null,null,null,null,null,null,null,null,null,null,null,null,null,null,null,null,null,null,null,null,null,null,null,null,null,null,null,null,null,null,null,null,null,null,null,null,{"$f":"B9","v":1},"Near School/College/Educational institution",129,"",48,14,0,62,12,2,0,14]
[null,null,null,null,null,null,null,null,null,null,null,null,null,null,null,null,null,null,null,null,null,null,null,null,null,null,null,null,null,null,null,null,null,null,null,null,null,null,null,null,null,null,null,null,null,null,null,null,null,null,null,null,2,"Near Residential area",1217,"",338,82,0,420,118,26,0,144]
[null,null,null,null,null,null,null,null,null,null,null,null,null,null,null,null,null,null,null,null,null,null,null,null,null,null,null,null,null,null,null,null,null,null,null,null,null,null,null,null,null,null,null,null,null,null,null,null,null,null,null,null,3,"Near religious place",201,"",45,16,0,61,10,0,0,10]
[null,null,null,null,null,null,null,null,null,null,null,null,null,null,null,null,null,null,null,null,null,null,null,null,null,null,null,null,null,null,null,null,null,null,null,null,null,null,null,null,null,null,null,null,null,null,null,null,null,null,null,null,4,"Near recreation place/cinema hall",100,"",25,4,0,29,6,0,0,6]
[null,null,null,null,null,null,null,null,null,null,null,null,null,null,null,null,null,null,null,null,null,null,null,null,null,null,null,null,null,null,null,null,null,null,null,null,null,null,null,null,null,null,null,null,null,null,null,null,null,null,null,null,5,"Near Factory",163,"",24,6,0,30,10,1,0,11]
[null,null,null,null,null,null,null,null,null,null,null,null,null,null,null,null,null,null,null,null,null,null,null,null,null,null,null,null,null,null,null,null,null,null,null,null,null,null,null,null,null,null,null,null,null,null,null,null,null,null,null,null,6,"Other Rural Area",400,"",84,21,0,105,34,4,0,38]
[null,null,null,null,null,null,null,null,null,null,null,null,null,null,null,null,null,null,null,null,null,null,null,null,null,null,null,null,null,null,null,null,null,null,null,null,null,null,null,null,null,null,null,null,null,null,null,null,null,null,null,null,7,"Sub-Total (Rural) (sum of Sl. 1 to 6)",2210,"",564,143,0,707,190,33,0,223]
[null,null,null,null,null,null,null,null,null,null,null,null,null,null,null,null,null,null,null,null,null,null,null,null,null,null,null,null,null,null,null,null,null,null,null,null,null,null,null,null,null,null,null,null,null,null,null,null,null,null,null,null,{"$f":"A16","v":"Urban Area"}]
[null,null,null,null,null,null,null,null,null,null,null,null,null,null,null,null,null,null,null,null,null,null,null,null,null,null,null,null,null,null,null,null,null,null,null,null,null,null,null,null,null,null,null,null,null,null,null,null,null,null,null,null,{"$f":"B17","v":8},{"$f":"C17","v":"Near School/College/Educational institution"},{"$f":"D17","v":45},{"$f":"E17","v":""},{"$f":"F17","v":13},{"$f":"G17","v":4},{"$f":"H17","v":0},{"$f":"I17","v":17},{"$f":"J17","v":7},{"$f":"K17","v":1},{"$f":"L17","v":0},{"$f":"M17","v":8}]
[null,null,null,null,null,null,null,null,null,null,null,null,null,null,null,null,null,null,null,null,null,null,null,null,null,null,null,null,null,null,null,null,null,null,null,null,null,null,null,null,null,null,null,null,null,null,null,null,null,null,null,null,9,"Near Residential area",345,"",172,47,0,219,17,4,0,21]
[null,null,null,null,null,null,null,null,null,null,null,null,null,null,null,null,null,null,null,null,null,null,null,null,null,null,null,null,null,null,null,null,null,null,null,null,null,null,null,null,null,null,null,null,null,null,null,null,null,null,null,null,10,"Near religious place",88,"",29,8,0,37,1,0,0,1]
[null,null,null,null,null,null,null,null,null,null,null,null,null,null,null,null,null,null,null,null,null,null,null,null,null,null,null,null,null,null,null,null,null,null,null,null,null,null,null,null,null,null,null,null,null,null,null,null,null,null,null,null,11,"Near recreation place/cinema hall",84,"",29,13,0,42,4,1,0,5]
[null,null,null,null,null,null,null,null,null,null,null,null,null,null,null,null,null,null,null,null,null,null,null,null,null,null,null,null,null,null,null,null,null,null,null,null,null,null,null,null,null,null,null,null,null,null,null,null,null,null,null,null,12,"Near Factory/Industrial area",13,"",10,3,0,13,2,0,0,2]
[null,null,null,null,null,null,null,null,null,null,null,null,null,null,null,null,null,null,null,null,null,null,null,null,null,null,null,null,null,null,null,null,null,null,null,null,null,null,null,null,null,null,null,null,null,null,null,null,null,null,null,null,13,"At Pedestrian crossing",5,"",0,0,0,0,0,0,0,0]
[null,null,null,null,null,null,null,null,null,null,null,null,null,null,null,null,null,null,null,null,null,null,null,null,null,null,null,null,null,null,null,null,null,null,null,null,null,null,null,null,null,null,null,null,null,null,null,null,null,null,null,null,14,"Other Urban Area",222,"",25,11,0,36,12,2,0,14]
[null,null,null,null,null,null,null,null,null,null,null,null,null,null,null,null,null,null,null,null,null,null,null,null,null,null,null,null,null,null,null,null,null,null,null,null,null,null,null,null,null,null,null,null,null,null,null,null,null,null,null,null,15,"Sub-Total (Urban) (sum of Sl. 8 to 14)",802,"",278,86,0,364,43,8,0,51]
[null,null,null,null,null,null,null,null,null,null,null,null,null,null,null,null,null,null,null,null,null,null,null,null,null,null,null,null,null,null,null,null,null,null,null,null,null,null,null,null,null,null,null,null,null,null,null,null,null,null,null,null,16,"Grand Total (sum of Sl. 7 & 15)",3012,"",842,229,0,1071,233,41,0,274]
[null,null,null,null,null,null,null,null,null,null,null,null,null,null,null,null,null,null,null,null,null,null,null,null,null,null,null,null,null,null,null,null,null,null,null,null,null,null,null,null,null,null,null,null,null,null,null,null,null,null,null,null,{"$f":"A26","v":"PROFORMA–II VALUES [Sl.– 12.1 (Road Accidents Total)]"},null,{"$f":"D26","v":3012},null,{"$f":"F26","v":842},229,0,1071,233,41,0,274]
[null,null,null,null,null,null,null,null,null,null,null,null,null,null,null,null,null,null,null,null,null,null,null,null,null,null,null,null,null,null,null,null,null,null,null,null,null,null,null,null,null,null,null,null,null,null,null,null,null,null,null,null,{"$f":"A27","v":"VALIDATION  WITH PROFORMA–II [Sl.– 12.1 (Road Accidents Total)]"},null,{"$f":"D27","v":""},null,"","","","","","","",""]
[null,null,null,null,null,null,null,null,null,null,null,null,null,null,null,null,null,null,null,null,null,null,null,null,null,null,null,null,null,null,null,null,null,null,null,null,null,null,null,null,null,null,null,null,null,null,null,null,null,null,null,null,{"$f":"A28","v":"SL-6 ABNORMAL VARIATION IN \"OTHER RURAL AREA\" DATA"},null,{"$f":"D28","v":"ABVAR"},null,"ABVAR","ABVAR","","ABVAR","ABVAR","ABVAR","","ABVAR"]
[null,null,null,null,null,null,null,null,null,null,null,null,null,null,null,null,null,null,null,null,null,null,null,null,null,null,null,null,null,null,null,null,null,null,null,null,null,null,null,null,null,null,null,null,null,null,null,null,null,null,null,null,{"$f":"A29","v":"SL-13 ABNORMAL VARIATION IN \"PEDESTRIAN CROSSING\" DATA WITH PROFORMA-VI \"PEDESTRIAN\" DATA"},null,null,null,null,null,null,{"$f":"I29","v":0},null,null,null,{"$f":"M29","v":0}]
[null,null,null,null,null,null,null,null,null,null,null,null,null,null,null,null,null,null,null,null,null,null,null,null,null,null,null,null,null,null,null,null,null,null,null,null,null,null,null,null,null,null,null,null,null,null,null,null,null,null,null,null,{"$f":"A30","v":"SL-14 ABNORMAL VARIATION IN \"OTHER URBAN AREA\" DATA"},null,{"$f":"D30","v":"ABVAR"},null,{"$f":"F30","v":""},"ABVAR","","","ABVAR","ABVAR","","ABVAR"]
[]
[]
[]
[]
[]
[]
[]
[]
[]
[]
[]
[]
[]
[]
[]
[]
[]
[]
[]
[]
[]
[]
[]
[]
[]
[]
[]
[]
[]
[]
[]
[]
[]
[]
[]
[]
[]
[]
[]
[]
[]
[]
[]
[]
[]
[]
[]
[]
[]
[]
[]
[]
[]
[]
[]
[]
[]
[]
[]
[]
[]
[]
[]
[]
[]
[]
[]
[]
[]
[]
[]
[]
[]
[]
[]
[]
[]
[]
[]
[]
[]
[]
[]
[]
[]
[]
[]
[]
[]
[]
[]
[]
[]
[]
[]
[]
[]
[]
[]
[]
[]
[]
[]
[]
[]
[]
[]
[]
[]
[]
[]
[]
[]
[]
[]
[]
[]
[]
[]
[]
[]
[]
[]
[]
[]
[]
[]
[]
[]
[]
[]
[]
[]
[]
[]
[]
[]
[]
[]
[]
[]
[]
[]
[]
[]
[]
[]
[]
[]
[]
[]
[]
[]
[]
[]
[]
[]
[]
[]
[]
[]
[]
[]
[]
[]
[]
[]
[]
[]
[]
[]
[]
[]
[]
[]
[]
[]
[]
[]
[]
[]
[]
[]
[]
[]
[]
[]
[]
[]
[]
[]
[]
[]
[]
[]
[]
[]
[]
[]
[]
[]
[]
[]
[]
[]
[]
[]
[]
[]
[]
[]
[]
[]
[]
[]
[]
[]
[]
[]
[]
[]
[]
[]
[]
[]
[]
[]
[]
[]
[]
[]
[]
[]
[]
[]
[]
[]
[]
[]
[]
[]
[]
[]
[]
[]
[]
[]
[]
[]
[]
[]
[]
[]
[]
[]
[]
[]
[]
[]
[]
[]
[]
[]
[]
[]
[]
[]
[]
[]
[]
["StateUTCityCode","DistrictCode","CrimeCode","DataYear","Number of Cases","Injured_Male","Injured_Female","Injured_Trans","Injured_Total","Died_Male","Died_Female","Died_Trans","Died_Total"]
[{"$f":"IF(ADSI!$G$12=\"\",ADSI!$H$16,ADSI!$H$12)","v":6},{"$f":"IF(ADSI!$G$12=\"\",ADSI!$H$16,ADSI!$H$14)","v":""},{"$f":"A9","v":500},{"$f":"ADSI!$K$12","v":2022},{"$f":"D9","v":129},{"$f":"F9","v":48},{"$f":"G9","v":14},0,62,12,2,0,14]
[{"$f":"IF(ADSI!$G$12=\"\",ADSI!$H$16,ADSI!$H$12)","v":6},{"$f":"IF(ADSI!$G$12=\"\",ADSI!$H$16,ADSI!$H$14)","v":""},{"$f":"A10","v":501},{"$f":"ADSI!$K$12","v":2022},{"$f":"D10","v":1217},{"$f":"F10","v":338},82,0,420,118,26,0,144]
[{"$f":"IF(ADSI!$G$12=\"\",ADSI!$H$16,ADSI!$H$12)","v":6},{"$f":"IF(ADSI!$G$12=\"\",ADSI!$H$16,ADSI!$H$14)","v":""},502,{"$f":"ADSI!$K$12","v":2022},201,{"$f":"F11","v":45},16,0,61,10,0,0,10]
[{"$f":"IF(ADSI!$G$12=\"\",ADSI!$H$16,ADSI!$H$12)","v":6},{"$f":"IF(ADSI!$G$12=\"\",ADSI!$H$16,ADSI!$H$14)","v":""},503,{"$f":"ADSI!$K$12","v":2022},100,{"$f":"F12","v":25},4,0,29,6,0,0,6]
[{"$f":"IF(ADSI!$G$12=\"\",ADSI!$H$16,ADSI!$H$12)","v":6},{"$f":"IF(ADSI!$G$12=\"\",ADSI!$H$16,ADSI!$H$14)","v":""},504,{"$f":"ADSI!$K$12","v":2022},163,{"$f":"F13","v":24},6,0,30,10,1,0,11]
[{"$f":"IF(ADSI!$G$12=\"\",ADSI!$H$16,ADSI!$H$12)","v":6},{"$f":"IF(ADSI!$G$12=\"\",ADSI!$H$16,ADSI!$H$14)","v":""},505,{"$f":"ADSI!$K$12","v":2022},400,{"$f":"F14","v":84},21,0,105,34,4,0,38]
[{"$f":"IF(ADSI!$G$12=\"\",ADSI!$H$16,ADSI!$H$12)","v":6},{"$f":"IF(ADSI!$G$12=\"\",ADSI!$H$16,ADSI!$H$14)","v":""},515,{"$f":"ADSI!$K$12","v":2022},2210,{"$f":"F15","v":564},143,0,707,190,33,0,223]
[{"$f":"IF(ADSI!$G$12=\"\",ADSI!$H$16,ADSI!$H$12)","v":6},{"$f":"IF(ADSI!$G$12=\"\",ADSI!$H$16,ADSI!$H$14)","v":""},{"$f":"A17","v":525},{"$f":"ADSI!$K$12","v":2022},{"$f":"D17","v":45},{"$f":"F17","v":13},{"$f":"G17","v":4},0,17,7,1,0,8]
[{"$f":"IF(ADSI!$G$12=\"\",ADSI!$H$16,ADSI!$H$12)","v":6},{"$f":"IF(ADSI!$G$12=\"\",ADSI!$H$16,ADSI!$H$14)","v":""},{"$f":"A18","v":526},{"$f":"ADSI!$K$12","v":2022},{"$f":"D18","v":345},{"$f":"F18","v":172},47,0,219,17,4,0,21]
[{"$f":"IF(ADSI!$G$12=\"\",ADSI!$H$16,ADSI!$H$12)","v":6},{"$f":"IF(ADSI!$G$12=\"\",ADSI!$H$16,ADSI!$H$14)","v":""},527,{"$f":"ADSI!$K$12","v":2022},88,{"$f":"F19","v":29},8,0,37,1,0,0,1]
[{"$f":"IF(ADSI!$G$12=\"\",ADSI!$H$16,ADSI!$H$12)","v":6},{"$f":"IF(ADSI!$G$12=\"\",ADSI!$H$16,ADSI!$H$14)","v":""},528,{"$f":"ADSI!$K$12","v":2022},84,{"$f":"F20","v":29},13,0,42,4,1,0,5]
[{"$f":"IF(ADSI!$G$12=\"\",ADSI!$H$16,ADSI!$H$12)","v":6},{"$f":"IF(ADSI!$G$12=\"\",ADSI!$H$16,ADSI!$H$14)","v":""},529,{"$f":"ADSI!$K$12","v":2022},13,{"$f":"F21","v":10},3,0,13,2,0,0,2]
[{"$f":"IF(ADSI!$G$12=\"\",ADSI!$H$16,ADSI!$H$12)","v":6},{"$f":"IF(ADSI!$G$12=\"\",ADSI!$H$16,ADSI!$H$14)","v":""},530,{"$f":"ADSI!$K$12","v":2022},5,{"$f":"F22","v":0},0,0,0,0,0,0,0]
[{"$f":"IF(ADSI!$G$12=\"\",ADSI!$H$16,ADSI!$H$12)","v":6},{"$f":"IF(ADSI!$G$12=\"\",ADSI!$H$16,ADSI!$H$14)","v":""},531,{"$f":"ADSI!$K$12","v":2022},222,{"$f":"F23","v":25},11,0,36,12,2,0,14]
[{"$f":"IF(ADSI!$G$12=\"\",ADSI!$H$16,ADSI!$H$12)","v":6},{"$f":"IF(ADSI!$G$12=\"\",ADSI!$H$16,ADSI!$H$14)","v":""},532,{"$f":"ADSI!$K$12","v":2022},802,{"$f":"F24","v":278},86,0,364,43,8,0,51]
[{"$f":"IF(ADSI!$G$12=\"\",ADSI!$H$16,ADSI!$H$12)","v":6},{"$f":"IF(ADSI!$G$12=\"\",ADSI!$H$16,ADSI!$H$14)","v":""},545,{"$f":"ADSI!$K$12","v":2022},3012,{"$f":"F25","v":842},229,0,1071,233,41,0,274]

{"sheet":"P-IX","index":11,"n_rows":515,"n_cols":64,"rows_kept":515,"cut":false,"hidden":false,"merged":[[23,0,23,2],[24,0,24,2],[222,52,222,53],[223,52,223,53],[4,0,5,0],[4,9,4,12],[4,1,5,1],[4,2,5,2],[4,3,5,3],[4,5,4,8],[4,4,5,4],[27,0,27,2],[26,0,26,2],[25,0,25,2],[203,54,204,54],[225,52,225,53],[226,52,226,53],[203,56,203,59],[203,60,203,63],[221,52,221,53],[203,55,205,55],[203,52,204,52],[203,53,204,53],[224,52,224,53]]}
[{"$f":"ADSI!$B$1","v":"Goa, , ADSI-2022"}]
["Errors",null,{"$f":"COUNTIF(D25:M26,FALSE)+COUNTIF(E8:E22,FALSE)","v":0},null,"Abnormal Variations",{"$f":"COUNTIF(D27:M28,\"ABVAR\")","v":0}]
[{"$f":"IF(ADSI!$L$10=1,LangMaster!A203,LangMaster!B203)","v":"Proforma-IX"}]
[{"$f":"IF(ADSI!$L$10=1,LangMaster!A204,LangMaster!B204)","v":"Road Accidents Classified According to Causes and Unmanned Railway Crossing Accidents"}]
[{"$f":"IF(ADSI!$L$10=1,LangMaster!A26,LangMaster!B26)","v":"Code"},{"$f":"IF(ADSI!$L$10=1,LangMaster!A27,LangMaster!B27)","v":"S.No."},{"$f":"IF(ADSI!$L$10=1,LangMaster!A478,LangMaster!B478)","v":"Causes"},{"$f":"IF(ADSI!$L$10=1,LangMaster!A479,LangMaster!B479)","v":"No. of Cases"},{"$f":"IF(ADSI!$L$10=1,LangMaster!A480,LangMaster!B480)","v":"VALIDATION WITH NUMBER OF CASES"},{"$f":"IF(ADSI!$L$10=1,LangMaster!A481,LangMaster!B481)","v":"No. of Persons Injured"},null,null,null,{"$f":"IF(ADSI!$L$10=1,LangMaster!A482,LangMaster!B482)","v":"No. of Persons Died"}]
[null,null,null,null,null,{"$f":"IF(ADSI!$L$10=1,LangMaster!A30,LangMaster!B30)","v":"Male"},{"$f":"IF(ADSI!$L$10=1,LangMaster!A31,LangMaster!B31)","v":"Female"},{"$f":"IF(ADSI!$L$10=1,LangMaster!A32,LangMaster!B32)","v":"Transgender"},{"$f":"IF(ADSI!$L$10=1,LangMaster!A174,LangMaster!B174)","v":" Total [sum of (4) to (6)]"},{"$f":"IF(ADSI!$L$10=1,LangMaster!A30,LangMaster!B30)","v":"Male"},{"$f":"IF(ADSI!$L$10=1,LangMaster!A31,LangMaster!B31)","v":"Female"},{"$f":"IF(ADSI!$L$10=1,LangMaster!A32,LangMaster!B32)","v":"Transgender"},{"$f":"IF(ADSI!$L$10=1,LangMaster!A175,LangMaster!B175)","v":" Total [sum of (8) to (10)]"}]
[null,"(1)","(2)","(3)",null,"(4)","(5)","(6)","(7)","(8)","(9)","(10)","(11)"]
[550,1,{"$f":"IF(ADSI!$L$10=1,LangMaster!A205,LangMaster!B205)","v":"Dangerous/Over-taking/Careless/etc."},1571,{"$f":"IF(AND(OR(I8>0,M8>0),D8=0),FALSE,\"\")","v":""},449,135,0,{"$f":"SUM(F8:H8)","v":584},131,24,0,{"$f":"SUM(J8:L8)","v":155}]
[551,2,{"$f":"IF(ADSI!$L$10=1,LangMaster!A206,LangMaster!B206)","v":"Over speeding"},1395,{"$f":"IF(AND(OR(I9>0,M9>0),D9=0),FALSE,\"\")","v":""},372,90,0,{"$f":"SUM(F9:H9)","v":462},97,16,0,{"$f":"SUM(J9:L9)","v":113}]
[552,3,{"$f":"IF(ADSI!$L$10=1,LangMaster!A207,LangMaster!B207)","v":"Driving under influence of drug/alcohol"},6,"",5,2,0,7,1,0,0,1]
[553,4,{"$f":"IF(ADSI!$L$10=1,LangMaster!A208,LangMaster!B208)","v":"Physical fatigue of Drivers"},2,"",0,0,0,0,0,0,0,0]
[554,5,{"$f":"IF(ADSI!$L$10=1,LangMaster!A209,LangMaster!B209)","v":"Defect in Mechanical condition of Motor Vehicle"},6,"",2,0,0,2,0,1,0,1]
[555,6,{"$f":"IF(ADSI!$L$10=1,LangMaster!A210,LangMaster!B210)","v":"Animal Crossing"},12,"",2,2,0,4,2,0,0,2]
[556,7,{"$f":"IF(ADSI!$L$10=1,LangMaster!A211,LangMaster!B211)","v":"Weather condition (sum of 7.1 & 7.2)"},{"$f":"SUM(D15:D16)","v":1},"",{"$f":"SUM(F15:F16)","v":0},0,0,0,{"$f":"SUM(J15:J16)","v":0},{"$f":"SUM(K15:K16)","v":0},0,0]
[557,null,{"$f":"IF(ADSI!$L$10=1,LangMaster!A212,LangMaster!B212)","v":"7.1 Poor visibility"},0,"",0,0,0,0,0,0,0,0]
[558,null,{"$f":"IF(ADSI!$L$10=1,LangMaster!A213,LangMaster!B213)","v":"7.2 Others causes of weather condition"},1,"",0,0,0,0,0,0,0,0]
[559,8,{"$f":"IF(ADSI!$L$10=1,LangMaster!A214,LangMaster!B214)","v":"Lack of road infrastructure"},1,"",0,0,0,0,1,0,0,1]
[560,9,{"$f":"IF(ADSI!$L$10=1,LangMaster!A215,LangMaster!B215)","v":"Vehicles Parking at road shoulders"},13,"",8,0,0,8,1,0,0,1]
[561,10,{"$f":"IF(ADSI!$L$10=1,LangMaster!A216,LangMaster!B216)","v":"Unmanned Railway Crossing"},0,"",0,0,0,0,0,0,0,0]
[562,11,{"$f":"IF(ADSI!$L$10=1,LangMaster!A217,LangMaster!B217)","v":"Causes not known"},0,"",0,0,0,0,0,0,0,0]
[563,12,{"$f":"IF(ADSI!$L$10=1,LangMaster!A218,LangMaster!B218)","v":"Other Causes"},5,"",4,0,0,4,0,0,0,0]
[580,13,{"$f":"IF(ADSI!$L$10=1,LangMaster!A219,LangMaster!B219)","v":"Total (sum of Sl. 1 to 12)"},{"$f":"SUM(D8:D14)+D17+D18+D19+D20+D21","v":3012},"",{"$f":"SUM(F8:F14)+F17+F18+F19+F20+F21","v":842},229,0,1071,233,41,0,274]
[null,14,{"$f":"IF(ADSI!$L$10=1,LangMaster!A220,LangMaster!B220)","v":"ROAD ACCIDENTS TOTAL (EXCLUDING Unmanned Railway Crossing Accidents; Sl.–10)"},{"$f":"D22-D19","v":3012},null,{"$f":"F22-F19","v":842},229,0,1071,233,41,0,274]
[" PROFORMA–II VALUES [Sl.– 12.1 (Road Accidents Total)]",null,null,{"$f":"'P-II'!D43","v":3012},null,{"$f":"'P-II'!F43","v":842},{"$f":"'P-II'!G43","v":229},{"$f":"'P-II'!H43","v":0},{"$f":"'P-II'!I43","v":1071},{"$f":"'P-II'!J43","v":233},{"$f":"'P-II'!K43","v":41},{"$f":"'P-II'!L43","v":0},{"$f":"'P-II'!M43","v":274}]
["VALIDATION  WITH PROFORMA–II [Sl.– 12.1 (Road Accidents Total)]",null,null,{"$f":"IF(D24=D23,\"\",FALSE)","v":""},null,{"$f":"IF(F24=F23,\"\",FALSE)","v":""},"","","","","","",""]
["VALIDATION  WITH PROFORMA–II [Sl.– 12.2 (Railway Crossing) with \"Unmanned Railway Crossing\"]",null,null,{"$f":"IF(D19<='P-II'!D46,\"\",FALSE)","v":""},null,{"$f":"IF(F19<='P-II'!F46,\"\",FALSE)","v":""},{"$f":"IF(G19<='P-II'!G46,\"\",FALSE)","v":""},{"$f":"IF(H19<='P-II'!H46,\"\",FALSE)","v":""},{"$f":"IF(I19<='P-II'!I46,\"\",FALSE)","v":""},{"$f":"IF(J19<='P-II'!J46,\"\",FALSE)","v":""},{"$f":"IF(K19<='P-II'!K46,\"\",FALSE)","v":""},{"$f":"IF(L19<='P-II'!L46,\"\",FALSE)","v":""},{"$f":"IF(M19<='P-II'!M46,\"\",FALSE)","v":""}]
["SL-11 ABNORMAL VARIATION IN \"CAUSES NOT KNOWN\" DATA",null,null,{"$f":"IF(D22>0,IF((D20/D22*100)>20,\"ABVAR\",\"\"),\"\")","v":""},null,{"$f":"IF(F22>0,IF((F20/F22*100)>20,\"ABVAR\",\"\"),\"\")","v":""},"","","","","","",""]
["SL-12 ABNORMAL VARIATION IN \"OTHER CAUSES\" DATA",null,null,{"$f":"IF(D22>0,IF((D21/D22*100)>20,\"ABVAR\",\"\"),\"\")","v":""},null,{"$f":"IF(F22>0,IF((F21/F22*100)>20,\"ABVAR\",\"\"),\"\")","v":""},"","","","","","",""]
[]
[]
[]
[]
[]
[]
[]
[]
[]
[]
[]
[]
[]
[]
[]
[]
[]
[]
[]
[]
[]
[]
[]
[]
[]
[]
[]
[]
[]
[]
[]
[]
[]
[]
[]
[]
[]
[]
[]
[]
[]
[]
[]
[]
[]
[]
[]
[]
[]
[]
[]
[]
[]
[]
[]
[]
[]
[]
[]
[]
[]
[]
[]
[]
[]
[]
[]
[]
[]
[]
[]
[]
[]
[]
[]
[]
[]
[]
[]
[]
[]
[]
[]
[]
[]
[]
[]
[]
[]
[]
[]
[]
[]
[]
[]
[]
[]
[]
[]
[]
[]
[]
[]
[]
[]
[]
[]
[]
[]
[]
[]
[]
[]
[]
[]
[]
[]
[]
[]
[]
[]
[]
[]
[]
[]
[]
[]
[]
[]
[]
[]
[]
[]
[]
[]
[]
[]
[]
[]
[]
[]
[]
[]
[]
[]
[]
[]
[]
[]
[]
[]
[]
[]
[]
[]
[]
[]
[]
[]
[]
[]
[]
[]
[]
[]
[]
[]
[]
[]
[]
[]
[null,null,null,null,null,null,null,null,null,null,null,null,null,null,null,null,null,null,null,null,null,null,null,null,null,null,null,null,null,null,null,null,null,null,null,null,null,null,null,null,null,null,null,null,null,null,null,null,null,null,null,null,{"$f":"A1","v":"Goa, , ADSI-2022"},null,null,{"$f":"E2","v":"Abnormal Variations"},{"$f":"F2","v":0}]
[null,null,null,null,null,null,null,null,null,null,null,null,null,null,null,null,null,null,null,null,null,null,null,null,null,null,null,null,null,null,null,null,null,null,null,null,null,null,null,null,null,null,null,null,null,null,null,null,null,null,null,null,{"$f":"A2","v":"Errors"},{"$f":"C2","v":0}]
[null,null,null,null,null,null,null,null,null,null,null,null,null,null,null,null,null,null,null,null,null,null,null,null,null,null,null,null,null,null,null,null,null,null,null,null,null,null,null,null,null,null,null,null,null,null,null,null,null,null,null,null,{"$f":"A3","v":"Proforma-IX"}]
[null,null,null,null,null,null,null,null,null,null,null,null,null,null,null,null,null,null,null,null,null,null,null,null,null,null,null,null,null,null,null,null,null,null,null,null,null,null,null,null,null,null,null,null,null,null,null,null,null,null,null,null,{"$f":"A4","v":"Road Accidents Classified According to Causes and Unmanned Railway Crossing Accidents"}]
[null,null,null,null,null,null,null,null,null,null,null,null,null,null,null,null,null,null,null,null,null,null,null,null,null,null,null,null,null,null,null,null,null,null,null,null,null,null,null,null,null,null,null,null,null,null,null,null,null,null,null,null,{"$f":"B5","v":"S.No."},{"$f":"C5","v":"Causes"},{"$f":"D5","v":"No. of Cases"},{"$f":"E5","v":"VALIDATION WITH NUMBER OF CASES"},{"$f":"F5","v":"No. of Persons Injured"},null,null,null,{"$f":"J5","v":"No. of Persons Died"}]
[null,null,null,null,null,null,null,null,null,null,null,null,null,null,null,null,null,null,null,null,null,null,null,null,null,null,null,null,null,null,null,null,null,null,null,null,null,null,null,null,null,null,null,null,null,null,null,null,null,null,null,null,null,null,null,null,{"$f":"F6","v":"Male"},{"$f":"G6","v":"Female"},{"$f":"H6","v":"Transgender"},{"$f":"I6","v":" Total [sum of (4) to (6)]"},"Male",{"$f":"K6","v":"Female"},{"$f":"L6","v":"Transgender"},{"$f":"M6","v":" Total [sum of (8) to (10)]"}]
[null,null,null,null,null,null,null,null,null,null,null,null,null,null,null,null,null,null,null,null,null,null,null,null,null,null,null,null,null,null,null,null,null,null,null,null,null,null,null,null,null,null,null,null,null,null,null,null,null,null,null,null,{"$f":"B7","v":"(1)"},"(2)","(3)",null,"(4)","(5)","(6)","(7)","(8)","(9)","(10)","(11)"]
[null,null,null,null,null,null,null,null,null,null,null,null,null,null,null,null,null,null,null,null,null,null,null,null,null,null,null,null,null,null,null,null,null,null,null,null,null,null,null,null,null,null,null,null,null,null,null,null,null,null,null,null,1,"Dangerous/Over-taking/Careless/etc.",1571,{"$f":"E8","v":""},449,135,0,584,131,24,0,155]
[null,null,null,null,null,null,null,null,null,null,null,null,null,null,null,null,null,null,null,null,null,null,null,null,null,null,null,null,null,null,null,null,null,null,null,null,null,null,null,null,null,null,null,null,null,null,null,null,null,null,null,null,2,"Over speeding",1395,"",372,90,0,462,97,16,0,113]
[null,null,null,null,null,null,null,null,null,null,null,null,null,null,null,null,null,null,null,null,null,null,null,null,null,null,null,null,null,null,null,null,null,null,null,null,null,null,null,null,null,null,null,null,null,null,null,null,null,null,null,null,3,"Driving under influence of drug/alcohol",6,"",5,2,0,7,1,0,0,1]
[null,null,null,null,null,null,null,null,null,null,null,null,null,null,null,null,null,null,null,null,null,null,null,null,null,null,null,null,null,null,null,null,null,null,null,null,null,null,null,null,null,null,null,null,null,null,null,null,null,null,null,null,4,"Physical fatigue of Drivers",2,"",0,0,0,0,0,0,0,0]
[null,null,null,null,null,null,null,null,null,null,null,null,null,null,null,null,null,null,null,null,null,null,null,null,null,null,null,null,null,null,null,null,null,null,null,null,null,null,null,null,null,null,null,null,null,null,null,null,null,null,null,null,5,"Defect in Mechanical condition of Motor Vehicle",6,"",2,0,0,2,0,1,0,1]
[null,null,null,null,null,null,null,null,null,null,null,null,null,null,null,null,null,null,null,null,null,null,null,null,null,null,null,null,null,null,null,null,null,null,null,null,null,null,null,null,null,null,null,null,null,null,null,null,null,null,null,null,6,"Animal Crossing",12,"",2,2,0,4,2,0,0,2]
[null,null,null,null,null,null,null,null,null,null,null,null,null,null,null,null,null,null,null,null,null,null,null,null,null,null,null,null,null,null,null,null,null,null,null,null,null,null,null,null,null,null,null,null,null,null,null,null,null,null,null,null,7,"Weather condition (sum of 7.1 & 7.2)",1,"",0,0,0,0,0,0,0,0]
[null,null,null,null,null,null,null,null,null,null,null,null,null,null,null,null,null,null,null,null,null,null,null,null,null,null,null,null,null,null,null,null,null,null,null,null,null,null,null,null,null,null,null,null,null,null,null,null,null,null,null,null,null,{"$f":"C15","v":"7.1 Poor visibility"},0,"",0,0,0,0,0,0,0,0]
[null,null,null,null,null,null,null,null,null,null,null,null,null,null,null,null,null,null,null,null,null,null,null,null,null,null,null,null,null,null,null,null,null,null,null,null,null,null,null,null,null,null,null,null,null,null,null,null,null,null,null,null,null,"7.2 Others causes of weather condition",1,"",0,0,0,0,0,0,0,0]
[null,null,null,null,null,null,null,null,null,null,null,null,null,null,null,null,null,null,null,null,null,null,null,null,null,null,null,null,null,null,null,null,null,null,null,null,null,null,null,null,null,null,null,null,null,null,null,null,null,null,null,null,{"$f":"B17","v":8},"Lack of road infrastructure",1,"",0,0,0,0,1,0,0,1]
[null,null,null,null,null,null,null,null,null,null,null,null,null,null,null,null,null,null,null,null,null,null,null,null,null,null,null,null,null,null,null,null,null,null,null,null,null,null,null,null,null,null,null,null,null,null,null,null,null,null,null,null,9,"Vehicles Parking at road shoulders",13,"",8,0,0,8,1,0,0,1]
[null,null,null,null,null,null,null,null,null,null,null,null,null,null,null,null,null,null,null,null,null,null,null,null,null,null,null,null,null,null,null,null,null,null,null,null,null,null,null,null,null,null,null,null,null,null,null,null,null,null,null,null,10,"Unmanned Railway Crossing",0,"",0,0,0,0,0,0,0,0]
[null,null,null,null,null,null,null,null,null,null,null,null,null,null,null,null,null,null,null,null,null,null,null,null,null,null,null,null,null,null,null,null,null,null,null,null,null,null,null,null,null,null,null,null,null,null,null,null,null,null,null,null,11,"Causes not known",0,"",0,0,0,0,0,0,0,0]
[null,null,null,null,null,null,null,null,null,null,null,null,null,null,null,null,null,null,null,null,null,null,null,null,null,null,null,null,null,null,null,null,null,null,null,null,null,null,null,null,null,null,null,null,null,null,null,null,null,null,null,null,12,"Other Causes",5,"",4,0,0,4,0,0,0,0]
[null,null,null,null,null,null,null,null,null,null,null,null,null,null,null,null,null,null,null,null,null,null,null,null,null,null,null,null,null,null,null,null,null,null,null,null,null,null,null,null,null,null,null,null,null,null,null,null,null,null,null,null,13,"Total (sum of Sl. 1 to 12)",3012,"",842,229,0,1071,233,41,0,274]
[null,null,null,null,null,null,null,null,null,null,null,null,null,null,null,null,null,null,null,null,null,null,null,null,null,null,null,null,null,null,null,null,null,null,null,null,null,null,null,null,null,null,null,null,null,null,null,null,null,null,null,null,{"$f":"C23","v":"ROAD ACCIDENTS TOTAL (EXCLUDING Unmanned Railway Crossing Accidents; Sl.–10)"},null,{"$f":"D23","v":3012},null,{"$f":"F23","v":842},229,0,1071,233,41,0,274]
[null,null,null,null,null,null,null,null,null,null,null,null,null,null,null,null,null,null,null,null,null,null,null,null,null,null,null,null,null,null,null,null,null,null,null,null,null,null,null,null,null,null,null,null,null,null,null,null,null,null,null,null,{"$f":"A24","v":" PROFORMA–II VALUES [Sl.– 12.1 (Road Accidents Total)]"},null,3012,null,{"$f":"F24","v":842},229,0,1071,233,41,0,274]
[null,null,null,null,null,null,null,null,null,null,null,null,null,null,null,null,null,null,null,null,null,null,null,null,null,null,null,null,null,null,null,null,null,null,null,null,null,null,null,null,null,null,null,null,null,null,null,null,null,null,null,null,{"$f":"A25","v":"VALIDATION  WITH PROFORMA–II [Sl.– 12.1 (Road Accidents Total)]"},null,"",null,"","","","","","","",""]
[null,null,null,null,null,null,null,null,null,null,null,null,null,null,null,null,null,null,null,null,null,null,null,null,null,null,null,null,null,null,null,null,null,null,null,null,null,null,null,null,null,null,null,null,null,null,null,null,null,null,null,null,{"$f":"A26","v":"VALIDATION  WITH PROFORMA–II [Sl.– 12.2 (Railway Crossing) with \"Unmanned Railway Crossing\"]"},null,"",null,"","","","","","","",""]
[null,null,null,null,null,null,null,null,null,null,null,null,null,null,null,null,null,null,null,null,null,null,null,null,null,null,null,null,null,null,null,null,null,null,null,null,null,null,null,null,null,null,null,null,null,null,null,null,null,null,null,null,{"$f":"A27","v":"SL-11 ABNORMAL VARIATION IN \"CAUSES NOT KNOWN\" DATA"},null,"",null,{"$f":"F27","v":""},{"$f":"G27","v":""},{"$f":"H27","v":""},{"$f":"I27","v":""},{"$f":"J27","v":""},{"$f":"K27","v":""},{"$f":"L27","v":""},{"$f":"M27","v":""}]
[null,null,null,null,null,null,null,null,null,null,null,null,null,null,null,null,null,null,null,null,null,null,null,null,null,null,null,null,null,null,null,null,null,null,null,null,null,null,null,null,null,null,null,null,null,null,null,null,null,null,null,null,{"$f":"A28","v":"SL-12 ABNORMAL VARIATION IN \"OTHER CAUSES\" DATA"},null,"",null,"","","","","","","",""]
[]
[]
[]
[]
[]
[]
[]
[]
[]
[]
[]
[]
[]
[]
[]
[]
[]
[]
[]
[]
[]
[]
[]
[]
[]
[]
[]
[]
[]
[]
[]
[]
[]
[]
[]
[]
[]
[]
[]
[]
[]
[]
[]
[]
[]
[]
[]
[]
[]
[]
[]
[]
[]
[]
[]
[]
[]
[]
[]
[]
[]
[]
[]
[]
[]
[]
[]
[]
[]
[]
[]
[]
[]
[]
[]
[]
[]
[]
[]
[]
[]
[]
[]
[]
[]
[]
[]
[]
[]
[]
[]
[]
[]
[]
[]
[]
[]
[]
[]
[]
[]
[]
[]
[]
[]
[]
[]
[]
[]
[]
[]
[]
[]
[]
[]
[]
[]
[]
[]
[]
[]
[]
[]
[]
[]
[]
[]
[]
[]
[]
[]
[]
[]
[]
[]
[]
[]
[]
[]
[]
[]
[]
[]
[]
[]
[]
[]
[]
[]
[]
[]
[]
[]
[]
[]
[]
[]
[]
[]
[]
[]
[]
[]
[]
[]
[]
[]
[]
[]
[]
[]
[]
[]
[]
[]
[]
[]
[]
[]
[]
[]
[]
[]
[]
[]
[]
[]
[]
[]
[]
[]
[]
[]
[]
[]
[]
[]
[]
[]
[]
[]
[]
[]
[]
[]
[]
[]
[]
[]
[]
[]
[]
[]
[]
[]
[]
[]
[]
[]
[]
[]
[]
[]
[]
[]
[]
[]
[]
[]
[]
[]
[]
[]
[]
[]
[]
[]
[]
[]
[]
[]
[]
[]
[]
[]
[]
[]
[]
[]
[]
[]
[]
[]
[]
[]
[]
[]
[]
[]
[]
[]
[]
[]
[]
[]
[]
[]
[]
[]
[]
[]
[]
["StateUTCityCode","DistrictCode","CrimeCode","DataYear","Number of Cases","Injured_Male","Injured_Female","Injured_Trans","Injured_Total","Died_Male","Died_Female","Died_Trans","Died_Total"]
[{"$f":"IF(ADSI!$G$12=\"\",ADSI!$H$16,ADSI!$H$12)","v":6},{"$f":"IF(ADSI!$G$12=\"\",ADSI!$H$16,ADSI!$H$14)","v":""},{"$f":"A8","v":550},{"$f":"ADSI!$K$12","v":2022},{"$f":"D8","v":1571},{"$f":"F8","v":449},{"$f":"G8","v":135},0,584,131,24,0,155]
[{"$f":"IF(ADSI!$G$12=\"\",ADSI!$H$16,ADSI!$H$12)","v":6},{"$f":"IF(ADSI!$G$12=\"\",ADSI!$H$16,ADSI!$H$14)","v":""},{"$f":"A9","v":551},{"$f":"ADSI!$K$12","v":2022},{"$f":"D9","v":1395},{"$f":"F9","v":372},90,0,462,97,16,0,113]
[{"$f":"IF(ADSI!$G$12=\"\",ADSI!$H$16,ADSI!$H$12)","v":6},{"$f":"IF(ADSI!$G$12=\"\",ADSI!$H$16,ADSI!$H$14)","v":""},552,{"$f":"ADSI!$K$12","v":2022},6,{"$f":"F10","v":5},2,0,7,1,0,0,1]
[{"$f":"IF(ADSI!$G$12=\"\",ADSI!$H$16,ADSI!$H$12)","v":6},{"$f":"IF(ADSI!$G$12=\"\",ADSI!$H$16,ADSI!$H$14)","v":""},553,{"$f":"ADSI!$K$12","v":2022},2,{"$f":"F11","v":0},0,0,0,0,0,0,0]
[{"$f":"IF(ADSI!$G$12=\"\",ADSI!$H$16,ADSI!$H$12)","v":6},{"$f":"IF(ADSI!$G$12=\"\",ADSI!$H$16,ADSI!$H$14)","v":""},554,{"$f":"ADSI!$K$12","v":2022},6,{"$f":"F12","v":2},0,0,2,0,1,0,1]
[{"$f":"IF(ADSI!$G$12=\"\",ADSI!$H$16,ADSI!$H$12)","v":6},{"$f":"IF(ADSI!$G$12=\"\",ADSI!$H$16,ADSI!$H$14)","v":""},555,{"$f":"ADSI!$K$12","v":2022},12,{"$f":"F13","v":2},2,0,4,2,0,0,2]
[{"$f":"IF(ADSI!$G$12=\"\",ADSI!$H$16,ADSI!$H$12)","v":6},{"$f":"IF(ADSI!$G$12=\"\",ADSI!$H$16,ADSI!$H$14)","v":""},556,{"$f":"ADSI!$K$12","v":2022},1,{"$f":"F14","v":0},0,0,0,0,0,0,0]
[{"$f":"IF(ADSI!$G$12=\"\",ADSI!$H$16,ADSI!$H$12)","v":6},{"$f":"IF(ADSI!$G$12=\"\",ADSI!$H$16,ADSI!$H$14)","v":""},557,{"$f":"ADSI!$K$12","v":2022},0,{"$f":"F15","v":0},0,0,0,0,0,0,0]
[{"$f":"IF(ADSI!$G$12=\"\",ADSI!$H$16,ADSI!$H$12)","v":6},{"$f":"IF(ADSI!$G$12=\"\",ADSI!$H$16,ADSI!$H$14)","v":""},558,{"$f":"ADSI!$K$12","v":2022},1,{"$f":"F16","v":0},0,0,0,0,0,0,0]
[{"$f":"IF(ADSI!$G$12=\"\",ADSI!$H$16,ADSI!$H$12)","v":6},{"$f":"IF(ADSI!$G$12=\"\",ADSI!$H$16,ADSI!$H$14)","v":""},559,{"$f":"ADSI!$K$12","v":2022},1,{"$f":"F17","v":0},0,0,0,1,0,0,1]
[{"$f":"IF(ADSI!$G$12=\"\",ADSI!$H$16,ADSI!$H$12)","v":6},{"$f":"IF(ADSI!$G$12=\"\",ADSI!$H$16,ADSI!$H$14)","v":""},560,{"$f":"ADSI!$K$12","v":2022},13,{"$f":"F18","v":8},0,0,8,1,0,0,1]
[{"$f":"IF(ADSI!$G$12=\"\",ADSI!$H$16,ADSI!$H$12)","v":6},{"$f":"IF(ADSI!$G$12=\"\",ADSI!$H$16,ADSI!$H$14)","v":""},561,{"$f":"ADSI!$K$12","v":2022},0,{"$f":"F19","v":0},0,0,0,0,0,0,0]
[{"$f":"IF(ADSI!$G$12=\"\",ADSI!$H$16,ADSI!$H$12)","v":6},{"$f":"IF(ADSI!$G$12=\"\",ADSI!$H$16,ADSI!$H$14)","v":""},562,{"$f":"ADSI!$K$12","v":2022},0,{"$f":"F20","v":0},0,0,0,0,0,0,0]
[{"$f":"IF(ADSI!$G$12=\"\",ADSI!$H$16,ADSI!$H$12)","v":6},{"$f":"IF(ADSI!$G$12=\"\",ADSI!$H$16,ADSI!$H$14)","v":""},563,{"$f":"ADSI!$K$12","v":2022},5,{"$f":"F21","v":4},0,0,4,0,0,0,0]
[{"$f":"IF(ADSI!$G$12=\"\",ADSI!$H$16,ADSI!$H$12)","v":6},{"$f":"IF(ADSI!$G$12=\"\",ADSI!$H$16,ADSI!$H$14)","v":""},580,{"$f":"ADSI!$K$12","v":2022},3012,{"$f":"F22","v":842},229,0,1071,233,41,0,274]

{"sheet":"P-X","index":12,"n_rows":513,"n_cols":69,"rows_kept":513,"cut":false,"hidden":false,"merged":[[203,66,203,68],[21,0,21,2],[4,2,5,2],[4,1,5,1],[4,15,4,17],[4,11,4,14],[4,7,4,10],[4,3,4,6],[20,0,20,2],[4,0,5,0],[203,62,203,65],[203,58,203,61],[203,54,203,57],[203,53,204,53],[203,52,204,52],[220,52,220,53],[219,52,219,53],[204,55,205,55],[204,59,205,59],[204,63,205,63]]}
[{"$f":"ADSI!$B$1","v":"Goa, , ADSI-2022"}]
["Errors",null,{"$f":"COUNTIF(D22:R22,FALSE)+COUNTIF(E8:E20,FALSE)+COUNTIF(I8:I20,FALSE)+COUNTIF(M8:M20,FALSE)","v":0}]
[{"$f":"IF(ADSI!$L$10=1,LangMaster!A221,LangMaster!B221)","v":"Proforma-X"}]
[{"$f":"IF(ADSI!$L$10=1,LangMaster!A222,LangMaster!B222)","v":"Month wise occurence of Traffic Accidents"}]
[{"$f":"IF(ADSI!$L$10=1,LangMaster!A26,LangMaster!B26)","v":"Code"},{"$f":"IF(ADSI!$L$10=1,LangMaster!A27,LangMaster!B27)","v":"S.No."},{"$f":"IF(ADSI!$L$10=1,LangMaster!A223,LangMaster!B223)","v":"Month"},"Road Accidents",null,null,null,"Railways Crossing Accidents",null,null,null,"Railway Accidents",null,null,null,"Total"]
[null,null,null,{"$f":"IF(ADSI!$L$10=1,LangMaster!A479,LangMaster!B479)","v":"No. of Cases"},{"$f":"IF(ADSI!$L$10=1,LangMaster!A480,LangMaster!B480)","v":"VALIDATION WITH NUMBER OF CASES"},{"$f":"IF(ADSI!$L$10=1,LangMaster!A481,LangMaster!B481)","v":"No. of Persons Injured"},{"$f":"IF(ADSI!$L$10=1,LangMaster!A482,LangMaster!B482)","v":"No. of Persons Died"},{"$f":"IF(ADSI!$L$10=1,LangMaster!A479,LangMaster!B479)","v":"No. of Cases"},{"$f":"IF(ADSI!$L$10=1,LangMaster!A480,LangMaster!B480)","v":"VALIDATION WITH NUMBER OF CASES"},{"$f":"IF(ADSI!$L$10=1,LangMaster!A481,LangMaster!B481)","v":"No. of Persons Injured"},{"$f":"IF(ADSI!$L$10=1,LangMaster!A482,LangMaster!B482)","v":"No. of Persons Died"},{"$f":"IF(ADSI!$L$10=1,LangMaster!A479,LangMaster!B479)","v":"No. of Cases"},{"$f":"IF(ADSI!$L$10=1,LangMaster!A480,LangMaster!B480)","v":"VALIDATION WITH NUMBER OF CASES"},{"$f":"IF(ADSI!$L$10=1,LangMaster!A481,LangMaster!B481)","v":"No. of Persons Injured"},{"$f":"IF(ADSI!$L$10=1,LangMaster!A482,LangMaster!B482)","v":"No. of Persons Died"},"No. of Cases [Col. (3)+(6)+(9)]","No. of Persons Injured \n[Col. (4)+(7)+(10)]","No. of Persons Died \n[Col. (5)+(8)+(11)]"]
[null,"(1)","(2)","(3)",null,"(4)","(5)","(6)",null,"(7)","(8)","(9)",null,"(10)","(11)","(12)","(13)","(14)"]
[600,1,{"$f":"IF(ADSI!$L$10=1,LangMaster!A224,LangMaster!B224)","v":"January"},260,{"$f":"IF(AND(OR(F8>0,G8>0),D8=0),FALSE,\"\")","v":""},81,22,0,{"$f":"IF(AND(OR(J8>0,K8>0),H8=0),FALSE,\"\")","v":""},0,0,5,{"$f":"IF(AND(OR(N8>0,O8>0),L8=0),FALSE,\"\")","v":""},0,5,{"$f":"SUM(D8+H8+L8)","v":265},{"$f":"SUM(F8+J8+N8)","v":81},{"$f":"SUM(G8+K8+O8)","v":27}]
[601,2,{"$f":"IF(ADSI!$L$10=1,LangMaster!A225,LangMaster!B225)","v":"February"},251,{"$f":"IF(AND(OR(F9>0,G9>0),D9=0),FALSE,\"\")","v":""},94,24,0,{"$f":"IF(AND(OR(J9>0,K9>0),H9=0),FALSE,\"\")","v":""},0,0,2,{"$f":"IF(AND(OR(N9>0,O9>0),L9=0),FALSE,\"\")","v":""},0,2,{"$f":"SUM(D9+H9+L9)","v":253},94,26]
[602,3,{"$f":"IF(ADSI!$L$10=1,LangMaster!A226,LangMaster!B226)","v":"March"},275,"",79,25,0,"",0,0,5,"",0,5,280,79,30]
[603,4,{"$f":"IF(ADSI!$L$10=1,LangMaster!A227,LangMaster!B227)","v":"April"},242,"",83,13,0,"",0,0,4,"",0,4,246,83,17]
[604,5,{"$f":"IF(ADSI!$L$10=1,LangMaster!A228,LangMaster!B228)","v":" May"},324,"",98,36,0,"",0,0,4,"",0,4,328,98,40]
[605,6,{"$f":"IF(ADSI!$L$10=1,LangMaster!A229,LangMaster!B229)","v":"June"},239,"",91,20,0,"",0,0,2,"",0,2,241,91,22]
[606,7,{"$f":"IF(ADSI!$L$10=1,LangMaster!A230,LangMaster!B230)","v":"July"},238,"",92,20,0,"",0,0,2,"",0,2,240,92,22]
[607,8,{"$f":"IF(ADSI!$L$10=1,LangMaster!A231,LangMaster!B231)","v":"August"},182,"",75,13,0,"",0,0,4,"",0,4,186,75,17]
[608,9,{"$f":"IF(ADSI!$L$10=1,LangMaster!A232,LangMaster!B232)","v":"September"},234,"",88,29,0,"",0,0,5,"",0,5,239,88,34]
[609,10,{"$f":"IF(ADSI!$L$10=1,LangMaster!A233,LangMaster!B233)","v":"October"},251,"",93,25,0,"",0,0,9,"",0,9,260,93,34]
[610,11,{"$f":"IF(ADSI!$L$10=1,LangMaster!A234,LangMaster!B234)","v":"November"},232,"",80,26,0,"",0,0,6,"",0,6,238,80,32]
[611,12,{"$f":"IF(ADSI!$L$10=1,LangMaster!A235,LangMaster!B235)","v":"December"},284,"",117,21,0,"",0,0,6,"",0,6,290,117,27]
[612,13,{"$f":"IF(ADSI!$L$10=1,LangMaster!A236,LangMaster!B236)","v":"Total (sum of Sl. 1 to 12)"},{"$f":"SUM(D8:D19)","v":3012},"",{"$f":"SUM(F8:F19)","v":1071},274,0,"",0,0,54,"",0,54,3066,{"$f":"SUM(Q8:Q19)","v":1071},{"$f":"SUM(R8:R19)","v":328}]
["PROFORMA–II VALUES [Sl.– 12.1 (Road), Sl.– 12.2 (Railway Crossing) and Sl.– 12.3 (Railway) Accidents]",null,null,{"$f":"'P-II'!D43","v":3012},null,{"$f":"'P-II'!I43","v":1071},{"$f":"'P-II'!M43","v":274},{"$f":"'P-II'!D46","v":0},null,{"$f":"'P-II'!I46","v":0},{"$f":"'P-II'!M46","v":0},{"$f":"'P-II'!D47","v":54},null,{"$f":"'P-II'!I47","v":0},{"$f":"'P-II'!M47","v":54},{"$f":"'P-II'!D42","v":3066},{"$f":"'P-II'!I42","v":1071},{"$f":"'P-II'!M42","v":328}]
["VALIDATION  WITH PROFORMA–II [Sl.– 12.1 (Road), Sl.– 12.2 (Railway Crossing) and Sl.– 12.3 (Railway) Accidents]",null,null,{"$f":"IF(D20='P-II'!D43,\"\",FALSE)","v":""},null,{"$f":"IF(F20='P-II'!I43,\"\",FALSE)","v":""},{"$f":"IF(G20='P-II'!M43,\"\",FALSE)","v":""},{"$f":"IF(H20='P-II'!D46,\"\",FALSE)","v":""},null,{"$f":"IF(J20='P-II'!I46,\"\",FALSE)","v":""},{"$f":"IF(K20='P-II'!M46,\"\",FALSE)","v":""},{"$f":"IF(L20='P-II'!D47,\"\",FALSE)","v":""},null,{"$f":"IF(N20='P-II'!I47,\"\",FALSE)","v":""},{"$f":"IF(O20='P-II'!M47,\"\",FALSE)","v":""},{"$f":"IF(P20='P-II'!D42,\"\",FALSE)","v":""},{"$f":"IF(Q20='P-II'!I42,\"\",FALSE)","v":""},{"$f":"IF(R20='P-II'!M42,\"\",FALSE)","v":""}]
[]
[]
[]
[]
[]
[]
[]
[]
[]
[]
[]
[]
[]
[]
[]
[]
[]
[]
[]
[]
[]
[]
[]
[]
[]
[]
[]
[]
[]
[]
[]
[]
[]
[]
[]
[]
[]
[]
[]
[]
[]
[]
[]
[]
[]
[]
[]
[]
[]
[]
[]
[]
[]
[]
[]
[]
[]
[]
[]
[]
[]
[]
[]
[]
[]
[]
[]
[]
[]
[]
[]
[]
[]
[]
[]
[]
[]
[]
[]
[]
[]
[]
[]
[]
[]
[]
[]
[]
[]
[]
[]
[]
[]
[]
[]
[]
[]
[]
[]
[]
[]
[]
[]
[]
[]
[]
[]
[]
[]
[]
[]
[]
[]
[]
[]
[]
[]
[]
[]
[]
[]
[]
[]
[]
[]
[]
[]
[]
[]
[]
[]
[]
[]
[]
[]
[]
[]
[]
[]
[]
[]
[]
[]
[]
[]
[]
[]
[]
[]
[]
[]
[]
[]
[]
[]
[]
[]
[]
[]
[]
[]
[]
[]
[]
[]
[]
[]
[]
[]
[]
[]
[]
[]
[]
[]
[]
[]
[null,null,null,null,null,null,null,null,null,null,null,null,null,null,null,null,null,null,null,null,null,null,null,null,null,null,null,null,null,null,null,null,null,null,null,null,null,null,null,null,null,null,null,null,null,null,null,null,null,null,null,null,{"$f":"A1","v":"Goa, , ADSI-2022"}]
[null,null,null,null,null,null,null,null,null,null,null,null,null,null,null,null,null,null,null,null,null,null,null,null,null,null,null,null,null,null,null,null,null,null,null,null,null,null,null,null,null,null,null,null,null,null,null,null,null,null,null,null,{"$f":"A2","v":"Errors"},{"$f":"C2","v":0}]
[null,null,null,null,null,null,null,null,null,null,null,null,null,null,null,null,null,null,null,null,null,null,null,null,null,null,null,null,null,null,null,null,null,null,null,null,null,null,null,null,null,null,null,null,null,null,null,null,null,null,null,null,{"$f":"A3","v":"Proforma-X"}]
[null,null,null,null,null,null,null,null,null,null,null,null,null,null,null,null,null,null,null,null,null,null,null,null,null,null,null,null,null,null,null,null,null,null,null,null,null,null,null,null,null,null,null,null,null,null,null,null,null,null,null,null,{"$f":"A4","v":"Month wise occurence of Traffic Accidents"}]
[null,null,null,null,null,null,null,null,null,null,null,null,null,null,null,null,null,null,null,null,null,null,null,null,null,null,null,null,null,null,null,null,null,null,null,null,null,null,null,null,null,null,null,null,null,null,null,null,null,null,null,null,{"$f":"B5","v":"S.No."},{"$f":"C5","v":"Month"},{"$f":"D5","v":"Road Accidents"},null,null,null,{"$f":"H5","v":"Railways Crossing Accidents"},null,null,null,{"$f":"L5","v":"Railway Accidents"},null,null,null,{"$f":"P5","v":"Total"}]
[null,null,null,null,null,null,null,null,null,null,null,null,null,null,null,null,null,null,null,null,null,null,null,null,null,null,null,null,null,null,null,null,null,null,null,null,null,null,null,null,null,null,null,null,null,null,null,null,null,null,null,null,null,null,{"$f":"D6","v":"No. of Cases"},{"$f":"E6","v":"VALIDATION WITH NUMBER OF CASES"},{"$f":"F6","v":"No. of Persons Injured"},{"$f":"G6","v":"No. of Persons Died"},"No. of Cases",{"$f":"I6","v":"VALIDATION WITH NUMBER OF CASES"},{"$f":"J6","v":"No. of Persons Injured"},{"$f":"K6","v":"No. of Persons Died"},"No. of Cases",{"$f":"M6","v":"VALIDATION WITH NUMBER OF CASES"},{"$f":"N6","v":"No. of Persons Injured"},{"$f":"O6","v":"No. of Persons Died"},"No. of Cases [Col. (3)+(6)+(9)]",{"$f":"Q6","v":"No. of Persons Injured \n[Col. (4)+(7)+(10)]"},{"$f":"R6","v":"No. of Persons Died \n[Col. (5)+(8)+(11)]"}]
[null,null,null,null,null,null,null,null,null,null,null,null,null,null,null,null,null,null,null,null,null,null,null,null,null,null,null,null,null,null,null,null,null,null,null,null,null,null,null,null,null,null,null,null,null,null,null,null,null,null,null,null,{"$f":"B7","v":"(1)"},{"$f":"C7","v":"(2)"},{"$f":"D7","v":"(3)"},null,{"$f":"F7","v":"(4)"},{"$f":"G7","v":"(5)"},"(6)",null,{"$f":"J7","v":"(7)"},{"$f":"K7","v":"(8)"},"(9)",null,{"$f":"N7","v":"(10)"},{"$f":"O7","v":"(11)"},"(12)","(13)","(14)"]
[null,null,null,null,null,null,null,null,null,null,null,null,null,null,null,null,null,null,null,null,null,null,null,null,null,null,null,null,null,null,null,null,null,null,null,null,null,null,null,null,null,null,null,null,null,null,null,null,null,null,null,null,1,"January",260,{"$f":"E8","v":""},81,22,0,{"$f":"I8","v":""},0,0,5,{"$f":"M8","v":""},0,5,265,81,27]
[null,null,null,null,null,null,null,null,null,null,null,null,null,null,null,null,null,null,null,null,null,null,null,null,null,null,null,null,null,null,null,null,null,null,null,null,null,null,null,null,null,null,null,null,null,null,null,null,null,null,null,null,2,"February",251,{"$f":"E9","v":""},94,24,0,{"$f":"I9","v":""},0,0,2,{"$f":"M9","v":""},0,2,253,94,26]
[null,null,null,null,null,null,null,null,null,null,null,null,null,null,null,null,null,null,null,null,null,null,null,null,null,null,null,null,null,null,null,null,null,null,null,null,null,null,null,null,null,null,null,null,null,null,null,null,null,null,null,null,3,"March",275,"",79,25,0,"",0,0,5,"",0,5,280,79,30]
[null,null,null,null,null,null,null,null,null,null,null,null,null,null,null,null,null,null,null,null,null,null,null,null,null,null,null,null,null,null,null,null,null,null,null,null,null,null,null,null,null,null,null,null,null,null,null,null,null,null,null,null,4,"April",242,"",83,13,0,"",0,0,4,"",0,4,246,83,17]
[null,null,null,null,null,null,null,null,null,null,null,null,null,null,null,null,null,null,null,null,null,null,null,null,null,null,null,null,null,null,null,null,null,null,null,null,null,null,null,null,null,null,null,null,null,null,null,null,null,null,null,null,5," May",324,"",98,36,0,"",0,0,4,"",0,4,328,98,40]
[null,null,null,null,null,null,null,null,null,null,null,null,null,null,null,null,null,null,null,null,null,null,null,null,null,null,null,null,null,null,null,null,null,null,null,null,null,null,null,null,null,null,null,null,null,null,null,null,null,null,null,null,6,"June",239,"",91,20,0,"",0,0,2,"",0,2,241,91,22]
[null,null,null,null,null,null,null,null,null,null,null,null,null,null,null,null,null,null,null,null,null,null,null,null,null,null,null,null,null,null,null,null,null,null,null,null,null,null,null,null,null,null,null,null,null,null,null,null,null,null,null,null,7,"July",238,"",92,20,0,"",0,0,2,"",0,2,240,92,22]
[null,null,null,null,null,null,null,null,null,null,null,null,null,null,null,null,null,null,null,null,null,null,null,null,null,null,null,null,null,null,null,null,null,null,null,null,null,null,null,null,null,null,null,null,null,null,null,null,null,null,null,null,8,"August",182,"",75,13,0,"",0,0,4,"",0,4,186,75,17]
[null,null,null,null,null,null,null,null,null,null,null,null,null,null,null,null,null,null,null,null,null,null,null,null,null,null,null,null,null,null,null,null,null,null,null,null,null,null,null,null,null,null,null,null,null,null,null,null,null,null,null,null,9,"September",234,"",88,29,0,"",0,0,5,"",0,5,239,88,34]
[null,null,null,null,null,null,null,null,null,null,null,null,null,null,null,null,null,null,null,null,null,null,null,null,null,null,null,null,null,null,null,null,null,null,null,null,null,null,null,null,null,null,null,null,null,null,null,null,null,null,null,null,10,"October",251,"",93,25,0,"",0,0,9,"",0,9,260,93,34]
[null,null,null,null,null,null,null,null,null,null,null,null,null,null,null,null,null,null,null,null,null,null,null,null,null,null,null,null,null,null,null,null,null,null,null,null,null,null,null,null,null,null,null,null,null,null,null,null,null,null,null,null,11,"November",232,"",80,26,0,"",0,0,6,"",0,6,238,80,32]
[null,null,null,null,null,null,null,null,null,null,null,null,null,null,null,null,null,null,null,null,null,null,null,null,null,null,null,null,null,null,null,null,null,null,null,null,null,null,null,null,null,null,null,null,null,null,null,null,null,null,null,null,12,"December",284,"",117,21,0,"",0,0,6,"",0,6,290,117,27]
[null,null,null,null,null,null,null,null,null,null,null,null,null,null,null,null,null,null,null,null,null,null,null,null,null,null,null,null,null,null,null,null,null,null,null,null,null,null,null,null,null,null,null,null,null,null,null,null,null,null,null,null,13,"Total (sum of Sl. 1 to 12)",3012,"",1071,274,0,"",0,0,54,"",0,54,3066,1071,328]
[null,null,null,null,null,null,null,null,null,null,null,null,null,null,null,null,null,null,null,null,null,null,null,null,null,null,null,null,null,null,null,null,null,null,null,null,null,null,null,null,null,null,null,null,null,null,null,null,null,null,null,null,{"$f":"A21","v":"PROFORMA–II VALUES [Sl.– 12.1 (Road), Sl.– 12.2 (Railway Crossing) and Sl.– 12.3 (Railway) Accidents]"},null,{"$f":"D21","v":3012},null,1071,274,0,null,0,0,54,null,0,54,3066,1071,328]
[null,null,null,null,null,null,null,null,null,null,null,null,null,null,null,null,null,null,null,null,null,null,null,null,null,null,null,null,null,null,null,null,null,null,null,null,null,null,null,null,null,null,null,null,null,null,null,null,null,null,null,null,{"$f":"A22","v":"VALIDATION  WITH PROFORMA–II [Sl.– 12.1 (Road), Sl.– 12.2 (Railway Crossing) and Sl.– 12.3 (Railway) Accidents]"},null,{"$f":"D22","v":""},null,"","","",null,"","","",null,"","","","",""]
[]
[]
[]
[]
[]
[]
[]
[]
[]
[]
[]
[]
[]
[]
[]
[]
[]
[]
[]
[]
[]
[]
[]
[]
[]
[]
[]
[]
[]
[]
[]
[]
[]
[]
[]
[]
[]
[]
[]
[]
[]
[]
[]
[]
[]
[]
[]
[]
[]
[]
[]
[]
[]
[]
[]
[]
[]
[]
[]
[]
[]
[]
[]
[]
[]
[]
[]
[]
[]
[]
[]
[]
[]
[]
[]
[]
[]
[]
[]
[]
[]
[]
[]
[]
[]
[]
[]
[]
[]
[]
[]
[]
[]
[]
[]
[]
[]
[]
[]
[]
[]
[]
[]
[]
[]
[]
[]
[]
[]
[]
[]
[]
[]
[]
[]
[]
[]
[]
[]
[]
[]
[]
[]
[]
[]
[]
[]
[]
[]
[]
[]
[]
[]
[]
[]
[]
[]
[]
[]
[]
[]
[]
[]
[]
[]
[]
[]
[]
[]
[]
[]
[]
[]
[]
[]
[]
[]
[]
[]
[]
[]
[]
[]
[]
[]
[]
[]
[]
[]
[]
[]
[]
[]
[]
[]
[]
[]
[]
[]
[]
[]
[]
[]
[]
[]
[]
[]
[]
[]
[]
[]
[]
[]
[]
[]
[]
[]
[]
[]
[]
[]
[]
[]
[]
[]
[]
[]
[]
[]
[]
[]
[]
[]
[]
[]
[]
[]
[]
[]
[]
[]
[]
[]
[]
[]
[]
[]
[]
[]
[]
[]
[]
[]
[]
[]
[]
[]
[]
[]
[]
[]
[]
[]
[]
[]
[]
[]
[]
[]
[]
[]
[]
[]
[]
[]
[]
[]
[]
[]
[]
[]
[]
[]
[]
[]
[]
[]
[]
[]
[]
[]
[]
[]
[]
[]
[]
[]
[]
["StateUTCityCode","DistrictCode","CrimeCode","DataYear","Road Accident_Cases","Road Accident_Injured","Road Accident_Died","Railway Crossing_Cases","Railway Crossing_Injured","Railway Crossing_Died","Railway Accident_Cases","Railway Accident_Injured","Railway Accident_Died","Total Traffic_Cases","Total Traffic_Injured","Total Traffic_Died"]
[{"$f":"IF(ADSI!$G$12=\"\",ADSI!$H$16,ADSI!$H$12)","v":6},{"$f":"IF(ADSI!$G$12=\"\",ADSI!$H$16,ADSI!$H$14)","v":""},{"$f":"A8","v":600},{"$f":"ADSI!$K$12","v":2022},{"$f":"D8","v":260},{"$f":"F8","v":81},{"$f":"G8","v":22},{"$f":"H8","v":0},{"$f":"J8","v":0},{"$f":"K8","v":0},{"$f":"L8","v":5},{"$f":"N8","v":0},{"$f":"O8","v":5},{"$f":"P8","v":265},{"$f":"Q8","v":81},27]
[{"$f":"IF(ADSI!$G$12=\"\",ADSI!$H$16,ADSI!$H$12)","v":6},{"$f":"IF(ADSI!$G$12=\"\",ADSI!$H$16,ADSI!$H$14)","v":""},{"$f":"A9","v":601},{"$f":"ADSI!$K$12","v":2022},{"$f":"D9","v":251},{"$f":"F9","v":94},24,0,{"$f":"J9","v":0},0,2,{"$f":"N9","v":0},2,253,{"$f":"Q9","v":94},{"$f":"R9","v":26}]
[{"$f":"IF(ADSI!$G$12=\"\",ADSI!$H$16,ADSI!$H$12)","v":6},{"$f":"IF(ADSI!$G$12=\"\",ADSI!$H$16,ADSI!$H$14)","v":""},602,{"$f":"ADSI!$K$12","v":2022},275,{"$f":"F10","v":79},25,0,{"$f":"J10","v":0},0,5,{"$f":"N10","v":0},5,280,79,30]
[{"$f":"IF(ADSI!$G$12=\"\",ADSI!$H$16,ADSI!$H$12)","v":6},{"$f":"IF(ADSI!$G$12=\"\",ADSI!$H$16,ADSI!$H$14)","v":""},603,{"$f":"ADSI!$K$12","v":2022},242,{"$f":"F11","v":83},13,0,{"$f":"J11","v":0},0,4,{"$f":"N11","v":0},4,246,83,17]
[{"$f":"IF(ADSI!$G$12=\"\",ADSI!$H$16,ADSI!$H$12)","v":6},{"$f":"IF(ADSI!$G$12=\"\",ADSI!$H$16,ADSI!$H$14)","v":""},604,{"$f":"ADSI!$K$12","v":2022},324,{"$f":"F12","v":98},36,0,{"$f":"J12","v":0},0,4,{"$f":"N12","v":0},4,328,98,40]
[{"$f":"IF(ADSI!$G$12=\"\",ADSI!$H$16,ADSI!$H$12)","v":6},{"$f":"IF(ADSI!$G$12=\"\",ADSI!$H$16,ADSI!$H$14)","v":""},605,{"$f":"ADSI!$K$12","v":2022},239,{"$f":"F13","v":91},20,0,{"$f":"J13","v":0},0,2,{"$f":"N13","v":0},2,241,91,22]
[{"$f":"IF(ADSI!$G$12=\"\",ADSI!$H$16,ADSI!$H$12)","v":6},{"$f":"IF(ADSI!$G$12=\"\",ADSI!$H$16,ADSI!$H$14)","v":""},606,{"$f":"ADSI!$K$12","v":2022},238,{"$f":"F14","v":92},20,0,{"$f":"J14","v":0},0,2,{"$f":"N14","v":0},2,240,92,22]
[{"$f":"IF(ADSI!$G$12=\"\",ADSI!$H$16,ADSI!$H$12)","v":6},{"$f":"IF(ADSI!$G$12=\"\",ADSI!$H$16,ADSI!$H$14)","v":""},607,{"$f":"ADSI!$K$12","v":2022},182,{"$f":"F15","v":75},13,0,{"$f":"J15","v":0},0,4,{"$f":"N15","v":0},4,186,75,17]
[{"$f":"IF(ADSI!$G$12=\"\",ADSI!$H$16,ADSI!$H$12)","v":6},{"$f":"IF(ADSI!$G$12=\"\",ADSI!$H$16,ADSI!$H$14)","v":""},608,{"$f":"ADSI!$K$12","v":2022},234,{"$f":"F16","v":88},29,0,{"$f":"J16","v":0},0,5,{"$f":"N16","v":0},5,239,88,34]
[{"$f":"IF(ADSI!$G$12=\"\",ADSI!$H$16,ADSI!$H$12)","v":6},{"$f":"IF(ADSI!$G$12=\"\",ADSI!$H$16,ADSI!$H$14)","v":""},609,{"$f":"ADSI!$K$12","v":2022},251,{"$f":"F17","v":93},25,0,{"$f":"J17","v":0},0,9,{"$f":"N17","v":0},9,260,93,34]
[{"$f":"IF(ADSI!$G$12=\"\",ADSI!$H$16,ADSI!$H$12)","v":6},{"$f":"IF(ADSI!$G$12=\"\",ADSI!$H$16,ADSI!$H$14)","v":""},610,{"$f":"ADSI!$K$12","v":2022},232,{"$f":"F18","v":80},26,0,{"$f":"J18","v":0},0,6,{"$f":"N18","v":0},6,238,80,32]
[{"$f":"IF(ADSI!$G$12=\"\",ADSI!$H$16,ADSI!$H$12)","v":6},{"$f":"IF(ADSI!$G$12=\"\",ADSI!$H$16,ADSI!$H$14)","v":""},611,{"$f":"ADSI!$K$12","v":2022},284,{"$f":"F19","v":117},21,0,{"$f":"J19","v":0},0,6,{"$f":"N19","v":0},6,290,117,27]
[{"$f":"IF(ADSI!$G$12=\"\",ADSI!$H$16,ADSI!$H$12)","v":6},{"$f":"IF(ADSI!$G$12=\"\",ADSI!$H$16,ADSI!$H$14)","v":""},612,{"$f":"ADSI!$K$12","v":2022},3012,{"$f":"F20","v":1071},274,0,{"$f":"J20","v":0},0,54,{"$f":"N20","v":0},54,3066,1071,328]

{"sheet":"P-XI","index":13,"n_rows":509,"n_cols":69,"rows_kept":509,"cut":false,"hidden":false,"merged":[[203,66,203,68],[215,52,215,53],[216,52,216,53],[203,52,204,52],[203,53,204,53],[203,54,203,57],[203,58,203,61],[203,62,203,65],[204,55,205,55],[204,59,205,59],[204,63,205,63],[17,0,17,2],[4,15,4,17],[4,1,5,1],[4,2,5,2],[4,3,4,6],[4,7,4,10],[4,11,4,14],[16,0,16,2],[4,0,5,0]]}
[{"$f":"ADSI!$B$1","v":"Goa, , ADSI-2022"}]
["Errors",null,{"$f":"COUNTIF(D18:R18,FALSE)+COUNTIF(E8:E16,FALSE)+COUNTIF(I8:I16,FALSE)+COUNTIF(M8:M16,FALSE)","v":0}]
[{"$f":"IF(ADSI!$L$10=1,LangMaster!A237,LangMaster!B237)","v":"Proforma-XI"}]
[{"$f":"IF(ADSI!$L$10=1,LangMaster!A238,LangMaster!B238)","v":"Time wise occurence of Traffic Accidents"}]
[{"$f":"IF(ADSI!$L$10=1,LangMaster!A26,LangMaster!B26)","v":"Code"},{"$f":"IF(ADSI!$L$10=1,LangMaster!A27,LangMaster!B27)","v":"S.No."},{"$f":"IF(ADSI!$L$10=1,LangMaster!A239,LangMaster!B239)","v":"Time"},"Road Accidents",null,null,null,"Railways Crossing Accidents",null,null,null,"Railway Accidents",null,null,null,"Total"]
[null,null,null,{"$f":"IF(ADSI!$L$10=1,LangMaster!A479,LangMaster!B479)","v":"No. of Cases"},{"$f":"IF(ADSI!$L$10=1,LangMaster!A480,LangMaster!B480)","v":"VALIDATION WITH NUMBER OF CASES"},{"$f":"IF(ADSI!$L$10=1,LangMaster!A481,LangMaster!B481)","v":"No. of Persons Injured"},{"$f":"IF(ADSI!$L$10=1,LangMaster!A482,LangMaster!B482)","v":"No. of Persons Died"},{"$f":"IF(ADSI!$L$10=1,LangMaster!A479,LangMaster!B479)","v":"No. of Cases"},{"$f":"IF(ADSI!$L$10=1,LangMaster!A480,LangMaster!B480)","v":"VALIDATION WITH NUMBER OF CASES"},{"$f":"IF(ADSI!$L$10=1,LangMaster!A481,LangMaster!B481)","v":"No. of Persons Injured"},{"$f":"IF(ADSI!$L$10=1,LangMaster!A482,LangMaster!B482)","v":"No. of Persons Died"},{"$f":"IF(ADSI!$L$10=1,LangMaster!A479,LangMaster!B479)","v":"No. of Cases"},"VALIDATION WITH NUMBER OF CASES",{"$f":"IF(ADSI!$L$10=1,LangMaster!A481,LangMaster!B481)","v":"No. of Persons Injured"},{"$f":"IF(ADSI!$L$10=1,LangMaster!A482,LangMaster!B482)","v":"No. of Persons Died"},"No. of Cases\n[col. (3)+(6)+(9)]","No. of Persons Injured\n[co. (4)+(7)+(10)]","No. of Persons Died\n[col. (5)+(8)+(11)]"]
[null,"(1)","(2)","(3)",null,"(4)","(5)","(6)",null,"(7)","(8)","(9)",null,"(10)","(11)","(12)","(13)","(14)"]
[625,1,{"$f":"IF(ADSI!$L$10=1,LangMaster!A240,LangMaster!B240)","v":"00:00 hrs. to 03:00 hrs. (Night)"},286,{"$f":"IF(AND(OR(F8>0,G8>0),D8=0),FALSE,\"\")","v":""},87,26,0,{"$f":"IF(AND(OR(J8>0,K8>0),H8=0),FALSE,\"\")","v":""},0,0,3,{"$f":"IF(AND(OR(N8>0,O8>0),L8=0),FALSE,\"\")","v":""},0,3,{"$f":"SUM(D8+H8+L8)","v":289},{"$f":"SUM(F8+J8+N8)","v":87},29]
[626,2,{"$f":"IF(ADSI!$L$10=1,LangMaster!A241,LangMaster!B241)","v":"03:00 hrs. to 06:00 hrs. (Night)"},152,"",48,12,0,{"$f":"IF(AND(OR(J9>0,K9>0),H9=0),FALSE,\"\")","v":""},0,0,5,{"$f":"IF(AND(OR(N9>0,O9>0),L9=0),FALSE,\"\")","v":""},0,5,{"$f":"SUM(D9+H9+L9)","v":157},48,17]
[627,3,{"$f":"IF(ADSI!$L$10=1,LangMaster!A242,LangMaster!B242)","v":"06:00 hrs. to 09:00 hrs. (Day)"},260,"",93,25,0,"",0,0,9,"",0,9,269,93,34]
[628,4,{"$f":"IF(ADSI!$L$10=1,LangMaster!A243,LangMaster!B243)","v":"09:00 hrs. to 12:00 hrs. (Day)"},393,"",143,16,0,"",0,0,7,"",0,7,400,143,23]
[629,5,{"$f":"IF(ADSI!$L$10=1,LangMaster!A244,LangMaster!B244)","v":"12:00 hrs. to 15:00 hrs. (Day)"},471,"",188,41,0,"",0,0,6,"",0,6,477,188,47]
[630,6,{"$f":"IF(ADSI!$L$10=1,LangMaster!A245,LangMaster!B245)","v":"15:00 hrs. to  18:00 hrs. (Day)"},457,"",172,42,0,"",0,0,8,"",0,8,465,172,50]
[631,7,{"$f":"IF(ADSI!$L$10=1,LangMaster!A246,LangMaster!B246)","v":"18:00 hrs. to 21:00 hrs. (Night)"},619,"",237,56,0,"",0,0,10,"",0,10,629,237,66]
[632,8,{"$f":"IF(ADSI!$L$10=1,LangMaster!A247,LangMaster!B247)","v":"21:00 hrs. to 24:00 hrs. (Night)"},374,"",103,56,0,"",0,0,6,"",0,6,380,103,62]
[633,9,{"$f":"IF(ADSI!$L$10=1,LangMaster!A248,LangMaster!B248)","v":"Total (sum of (Sl. 1 to 8))"},{"$f":"SUM(D8:D15)","v":3012},{"$f":"IF(AND(OR(F16>0,G16>0),D16=0),FALSE,\"\")","v":""},{"$f":"SUM(F8:F15)","v":1071},{"$f":"SUM(G8:G15)","v":274},{"$f":"SUM(H8:H15)","v":0},"",0,0,54,"",0,54,3066,1071,328]
["PROFORMA–II VALUES [Sl.– 12.1 (Road), Sl.– 12.2 (Railway Crossing) and Sl.– 12.3 (Railway) Accidents]",null,null,{"$f":"'P-II'!D43","v":3012},null,{"$f":"'P-II'!I43","v":1071},{"$f":"'P-II'!M43","v":274},{"$f":"'P-II'!D46","v":0},null,{"$f":"'P-II'!I46","v":0},{"$f":"'P-II'!M46","v":0},{"$f":"'P-II'!D47","v":54},null,{"$f":"'P-II'!I47","v":0},{"$f":"'P-II'!M47","v":54},{"$f":"'P-II'!D42","v":3066},{"$f":"'P-II'!I42","v":1071},{"$f":"'P-II'!M42","v":328}]
["VALIDATION  WITH PROFORMA–II [Sl.– 12.1 (Road), Sl.– 12.2 (Railway Crossing) and Sl.– 12.3 (Railway) Accidents]",null,null,{"$f":"IF(D16='P-II'!D43,\"\",FALSE)","v":""},null,{"$f":"IF(F16='P-II'!I43,\"\",FALSE)","v":""},{"$f":"IF(G16='P-II'!M43,\"\",FALSE)","v":""},{"$f":"IF(H16='P-II'!D46,\"\",FALSE)","v":""},null,{"$f":"IF(J16='P-II'!I46,\"\",FALSE)","v":""},{"$f":"IF(K16='P-II'!M46,\"\",FALSE)","v":""},{"$f":"IF(L16='P-II'!D47,\"\",FALSE)","v":""},null,{"$f":"IF(N16='P-II'!I47,\"\",FALSE)","v":""},{"$f":"IF(O16='P-II'!M47,\"\",FALSE)","v":""},{"$f":"IF(P16='P-II'!D42,\"\",FALSE)","v":""},{"$f":"IF(Q16='P-II'!I42,\"\",FALSE)","v":""},{"$f":"IF(R16='P-II'!M42,\"\",FALSE)","v":""}]
[]
[]
[]
[]
[]
[]
[]
[]
[]
[]
[]
[]
[]
[]
[]
[]
[]
[]
[]
[]
[]
[]
[]
[]
[]
[]
[]
[]
[]
[]
[]
[]
[]
[]
[]
[]
[]
[]
[]
[]
[]
[]
[]
[]
[]
[]
[]
[]
[]
[]
[]
[]
[]
[]
[]
[]
[]
[]
[]
[]
[]
[]
[]
[]
[]
[]
[]
[]
[]
[]
[]
[]
[]
[]
[]
[]
[]
[]
[]
[]
[]
[]
[]
[]
[]
[]
[]
[]
[]
[]
[]
[]
[]
[]
[]
[]
[]
[]
[]
[]
[]
[]
[]
[]
[]
[]
[]
[]
[]
[]
[]
[]
[]
[]
[]
[]
[]
[]
[]
[]
[]
[]
[]
[]
[]
[]
[]
[]
[]
[]
[]
[]
[]
[]
[]
[]
[]
[]
[]
[]
[]
[]
[]
[]
[]
[]
[]
[]
[]
[]
[]
[]
[]
[]
[]
[]
[]
[]
[]
[]
[]
[]
[]
[]
[]
[]
[]
[]
[]
[]
[]
[]
[]
[]
[]
[]
[]
[]
[]
[]
[]
[null,null,null,null,null,null,null,null,null,null,null,null,null,null,null,null,null,null,null,null,null,null,null,null,null,null,null,null,null,null,null,null,null,null,null,null,null,null,null,null,null,null,null,null,null,null,null,null,null,null,null,null,{"$f":"A1","v":"Goa, , ADSI-2022"}]
[null,null,null,null,null,null,null,null,null,null,null,null,null,null,null,null,null,null,null,null,null,null,null,null,null,null,null,null,null,null,null,null,null,null,null,null,null,null,null,null,null,null,null,null,null,null,null,null,null,null,null,null,{"$f":"A2","v":"Errors"},{"$f":"C2","v":0}]
[null,null,null,null,null,null,null,null,null,null,null,null,null,null,null,null,null,null,null,null,null,null,null,null,null,null,null,null,null,null,null,null,null,null,null,null,null,null,null,null,null,null,null,null,null,null,null,null,null,null,null,null,{"$f":"A3","v":"Proforma-XI"}]
[null,null,null,null,null,null,null,null,null,null,null,null,null,null,null,null,null,null,null,null,null,null,null,null,null,null,null,null,null,null,null,null,null,null,null,null,null,null,null,null,null,null,null,null,null,null,null,null,null,null,null,null,{"$f":"A4","v":"Time wise occurence of Traffic Accidents"}]
[null,null,null,null,null,null,null,null,null,null,null,null,null,null,null,null,null,null,null,null,null,null,null,null,null,null,null,null,null,null,null,null,null,null,null,null,null,null,null,null,null,null,null,null,null,null,null,null,null,null,null,null,{"$f":"B5","v":"S.No."},{"$f":"C5","v":"Time"},{"$f":"D5","v":"Road Accidents"},null,null,null,{"$f":"H5","v":"Railways Crossing Accidents"},null,null,null,{"$f":"L5","v":"Railway Accidents"},null,null,null,{"$f":"P5","v":"Total"}]
[null,null,null,null,null,null,null,null,null,null,null,null,null,null,null,null,null,null,null,null,null,null,null,null,null,null,null,null,null,null,null,null,null,null,null,null,null,null,null,null,null,null,null,null,null,null,null,null,null,null,null,null,null,null,"No. of Cases",{"$f":"E6","v":"VALIDATION WITH NUMBER OF CASES"},{"$f":"F6","v":"No. of Persons Injured"},{"$f":"G6","v":"No. of Persons Died"},"No. of Cases",{"$f":"I6","v":"VALIDATION WITH NUMBER OF CASES"},{"$f":"J6","v":"No. of Persons Injured"},{"$f":"K6","v":"No. of Persons Died"},"No. of Cases",{"$f":"M6","v":"VALIDATION WITH NUMBER OF CASES"},{"$f":"N6","v":"No. of Persons Injured"},{"$f":"O6","v":"No. of Persons Died"},"No. of Cases\n[col. (3)+(6)+(9)]",{"$f":"Q6","v":"No. of Persons Injured\n[co. (4)+(7)+(10)]"},{"$f":"R6","v":"No. of Persons Died\n[col. (5)+(8)+(11)]"}]
[null,null,null,null,null,null,null,null,null,null,null,null,null,null,null,null,null,null,null,null,null,null,null,null,null,null,null,null,null,null,null,null,null,null,null,null,null,null,null,null,null,null,null,null,null,null,null,null,null,null,null,null,{"$f":"B7","v":"(1)"},"(2)","(3)",null,"(4)","(5)","(6)",null,"(7)","(8)","(9)",null,"(10)","(11)","(12)","(13)","(14)"]
[null,null,null,null,null,null,null,null,null,null,null,null,null,null,null,null,null,null,null,null,null,null,null,null,null,null,null,null,null,null,null,null,null,null,null,null,null,null,null,null,null,null,null,null,null,null,null,null,null,null,null,null,1,"00:00 hrs. to 03:00 hrs. (Night)",286,{"$f":"E8","v":""},{"$f":"F8","v":87},{"$f":"G8","v":26},0,{"$f":"I8","v":""},0,0,3,{"$f":"M8","v":""},0,3,289,87,29]
[null,null,null,null,null,null,null,null,null,null,null,null,null,null,null,null,null,null,null,null,null,null,null,null,null,null,null,null,null,null,null,null,null,null,null,null,null,null,null,null,null,null,null,null,null,null,null,null,null,null,null,null,2,"03:00 hrs. to 06:00 hrs. (Night)",152,{"$f":"E9","v":""},48,12,0,{"$f":"I9","v":""},0,0,5,{"$f":"M9","v":""},0,5,157,48,17]
[null,null,null,null,null,null,null,null,null,null,null,null,null,null,null,null,null,null,null,null,null,null,null,null,null,null,null,null,null,null,null,null,null,null,null,null,null,null,null,null,null,null,null,null,null,null,null,null,null,null,null,null,3,"06:00 hrs. to 09:00 hrs. (Day)",260,"",93,25,0,"",0,0,9,"",0,9,269,93,34]
[null,null,null,null,null,null,null,null,null,null,null,null,null,null,null,null,null,null,null,null,null,null,null,null,null,null,null,null,null,null,null,null,null,null,null,null,null,null,null,null,null,null,null,null,null,null,null,null,null,null,null,null,4,"09:00 hrs. to 12:00 hrs. (Day)",393,"",143,16,0,"",0,0,7,"",0,7,400,143,23]
[null,null,null,null,null,null,null,null,null,null,null,null,null,null,null,null,null,null,null,null,null,null,null,null,null,null,null,null,null,null,null,null,null,null,null,null,null,null,null,null,null,null,null,null,null,null,null,null,null,null,null,null,5,"12:00 hrs. to 15:00 hrs. (Day)",471,"",188,41,0,"",0,0,6,"",0,6,477,188,47]
[null,null,null,null,null,null,null,null,null,null,null,null,null,null,null,null,null,null,null,null,null,null,null,null,null,null,null,null,null,null,null,null,null,null,null,null,null,null,null,null,null,null,null,null,null,null,null,null,null,null,null,null,6,"15:00 hrs. to  18:00 hrs. (Day)",457,"",172,42,0,"",0,0,8,"",0,8,465,172,50]
[null,null,null,null,null,null,null,null,null,null,null,null,null,null,null,null,null,null,null,null,null,null,null,null,null,null,null,null,null,null,null,null,null,null,null,null,null,null,null,null,null,null,null,null,null,null,null,null,null,null,null,null,7,"18:00 hrs. to 21:00 hrs. (Night)",619,"",237,56,0,"",0,0,10,"",0,10,629,237,66]
[null,null,null,null,null,null,null,null,null,null,null,null,null,null,null,null,null,null,null,null,null,null,null,null,null,null,null,null,null,null,null,null,null,null,null,null,null,null,null,null,null,null,null,null,null,null,null,null,null,null,null,null,8,"21:00 hrs. to 24:00 hrs. (Night)",374,"",103,56,0,"",0,0,6,"",0,6,380,103,62]
[null,null,null,null,null,null,null,null,null,null,null,null,null,null,null,null,null,null,null,null,null,null,null,null,null,null,null,null,null,null,null,null,null,null,null,null,null,null,null,null,null,null,null,null,null,null,null,null,null,null,null,null,9,{"$f":"C16","v":"Total (sum of (Sl. 1 to 8))"},{"$f":"D16","v":3012},"",1071,274,{"$f":"H16","v":0},"",{"$f":"J16","v":0},0,54,"",{"$f":"N16","v":0},54,3066,1071,328]
[null,null,null,null,null,null,null,null,null,null,null,null,null,null,null,null,null,null,null,null,null,null,null,null,null,null,null,null,null,null,null,null,null,null,null,null,null,null,null,null,null,null,null,null,null,null,null,null,null,null,null,null,{"$f":"A17","v":"PROFORMA–II VALUES [Sl.– 12.1 (Road), Sl.– 12.2 (Railway Crossing) and Sl.– 12.3 (Railway) Accidents]"},null,{"$f":"D17","v":3012},null,1071,274,{"$f":"H17","v":0},null,0,0,54,null,{"$f":"N17","v":0},54,3066,1071,328]
[null,null,null,null,null,null,null,null,null,null,null,null,null,null,null,null,null,null,null,null,null,null,null,null,null,null,null,null,null,null,null,null,null,null,null,null,null,null,null,null,null,null,null,null,null,null,null,null,null,null,null,null,{"$f":"A18","v":"VALIDATION  WITH PROFORMA–II [Sl.– 12.1 (Road), Sl.– 12.2 (Railway Crossing) and Sl.– 12.3 (Railway) Accidents]"},null,{"$f":"D18","v":""},null,"","",{"$f":"H18","v":""},null,"","","",null,"","","","",""]
[]
[]
[]
[]
[]
[]
[]
[]
[]
[]
[]
[]
[]
[]
[]
[]
[]
[]
[]
[]
[]
[]
[]
[]
[]
[]
[]
[]
[]
[]
[]
[]
[]
[]
[]
[]
[]
[]
[]
[]
[]
[]
[]
[]
[]
[]
[]
[]
[]
[]
[]
[]
[]
[]
[]
[]
[]
[]
[]
[]
[]
[]
[]
[]
[]
[]
[]
[]
[]
[]
[]
[]
[]
[]
[]
[]
[]
[]
[]
[]
[]
[]
[]
[]
[]
[]
[]
[]
[]
[]
[]
[]
[]
[]
[]
[]
[]
[]
[]
[]
[]
[]
[]
[]
[]
[]
[]
[]
[]
[]
[]
[]
[]
[]
[]
[]
[]
[]
[]
[]
[]
[]
[]
[]
[]
[]
[]
[]
[]
[]
[]
[]
[]
[]
[]
[]
[]
[]
[]
[]
[]
[]
[]
[]
[]
[]
[]
[]
[]
[]
[]
[]
[]
[]
[]
[]
[]
[]
[]
[]
[]
[]
[]
[]
[]
[]
[]
[]
[]
[]
[]
[]
[]
[]
[]
[]
[]
[]
[]
[]
[]
[]
[]
[]
[]
[]
[]
[]
[]
[]
[]
[]
[]
[]
[]
[]
[]
[]
[]
[]
[]
[]
[]
[]
[]
[]
[]
[]
[]
[]
[]
[]
[]
[]
[]
[]
[]
[]
[]
[]
[]
[]
[]
[]
[]
[]
[]
[]
[]
[]
[]
[]
[]
[]
[]
[]
[]
[]
[]
[]
[]
[]
[]
[]
[]
[]
[]
[]
[]
[]
[]
[]
[]
[]
[]
[]
[]
[]
[]
[]
[]
[]
[]
[]
[]
[]
[]
[]
[]
[]
[]
[]
[]
[]
[]
[]
[]
[]
[]
[]
[]
[]
["StateUTCityCode","DistrictCode","CrimeCode","DataYear","Road Accident_Cases","Road Accident_Injured","Road Accident_Died","Railway Crossing_Cases","Railway Crossing_Injured","Railway Crossing_Died","Railway Accident_Cases","Railway Accident_Injured","Railway Accident_Died","Total Traffic_Cases","Total Traffic_Injured","Total Traffic_Died"]
[{"$f":"IF(ADSI!$G$12=\"\",ADSI!$H$16,ADSI!$H$12)","v":6},{"$f":"IF(ADSI!$G$12=\"\",ADSI!$H$16,ADSI!$H$14)","v":""},{"$f":"A8","v":625},{"$f":"ADSI!$K$12","v":2022},{"$f":"D8","v":286},{"$f":"F8","v":87},{"$f":"G8","v":26},{"$f":"H8","v":0},{"$f":"J8","v":0},{"$f":"K8","v":0},{"$f":"L8","v":3},{"$f":"N8","v":0},{"$f":"O8","v":3},{"$f":"P8","v":289},{"$f":"Q8","v":87},29]
[{"$f":"IF(ADSI!$G$12=\"\",ADSI!$H$16,ADSI!$H$12)","v":6},{"$f":"IF(ADSI!$G$12=\"\",ADSI!$H$16,ADSI!$H$14)","v":""},{"$f":"A9","v":626},{"$f":"ADSI!$K$12","v":2022},{"$f":"D9","v":152},{"$f":"F9","v":48},12,0,{"$f":"J9","v":0},0,5,{"$f":"N9","v":0},5,157,{"$f":"Q9","v":48},{"$f":"R9","v":17}]
[{"$f":"IF(ADSI!$G$12=\"\",ADSI!$H$16,ADSI!$H$12)","v":6},{"$f":"IF(ADSI!$G$12=\"\",ADSI!$H$16,ADSI!$H$14)","v":""},627,{"$f":"ADSI!$K$12","v":2022},260,{"$f":"F10","v":93},25,0,{"$f":"J10","v":0},0,9,{"$f":"N10","v":0},9,269,93,34]
[{"$f":"IF(ADSI!$G$12=\"\",ADSI!$H$16,ADSI!$H$12)","v":6},{"$f":"IF(ADSI!$G$12=\"\",ADSI!$H$16,ADSI!$H$14)","v":""},628,{"$f":"ADSI!$K$12","v":2022},393,{"$f":"F11","v":143},16,0,{"$f":"J11","v":0},0,7,{"$f":"N11","v":0},7,400,143,23]
[{"$f":"IF(ADSI!$G$12=\"\",ADSI!$H$16,ADSI!$H$12)","v":6},{"$f":"IF(ADSI!$G$12=\"\",ADSI!$H$16,ADSI!$H$14)","v":""},629,{"$f":"ADSI!$K$12","v":2022},471,{"$f":"F12","v":188},41,0,{"$f":"J12","v":0},0,6,{"$f":"N12","v":0},6,477,188,47]
[{"$f":"IF(ADSI!$G$12=\"\",ADSI!$H$16,ADSI!$H$12)","v":6},{"$f":"IF(ADSI!$G$12=\"\",ADSI!$H$16,ADSI!$H$14)","v":""},630,{"$f":"ADSI!$K$12","v":2022},457,{"$f":"F13","v":172},42,0,{"$f":"J13","v":0},0,8,{"$f":"N13","v":0},8,465,172,50]
[{"$f":"IF(ADSI!$G$12=\"\",ADSI!$H$16,ADSI!$H$12)","v":6},{"$f":"IF(ADSI!$G$12=\"\",ADSI!$H$16,ADSI!$H$14)","v":""},631,{"$f":"ADSI!$K$12","v":2022},619,{"$f":"F14","v":237},56,0,{"$f":"J14","v":0},0,10,{"$f":"N14","v":0},10,629,237,66]
[{"$f":"IF(ADSI!$G$12=\"\",ADSI!$H$16,ADSI!$H$12)","v":6},{"$f":"IF(ADSI!$G$12=\"\",ADSI!$H$16,ADSI!$H$14)","v":""},632,{"$f":"ADSI!$K$12","v":2022},374,{"$f":"F15","v":103},56,0,{"$f":"J15","v":0},0,6,{"$f":"N15","v":0},6,380,103,62]
[{"$f":"IF(ADSI!$G$12=\"\",ADSI!$H$16,ADSI!$H$12)","v":6},{"$f":"IF(ADSI!$G$12=\"\",ADSI!$H$16,ADSI!$H$14)","v":""},633,{"$f":"ADSI!$K$12","v":2022},3012,{"$f":"F16","v":1071},274,0,{"$f":"J16","v":0},0,54,{"$f":"N16","v":0},54,3066,1071,328]

{"sheet":"P-XII","index":14,"n_rows":512,"n_cols":64,"rows_kept":512,"cut":false,"hidden":false,"merged":[[225,52,225,53],[226,52,226,53],[26,0,26,2],[27,0,27,2],[28,0,28,2],[29,0,29,2],[224,52,224,53],[215,52,215,54],[215,56,215,63],[222,52,222,53],[223,52,223,53],[206,52,206,54],[206,56,206,63],[203,55,206,55],[203,52,204,52],[203,56,203,59],[203,60,203,63],[203,54,204,54],[203,53,204,53],[227,52,227,53],[228,52,228,53],[4,0,5,0],[25,0,25,2],[7,0,7,12],[16,0,16,12],[15,0,15,2],[24,0,24,2],[14,0,14,2],[23,0,23,2],[4,1,5,1],[4,2,5,2],[4,3,5,3],[4,5,4,8],[4,9,4,12],[4,4,5,4]]}
[{"$f":"ADSI!$B$1","v":"Goa, , ADSI-2022"}]
["Errors",null,{"$f":"COUNTIF(D16:M16,FALSE)+COUNTIF(D24:M24,FALSE)+COUNTIF(D26:M26,FALSE)+COUNTIF(E9:E14,FALSE)+COUNTIF(E18:E23,FALSE)","v":0},null,"Abnormal Variations",{"$f":"COUNTIF(D27:M30,\"ABVAR\")","v":3}]
[{"$f":"IF(ADSI!$L$10=1,LangMaster!A249,LangMaster!B249)","v":"Proforma-XII"}]
[{"$f":"IF(ADSI!$L$10=1,LangMaster!A250,LangMaster!B250)","v":"Classification of Railway Accidents and Causes of Railway Accidents"}]
[{"$f":"IF(ADSI!$L$10=1,LangMaster!A26,LangMaster!B26)","v":"Code"},{"$f":"IF(ADSI!$L$10=1,LangMaster!A27,LangMaster!B27)","v":"S.No."},{"$f":"IF(ADSI!$L$10=1,LangMaster!A251,LangMaster!B251)","v":"Classification/Causes"},{"$f":"IF(ADSI!$L$10=1,LangMaster!A479,LangMaster!B479)","v":"No. of Cases"},{"$f":"IF(ADSI!$L$10=1,LangMaster!A480,LangMaster!B480)","v":"VALIDATION WITH NUMBER OF CASES"},{"$f":"IF(ADSI!$L$10=1,LangMaster!A481,LangMaster!B481)","v":"No. of Persons Injured"},null,null,null,{"$f":"IF(ADSI!$L$10=1,LangMaster!A482,LangMaster!B482)","v":"No. of Persons Died"}]
[null,null,null,null,null,{"$f":"IF(ADSI!$L$10=1,LangMaster!A30,LangMaster!B30)","v":"Male"},{"$f":"IF(ADSI!$L$10=1,LangMaster!A31,LangMaster!B31)","v":"Female"},{"$f":"IF(ADSI!$L$10=1,LangMaster!A32,LangMaster!B32)","v":"Transgender"},{"$f":"IF(ADSI!$L$10=1,LangMaster!A174,LangMaster!B174)","v":" Total [sum of (4) to (6)]"},{"$f":"IF(ADSI!$L$10=1,LangMaster!A30,LangMaster!B30)","v":"Male"},{"$f":"IF(ADSI!$L$10=1,LangMaster!A31,LangMaster!B31)","v":"Female"},{"$f":"IF(ADSI!$L$10=1,LangMaster!A32,LangMaster!B32)","v":"Transgender"},{"$f":"IF(ADSI!$L$10=1,LangMaster!A174,LangMaster!B174)","v":" Total [sum of (4) to (6)]"}]
[null,"(1)","(2)","(3)",null,"(4)","(5)","(6)","(7)","(8)","(9)","(10)","(11)"]
[{"$f":"IF(ADSI!$L$10=1,LangMaster!A252,LangMaster!B252)","v":"Part-I:Classification of Railway Accidents"}]
[650,1,{"$f":"IF(ADSI!$L$10=1,LangMaster!A253,LangMaster!B253)","v":"Train Collisions"},0,{"$f":"IF(AND(OR(I9>0,M9>0),D9=0),FALSE,\"\")","v":""},0,0,0,{"$f":"SUM(F9:H9)","v":0},0,0,0,{"$f":"SUM(J9:L9)","v":0}]
[651,2,{"$f":"IF(ADSI!$L$10=1,LangMaster!A254,LangMaster!B254)","v":"Train Derailments"},0,{"$f":"IF(AND(OR(I10>0,M10>0),D10=0),FALSE,\"\")","v":""},0,0,0,{"$f":"SUM(F10:H10)","v":0},0,0,0,{"$f":"SUM(J10:L10)","v":0}]
[652,3,{"$f":"IF(ADSI!$L$10=1,LangMaster!A255,LangMaster!B255)","v":"Fall from train/Collision with people at tracks"},54,"",0,0,0,0,54,0,0,54]
[653,4,{"$f":"IF(ADSI!$L$10=1,LangMaster!A256,LangMaster!B256)","v":"Explosion/Fire in Train"},0,"",0,0,0,0,0,0,0,0]
[654,5,{"$f":"IF(ADSI!$L$10=1,LangMaster!A257,LangMaster!B257)","v":"Other Classifications"},0,"",0,0,0,0,0,0,0,0]
[665,6,{"$f":"IF(ADSI!$L$10=1,LangMaster!A258,LangMaster!B258)","v":"Total (Classification) (sum of Sl. 1 to 5)"},{"$f":"SUM(D9:D13)","v":54},"",{"$f":"SUM(F9:F13)","v":0},0,0,0,{"$f":"SUM(J9:J13)","v":54},{"$f":"SUM(K9:K13)","v":0},0,54]
[" PROFORMA–II VALUES [Sl.– 12.3 (Railway Accidents)]",null,null,{"$f":"'P-II'!D47","v":54},null,{"$f":"'P-II'!F47","v":0},{"$f":"'P-II'!G47","v":0},{"$f":"'P-II'!H47","v":0},{"$f":"'P-II'!I47","v":0},{"$f":"'P-II'!J47","v":54},{"$f":"'P-II'!K47","v":0},{"$f":"'P-II'!L47","v":0},{"$f":"'P-II'!M47","v":54}]
["VALIDATION  FOR PART-I WITH PROFORMA–II [Sl.– 12.3 (Railway Accidents)]",null,null,{"$f":"IF(D14='P-II'!D47,\"\",FALSE)","v":""},null,{"$f":"IF(F14='P-II'!F47,\"\",FALSE)","v":""},{"$f":"IF(G14='P-II'!G47,\"\",FALSE)","v":""},{"$f":"IF(H14='P-II'!H47,\"\",FALSE)","v":""},{"$f":"IF(I14='P-II'!I47,\"\",FALSE)","v":""},{"$f":"IF(J14='P-II'!J47,\"\",FALSE)","v":""},{"$f":"IF(K14='P-II'!K47,\"\",FALSE)","v":""},{"$f":"IF(L14='P-II'!L47,\"\",FALSE)","v":""},{"$f":"IF(M14='P-II'!M47,\"\",FALSE)","v":""}]
[{"$f":"IF(ADSI!$L$10=1,LangMaster!A259,LangMaster!B259)","v":"Part-II: Causes of Railway Accidents"}]
[675,7,{"$f":"IF(ADSI!$L$10=1,LangMaster!A260,LangMaster!B260)","v":"Fault of Driver"},0,{"$f":"IF(AND(OR(I18>0,M18>0),D18=0),FALSE,\"\")","v":""},0,0,0,{"$f":"SUM(F18:H18)","v":0},0,0,0,{"$f":"SUM(J18:L18)","v":0}]
[676,8,{"$f":"IF(ADSI!$L$10=1,LangMaster!A261,LangMaster!B261)","v":"Sabotage by Extremist/Terrorist/others"},0,{"$f":"IF(AND(OR(I19>0,M19>0),D19=0),FALSE,\"\")","v":""},0,0,0,{"$f":"SUM(F19:H19)","v":0},0,0,0,{"$f":"SUM(J19:L19)","v":0}]
[677,9,{"$f":"IF(ADSI!$L$10=1,LangMaster!A262,LangMaster!B262)","v":"Signalmen's  Error"},0,"",0,0,0,0,0,0,0,0]
[678,10,{"$f":"IF(ADSI!$L$10=1,LangMaster!A263,LangMaster!B263)","v":"Mechanical Failures (like poor design, track faults, bridge/tunnel collapse, etc.)"},0,"",0,0,0,0,0,0,0,0]
[679,11,{"$f":"IF(ADSI!$L$10=1,LangMaster!A264,LangMaster!B264)","v":"Other Causes"},54,"",0,0,0,{"$f":"SUM(F22:H22)","v":0},54,0,0,{"$f":"SUM(J22:L22)","v":54}]
[690,12,{"$f":"IF(ADSI!$L$10=1,LangMaster!A265,LangMaster!B265)","v":"Total (Causes) (sum of Sl. 7 to 11)"},{"$f":"SUM(D18:D22)","v":54},"",{"$f":"SUM(F18:F22)","v":0},0,0,0,54,0,0,54]
["VALIDATION  WITHIN PROFORMA–XII PART–I & PART–II",null,null,{"$f":"IF(D23=D14,\"\",FALSE)","v":""},null,{"$f":"IF(F23=F14,\"\",FALSE)","v":""},"","","","","","",""]
[" PROFORMA–II VALUES [Sl.– 12.3 (Railway Accidents)]",null,null,{"$f":"'P-II'!D47","v":54},null,{"$f":"'P-II'!F47","v":0},{"$f":"'P-II'!G47","v":0},{"$f":"'P-II'!H47","v":0},{"$f":"'P-II'!I47","v":0},{"$f":"'P-II'!J47","v":54},{"$f":"'P-II'!K47","v":0},{"$f":"'P-II'!L47","v":0},{"$f":"'P-II'!M47","v":54}]
["VALIDATION  FOR PART–II WITH PROFORMA–II [Sl.– 12.3 (Railway Accidents)]",null,null,{"$f":"IF(D23='P-II'!D47,\"\",FALSE)","v":""},null,{"$f":"IF(F23='P-II'!F47,\"\",FALSE)","v":""},{"$f":"IF(G23='P-II'!G47,\"\",FALSE)","v":""},{"$f":"IF(H23='P-II'!H47,\"\",FALSE)","v":""},{"$f":"IF(I23='P-II'!I47,\"\",FALSE)","v":""},{"$f":"IF(J23='P-II'!J47,\"\",FALSE)","v":""},{"$f":"IF(K23='P-II'!K47,\"\",FALSE)","v":""},{"$f":"IF(L23='P-II'!L47,\"\",FALSE)","v":""},{"$f":"IF(M23='P-II'!M47,\"\",FALSE)","v":""}]
["SL-1 ABNORMAL VARIATION IN \"TRAIN COLLISIONS\" DATA",null,null,{"$f":"IF(D9>0,IF((M9>D9),\"\",\"ABVAR\"),\"\")","v":""},null,null,null,null,{"$f":"IF(I9>0,IF((I9>D9),\"\",\"ABVAR\"),\"\")","v":""},null,null,null,{"$f":"IF(M9>0,IF((M9>D9),\"\",\"ABVAR\"),\"\")","v":""}]
["SL-2 ABNORMAL VARIATION IN \"TRAIN DERAILMENTS\" DATA",null,null,{"$f":"IF(D10>0,IF((M10>D10),\"\",\"ABVAR\"),\"\")","v":""},null,null,null,null,{"$f":"IF(I10>0,IF((I10>D10),\"\",\"ABVAR\"),\"\")","v":""},null,null,null,{"$f":"IF(M10>0,IF((M10>D10),\"\",\"ABVAR\"),\"\")","v":""}]
["SL-5 ABNORMAL VARIATION IN \"OTHER CLASSIFICATIONS\" DATA",null,null,{"$f":"IF(D14>0,IF((D13/D14*100)>20,\"ABVAR\",\"\"),\"\")","v":""},null,{"$f":"IF(F14>0,IF((F13/F14*100)>20,\"ABVAR\",\"\"),\"\")","v":""},"","","","","","",""]
["SL-11 ABNORMAL VARIATION IN \"OTHER CAUSES\" DATA",null,null,{"$f":"IF(D23>0,IF((D22/D23*100)>20,\"ABVAR\",\"\"),\"\")","v":"ABVAR"},null,{"$f":"IF(F23>0,IF((F22/F23*100)>20,\"ABVAR\",\"\"),\"\")","v":""},"","","","ABVAR","","","ABVAR"]
[]
[]
[]
[]
[]
[]
[]
[]
[]
[]
[]
[]
[]
[]
[]
[]
[]
[]
[]
[]
[]
[]
[]
[]
[]
[]
[]
[]
[]
[]
[]
[]
[]
[]
[]
[]
[]
[]
[]
[]
[]
[]
[]
[]
[]
[]
[]
[]
[]
[]
[]
[]
[]
[]
[]
[]
[]
[]
[]
[]
[]
[]
[]
[]
[]
[]
[]
[]
[]
[]
[]
[]
[]
[]
[]
[]
[]
[]
[]
[]
[]
[]
[]
[]
[]
[]
[]
[]
[]
[]
[]
[]
[]
[]
[]
[]
[]
[]
[]
[]
[]
[]
[]
[]
[]
[]
[]
[]
[]
[]
[]
[]
[]
[]
[]
[]
[]
[]
[]
[]
[]
[]
[]
[]
[]
[]
[]
[]
[]
[]
[]
[]
[]
[]
[]
[]
[]
[]
[]
[]
[]
[]
[]
[]
[]
[]
[]
[]
[]
[]
[]
[]
[]
[]
[]
[]
[]
[]
[]
[]
[]
[]
[]
[]
[]
[]
[]
[]
[]
[null,null,null,null,null,null,null,null,null,null,null,null,null,null,null,null,null,null,null,null,null,null,null,null,null,null,null,null,null,null,null,null,null,null,null,null,null,null,null,null,null,null,null,null,null,null,null,null,null,null,null,null,{"$f":"A1","v":"Goa, , ADSI-2022"}]
[null,null,null,null,null,null,null,null,null,null,null,null,null,null,null,null,null,null,null,null,null,null,null,null,null,null,null,null,null,null,null,null,null,null,null,null,null,null,null,null,null,null,null,null,null,null,null,null,null,null,null,null,{"$f":"A2","v":"Errors"},{"$f":"C2","v":0},null,{"$f":"E2","v":"Abnormal Variations"},{"$f":"F2","v":3}]
[null,null,null,null,null,null,null,null,null,null,null,null,null,null,null,null,null,null,null,null,null,null,null,null,null,null,null,null,null,null,null,null,null,null,null,null,null,null,null,null,null,null,null,null,null,null,null,null,null,null,null,null,{"$f":"A3","v":"Proforma-XII"}]
[null,null,null,null,null,null,null,null,null,null,null,null,null,null,null,null,null,null,null,null,null,null,null,null,null,null,null,null,null,null,null,null,null,null,null,null,null,null,null,null,null,null,null,null,null,null,null,null,null,null,null,null,{"$f":"A4","v":"Classification of Railway Accidents and Causes of Railway Accidents"}]
[null,null,null,null,null,null,null,null,null,null,null,null,null,null,null,null,null,null,null,null,null,null,null,null,null,null,null,null,null,null,null,null,null,null,null,null,null,null,null,null,null,null,null,null,null,null,null,null,null,null,null,null,{"$f":"B5","v":"S.No."},{"$f":"C5","v":"Classification/Causes"},{"$f":"D5","v":"No. of Cases"},{"$f":"E5","v":"VALIDATION WITH NUMBER OF CASES"},{"$f":"F5","v":"No. of Persons Injured"},null,null,null,{"$f":"J5","v":"No. of Persons Died"}]
[null,null,null,null,null,null,null,null,null,null,null,null,null,null,null,null,null,null,null,null,null,null,null,null,null,null,null,null,null,null,null,null,null,null,null,null,null,null,null,null,null,null,null,null,null,null,null,null,null,null,null,null,null,null,null,null,{"$f":"F6","v":"Male"},"Female","Transgender"," Total [sum of (4) to (6)]",{"$f":"J6","v":"Male"},{"$f":"K6","v":"Female"},"Transgender"," Total [sum of (4) to (6)]"]
[null,null,null,null,null,null,null,null,null,null,null,null,null,null,null,null,null,null,null,null,null,null,null,null,null,null,null,null,null,null,null,null,null,null,null,null,null,null,null,null,null,null,null,null,null,null,null,null,null,null,null,null,{"$f":"B7","v":"(1)"},{"$f":"C7","v":"(2)"},{"$f":"D7","v":"(3)"},null,"(4)","(5)","(6)","(7)",{"$f":"J7","v":"(8)"},"(9)","(10)","(11)"]
[null,null,null,null,null,null,null,null,null,null,null,null,null,null,null,null,null,null,null,null,null,null,null,null,null,null,null,null,null,null,null,null,null,null,null,null,null,null,null,null,null,null,null,null,null,null,null,null,null,null,null,null,{"$f":"A8","v":"Part-I:Classification of Railway Accidents"}]
[null,null,null,null,null,null,null,null,null,null,null,null,null,null,null,null,null,null,null,null,null,null,null,null,null,null,null,null,null,null,null,null,null,null,null,null,null,null,null,null,null,null,null,null,null,null,null,null,null,null,null,null,{"$f":"B9","v":1},"Train Collisions",0,"",0,0,0,0,0,0,0,0]
[null,null,null,null,null,null,null,null,null,null,null,null,null,null,null,null,null,null,null,null,null,null,null,null,null,null,null,null,null,null,null,null,null,null,null,null,null,null,null,null,null,null,null,null,null,null,null,null,null,null,null,null,2,"Train Derailments",0,"",0,0,0,0,0,0,0,0]
[null,null,null,null,null,null,null,null,null,null,null,null,null,null,null,null,null,null,null,null,null,null,null,null,null,null,null,null,null,null,null,null,null,null,null,null,null,null,null,null,null,null,null,null,null,null,null,null,null,null,null,null,3,"Fall from train/Collision with people at tracks",54,"",0,0,0,0,54,0,0,54]
[null,null,null,null,null,null,null,null,null,null,null,null,null,null,null,null,null,null,null,null,null,null,null,null,null,null,null,null,null,null,null,null,null,null,null,null,null,null,null,null,null,null,null,null,null,null,null,null,null,null,null,null,4,"Explosion/Fire in Train",0,"",0,0,0,0,0,0,0,0]
[null,null,null,null,null,null,null,null,null,null,null,null,null,null,null,null,null,null,null,null,null,null,null,null,null,null,null,null,null,null,null,null,null,null,null,null,null,null,null,null,null,null,null,null,null,null,null,null,null,null,null,null,5,"Other Classifications",0,"",0,0,0,0,0,0,0,0]
[null,null,null,null,null,null,null,null,null,null,null,null,null,null,null,null,null,null,null,null,null,null,null,null,null,null,null,null,null,null,null,null,null,null,null,null,null,null,null,null,null,null,null,null,null,null,null,null,null,null,null,null,6,"Total (Classification) (sum of Sl. 1 to 5)",54,"",0,0,0,0,54,0,0,54]
[null,null,null,null,null,null,null,null,null,null,null,null,null,null,null,null,null,null,null,null,null,null,null,null,null,null,null,null,null,null,null,null,null,null,null,null,null,null,null,null,null,null,null,null,null,null,null,null,null,null,null,null,{"$f":"A15","v":" PROFORMA–II VALUES [Sl.– 12.3 (Railway Accidents)]"},null,{"$f":"D15","v":54},null,{"$f":"F15","v":0},0,0,0,54,0,0,54]
[null,null,null,null,null,null,null,null,null,null,null,null,null,null,null,null,null,null,null,null,null,null,null,null,null,null,null,null,null,null,null,null,null,null,null,null,null,null,null,null,null,null,null,null,null,null,null,null,null,null,null,null,{"$f":"A16","v":"VALIDATION  FOR PART-I WITH PROFORMA–II [Sl.– 12.3 (Railway Accidents)]"},null,{"$f":"D16","v":""},null,"","","","","","","",""]
[null,null,null,null,null,null,null,null,null,null,null,null,null,null,null,null,null,null,null,null,null,null,null,null,null,null,null,null,null,null,null,null,null,null,null,null,null,null,null,null,null,null,null,null,null,null,null,null,null,null,null,null,{"$f":"A17","v":"Part-II: Causes of Railway Accidents"}]
[null,null,null,null,null,null,null,null,null,null,null,null,null,null,null,null,null,null,null,null,null,null,null,null,null,null,null,null,null,null,null,null,null,null,null,null,null,null,null,null,null,null,null,null,null,null,null,null,null,null,null,null,{"$f":"B18","v":7},"Fault of Driver",0,"",0,0,0,0,0,0,0,0]
[null,null,null,null,null,null,null,null,null,null,null,null,null,null,null,null,null,null,null,null,null,null,null,null,null,null,null,null,null,null,null,null,null,null,null,null,null,null,null,null,null,null,null,null,null,null,null,null,null,null,null,null,8,"Sabotage by Extremist/Terrorist/others",0,"",0,0,0,0,0,0,0,0]
[null,null,null,null,null,null,null,null,null,null,null,null,null,null,null,null,null,null,null,null,null,null,null,null,null,null,null,null,null,null,null,null,null,null,null,null,null,null,null,null,null,null,null,null,null,null,null,null,null,null,null,null,9,"Signalmen's  Error",0,"",0,0,0,0,0,0,0,0]
[null,null,null,null,null,null,null,null,null,null,null,null,null,null,null,null,null,null,null,null,null,null,null,null,null,null,null,null,null,null,null,null,null,null,null,null,null,null,null,null,null,null,null,null,null,null,null,null,null,null,null,null,10,"Mechanical Failures (like poor design, track faults, bridge/tunnel collapse, etc.)",0,"",0,0,0,0,0,0,0,0]
[null,null,null,null,null,null,null,null,null,null,null,null,null,null,null,null,null,null,null,null,null,null,null,null,null,null,null,null,null,null,null,null,null,null,null,null,null,null,null,null,null,null,null,null,null,null,null,null,null,null,null,null,11,"Other Causes",54,"",0,0,0,0,54,0,0,54]
[null,null,null,null,null,null,null,null,null,null,null,null,null,null,null,null,null,null,null,null,null,null,null,null,null,null,null,null,null,null,null,null,null,null,null,null,null,null,null,null,null,null,null,null,null,null,null,null,null,null,null,null,12,"Total (Causes) (sum of Sl. 7 to 11)",54,"",0,0,0,0,54,0,0,54]
[null,null,null,null,null,null,null,null,null,null,null,null,null,null,null,null,null,null,null,null,null,null,null,null,null,null,null,null,null,null,null,null,null,null,null,null,null,null,null,null,null,null,null,null,null,null,null,null,null,null,null,null,{"$f":"A24","v":"VALIDATION  WITHIN PROFORMA–XII PART–I & PART–II"},null,{"$f":"D24","v":""},null,{"$f":"F24","v":""},"","","","","","",""]
[null,null,null,null,null,null,null,null,null,null,null,null,null,null,null,null,null,null,null,null,null,null,null,null,null,null,null,null,null,null,null,null,null,null,null,null,null,null,null,null,null,null,null,null,null,null,null,null,null,null,null,null," PROFORMA–II VALUES [Sl.– 12.3 (Railway Accidents)]",null,54,null,0,0,0,0,54,0,0,54]
[null,null,null,null,null,null,null,null,null,null,null,null,null,null,null,null,null,null,null,null,null,null,null,null,null,null,null,null,null,null,null,null,null,null,null,null,null,null,null,null,null,null,null,null,null,null,null,null,null,null,null,null,"VALIDATION  FOR PART–II WITH PROFORMA–II [Sl.– 12.3 (Railway Accidents)]",null,"",null,"","","","","","","",""]
[null,null,null,null,null,null,null,null,null,null,null,null,null,null,null,null,null,null,null,null,null,null,null,null,null,null,null,null,null,null,null,null,null,null,null,null,null,null,null,null,null,null,null,null,null,null,null,null,null,null,null,null,"SL-1 ABNORMAL VARIATION IN \"TRAIN COLLISIONS\" DATA",null,"",null,null,null,null,"",null,null,null,""]
[null,null,null,null,null,null,null,null,null,null,null,null,null,null,null,null,null,null,null,null,null,null,null,null,null,null,null,null,null,null,null,null,null,null,null,null,null,null,null,null,null,null,null,null,null,null,null,null,null,null,null,null,"SL-2 ABNORMAL VARIATION IN \"TRAIN DERAILMENTS\" DATA",null,"",null,null,null,null,{"$f":"I28","v":""},null,null,null,{"$f":"M28","v":""}]
[null,null,null,null,null,null,null,null,null,null,null,null,null,null,null,null,null,null,null,null,null,null,null,null,null,null,null,null,null,null,null,null,null,null,null,null,null,null,null,null,null,null,null,null,null,null,null,null,null,null,null,null,"SL-5 ABNORMAL VARIATION IN \"OTHER CLASSIFICATIONS\" DATA",null,"",null,{"$f":"F29","v":""},"","","","","","",""]
[null,null,null,null,null,null,null,null,null,null,null,null,null,null,null,null,null,null,null,null,null,null,null,null,null,null,null,null,null,null,null,null,null,null,null,null,null,null,null,null,null,null,null,null,null,null,null,null,null,null,null,null,"SL-11 ABNORMAL VARIATION IN \"OTHER CAUSES\" DATA",null,"ABVAR",null,"","","","","ABVAR","","","ABVAR"]
[]
[]
[]
[]
[]
[]
[]
[]
[]
[]
[]
[]
[]
[]
[]
[]
[]
[]
[]
[]
[]
[]
[]
[]
[]
[]
[]
[]
[]
[]
[]
[]
[]
[]
[]
[]
[]
[]
[]
[]
[]
[]
[]
[]
[]
[]
[]
[]
[]
[]
[]
[]
[]
[]
[]
[]
[]
[]
[]
[]
[]
[]
[]
[]
[]
[]
[]
[]
[]
[]
[]
[]
[]
[]
[]
[]
[]
[]
[]
[]
[]
[]
[]
[]
[]
[]
[]
[]
[]
[]
[]
[]
[]
[]
[]
[]
[]
[]
[]
[]
[]
[]
[]
[]
[]
[]
[]
[]
[]
[]
[]
[]
[]
[]
[]
[]
[]
[]
[]
[]
[]
[]
[]
[]
[]
[]
[]
[]
[]
[]
[]
[]
[]
[]
[]
[]
[]
[]
[]
[]
[]
[]
[]
[]
[]
[]
[]
[]
[]
[]
[]
[]
[]
[]
[]
[]
[]
[]
[]
[]
[]
[]
[]
[]
[]
[]
[]
[]
[]
[]
[]
[]
[]
[]
[]
[]
[]
[]
[]
[]
[]
[]
[]
[]
[]
[]
[]
[]
[]
[]
[]
[]
[]
[]
[]
[]
[]
[]
[]
[]
[]
[]
[]
[]
[]
[]
[]
[]
[]
[]
[]
[]
[]
[]
[]
[]
[]
[]
[]
[]
[]
[]
[]
[]
[]
[]
[]
[]
[]
[]
[]
[]
[]
[]
[]
[]
[]
[]
[]
[]
[]
[]
[]
[]
[]
[]
[]
[]
[]
[]
[]
[]
[]
[]
[]
[]
[]
[]
[]
[]
[]
[]
[]
[]
[]
[]
[]
[]
[]
[]
["StateUTCityCode","DistrictCode","CrimeCode","DataYear","Number of Cases","Injured_Male","Injured_Female","Injured_Trans","Injured_Total","Died_Male","Died_Female","Died_Trans","Died_Total"]
[{"$f":"IF(ADSI!$G$12=\"\",ADSI!$H$16,ADSI!$H$12)","v":6},{"$f":"IF(ADSI!$G$12=\"\",ADSI!$H$16,ADSI!$H$14)","v":""},{"$f":"A9","v":650},{"$f":"ADSI!$K$12","v":2022},{"$f":"D9","v":0},{"$f":"F9","v":0},{"$f":"G9","v":0},0,0,0,0,0,0]
[{"$f":"IF(ADSI!$G$12=\"\",ADSI!$H$16,ADSI!$H$12)","v":6},{"$f":"IF(ADSI!$G$12=\"\",ADSI!$H$16,ADSI!$H$14)","v":""},{"$f":"A10","v":651},{"$f":"ADSI!$K$12","v":2022},{"$f":"D10","v":0},{"$f":"F10","v":0},0,0,0,0,0,0,0]
[{"$f":"IF(ADSI!$G$12=\"\",ADSI!$H$16,ADSI!$H$12)","v":6},{"$f":"IF(ADSI!$G$12=\"\",ADSI!$H$16,ADSI!$H$14)","v":""},652,{"$f":"ADSI!$K$12","v":2022},54,{"$f":"F11","v":0},0,0,0,54,0,0,54]
[{"$f":"IF(ADSI!$G$12=\"\",ADSI!$H$16,ADSI!$H$12)","v":6},{"$f":"IF(ADSI!$G$12=\"\",ADSI!$H$16,ADSI!$H$14)","v":""},653,{"$f":"ADSI!$K$12","v":2022},0,{"$f":"F12","v":0},0,0,0,0,0,0,0]
[{"$f":"IF(ADSI!$G$12=\"\",ADSI!$H$16,ADSI!$H$12)","v":6},{"$f":"IF(ADSI!$G$12=\"\",ADSI!$H$16,ADSI!$H$14)","v":""},654,{"$f":"ADSI!$K$12","v":2022},0,{"$f":"F13","v":0},0,0,0,0,0,0,0]
[{"$f":"IF(ADSI!$G$12=\"\",ADSI!$H$16,ADSI!$H$12)","v":6},{"$f":"IF(ADSI!$G$12=\"\",ADSI!$H$16,ADSI!$H$14)","v":""},665,{"$f":"ADSI!$K$12","v":2022},54,{"$f":"F14","v":0},0,0,0,54,0,0,54]
[{"$f":"IF(ADSI!$G$12=\"\",ADSI!$H$16,ADSI!$H$12)","v":6},{"$f":"IF(ADSI!$G$12=\"\",ADSI!$H$16,ADSI!$H$14)","v":""},{"$f":"A18","v":675},{"$f":"ADSI!$K$12","v":2022},{"$f":"D18","v":0},{"$f":"F18","v":0},{"$f":"G18","v":0},0,0,0,0,0,0]
[{"$f":"IF(ADSI!$G$12=\"\",ADSI!$H$16,ADSI!$H$12)","v":6},{"$f":"IF(ADSI!$G$12=\"\",ADSI!$H$16,ADSI!$H$14)","v":""},{"$f":"A19","v":676},{"$f":"ADSI!$K$12","v":2022},{"$f":"D19","v":0},{"$f":"F19","v":0},0,0,0,0,0,0,0]
[{"$f":"IF(ADSI!$G$12=\"\",ADSI!$H$16,ADSI!$H$12)","v":6},{"$f":"IF(ADSI!$G$12=\"\",ADSI!$H$16,ADSI!$H$14)","v":""},677,{"$f":"ADSI!$K$12","v":2022},0,{"$f":"F20","v":0},0,0,0,0,0,0,0]
[{"$f":"IF(ADSI!$G$12=\"\",ADSI!$H$16,ADSI!$H$12)","v":6},{"$f":"IF(ADSI!$G$12=\"\",ADSI!$H$16,ADSI!$H$14)","v":""},678,{"$f":"ADSI!$K$12","v":2022},0,{"$f":"F21","v":0},0,0,0,0,0,0,0]
[{"$f":"IF(ADSI!$G$12=\"\",ADSI!$H$16,ADSI!$H$12)","v":6},{"$f":"IF(ADSI!$G$12=\"\",ADSI!$H$16,ADSI!$H$14)","v":""},679,{"$f":"ADSI!$K$12","v":2022},54,{"$f":"F22","v":0},0,0,0,54,0,0,54]
[{"$f":"IF(ADSI!$G$12=\"\",ADSI!$H$16,ADSI!$H$12)","v":6},{"$f":"IF(ADSI!$G$12=\"\",ADSI!$H$16,ADSI!$H$14)","v":""},690,{"$f":"ADSI!$K$12","v":2022},54,{"$f":"F23","v":0},0,0,0,54,0,0,54]

{"sheet":"P-XIII","index":15,"n_rows":507,"n_cols":70,"rows_kept":507,"cut":false,"hidden":true,"merged":[[214,52,214,53],[215,52,215,53],[216,52,216,53],[217,52,217,69],[203,69,205,69],[204,64,204,68],[204,59,204,63],[15,0,15,2],[204,54,204,58],[203,52,205,52],[203,53,205,53],[203,54,203,68],[16,0,16,2],[18,3,18,13],[17,0,17,2],[5,8,5,12],[4,18,6,18],[4,1,6,1],[4,2,6,2],[5,3,5,7],[4,3,4,17],[5,13,5,17]]}
[{"$f":"ADSI!$B$1","v":"Goa, , ADSI-2022"}]
["Errors",null,{"$f":"COUNTIF(D17:S17,FALSE)","v":0},null,"Abnormal Variations",{"$f":"COUNTIF(D18:S18,\"ABVAR\")","v":0}]
["Proforma–XIII"]
["Details on Deaths of Central Armed Police Force (CAPF) Personnel"]
["Code","Sl. No.","Causes","Number of Accidental Deaths",null,null,null,null,null,null,null,null,null,null,null,null,null,null,"Grand Total [col. (7)+(12)+(17)]"]
[null,null,null,"Male",null,null,null,null,"Female",null,null,null,null,"Transgender"]
[null,null,null,"18 and above – below 30 years","30 and above – below 45 years","45 and above – below 60 years","60 years & above"," Total [(sum of (3) to (6)]","18 and above – below 30 years","30 and above – below 45 years","45 and above – below 60 years","60 years & above","Total [sum of (8) to (11)]","18 and above – below 30 years","30 and above – below 45 years","45 and above – below 60 years","60 years & above","Total [sum of (13) to (16)]"]
[null,"(1)","(2)","(3)","(4)","(5)","(6)","(7)","(8)","(9)","(10)","(11)","(12)","(13)","(14)","(15)","(16)","(17)","(18)"]
[700,1,"Fratricide",0,0,0,0,{"$f":"SUM(D9:G9)","v":0},0,0,0,0,{"$f":"SUM(I9:L9)","v":0},0,0,0,0,{"$f":"SUM(N9:Q9)","v":0},{"$f":"SUM(H9+M9+R9)","v":0}]
[701,1,"Deaths due to Road/Railway Accidents",0,0,0,0,{"$f":"SUM(D10:G10)","v":0},0,0,0,0,{"$f":"SUM(I10:L10)","v":0},0,0,0,0,{"$f":"SUM(N10:Q10)","v":0},{"$f":"SUM(H10+M10+R10)","v":0}]
[702,2,"Deaths due to Natural Calamities",0,0,0,0,0,0,0,0,0,0,0,0,0,0,0,0]
[703,3,"Deaths Due to Unnatural Causes (Except Road/Railway Accidents)",0,0,0,0,0,0,0,0,0,0,0,0,0,0,0,0]
[704,4,"Killed in Action/Operation/ Encounters/etc.",0,0,0,0,0,0,0,0,0,0,0,0,0,0,0,0]
[705,5,"Other/Unknown Causes",0,0,0,0,0,0,0,0,0,0,0,0,0,0,0,0]
[715,6,"Total (sum of Sl. 1 to 6)",{"$f":"SUM(D9:D14)","v":0},{"$f":"SUM(E9:E14)","v":0},0,0,{"$f":"SUM(H9:H14)","v":0},{"$f":"SUM(I9:I14)","v":0},{"$f":"SUM(J9:J14)","v":0},{"$f":"SUM(K9:K14)","v":0},{"$f":"SUM(L9:L14)","v":0},{"$f":"SUM(M9:M14)","v":0},{"$f":"SUM(N9:N14)","v":0},{"$f":"SUM(O9:O14)","v":0},{"$f":"SUM(P9:P14)","v":0},{"$f":"SUM(Q9:Q14)","v":0},{"$f":"SUM(R9:R14)","v":0},0]
["PROFORMA–III VALUES [Sl.– 16  (Total)]",null,null,{"$f":"'P-III'!F52","v":142},{"$f":"'P-III'!G52","v":173},{"$f":"'P-III'!H52","v":129},{"$f":"'P-III'!I52","v":80},{"$f":"'P-III'!J52","v":547},{"$f":"'P-III'!O52","v":18},{"$f":"'P-III'!P52","v":18},{"$f":"'P-III'!Q52","v":19},{"$f":"'P-III'!R52","v":26},{"$f":"'P-III'!S52","v":87},{"$f":"'P-III'!X52","v":0},{"$f":"'P-III'!Y52","v":0},{"$f":"'P-III'!Z52","v":0},{"$f":"'P-III'!AA52","v":0},{"$f":"'P-III'!AB52","v":0},{"$f":"'P-III'!AE52","v":634}]
["VALIDATION  WITH PROFORMA–III [Sl.– 16 (Total)]",null,null,{"$f":"IF(D15<='P-III'!F52,\"\",FALSE)","v":""},{"$f":"IF(E15<='P-III'!G52,\"\",FALSE)","v":""},{"$f":"IF(F15<='P-III'!H52,\"\",FALSE)","v":""},{"$f":"IF(G15<='P-III'!I52,\"\",FALSE)","v":""},{"$f":"IF(H15<='P-III'!J52,\"\",FALSE)","v":""},{"$f":"IF(I15<='P-III'!O52,\"\",FALSE)","v":""},{"$f":"IF(J15<='P-III'!P52,\"\",FALSE)","v":""},{"$f":"IF(K15<='P-III'!Q52,\"\",FALSE)","v":""},{"$f":"IF(L15<='P-III'!R52,\"\",FALSE)","v":""},{"$f":"IF(M15<='P-III'!S52,\"\",FALSE)","v":""},{"$f":"IF(N15<='P-III'!X52,\"\",FALSE)","v":""},{"$f":"IF(O15<='P-III'!Y52,\"\",FALSE)","v":""},{"$f":"IF(P15<='P-III'!Z52,\"\",FALSE)","v":""},{"$f":"IF(Q15<='P-III'!AA52,\"\",FALSE)","v":""},{"$f":"IF(R15<='P-III'!AB52,\"\",FALSE)","v":""},{"$f":"IF(S15<='P-III'!AE52,\"\",FALSE)","v":""}]
["SL-6 ABNORMAL VARIATION IN \"OTHER/UNKNOWN CAUSES\" DATA",null,null,{"$f":"IF(D15>0,IF((D14/D15*100)>10,\"ABVAR\",\"\"),\"\")","v":""},{"$f":"IF(E15>0,IF((E14/E15*100)>10,\"ABVAR\",\"\"),\"\")","v":""},"","","","","","","","","","","","","","",""]
[null,null,null,"Central Armed Police Force (CAPF) includes Assam Rifles (AR), Border Security Force (BSF), Central Industrial Security Force (CISF), Central Reserve Police Force (CRPF), Indo Tibetan Border Police (ITBP), National Security Guard (NSG) and Sashastra Seema Bal (SSB)"]
[]
[]
[]
[]
[]
[]
[]
[]
[]
[]
[]
[]
[]
[]
[]
[]
[]
[]
[]
[]
[]
[]
[]
[]
[]
[]
[]
[]
[]
[]
[]
[]
[]
[]
[]
[]
[]
[]
[]
[]
[]
[]
[]
[]
[]
[]
[]
[]
[]
[]
[]
[]
[]
[]
[]
[]
[]
[]
[]
[]
[]
[]
[]
[]
[]
[]
[]
[]
[]
[]
[]
[]
[]
[]
[]
[]
[]
[]
[]
[]
[]
[]
[]
[]
[]
[]
[]
[]
[]
[]
[]
[]
[]
[]
[]
[]
[]
[]
[]
[]
[]
[]
[]
[]
[]
[]
[]
[]
[]
[]
[]
[]
[]
[]
[]
[]
[]
[]
[]
[]
[]
[]
[]
[]
[]
[]
[]
[]
[]
[]
[]
[]
[]
[]
[]
[]
[]
[]
[]
[]
[]
[]
[]
[]
[]
[]
[]
[]
[]
[]
[]
[]
[]
[]
[]
[]
[]
[]
[]
[]
[]
[]
[]
[]
[]
[]
[]
[]
[]
[]
[]
[]
[]
[]
[]
[]
[]
[]
[]
[]
[null,null,null,null,null,null,null,null,null,null,null,null,null,null,null,null,null,null,null,null,null,null,null,null,null,null,null,null,null,null,null,null,null,null,null,null,null,null,null,null,null,null,null,null,null,null,null,null,null,null,null,null,{"$f":"A1","v":"Goa, , ADSI-2022"}]
[null,null,null,null,null,null,null,null,null,null,null,null,null,null,null,null,null,null,null,null,null,null,null,null,null,null,null,null,null,null,null,null,null,null,null,null,null,null,null,null,null,null,null,null,null,null,null,null,null,null,null,null,{"$f":"A2","v":"Errors"},{"$f":"C2","v":0},null,{"$f":"E2","v":"Abnormal Variations"},{"$f":"F2","v":0}]
[null,null,null,null,null,null,null,null,null,null,null,null,null,null,null,null,null,null,null,null,null,null,null,null,null,null,null,null,null,null,null,null,null,null,null,null,null,null,null,null,null,null,null,null,null,null,null,null,null,null,null,null,{"$f":"A3","v":"Proforma–XIII"}]
[null,null,null,null,null,null,null,null,null,null,null,null,null,null,null,null,null,null,null,null,null,null,null,null,null,null,null,null,null,null,null,null,null,null,null,null,null,null,null,null,null,null,null,null,null,null,null,null,null,null,null,null,{"$f":"A4","v":"Details on Deaths of Central Armed Police Force (CAPF) Personnel"}]
[null,null,null,null,null,null,null,null,null,null,null,null,null,null,null,null,null,null,null,null,null,null,null,null,null,null,null,null,null,null,null,null,null,null,null,null,null,null,null,null,null,null,null,null,null,null,null,null,null,null,null,null,{"$f":"B5","v":"Sl. No."},{"$f":"C5","v":"Causes"},{"$f":"D5","v":"Number of Accidental Deaths"},null,null,null,null,null,null,null,null,null,null,null,null,null,null,{"$f":"S5","v":"Grand Total [col. (7)+(12)+(17)]"}]
[null,null,null,null,null,null,null,null,null,null,null,null,null,null,null,null,null,null,null,null,null,null,null,null,null,null,null,null,null,null,null,null,null,null,null,null,null,null,null,null,null,null,null,null,null,null,null,null,null,null,null,null,null,null,{"$f":"D6","v":"Male"},null,null,null,null,{"$f":"I6","v":"Female"},null,null,null,null,{"$f":"N6","v":"Transgender"}]
[null,null,null,null,null,null,null,null,null,null,null,null,null,null,null,null,null,null,null,null,null,null,null,null,null,null,null,null,null,null,null,null,null,null,null,null,null,null,null,null,null,null,null,null,null,null,null,null,null,null,null,null,null,null,"18 and above – below 30 years",{"$f":"E7","v":"30 and above – below 45 years"},"45 and above – below 60 years","60 years & above"," Total [(sum of (3) to (6)]","18 and above – below 30 years",{"$f":"J7","v":"30 and above – below 45 years"},"45 and above – below 60 years","60 years & above","Total [sum of (8) to (11)]","18 and above – below 30 years",{"$f":"O7","v":"30 and above – below 45 years"},"45 and above – below 60 years","60 years & above","Total [sum of (13) to (16)]"]
[null,null,null,null,null,null,null,null,null,null,null,null,null,null,null,null,null,null,null,null,null,null,null,null,null,null,null,null,null,null,null,null,null,null,null,null,null,null,null,null,null,null,null,null,null,null,null,null,null,null,null,null,{"$f":"B8","v":"(1)"},"(2)","(3)","(4)","(5)","(6)","(7)","(8)","(9)","(10)","(11)","(12)","(13)","(14)","(15)","(16)","(17)",{"$f":"S8","v":"(18)"}]
[null,null,null,null,null,null,null,null,null,null,null,null,null,null,null,null,null,null,null,null,null,null,null,null,null,null,null,null,null,null,null,null,null,null,null,null,null,null,null,null,null,null,null,null,null,null,null,null,null,null,null,null,1,"Fratricide",0,0,0,0,0,0,0,0,0,0,0,0,0,0,0,{"$f":"S9","v":0}]
[null,null,null,null,null,null,null,null,null,null,null,null,null,null,null,null,null,null,null,null,null,null,null,null,null,null,null,null,null,null,null,null,null,null,null,null,null,null,null,null,null,null,null,null,null,null,null,null,null,null,null,null,1,"Deaths due to Road/Railway Accidents",0,0,0,0,0,0,0,0,0,0,0,0,0,0,0,{"$f":"S10","v":0}]
[null,null,null,null,null,null,null,null,null,null,null,null,null,null,null,null,null,null,null,null,null,null,null,null,null,null,null,null,null,null,null,null,null,null,null,null,null,null,null,null,null,null,null,null,null,null,null,null,null,null,null,null,2,"Deaths due to Natural Calamities",0,0,0,0,0,0,0,0,0,0,0,0,0,0,0,{"$f":"S11","v":0}]
[null,null,null,null,null,null,null,null,null,null,null,null,null,null,null,null,null,null,null,null,null,null,null,null,null,null,null,null,null,null,null,null,null,null,null,null,null,null,null,null,null,null,null,null,null,null,null,null,null,null,null,null,3,"Deaths Due to Unnatural Causes (Except Road/Railway Accidents)",0,0,0,0,0,0,0,0,0,0,0,0,0,0,0,{"$f":"S12","v":0}]
[null,null,null,null,null,null,null,null,null,null,null,null,null,null,null,null,null,null,null,null,null,null,null,null,null,null,null,null,null,null,null,null,null,null,null,null,null,null,null,null,null,null,null,null,null,null,null,null,null,null,null,null,{"$f":"B13","v":4},"Killed in Action/Operation/ Encounters/etc.",{"$f":"D13","v":0},{"$f":"E13","v":0},0,0,0,{"$f":"I13","v":0},{"$f":"J13","v":0},0,0,0,{"$f":"N13","v":0},{"$f":"O13","v":0},0,0,0,{"$f":"S13","v":0}]
[null,null,null,null,null,null,null,null,null,null,null,null,null,null,null,null,null,null,null,null,null,null,null,null,null,null,null,null,null,null,null,null,null,null,null,null,null,null,null,null,null,null,null,null,null,null,null,null,null,null,null,null,5,{"$f":"C14","v":"Other/Unknown Causes"},0,0,0,0,0,0,0,0,0,0,0,0,0,0,0,0]
[null,null,null,null,null,null,null,null,null,null,null,null,null,null,null,null,null,null,null,null,null,null,null,null,null,null,null,null,null,null,null,null,null,null,null,null,null,null,null,null,null,null,null,null,null,null,null,null,null,null,null,null,{"$f":"B15","v":6},{"$f":"C15","v":"Total (sum of Sl. 1 to 6)"},0,0,0,0,0,0,0,0,0,0,0,0,0,{"$f":"Q15","v":0},{"$f":"R15","v":0},{"$f":"S15","v":0}]
[null,null,null,null,null,null,null,null,null,null,null,null,null,null,null,null,null,null,null,null,null,null,null,null,null,null,null,null,null,null,null,null,null,null,null,null,null,null,null,null,null,null,null,null,null,null,null,null,null,null,null,null,{"$f":"A16","v":"PROFORMA–III VALUES [Sl.– 16  (Total)]"},null,{"$f":"D16","v":142},173,129,80,547,18,18,19,26,87,0,0,0,0,0,634]
[null,null,null,null,null,null,null,null,null,null,null,null,null,null,null,null,null,null,null,null,null,null,null,null,null,null,null,null,null,null,null,null,null,null,null,null,null,null,null,null,null,null,null,null,null,null,null,null,null,null,null,null,{"$f":"A17","v":"VALIDATION  WITH PROFORMA–III [Sl.– 16 (Total)]"},null,{"$f":"D17","v":""},"","","","","","","","","","","","","","",""]
[null,null,null,null,null,null,null,null,null,null,null,null,null,null,null,null,null,null,null,null,null,null,null,null,null,null,null,null,null,null,null,null,null,null,null,null,null,null,null,null,null,null,null,null,null,null,null,null,null,null,null,null,{"$f":"A18","v":"SL-6 ABNORMAL VARIATION IN \"OTHER/UNKNOWN CAUSES\" DATA"},null,{"$f":"D18","v":""},"","","","","","","","","","","","","","",""]
[null,null,null,null,null,null,null,null,null,null,null,null,null,null,null,null,null,null,null,null,null,null,null,null,null,null,null,null,null,null,null,null,null,null,null,null,null,null,null,null,null,null,null,null,null,null,null,null,null,null,null,null,{"$f":"D19","v":"Central Armed Police Force (CAPF) includes Assam Rifles (AR), Border Security Force (BSF), Central Industrial Security Force (CISF), Central Reserve Police Force (CRPF), Indo Tibetan Border Police (ITBP), National Security Guard (NSG) and Sashastra Seema Bal (SSB)"}]
[]
[]
[]
[]
[]
[]
[]
[]
[]
[]
[]
[]
[]
[]
[]
[]
[]
[]
[]
[]
[]
[]
[]
[]
[]
[]
[]
[]
[]
[]
[]
[]
[]
[]
[]
[]
[]
[]
[]
[]
[]
[]
[]
[]
[]
[]
[]
[]
[]
[]
[]
[]
[]
[]
[]
[]
[]
[]
[]
[]
[]
[]
[]
[]
[]
[]
[]
[]
[]
[]
[]
[]
[]
[]
[]
[]
[]
[]
[]
[]
[]
[]
[]
[]
[]
[]
[]
[]
[]
[]
[]
[]
[]
[]
[]
[]
[]
[]
[]
[]
[]
[]
[]
[]
[]
[]
[]
[]
[]
[]
[]
[]
[]
[]
[]
[]
[]
[]
[]
[]
[]
[]
[]
[]
[]
[]
[]
[]
[]
[]
[]
[]
[]
[]
[]
[]
[]
[]
[]
[]
[]
[]
[]
[]
[]
[]
[]
[]
[]
[]
[]
[]
[]
[]
[]
[]
[]
[]
[]
[]
[]
[]
[]
[]
[]
[]
[]
[]
[]
[]
[]
[]
[]
[]
[]
[]
[]
[]
[]
[]
[]
[]
[]
[]
[]
[]
[]
[]
[]
[]
[]
[]
[]
[]
[]
[]
[]
[]
[]
[]
[]
[]
[]
[]
[]
[]
[]
[]
[]
[]
[]
[]
[]
[]
[]
[]
[]
[]
[]
[]
[]
[]
[]
[]
[]
[]
[]
[]
[]
[]
[]
[]
[]
[]
[]
[]
[]
[]
[]
[]
[]
[]
[]
[]
[]
[]
[]
[]
[]
[]
[]
[]
[]
[]
[]
[]
[]
[]
[]
[]
[]
[]
[]
[]
[]
[]
[]
[]
[]
[]
[]
[]
[]
[]
[]
[]
[]
[]
[]
[]
[]
["StateUTCityCode","DistrictCode","CrimeCode","DataYear","Male_18 and above – below 30 years","Male_30 and above – below 45 years","Male_45 and above – below 60 years","Male_60 years & above","Male_Total","Female_18 and above – below 30 years","Female_30 and above – below 45 years","Female_45 and above – below 60 years","Female_60 years & above","Female_Total","Trans_18 and above – below 30 years","Trans_30 and above – below 45 years","Trans_45 and above – below 60 years","Trans_60 years & above","Trans_Total","Grand Total"]
[{"$f":"IF(ADSI!$G$12=\"\",ADSI!$H$16,ADSI!$H$12)","v":6},{"$f":"IF(ADSI!$G$12=\"\",ADSI!$H$16,ADSI!$H$14)","v":""},{"$f":"A9","v":700},{"$f":"ADSI!$K$12","v":2022},{"$f":"D9","v":0},0,0,0,0,0,0,0,0,0,0,0,0,0,0,0]
[{"$f":"IF(ADSI!$G$12=\"\",ADSI!$H$16,ADSI!$H$12)","v":6},{"$f":"IF(ADSI!$G$12=\"\",ADSI!$H$16,ADSI!$H$14)","v":""},701,{"$f":"ADSI!$K$12","v":2022},{"$f":"D10","v":0},0,0,0,0,0,0,0,0,0,0,0,0,0,0,0]
[{"$f":"IF(ADSI!$G$12=\"\",ADSI!$H$16,ADSI!$H$12)","v":6},{"$f":"IF(ADSI!$G$12=\"\",ADSI!$H$16,ADSI!$H$14)","v":""},702,{"$f":"ADSI!$K$12","v":2022},{"$f":"D11","v":0},0,0,0,0,0,0,0,0,0,0,0,0,0,0,0]
[{"$f":"IF(ADSI!$G$12=\"\",ADSI!$H$16,ADSI!$H$12)","v":6},{"$f":"IF(ADSI!$G$12=\"\",ADSI!$H$16,ADSI!$H$14)","v":""},703,{"$f":"ADSI!$K$12","v":2022},{"$f":"D12","v":0},0,0,0,0,0,0,0,0,0,0,0,0,0,0,0]
[{"$f":"IF(ADSI!$G$12=\"\",ADSI!$H$16,ADSI!$H$12)","v":6},{"$f":"IF(ADSI!$G$12=\"\",ADSI!$H$16,ADSI!$H$14)","v":""},704,{"$f":"ADSI!$K$12","v":2022},{"$f":"D13","v":0},0,0,0,0,0,0,0,0,0,0,0,0,0,0,0]
[{"$f":"IF(ADSI!$G$12=\"\",ADSI!$H$16,ADSI!$H$12)","v":6},{"$f":"IF(ADSI!$G$12=\"\",ADSI!$H$16,ADSI!$H$14)","v":""},705,{"$f":"ADSI!$K$12","v":2022},{"$f":"D14","v":0},0,0,0,0,0,0,0,0,0,0,0,0,0,0,0]
[{"$f":"IF(ADSI!$G$12=\"\",ADSI!$H$16,ADSI!$H$12)","v":6},{"$f":"IF(ADSI!$G$12=\"\",ADSI!$H$16,ADSI!$H$14)","v":""},715,{"$f":"ADSI!$K$12","v":2022},{"$f":"D15","v":0},0,0,0,0,0,0,0,0,0,0,0,0,0,0,0]

{"sheet":"P-XIV","index":16,"n_rows":531,"n_cols":76,"rows_kept":531,"cut":false,"hidden":false,"merged":[[237,52,237,53],[238,52,238,53],[239,52,239,53],[240,52,240,53],[41,0,41,2],[38,0,38,2],[39,0,39,2],[40,0,40,2],[202,75,204,75],[203,61,203,67],[203,54,203,60],[202,52,204,52],[202,53,204,53],[202,54,202,67],[202,68,202,74],[203,68,203,74],[4,17,4,23],[3,3,3,23],[3,0,5,0],[3,24,5,24],[4,3,4,9],[4,10,4,16],[3,1,5,1],[3,2,5,2]]}
[{"$f":"ADSI!$B$1","v":"Goa, , ADSI-2022"}]
[{"$f":"IF(ADSI!$L$10=1,LangMaster!A266,LangMaster!B266)","v":"Proforma-XIV"},null,null,null,"Abnormal Variations",{"$f":"COUNTIF(D39:Y42,\"ABVAR\")","v":15}]
[{"$f":"IF(ADSI!$L$10=1,LangMaster!A267,LangMaster!B267)","v":"Distribution of Suicides by Causes"}]
[{"$f":"IF(ADSI!$L$10=1,LangMaster!A26,LangMaster!B26)","v":"Code"},{"$f":"IF(ADSI!$L$10=1,LangMaster!A27,LangMaster!B27)","v":"S.No."},{"$f":"IF(ADSI!$L$10=1,LangMaster!A478,LangMaster!B478)","v":"Causes"},{"$f":"IF(ADSI!$L$10=1,LangMaster!A268,LangMaster!B268)","v":"Number of Suicidal Deaths"},null,null,null,null,null,null,null,null,null,null,null,null,null,null,null,null,null,null,null,null,{"$f":"IF(ADSI!$L$10=1,LangMaster!A473,LangMaster!B473)","v":"Grand Total (9) + (16)+(23)"}]
[null,null,null,{"$f":"IF(ADSI!$L$10=1,LangMaster!A30,LangMaster!B30)","v":"Male"},null,null,null,null,null,null,{"$f":"IF(ADSI!$L$10=1,LangMaster!A31,LangMaster!B31)","v":"Female"},null,null,null,null,null,null,{"$f":"IF(ADSI!$L$10=1,LangMaster!A32,LangMaster!B32)","v":"Transgender"}]
[null,null,null,{"$f":"IF(ADSI!$L$10=1,LangMaster!A461,LangMaster!B461)","v":"below 14 years"},{"$f":"IF(ADSI!$L$10=1,LangMaster!A462,LangMaster!B462)","v":"14 and above – below 18 years"},{"$f":"IF(ADSI!$L$10=1,LangMaster!A463,LangMaster!B463)","v":"18 and above – below 30 years"},{"$f":"IF(ADSI!$L$10=1,LangMaster!A464,LangMaster!B464)","v":"30 and above – below 45 years"},{"$f":"IF(ADSI!$L$10=1,LangMaster!A465,LangMaster!B465)","v":"45 and above – below 60 years"},{"$f":"IF(ADSI!$L$10=1,LangMaster!A466,LangMaster!B466)","v":"60 years & above"},{"$f":"IF(ADSI!$L$10=1,LangMaster!A470,LangMaster!B470)","v":" Total [sum of (3) to (8)]"},{"$f":"IF(ADSI!$L$10=1,LangMaster!A461,LangMaster!B461)","v":"below 14 years"},{"$f":"IF(ADSI!$L$10=1,LangMaster!A462,LangMaster!B462)","v":"14 and above – below 18 years"},{"$f":"IF(ADSI!$L$10=1,LangMaster!A463,LangMaster!B463)","v":"18 and above – below 30 years"},{"$f":"IF(ADSI!$L$10=1,LangMaster!A464,LangMaster!B464)","v":"30 and above – below 45 years"},{"$f":"IF(ADSI!$L$10=1,LangMaster!A465,LangMaster!B465)","v":"45 and above – below 60 years"},{"$f":"IF(ADSI!$L$10=1,LangMaster!A466,LangMaster!B466)","v":"60 years & above"},{"$f":"IF(ADSI!$L$10=1,LangMaster!A471,LangMaster!B471)","v":"Total    [sum of (10) to (15)]"},{"$f":"IF(ADSI!$L$10=1,LangMaster!A461,LangMaster!B461)","v":"below 14 years"},{"$f":"IF(ADSI!$L$10=1,LangMaster!A462,LangMaster!B462)","v":"14 and above – below 18 years"},{"$f":"IF(ADSI!$L$10=1,LangMaster!A463,LangMaster!B463)","v":"18 and above – below 30 years"},{"$f":"IF(ADSI!$L$10=1,LangMaster!A464,LangMaster!B464)","v":"30 and above – below 45 years"},{"$f":"IF(ADSI!$L$10=1,LangMaster!A465,LangMaster!B465)","v":"45 and above – below 60 years"},{"$f":"IF(ADSI!$L$10=1,LangMaster!A466,LangMaster!B466)","v":"60 years & above"},{"$f":"IF(ADSI!$L$10=1,LangMaster!A472,LangMaster!B472)","v":"Total [sum of (17) to (22)]"}]
[null,"(1)","(2)","(3)","(4)","(5)","(6)","(7)","(8)","(9)","(10)","(11)","(12)","(13)","(14)","(15)","(16)","(17)","(18)","(19)","(20)","(21)","(22)","(23)","(24)"]
[725,1,{"$f":"IF(ADSI!$L$10=1,LangMaster!A269,LangMaster!B269)","v":"Bankruptcy or indebtedness"},0,0,1,5,2,1,{"$f":"SUM(D8:I8)","v":9},0,0,1,0,0,0,{"$f":"SUM(K8:P8)","v":1},0,0,0,0,0,0,{"$f":"SUM(R8:W8)","v":0},{"$f":"SUM(J8+Q8+X8)","v":10}]
[726,2,{"$f":"IF(ADSI!$L$10=1,LangMaster!A270,LangMaster!B270)","v":"Marriage Related Issues (sum of 2.1 to 2.5)"},{"$f":"SUM(D10:D14)","v":0},0,1,2,0,0,3,{"$f":"SUM(K10:K14)","v":0},0,2,2,0,0,4,{"$f":"SUM(R10:R14)","v":0},0,0,0,0,0,0,7]
[727,null,{"$f":"IF(ADSI!$L$10=1,LangMaster!A271,LangMaster!B271)","v":"2.1 Non Settlement of Marriage"},0,0,1,0,0,0,1,0,0,1,0,0,0,1,0,0,0,0,0,0,0,2]
[728,null,{"$f":"IF(ADSI!$L$10=1,LangMaster!A272,LangMaster!B272)","v":"2.2 Dowry Related Issues"},0,0,0,0,0,0,0,0,0,0,0,0,0,0,0,0,0,0,0,0,0,0]
[729,null,{"$f":"IF(ADSI!$L$10=1,LangMaster!A273,LangMaster!B273)","v":"2.3 Extra Marital affairs"},0,0,0,1,0,0,1,0,0,1,2,0,0,3,0,0,0,0,0,0,0,4]
[730,null,{"$f":"IF(ADSI!$L$10=1,LangMaster!A274,LangMaster!B274)","v":"2.4 Divorce"},0,0,0,1,0,0,1,0,0,0,0,0,0,0,0,0,0,0,0,0,0,1]
[731,null,{"$f":"IF(ADSI!$L$10=1,LangMaster!A275,LangMaster!B275)","v":"2.5 Others"},0,0,0,0,0,0,0,0,0,0,0,0,0,0,0,0,0,0,0,0,0,0]
[732,3,{"$f":"IF(ADSI!$L$10=1,LangMaster!A276,LangMaster!B276)","v":"Failure in Examination"},0,0,0,0,0,0,0,0,0,1,0,0,0,1,0,0,0,0,0,0,0,1]
[733,4,{"$f":"IF(ADSI!$L$10=1,LangMaster!A277,LangMaster!B277)","v":"Impotency/Infertility"},0,0,0,0,0,0,0,0,0,0,0,0,0,0,0,0,0,0,0,0,0,0]
[734,5,{"$f":"IF(ADSI!$L$10=1,LangMaster!A278,LangMaster!B278)","v":"Family problems"},0,1,13,13,9,5,41,0,3,8,6,4,1,22,0,0,0,0,0,0,0,63]
[735,6,{"$f":"IF(ADSI!$L$10=1,LangMaster!A279,LangMaster!B279)","v":"Illness (sum of 6.1 to 6.5)"},{"$f":"SUM(D19:D23)","v":0},0,8,19,16,14,57,{"$f":"SUM(K19:K23)","v":0},0,5,4,10,5,24,{"$f":"SUM(R19:R23)","v":0},0,0,0,0,0,0,81]
[736,null,{"$f":"IF(ADSI!$L$10=1,LangMaster!A280,LangMaster!B280)","v":"6.1 AIDS/STD"},0,0,0,0,1,0,1,0,0,0,0,0,0,0,0,0,0,0,0,0,0,1]
[737,null,{"$f":"IF(ADSI!$L$10=1,LangMaster!A281,LangMaster!B281)","v":"6.2 Cancer"},0,0,0,0,0,0,0,0,0,0,0,0,0,0,0,0,0,0,0,0,0,0]
[738,null,{"$f":"IF(ADSI!$L$10=1,LangMaster!A282,LangMaster!B282)","v":"6.3 Paralysis"},0,0,0,1,1,0,2,0,0,0,0,0,0,0,0,0,0,0,0,0,0,2]
[739,null,{"$f":"IF(ADSI!$L$10=1,LangMaster!A283,LangMaster!B283)","v":"6.4 Insanity/Mental illness"},0,0,6,15,11,10,42,0,0,5,4,9,5,23,0,0,0,0,0,0,0,65]
[740,null,{"$f":"IF(ADSI!$L$10=1,LangMaster!A284,LangMaster!B284)","v":"6.5 Other prolonged illness"},0,0,2,3,3,4,12,0,0,0,0,1,0,1,0,0,0,0,0,0,0,13]
[741,7,{"$f":"IF(ADSI!$L$10=1,LangMaster!A285,LangMaster!B285)","v":"Death of dear person"},0,0,1,1,0,2,4,0,0,1,0,0,0,1,0,0,0,0,0,0,0,5]
[742,8,{"$f":"IF(ADSI!$L$10=1,LangMaster!A286,LangMaster!B286)","v":"Drug abuse/Alcoholic addiction"},0,0,2,11,14,2,29,0,0,0,0,0,0,0,0,0,0,0,0,0,0,29]
[743,9,{"$f":"IF(ADSI!$L$10=1,LangMaster!A287,LangMaster!B287)","v":"Fall in social reputation"},0,0,0,0,1,0,1,0,0,0,0,0,0,0,0,0,0,0,0,0,0,1]
[744,10,{"$f":"IF(ADSI!$L$10=1,LangMaster!A288,LangMaster!B288)","v":"Ideological causes/Hero worshipping"},0,0,0,0,0,0,0,0,0,0,0,0,0,0,0,0,0,0,0,0,0,0]
[745,11,{"$f":"IF(ADSI!$L$10=1,LangMaster!A289,LangMaster!B289)","v":"Love affairs"},0,0,14,4,0,0,18,1,2,5,1,0,0,9,0,0,0,0,0,0,0,27]
[746,12,{"$f":"IF(ADSI!$L$10=1,LangMaster!A290,LangMaster!B290)","v":"Poverty"},0,0,0,1,1,1,3,0,0,0,0,0,0,0,0,0,0,0,0,0,0,3]
[747,13,{"$f":"IF(ADSI!$L$10=1,LangMaster!A291,LangMaster!B291)","v":"Unemployment"},0,0,3,4,5,0,12,0,0,0,0,0,0,0,0,0,0,0,0,0,0,12]
[748,14,{"$f":"IF(ADSI!$L$10=1,LangMaster!A292,LangMaster!B292)","v":"Property dispute"},0,0,0,1,1,0,2,0,0,0,0,0,0,0,0,0,0,0,0,0,0,2]
[749,15,{"$f":"IF(ADSI!$L$10=1,LangMaster!A293,LangMaster!B293)","v":"Suspected/Illicit relation (other than item 2.3)"},0,0,0,0,0,0,0,0,0,0,0,0,0,0,0,0,0,0,0,0,0,0]
[750,16,{"$f":"IF(ADSI!$L$10=1,LangMaster!A294,LangMaster!B294)","v":"Illegitimate Pregnancy (other than item 2.3)"},0,0,0,0,0,0,0,0,0,0,0,0,0,0,0,0,0,0,0,0,0,0]
[751,17,{"$f":"IF(ADSI!$L$10=1,LangMaster!A295,LangMaster!B295)","v":"Physical Abuse (Rape, etc.)"},0,0,0,0,0,0,0,0,0,0,0,0,0,0,0,0,0,0,0,0,0,0]
[752,18,{"$f":"IF(ADSI!$L$10=1,LangMaster!A296,LangMaster!B296)","v":"Professional/Career Problem"},0,0,3,6,3,0,12,0,0,0,0,0,0,0,0,0,0,0,0,0,0,12]
[753,19,{"$f":"IF(ADSI!$L$10=1,LangMaster!A297,LangMaster!B297)","v":"Causes not known"},0,0,8,16,4,2,30,0,2,3,2,0,0,7,0,0,0,0,0,0,0,37]
[754,20,{"$f":"IF(ADSI!$L$10=1,LangMaster!A298,LangMaster!B298)","v":"Other causes"},1,2,1,5,1,1,11,0,0,0,1,0,0,1,0,0,0,0,0,0,0,12]
[780,21,{"$f":"IF(ADSI!$L$10=1,LangMaster!A299,LangMaster!B299)","v":"Total (sum of Sl. 1 to 20)"},{"$f":"SUM(D8:D9,D15:D18,D24:D37)","v":1},3,55,88,57,28,232,{"$f":"SUM(K8:K9,K15:K18,K24:K37)","v":1},7,26,16,14,6,70,{"$f":"SUM(R8:R9,R15:R18,R24:R37)","v":0},0,0,0,0,0,0,302]
["SL-2.5 ABNORMAL VARIATION IN \"OTHERS\" DATA",null,null,{"$f":"IF(D9>0,IF((D14/D9*100)>10,\"ABVAR\",\"\"),\"\")","v":""},{"$f":"IF(E9>0,IF((E14/E9*100)>10,\"ABVAR\",\"\"),\"\")","v":""},"","","","","","","","","","","","","","","","","","","",""]
["SL-6.5 ABNORMAL VARIATION IN \"OTHER PROLONGED ILLNESS\" DATA",null,null,{"$f":"IF(D18>0,IF((D23/D18*100)>10,\"ABVAR\",\"\"),\"\")","v":""},{"$f":"IF(E18>0,IF((E23/E18*100)>10,\"ABVAR\",\"\"),\"\")","v":""},"ABVAR","ABVAR","ABVAR","ABVAR","ABVAR","","","","","","","","","","","","","","","ABVAR"]
["SL-19 ABNORMAL VARIATION IN \"CAUSES NOT KNOWN\" DATA",null,null,{"$f":"IF(D38>0,IF((D36/D38*100)>10,\"ABVAR\",\"\"),\"\")","v":""},{"$f":"IF(E38>0,IF((E36/E38*100)>10,\"ABVAR\",\"\"),\"\")","v":""},"ABVAR","ABVAR","","","ABVAR","","ABVAR","ABVAR","ABVAR","","","","","","","","","","","ABVAR"]
["SL-20 ABNORMAL VARIATION IN \"OTHER CAUSES\" DATA",null,null,{"$f":"IF(D38>0,IF((D37/D38*100)>10,\"ABVAR\",\"\"),\"\")","v":"ABVAR"},{"$f":"IF(E38>0,IF((E37/E38*100)>10,\"ABVAR\",\"\"),\"\")","v":"ABVAR"},"","","","","","","","","","","","","","","","","","","",""]
[]
[{"$f":"IF(ADSI!$L$10=1,LangMaster!A300,LangMaster!B300)","v":"Note: If causes of suicides is found as more than one, the most immediate cause of suicides should be considered."}]
[]
[]
[]
[]
[]
[]
[]
[]
[]
[]
[]
[]
[]
[]
[]
[]
[]
[]
[]
[]
[]
[]
[]
[]
[]
[]
[]
[]
[]
[]
[]
[]
[]
[]
[]
[]
[]
[]
[]
[]
[]
[]
[]
[]
[]
[]
[]
[]
[]
[]
[]
[]
[]
[]
[]
[]
[]
[]
[]
[]
[]
[]
[]
[]
[]
[]
[]
[]
[]
[]
[]
[]
[]
[]
[]
[]
[]
[]
[]
[]
[]
[]
[]
[]
[]
[]
[]
[]
[]
[]
[]
[]
[]
[]
[]
[]
[]
[]
[]
[]
[]
[]
[]
[]
[]
[]
[]
[]
[]
[]
[]
[]
[]
[]
[]
[]
[]
[]
[]
[]
[]
[]
[]
[]
[]
[]
[]
[]
[]
[]
[]
[]
[]
[]
[]
[]
[]
[]
[]
[]
[]
[]
[]
[]
[]
[]
[]
[]
[]
[]
[]
[]
[]
[]
[]
[null,null,null,null,null,null,null,null,null,null,null,null,null,null,null,null,null,null,null,null,null,null,null,null,null,null,null,null,null,null,null,null,null,null,null,null,null,null,null,null,null,null,null,null,null,null,null,null,null,null,null,null,{"$f":"A1","v":"Goa, , ADSI-2022"}]
[null,null,null,null,null,null,null,null,null,null,null,null,null,null,null,null,null,null,null,null,null,null,null,null,null,null,null,null,null,null,null,null,null,null,null,null,null,null,null,null,null,null,null,null,null,null,null,null,null,null,null,null,{"$f":"A2","v":"Proforma-XIV"},null,null,null,{"$f":"E2","v":"Abnormal Variations"},{"$f":"F2","v":15}]
[null,null,null,null,null,null,null,null,null,null,null,null,null,null,null,null,null,null,null,null,null,null,null,null,null,null,null,null,null,null,null,null,null,null,null,null,null,null,null,null,null,null,null,null,null,null,null,null,null,null,null,null,{"$f":"A3","v":"Distribution of Suicides by Causes"}]
[null,null,null,null,null,null,null,null,null,null,null,null,null,null,null,null,null,null,null,null,null,null,null,null,null,null,null,null,null,null,null,null,null,null,null,null,null,null,null,null,null,null,null,null,null,null,null,null,null,null,null,null,{"$f":"B4","v":"S.No."},{"$f":"C4","v":"Causes"},{"$f":"D4","v":"Number of Suicidal Deaths"},null,null,null,null,null,null,null,null,null,null,null,null,null,"Number of Suicidal Deaths",null,null,null,null,null,null,{"$f":"Y4","v":"Grand Total (9) + (16)+(23)"}]
[null,null,null,null,null,null,null,null,null,null,null,null,null,null,null,null,null,null,null,null,null,null,null,null,null,null,null,null,null,null,null,null,null,null,null,null,null,null,null,null,null,null,null,null,null,null,null,null,null,null,null,null,null,null,{"$f":"D5","v":"Male"},null,null,null,null,null,null,{"$f":"K5","v":"Female"},null,null,null,null,null,null,{"$f":"R5","v":"Transgender"}]
[null,null,null,null,null,null,null,null,null,null,null,null,null,null,null,null,null,null,null,null,null,null,null,null,null,null,null,null,null,null,null,null,null,null,null,null,null,null,null,null,null,null,null,null,null,null,null,null,null,null,null,null,null,null,"below 14 years",{"$f":"E6","v":"14 and above – below 18 years"},{"$f":"F6","v":"18 and above – below 30 years"},{"$f":"G6","v":"30 and above – below 45 years"},{"$f":"H6","v":"45 and above – below 60 years"},{"$f":"I6","v":"60 years & above"},{"$f":"J6","v":" Total [sum of (3) to (8)]"},"below 14 years",{"$f":"L6","v":"14 and above – below 18 years"},{"$f":"M6","v":"18 and above – below 30 years"},{"$f":"N6","v":"30 and above – below 45 years"},{"$f":"O6","v":"45 and above – below 60 years"},{"$f":"P6","v":"60 years & above"},{"$f":"Q6","v":"Total    [sum of (10) to (15)]"},"below 14 years",{"$f":"S6","v":"14 and above – below 18 years"},{"$f":"T6","v":"18 and above – below 30 years"},{"$f":"U6","v":"30 and above – below 45 years"},{"$f":"V6","v":"45 and above – below 60 years"},{"$f":"W6","v":"60 years & above"},{"$f":"X6","v":"Total [sum of (17) to (22)]"}]
[null,null,null,null,null,null,null,null,null,null,null,null,null,null,null,null,null,null,null,null,null,null,null,null,null,null,null,null,null,null,null,null,null,null,null,null,null,null,null,null,null,null,null,null,null,null,null,null,null,null,null,null,{"$f":"B7","v":"(1)"},{"$f":"C7","v":"(2)"},"(3)","(4)","(5)","(6)","(7)","(8)","(9)","(10)","(11)","(12)","(13)","(14)","(15)","(16)","(17)","(18)","(19)","(20)","(21)","(22)","(23)",{"$f":"Y7","v":"(24)"}]
[null,null,null,null,null,null,null,null,null,null,null,null,null,null,null,null,null,null,null,null,null,null,null,null,null,null,null,null,null,null,null,null,null,null,null,null,null,null,null,null,null,null,null,null,null,null,null,null,null,null,null,null,1,"Bankruptcy or indebtedness",0,0,1,5,2,1,9,0,0,1,0,0,0,1,0,0,0,0,0,0,0,10]
[null,null,null,null,null,null,null,null,null,null,null,null,null,null,null,null,null,null,null,null,null,null,null,null,null,null,null,null,null,null,null,null,null,null,null,null,null,null,null,null,null,null,null,null,null,null,null,null,null,null,null,null,2,"Marriage Related Issues (sum of 2.1 to 2.5)",0,0,1,2,0,0,3,0,0,2,2,0,0,4,0,0,0,0,0,0,0,7]
[null,null,null,null,null,null,null,null,null,null,null,null,null,null,null,null,null,null,null,null,null,null,null,null,null,null,null,null,null,null,null,null,null,null,null,null,null,null,null,null,null,null,null,null,null,null,null,null,null,null,null,null,null,"2.1 Non Settlement of Marriage",0,0,1,0,0,0,1,0,0,1,0,0,0,1,0,0,0,0,0,0,0,2]
[null,null,null,null,null,null,null,null,null,null,null,null,null,null,null,null,null,null,null,null,null,null,null,null,null,null,null,null,null,null,null,null,null,null,null,null,null,null,null,null,null,null,null,null,null,null,null,null,null,null,null,null,null,"2.2 Dowry Related Issues",0,0,0,0,0,0,0,0,0,0,0,0,0,0,0,0,0,0,0,0,0,0]
[null,null,null,null,null,null,null,null,null,null,null,null,null,null,null,null,null,null,null,null,null,null,null,null,null,null,null,null,null,null,null,null,null,null,null,null,null,null,null,null,null,null,null,null,null,null,null,null,null,null,null,null,null,"2.3 Extra Marital affairs",0,0,0,1,0,0,1,0,0,1,2,0,0,3,0,0,0,0,0,0,0,4]
[null,null,null,null,null,null,null,null,null,null,null,null,null,null,null,null,null,null,null,null,null,null,null,null,null,null,null,null,null,null,null,null,null,null,null,null,null,null,null,null,null,null,null,null,null,null,null,null,null,null,null,null,null,"2.4 Divorce",0,0,0,1,0,0,1,0,0,0,0,0,0,0,0,0,0,0,0,0,0,1]
[null,null,null,null,null,null,null,null,null,null,null,null,null,null,null,null,null,null,null,null,null,null,null,null,null,null,null,null,null,null,null,null,null,null,null,null,null,null,null,null,null,null,null,null,null,null,null,null,null,null,null,null,null,"2.5 Others",0,0,0,0,0,0,0,0,0,0,0,0,0,0,0,0,0,0,0,0,0,0]
[null,null,null,null,null,null,null,null,null,null,null,null,null,null,null,null,null,null,null,null,null,null,null,null,null,null,null,null,null,null,null,null,null,null,null,null,null,null,null,null,null,null,null,null,null,null,null,null,null,null,null,null,3,"Failure in Examination",0,0,0,0,0,0,0,0,0,1,0,0,0,1,0,0,0,0,0,0,0,1]
[null,null,null,null,null,null,null,null,null,null,null,null,null,null,null,null,null,null,null,null,null,null,null,null,null,null,null,null,null,null,null,null,null,null,null,null,null,null,null,null,null,null,null,null,null,null,null,null,null,null,null,null,4,"Impotency/Infertility",0,0,0,0,0,0,0,0,0,0,0,0,0,0,0,0,0,0,0,0,0,0]
[null,null,null,null,null,null,null,null,null,null,null,null,null,null,null,null,null,null,null,null,null,null,null,null,null,null,null,null,null,null,null,null,null,null,null,null,null,null,null,null,null,null,null,null,null,null,null,null,null,null,null,null,5,"Family problems",0,1,13,13,9,5,41,0,3,8,6,4,1,22,0,0,0,0,0,0,0,63]
[null,null,null,null,null,null,null,null,null,null,null,null,null,null,null,null,null,null,null,null,null,null,null,null,null,null,null,null,null,null,null,null,null,null,null,null,null,null,null,null,null,null,null,null,null,null,null,null,null,null,null,null,6,"Illness (sum of 6.1 to 6.5)",0,0,8,19,16,14,57,0,0,5,4,10,5,24,0,0,0,0,0,0,0,81]
[null,null,null,null,null,null,null,null,null,null,null,null,null,null,null,null,null,null,null,null,null,null,null,null,null,null,null,null,null,null,null,null,null,null,null,null,null,null,null,null,null,null,null,null,null,null,null,null,null,null,null,null,null,"6.1 AIDS/STD",0,0,0,0,1,0,1,0,0,0,0,0,0,0,0,0,0,0,0,0,0,1]
[null,null,null,null,null,null,null,null,null,null,null,null,null,null,null,null,null,null,null,null,null,null,null,null,null,null,null,null,null,null,null,null,null,null,null,null,null,null,null,null,null,null,null,null,null,null,null,null,null,null,null,null,null,"6.2 Cancer",0,0,0,0,0,0,0,0,0,0,0,0,0,0,0,0,0,0,0,0,0,0]
[null,null,null,null,null,null,null,null,null,null,null,null,null,null,null,null,null,null,null,null,null,null,null,null,null,null,null,null,null,null,null,null,null,null,null,null,null,null,null,null,null,null,null,null,null,null,null,null,null,null,null,null,null,"6.3 Paralysis",0,0,0,1,1,0,2,0,0,0,0,0,0,0,0,0,0,0,0,0,0,2]
[null,null,null,null,null,null,null,null,null,null,null,null,null,null,null,null,null,null,null,null,null,null,null,null,null,null,null,null,null,null,null,null,null,null,null,null,null,null,null,null,null,null,null,null,null,null,null,null,null,null,null,null,null,"6.4 Insanity/Mental illness",0,0,6,15,11,10,42,0,0,5,4,9,5,23,0,0,0,0,0,0,0,65]
[null,null,null,null,null,null,null,null,null,null,null,null,null,null,null,null,null,null,null,null,null,null,null,null,null,null,null,null,null,null,null,null,null,null,null,null,null,null,null,null,null,null,null,null,null,null,null,null,null,null,null,null,null,"6.5 Other prolonged illness",0,0,2,3,3,4,12,0,0,0,0,1,0,1,0,0,0,0,0,0,0,13]
[null,null,null,null,null,null,null,null,null,null,null,null,null,null,null,null,null,null,null,null,null,null,null,null,null,null,null,null,null,null,null,null,null,null,null,null,null,null,null,null,null,null,null,null,null,null,null,null,null,null,null,null,7,"Death of dear person",0,0,1,1,0,2,4,0,0,1,0,0,0,1,0,0,0,0,0,0,0,5]
[null,null,null,null,null,null,null,null,null,null,null,null,null,null,null,null,null,null,null,null,null,null,null,null,null,null,null,null,null,null,null,null,null,null,null,null,null,null,null,null,null,null,null,null,null,null,null,null,null,null,null,null,8,"Drug abuse/Alcoholic addiction",0,0,2,11,14,2,29,0,0,0,0,0,0,0,0,0,0,0,0,0,0,29]
[null,null,null,null,null,null,null,null,null,null,null,null,null,null,null,null,null,null,null,null,null,null,null,null,null,null,null,null,null,null,null,null,null,null,null,null,null,null,null,null,null,null,null,null,null,null,null,null,null,null,null,null,9,"Fall in social reputation",0,0,0,0,1,0,1,0,0,0,0,0,0,0,0,0,0,0,0,0,0,1]
[null,null,null,null,null,null,null,null,null,null,null,null,null,null,null,null,null,null,null,null,null,null,null,null,null,null,null,null,null,null,null,null,null,null,null,null,null,null,null,null,null,null,null,null,null,null,null,null,null,null,null,null,10,"Ideological causes/Hero worshipping",0,0,0,0,0,0,0,0,0,0,0,0,0,0,0,0,0,0,0,0,0,0]
[null,null,null,null,null,null,null,null,null,null,null,null,null,null,null,null,null,null,null,null,null,null,null,null,null,null,null,null,null,null,null,null,null,null,null,null,null,null,null,null,null,null,null,null,null,null,null,null,null,null,null,null,11,"Love affairs",0,0,14,4,0,0,18,1,2,5,1,0,0,9,0,0,0,0,0,0,0,27]
[null,null,null,null,null,null,null,null,null,null,null,null,null,null,null,null,null,null,null,null,null,null,null,null,null,null,null,null,null,null,null,null,null,null,null,null,null,null,null,null,null,null,null,null,null,null,null,null,null,null,null,null,12,"Poverty",0,0,0,1,1,1,3,0,0,0,0,0,0,0,0,0,0,0,0,0,0,3]
[null,null,null,null,null,null,null,null,null,null,null,null,null,null,null,null,null,null,null,null,null,null,null,null,null,null,null,null,null,null,null,null,null,null,null,null,null,null,null,null,null,null,null,null,null,null,null,null,null,null,null,null,13,"Unemployment",0,0,3,4,5,0,12,0,0,0,0,0,0,0,0,0,0,0,0,0,0,12]
[null,null,null,null,null,null,null,null,null,null,null,null,null,null,null,null,null,null,null,null,null,null,null,null,null,null,null,null,null,null,null,null,null,null,null,null,null,null,null,null,null,null,null,null,null,null,null,null,null,null,null,null,14,"Property dispute",0,0,0,1,1,0,2,0,0,0,0,0,0,0,0,0,0,0,0,0,0,2]
[null,null,null,null,null,null,null,null,null,null,null,null,null,null,null,null,null,null,null,null,null,null,null,null,null,null,null,null,null,null,null,null,null,null,null,null,null,null,null,null,null,null,null,null,null,null,null,null,null,null,null,null,15,"Suspected/Illicit relation (other than item 2.3)",0,0,0,0,0,0,0,0,0,0,0,0,0,0,0,0,0,0,0,0,0,0]
[null,null,null,null,null,null,null,null,null,null,null,null,null,null,null,null,null,null,null,null,null,null,null,null,null,null,null,null,null,null,null,null,null,null,null,null,null,null,null,null,null,null,null,null,null,null,null,null,null,null,null,null,16,"Illegitimate Pregnancy (other than item 2.3)",0,0,0,0,0,0,0,0,0,0,0,0,0,0,0,0,0,0,0,0,0,0]
[null,null,null,null,null,null,null,null,null,null,null,null,null,null,null,null,null,null,null,null,null,null,null,null,null,null,null,null,null,null,null,null,null,null,null,null,null,null,null,null,null,null,null,null,null,null,null,null,null,null,null,null,17,"Physical Abuse (Rape, etc.)",0,0,0,0,0,0,0,0,0,0,0,0,0,0,0,0,0,0,0,0,0,0]
[null,null,null,null,null,null,null,null,null,null,null,null,null,null,null,null,null,null,null,null,null,null,null,null,null,null,null,null,null,null,null,null,null,null,null,null,null,null,null,null,null,null,null,null,null,null,null,null,null,null,null,null,18,"Professional/Career Problem",0,0,3,6,3,0,12,0,0,0,0,0,0,0,0,0,0,0,0,0,0,12]
[null,null,null,null,null,null,null,null,null,null,null,null,null,null,null,null,null,null,null,null,null,null,null,null,null,null,null,null,null,null,null,null,null,null,null,null,null,null,null,null,null,null,null,null,null,null,null,null,null,null,null,null,19,"Causes not known",0,0,8,16,4,2,30,0,2,3,2,0,0,7,0,0,0,0,0,0,0,37]
[null,null,null,null,null,null,null,null,null,null,null,null,null,null,null,null,null,null,null,null,null,null,null,null,null,null,null,null,null,null,null,null,null,null,null,null,null,null,null,null,null,null,null,null,null,null,null,null,null,null,null,null,20,"Other causes",1,2,1,5,1,1,11,0,0,0,1,0,0,1,0,0,0,0,0,0,0,12]
[null,null,null,null,null,null,null,null,null,null,null,null,null,null,null,null,null,null,null,null,null,null,null,null,null,null,null,null,null,null,null,null,null,null,null,null,null,null,null,null,null,null,null,null,null,null,null,null,null,null,null,null,21,"Total (sum of Sl. 1 to 20)",1,3,55,88,57,28,232,1,7,26,16,14,6,70,0,0,0,0,0,0,0,302]
[null,null,null,null,null,null,null,null,null,null,null,null,null,null,null,null,null,null,null,null,null,null,null,null,null,null,null,null,null,null,null,null,null,null,null,null,null,null,null,null,null,null,null,null,null,null,null,null,null,null,null,null,{"$f":"A39","v":"SL-2.5 ABNORMAL VARIATION IN \"OTHERS\" DATA"},null,{"$f":"D39","v":""},"","","","","","","","","","","","","","","","","","","","",""]
[null,null,null,null,null,null,null,null,null,null,null,null,null,null,null,null,null,null,null,null,null,null,null,null,null,null,null,null,null,null,null,null,null,null,null,null,null,null,null,null,null,null,null,null,null,null,null,null,null,null,null,null,{"$f":"A40","v":"SL-6.5 ABNORMAL VARIATION IN \"OTHER PROLONGED ILLNESS\" DATA"},null,{"$f":"D40","v":""},"","ABVAR","ABVAR","ABVAR","ABVAR","ABVAR","","","","","","","","","","","","","","","ABVAR"]
[null,null,null,null,null,null,null,null,null,null,null,null,null,null,null,null,null,null,null,null,null,null,null,null,null,null,null,null,null,null,null,null,null,null,null,null,null,null,null,null,null,null,null,null,null,null,null,null,null,null,null,null,"SL-19 ABNORMAL VARIATION IN \"CAUSES NOT KNOWN\" DATA",null,"","","ABVAR","ABVAR","","","ABVAR","","ABVAR","ABVAR","ABVAR","","","","","","","","","","","ABVAR"]
[null,null,null,null,null,null,null,null,null,null,null,null,null,null,null,null,null,null,null,null,null,null,null,null,null,null,null,null,null,null,null,null,null,null,null,null,null,null,null,null,null,null,null,null,null,null,null,null,null,null,null,null,"SL-20 ABNORMAL VARIATION IN \"OTHER CAUSES\" DATA",null,"ABVAR","ABVAR","","","","","","","","","","","","","","","","","","","",""]
[]
[]
[]
[]
[]
[]
[]
[]
[]
[]
[]
[]
[]
[]
[]
[]
[]
[]
[]
[]
[]
[]
[]
[]
[]
[]
[]
[]
[]
[]
[]
[]
[]
[]
[]
[]
[]
[]
[]
[]
[]
[]
[]
[]
[]
[]
[]
[]
[]
[]
[]
[]
[]
[]
[]
[]
[]
[]
[]
[]
[]
[]
[]
[]
[]
[]
[]
[]
[]
[]
[]
[]
[]
[]
[]
[]
[]
[]
[]
[]
[]
[]
[]
[]
[]
[]
[]
[]
[]
[]
[]
[]
[]
[]
[]
[]
[]
[]
[]
[]
[]
[]
[]
[]
[]
[]
[]
[]
[]
[]
[]
[]
[]
[]
[]
[]
[]
[]
[]
[]
[]
[]
[]
[]
[]
[]
[]
[]
[]
[]
[]
[]
[]
[]
[]
[]
[]
[]
[]
[]
[]
[]
[]
[]
[]
[]
[]
[]
[]
[]
[]
[]
[]
[]
[]
[]
[]
[]
[]
[]
[]
[]
[]
[]
[]
[]
[]
[]
[]
[]
[]
[]
[]
[]
[]
[]
[]
[]
[]
[]
[]
[]
[]
[]
[]
[]
[]
[]
[]
[]
[]
[]
[]
[]
[]
[]
[]
[]
[]
[]
[]
[]
[]
[]
[]
[]
[]
[]
[]
[]
[]
[]
[]
[]
[]
[]
[]
[]
[]
[]
[]
[]
[]
[]
[]
[]
[]
[]
[]
[]
[]
[]
[]
[]
[]
[]
[]
[]
[]
[]
[]
[]
[]
[]
[]
[]
[]
[]
[]
[]
[]
[]
[]
[]
[]
[]
[]
[]
["StateUTCityCode","DistrictCode","CrimeCode","DataYear","Male_below 14 years","Male_14 and above – below 18 years","Male_18 and above – below 30 years","Male_30 and above – below 45 years","Male_45 and above – below 60 years","Male_60 years & above","Male_Total","Female_below 14 years","Female_14 and above – below 18 years","Female_18 and above – below 30 years","Female_30 and above – below 45 years","Female_45 and above – below 60 years","Female_60 years & above","Female_Total","Trans_below 14 years","Trans_14 and above – below 18 years","Trans_18 and above – below 30 years","Trans_30 and above – below 45 years","Trans_45 and above – below 60 years","Trans_60 years & above","Trans_Total","Grand Total"]
[{"$f":"IF(ADSI!$G$12=\"\",ADSI!$H$16,ADSI!$H$12)","v":6},{"$f":"IF(ADSI!$G$12=\"\",ADSI!$H$16,ADSI!$H$14)","v":""},{"$f":"A8","v":725},{"$f":"ADSI!$K$12","v":2022},{"$f":"D8","v":0},{"$f":"E8","v":0},1,5,2,1,9,0,0,1,0,0,0,1,0,0,0,0,0,0,0,10]
[{"$f":"IF(ADSI!$G$12=\"\",ADSI!$H$16,ADSI!$H$12)","v":6},{"$f":"IF(ADSI!$G$12=\"\",ADSI!$H$16,ADSI!$H$14)","v":""},{"$f":"A9","v":726},{"$f":"ADSI!$K$12","v":2022},{"$f":"D9","v":0},0,1,2,0,0,3,0,0,2,2,0,0,4,0,0,0,0,0,0,0,7]
[{"$f":"IF(ADSI!$G$12=\"\",ADSI!$H$16,ADSI!$H$12)","v":6},{"$f":"IF(ADSI!$G$12=\"\",ADSI!$H$16,ADSI!$H$14)","v":""},727,{"$f":"ADSI!$K$12","v":2022},{"$f":"D10","v":0},0,1,0,0,0,1,0,0,1,0,0,0,1,0,0,0,0,0,0,0,2]
[{"$f":"IF(ADSI!$G$12=\"\",ADSI!$H$16,ADSI!$H$12)","v":6},{"$f":"IF(ADSI!$G$12=\"\",ADSI!$H$16,ADSI!$H$14)","v":""},728,{"$f":"ADSI!$K$12","v":2022},{"$f":"D11","v":0},0,0,0,0,0,0,0,0,0,0,0,0,0,0,0,0,0,0,0,0,0]
[{"$f":"IF(ADSI!$G$12=\"\",ADSI!$H$16,ADSI!$H$12)","v":6},{"$f":"IF(ADSI!$G$12=\"\",ADSI!$H$16,ADSI!$H$14)","v":""},729,{"$f":"ADSI!$K$12","v":2022},{"$f":"D12","v":0},0,0,1,0,0,1,0,0,1,2,0,0,3,0,0,0,0,0,0,0,4]
[{"$f":"IF(ADSI!$G$12=\"\",ADSI!$H$16,ADSI!$H$12)","v":6},{"$f":"IF(ADSI!$G$12=\"\",ADSI!$H$16,ADSI!$H$14)","v":""},730,{"$f":"ADSI!$K$12","v":2022},{"$f":"D13","v":0},0,0,1,0,0,1,0,0,0,0,0,0,0,0,0,0,0,0,0,0,1]
[{"$f":"IF(ADSI!$G$12=\"\",ADSI!$H$16,ADSI!$H$12)","v":6},{"$f":"IF(ADSI!$G$12=\"\",ADSI!$H$16,ADSI!$H$14)","v":""},731,{"$f":"ADSI!$K$12","v":2022},{"$f":"D14","v":0},0,0,0,0,0,0,0,0,0,0,0,0,0,0,0,0,0,0,0,0,0]
[{"$f":"IF(ADSI!$G$12=\"\",ADSI!$H$16,ADSI!$H$12)","v":6},{"$f":"IF(ADSI!$G$12=\"\",ADSI!$H$16,ADSI!$H$14)","v":""},732,{"$f":"ADSI!$K$12","v":2022},{"$f":"D15","v":0},0,0,0,0,0,0,0,0,1,0,0,0,1,0,0,0,0,0,0,0,1]
[{"$f":"IF(ADSI!$G$12=\"\",ADSI!$H$16,ADSI!$H$12)","v":6},{"$f":"IF(ADSI!$G$12=\"\",ADSI!$H$16,ADSI!$H$14)","v":""},733,{"$f":"ADSI!$K$12","v":2022},{"$f":"D16","v":0},0,0,0,0,0,0,0,0,0,0,0,0,0,0,0,0,0,0,0,0,0]
[{"$f":"IF(ADSI!$G$12=\"\",ADSI!$H$16,ADSI!$H$12)","v":6},{"$f":"IF(ADSI!$G$12=\"\",ADSI!$H$16,ADSI!$H$14)","v":""},734,{"$f":"ADSI!$K$12","v":2022},{"$f":"D17","v":0},1,13,13,9,5,41,0,3,8,6,4,1,22,0,0,0,0,0,0,0,63]
[{"$f":"IF(ADSI!$G$12=\"\",ADSI!$H$16,ADSI!$H$12)","v":6},{"$f":"IF(ADSI!$G$12=\"\",ADSI!$H$16,ADSI!$H$14)","v":""},735,{"$f":"ADSI!$K$12","v":2022},{"$f":"D18","v":0},0,8,19,16,14,57,0,0,5,4,10,5,24,0,0,0,0,0,0,0,81]
[{"$f":"IF(ADSI!$G$12=\"\",ADSI!$H$16,ADSI!$H$12)","v":6},{"$f":"IF(ADSI!$G$12=\"\",ADSI!$H$16,ADSI!$H$14)","v":""},736,{"$f":"ADSI!$K$12","v":2022},{"$f":"D19","v":0},0,0,0,1,0,1,0,0,0,0,0,0,0,0,0,0,0,0,0,0,1]
[{"$f":"IF(ADSI!$G$12=\"\",ADSI!$H$16,ADSI!$H$12)","v":6},{"$f":"IF(ADSI!$G$12=\"\",ADSI!$H$16,ADSI!$H$14)","v":""},737,{"$f":"ADSI!$K$12","v":2022},{"$f":"D20","v":0},0,0,0,0,0,0,0,0,0,0,0,0,0,0,0,0,0,0,0,0,0]
[{"$f":"IF(ADSI!$G$12=\"\",ADSI!$H$16,ADSI!$H$12)","v":6},{"$f":"IF(ADSI!$G$12=\"\",ADSI!$H$16,ADSI!$H$14)","v":""},738,{"$f":"ADSI!$K$12","v":2022},{"$f":"D21","v":0},0,0,1,1,0,2,0,0,0,0,0,0,0,0,0,0,0,0,0,0,2]
[{"$f":"IF(ADSI!$G$12=\"\",ADSI!$H$16,ADSI!$H$12)","v":6},{"$f":"IF(ADSI!$G$12=\"\",ADSI!$H$16,ADSI!$H$14)","v":""},739,{"$f":"ADSI!$K$12","v":2022},{"$f":"D22","v":0},0,6,15,11,10,42,0,0,5,4,9,5,23,0,0,0,0,0,0,0,65]
[{"$f":"IF(ADSI!$G$12=\"\",ADSI!$H$16,ADSI!$H$12)","v":6},{"$f":"IF(ADSI!$G$12=\"\",ADSI!$H$16,ADSI!$H$14)","v":""},740,{"$f":"ADSI!$K$12","v":2022},{"$f":"D23","v":0},0,2,3,3,4,12,0,0,0,0,1,0,1,0,0,0,0,0,0,0,13]
[{"$f":"IF(ADSI!$G$12=\"\",ADSI!$H$16,ADSI!$H$12)","v":6},{"$f":"IF(ADSI!$G$12=\"\",ADSI!$H$16,ADSI!$H$14)","v":""},741,{"$f":"ADSI!$K$12","v":2022},{"$f":"D24","v":0},0,1,1,0,2,4,0,0,1,0,0,0,1,0,0,0,0,0,0,0,5]
[{"$f":"IF(ADSI!$G$12=\"\",ADSI!$H$16,ADSI!$H$12)","v":6},{"$f":"IF(ADSI!$G$12=\"\",ADSI!$H$16,ADSI!$H$14)","v":""},742,{"$f":"ADSI!$K$12","v":2022},{"$f":"D25","v":0},0,2,11,14,2,29,0,0,0,0,0,0,0,0,0,0,0,0,0,0,29]
[{"$f":"IF(ADSI!$G$12=\"\",ADSI!$H$16,ADSI!$H$12)","v":6},{"$f":"IF(ADSI!$G$12=\"\",ADSI!$H$16,ADSI!$H$14)","v":""},743,{"$f":"ADSI!$K$12","v":2022},{"$f":"D26","v":0},0,0,0,1,0,1,0,0,0,0,0,0,0,0,0,0,0,0,0,0,1]
[{"$f":"IF(ADSI!$G$12=\"\",ADSI!$H$16,ADSI!$H$12)","v":6},{"$f":"IF(ADSI!$G$12=\"\",ADSI!$H$16,ADSI!$H$14)","v":""},744,{"$f":"ADSI!$K$12","v":2022},{"$f":"D27","v":0},0,0,0,0,0,0,0,0,0,0,0,0,0,0,0,0,0,0,0,0,0]
[{"$f":"IF(ADSI!$G$12=\"\",ADSI!$H$16,ADSI!$H$12)","v":6},{"$f":"IF(ADSI!$G$12=\"\",ADSI!$H$16,ADSI!$H$14)","v":""},745,{"$f":"ADSI!$K$12","v":2022},{"$f":"D28","v":0},0,14,4,0,0,18,1,2,5,1,0,0,9,0,0,0,0,0,0,0,27]
[{"$f":"IF(ADSI!$G$12=\"\",ADSI!$H$16,ADSI!$H$12)","v":6},{"$f":"IF(ADSI!$G$12=\"\",ADSI!$H$16,ADSI!$H$14)","v":""},746,{"$f":"ADSI!$K$12","v":2022},{"$f":"D29","v":0},0,0,1,1,1,3,0,0,0,0,0,0,0,0,0,0,0,0,0,0,3]
[{"$f":"IF(ADSI!$G$12=\"\",ADSI!$H$16,ADSI!$H$12)","v":6},{"$f":"IF(ADSI!$G$12=\"\",ADSI!$H$16,ADSI!$H$14)","v":""},747,{"$f":"ADSI!$K$12","v":2022},{"$f":"D30","v":0},0,3,4,5,0,12,0,0,0,0,0,0,0,0,0,0,0,0,0,0,12]
[{"$f":"IF(ADSI!$G$12=\"\",ADSI!$H$16,ADSI!$H$12)","v":6},{"$f":"IF(ADSI!$G$12=\"\",ADSI!$H$16,ADSI!$H$14)","v":""},748,{"$f":"ADSI!$K$12","v":2022},{"$f":"D31","v":0},0,0,1,1,0,2,0,0,0,0,0,0,0,0,0,0,0,0,0,0,2]
[{"$f":"IF(ADSI!$G$12=\"\",ADSI!$H$16,ADSI!$H$12)","v":6},{"$f":"IF(ADSI!$G$12=\"\",ADSI!$H$16,ADSI!$H$14)","v":""},749,{"$f":"ADSI!$K$12","v":2022},{"$f":"D32","v":0},0,0,0,0,0,0,0,0,0,0,0,0,0,0,0,0,0,0,0,0,0]
[{"$f":"IF(ADSI!$G$12=\"\",ADSI!$H$16,ADSI!$H$12)","v":6},{"$f":"IF(ADSI!$G$12=\"\",ADSI!$H$16,ADSI!$H$14)","v":""},750,{"$f":"ADSI!$K$12","v":2022},{"$f":"D33","v":0},0,0,0,0,0,0,0,0,0,0,0,0,0,0,0,0,0,0,0,0,0]
[{"$f":"IF(ADSI!$G$12=\"\",ADSI!$H$16,ADSI!$H$12)","v":6},{"$f":"IF(ADSI!$G$12=\"\",ADSI!$H$16,ADSI!$H$14)","v":""},751,{"$f":"ADSI!$K$12","v":2022},{"$f":"D34","v":0},0,0,0,0,0,0,0,0,0,0,0,0,0,0,0,0,0,0,0,0,0]
[{"$f":"IF(ADSI!$G$12=\"\",ADSI!$H$16,ADSI!$H$12)","v":6},{"$f":"IF(ADSI!$G$12=\"\",ADSI!$H$16,ADSI!$H$14)","v":""},752,{"$f":"ADSI!$K$12","v":2022},{"$f":"D35","v":0},0,3,6,3,0,12,0,0,0,0,0,0,0,0,0,0,0,0,0,0,12]
[{"$f":"IF(ADSI!$G$12=\"\",ADSI!$H$16,ADSI!$H$12)","v":6},{"$f":"IF(ADSI!$G$12=\"\",ADSI!$H$16,ADSI!$H$14)","v":""},753,{"$f":"ADSI!$K$12","v":2022},{"$f":"D36","v":0},0,8,16,4,2,30,0,2,3,2,0,0,7,0,0,0,0,0,0,0,37]
[{"$f":"IF(ADSI!$G$12=\"\",ADSI!$H$16,ADSI!$H$12)","v":6},{"$f":"IF(ADSI!$G$12=\"\",ADSI!$H$16,ADSI!$H$14)","v":""},754,{"$f":"ADSI!$K$12","v":2022},{"$f":"D37","v":1},2,1,5,1,1,11,0,0,0,1,0,0,1,0,0,0,0,0,0,0,12]
[{"$f":"IF(ADSI!$G$12=\"\",ADSI!$H$16,ADSI!$H$12)","v":6},{"$f":"IF(ADSI!$G$12=\"\",ADSI!$H$16,ADSI!$H$14)","v":""},780,{"$f":"ADSI!$K$12","v":2022},{"$f":"D38","v":1},3,55,88,57,28,232,1,7,26,16,14,6,70,0,0,0,0,0,0,0,302]

{"sheet":"P-XV","index":17,"n_rows":525,"n_cols":77,"rows_kept":525,"cut":false,"hidden":false,"merged":[[234,52,234,54],[235,52,235,54],[236,52,236,54],[35,0,35,3],[36,0,36,3],[37,0,37,3],[232,52,232,54],[233,52,233,54],[224,53,224,54],[222,53,222,54],[225,53,225,54],[226,53,226,54],[7,2,7,3],[5,18,5,24],[4,1,6,1],[4,25,6,25],[5,4,5,10],[5,11,5,17],[4,2,6,3],[4,4,4,24],[15,2,15,3],[16,2,16,3],[17,2,17,3],[18,2,18,3],[8,2,8,3],[9,2,9,3],[10,2,13,2],[14,2,14,3],[31,2,31,3],[32,2,32,3],[25,2,25,3],[26,2,26,3],[27,2,27,3],[28,2,28,3],[23,2,23,3],[230,53,230,54],[206,53,206,54],[203,53,205,54],[227,53,227,54],[203,52,205,52],[221,53,221,54],[218,53,218,54],[219,53,219,54],[220,53,220,54],[207,53,207,54],[208,53,208,54],[209,53,212,53],[215,53,215,54],[217,53,217,54],[223,53,223,54],[4,0,6,0],[33,0,33,3],[34,0,34,3],[203,76,205,76],[204,69,204,75],[203,69,203,75],[204,55,204,61],[203,55,203,68],[204,62,204,68],[19,2,19,3],[20,2,20,3],[21,2,21,3],[22,2,22,3],[24,2,24,3],[29,2,29,3],[30,2,30,3]]}
[{"$f":"ADSI!$B$1","v":"Goa, , ADSI-2022"},null,null,null,null,null,"Note1: 'Farmer/Cultivator' are those whose profession is farming and include those who cultivate on their own land as well as those who cultivate on leased land/other's land with or without the assistance of agricultural labourers irrespective of causes of suicides."]
["Errors",null,{"$f":"COUNTIF(E35:Z35,FALSE)","v":0},null,"Abnormal Variations",{"$f":"COUNTIF(E36:Z38,\"ABVAR\")","v":11},"Note2: 'Agricultural labourer' person who primarily work in farming sector (agriculture/horticulture) whose main source of income is from agriculture labour activities."]
[{"$f":"IF(ADSI!$L$10=1,LangMaster!A301,LangMaster!B301)","v":"Proforma-XV"}]
[{"$f":"IF(ADSI!$L$10=1,LangMaster!A302,LangMaster!B302)","v":"Profession Profile of Suicide Victims"}]
[{"$f":"IF(ADSI!$L$10=1,LangMaster!A26,LangMaster!B26)","v":"Code"},{"$f":"IF(ADSI!$L$10=1,LangMaster!A27,LangMaster!B27)","v":"S.No."},{"$f":"IF(ADSI!$L$10=1,LangMaster!A303,LangMaster!B303)","v":"Profession"},null,{"$f":"IF(ADSI!$L$10=1,LangMaster!A268,LangMaster!B268)","v":"Number of Suicidal Deaths"},null,null,null,null,null,null,null,null,null,null,null,null,null,null,null,null,null,null,null,null,{"$f":"IF(ADSI!$L$10=1,LangMaster!A473,LangMaster!B473)","v":"Grand Total (9) + (16)+(23)"}]
[null,null,null,null,{"$f":"IF(ADSI!$L$10=1,LangMaster!A30,LangMaster!B30)","v":"Male"},null,null,null,null,null,null,{"$f":"IF(ADSI!$L$10=1,LangMaster!A31,LangMaster!B31)","v":"Female"},null,null,null,null,null,null,{"$f":"IF(ADSI!$L$10=1,LangMaster!A32,LangMaster!B32)","v":"Transgender"}]
[null,null,null,null,{"$f":"IF(ADSI!$L$10=1,LangMaster!A461,LangMaster!B461)","v":"below 14 years"},{"$f":"IF(ADSI!$L$10=1,LangMaster!A462,LangMaster!B462)","v":"14 and above – below 18 years"},{"$f":"IF(ADSI!$L$10=1,LangMaster!A463,LangMaster!B463)","v":"18 and above – below 30 years"},{"$f":"IF(ADSI!$L$10=1,LangMaster!A464,LangMaster!B464)","v":"30 and above – below 45 years"},{"$f":"IF(ADSI!$L$10=1,LangMaster!A465,LangMaster!B465)","v":"45 and above – below 60 years"},{"$f":"IF(ADSI!$L$10=1,LangMaster!A466,LangMaster!B466)","v":"60 years & above"},{"$f":"IF(ADSI!$L$10=1,LangMaster!A470,LangMaster!B470)","v":" Total [sum of (3) to (8)]"},{"$f":"IF(ADSI!$L$10=1,LangMaster!A461,LangMaster!B461)","v":"below 14 years"},{"$f":"IF(ADSI!$L$10=1,LangMaster!A462,LangMaster!B462)","v":"14 and above – below 18 years"},{"$f":"IF(ADSI!$L$10=1,LangMaster!A463,LangMaster!B463)","v":"18 and above – below 30 years"},{"$f":"IF(ADSI!$L$10=1,LangMaster!A464,LangMaster!B464)","v":"30 and above – below 45 years"},{"$f":"IF(ADSI!$L$10=1,LangMaster!A465,LangMaster!B465)","v":"45 and above – below 60 years"},{"$f":"IF(ADSI!$L$10=1,LangMaster!A466,LangMaster!B466)","v":"60 years & above"},{"$f":"IF(ADSI!$L$10=1,LangMaster!A471,LangMaster!B471)","v":"Total    [sum of (10) to (15)]"},{"$f":"IF(ADSI!$L$10=1,LangMaster!A461,LangMaster!B461)","v":"below 14 years"},{"$f":"IF(ADSI!$L$10=1,LangMaster!A462,LangMaster!B462)","v":"14 and above – below 18 years"},{"$f":"IF(ADSI!$L$10=1,LangMaster!A463,LangMaster!B463)","v":"18 and above – below 30 years"},{"$f":"IF(ADSI!$L$10=1,LangMaster!A464,LangMaster!B464)","v":"30 and above – below 45 years"},{"$f":"IF(ADSI!$L$10=1,LangMaster!A465,LangMaster!B465)","v":"45 and above – below 60 years"},{"$f":"IF(ADSI!$L$10=1,LangMaster!A466,LangMaster!B466)","v":"60 years & above"},{"$f":"IF(ADSI!$L$10=1,LangMaster!A472,LangMaster!B472)","v":"Total [sum of (17) to (22)]"}]
[null,"(1)","(2)",null,"(3)","(4)","(5)","(6)","(7)","(8)","(9)","(10)","(11)","(12)","(13)","(14)","(15)","(16)","(17)","(18)","(19)","(20)","(21)","(22)","(23)","(24)"]
[800,1,{"$f":"IF(ADSI!$L$10=1,LangMaster!A304,LangMaster!B304)","v":"Housewife"},null,0,0,0,0,0,0,{"$f":"SUM(E9:J9)","v":0},0,0,9,11,13,3,{"$f":"SUM(L9:Q9)","v":36},0,0,0,0,0,0,{"$f":"SUM(S9:X9)","v":0},{"$f":"SUM(K9+R9+Y9)","v":36}]
[801,2,{"$f":"IF(ADSI!$L$10=1,LangMaster!A305,LangMaster!B305)","v":"Professional/Salaried Persons (Total) (sum of 2.1 to 2.3)"},null,{"$f":"SUM(E11,E15:E16)","v":0},{"$f":"SUM(F11,F15:F16)","v":0},19,34,15,1,{"$f":"SUM(E10:J10)","v":69},{"$f":"SUM(L11,L15:L16)","v":0},0,9,2,0,0,{"$f":"SUM(L10:Q10)","v":11},{"$f":"SUM(S11,S15:S16)","v":0},0,0,0,0,0,{"$f":"SUM(S10:X10)","v":0},{"$f":"SUM(K10+R10+Y10)","v":80}]
[802,null,{"$f":"IF(ADSI!$L$10=1,LangMaster!A306,LangMaster!B306)","v":"2.1. Govt."},{"$f":"IF(ADSI!$L$10=1,LangMaster!A307,LangMaster!B307)","v":"Govt. Servants (Total) (sum of 2.1.1 to 2.1.3)"},{"$f":"SUM(E12:E14)","v":0},{"$f":"SUM(F12:F14)","v":0},2,7,4,0,13,{"$f":"SUM(L12:L14)","v":0},0,0,0,0,0,0,{"$f":"SUM(S12:S14)","v":0},0,0,0,0,0,0,13]
[803,null,null,{"$f":"IF(ADSI!$L$10=1,LangMaster!A308,LangMaster!B308)","v":"2.1.1 Central/UT Govt. Servants"},0,0,1,2,0,0,3,0,0,0,0,0,0,0,0,0,0,0,0,0,0,3]
[804,null,null,{"$f":"IF(ADSI!$L$10=1,LangMaster!A309,LangMaster!B309)","v":"2.1.2 State Govt. Servants"},0,0,1,5,4,0,10,0,0,0,0,0,0,0,0,0,0,0,0,0,0,10]
[805,null,null,{"$f":"IF(ADSI!$L$10=1,LangMaster!A310,LangMaster!B310)","v":"2.1.3 Other Statutory Body/etc."},0,0,0,0,0,0,0,0,0,0,0,0,0,0,0,0,0,0,0,0,0,0]
[806,null,{"$f":"IF(ADSI!$L$10=1,LangMaster!A311,LangMaster!B311)","v":"2.2 Private Sector Enterprises"},null,0,0,16,19,8,1,44,0,0,8,2,0,0,10,0,0,0,0,0,0,0,54]
[807,null,{"$f":"IF(ADSI!$L$10=1,LangMaster!A312,LangMaster!B312)","v":"2.3 Public Sector Undertaking"},null,0,0,1,8,3,0,12,0,0,1,0,0,0,1,0,0,0,0,0,0,0,13]
[808,3,{"$f":"IF(ADSI!$L$10=1,LangMaster!A313,LangMaster!B313)","v":"Students"},null,1,2,6,0,0,0,9,1,7,3,0,0,0,11,0,0,0,0,0,0,0,20]
[809,4,{"$f":"IF(ADSI!$L$10=1,LangMaster!A314,LangMaster!B314)","v":"Unemployed Persons"},null,0,0,13,20,26,11,70,0,0,3,3,1,3,10,0,0,0,0,0,0,0,80]
[810,5,{"$f":"IF(ADSI!$L$10=1,LangMaster!A315,LangMaster!B315)","v":"Self-employed Persons (Total) \n(sum of 5.1 & 5.2)"},null,{"$f":"SUM(E20,E24)","v":0},{"$f":"SUM(F20,F24)","v":1},4,14,6,1,26,{"$f":"SUM(L20,L24)","v":0},{"$f":"SUM(M20,M24)","v":0},{"$f":"SUM(N20,N24)","v":2},{"$f":"SUM(O20,O24)","v":0},{"$f":"SUM(P20,P24)","v":0},{"$f":"SUM(Q20,Q24)","v":0},2,{"$f":"SUM(S20,S24)","v":0},{"$f":"SUM(T20,T24)","v":0},{"$f":"SUM(U20,U24)","v":0},{"$f":"SUM(V20,V24)","v":0},{"$f":"SUM(W20,W24)","v":0},{"$f":"SUM(X20,X24)","v":0},0,28]
[811,null,{"$f":"IF(ADSI!$L$10=1,LangMaster!A316,LangMaster!B316)","v":"5.1 Business (Total) (sum of 5.1.1 to 5.1.3)"},null,{"$f":"SUM(E21:E23)","v":0},{"$f":"SUM(F21:F23)","v":1},3,12,6,0,22,{"$f":"SUM(L21:L23)","v":0},0,0,0,0,0,0,{"$f":"SUM(S21:S23)","v":0},{"$f":"SUM(T21:T23)","v":0},0,0,0,0,0,22]
[812,null,{"$f":"IF(ADSI!$L$10=1,LangMaster!A317,LangMaster!B317)","v":"5.1.1 Vendor"},null,0,1,3,4,4,0,12,0,0,0,0,0,0,0,0,0,0,0,0,0,0,12]
[813,null,{"$f":"IF(ADSI!$L$10=1,LangMaster!A318,LangMaster!B318)","v":"5.1.2 Tradesmen"},null,0,0,0,5,1,0,6,0,0,0,0,0,0,0,0,0,0,0,0,0,0,6]
[814,null,{"$f":"IF(ADSI!$L$10=1,LangMaster!A319,LangMaster!B319)","v":"5.1.3 Other Business"},null,0,0,0,3,1,0,4,0,0,0,0,0,0,0,0,0,0,0,0,0,0,4]
[815,null,{"$f":"IF(ADSI!$L$10=1,LangMaster!A320,LangMaster!B320)","v":"5.2 Other Self-employed Persons"},null,0,0,1,2,0,1,{"$f":"SUM(E24:J24)","v":4},0,0,2,0,0,0,{"$f":"SUM(L24:Q24)","v":2},0,0,0,0,0,0,{"$f":"SUM(S24:X24)","v":0},{"$f":"SUM(K24+R24+Y24)","v":6}]
[816,6,{"$f":"IF(ADSI!$L$10=1,LangMaster!A321,LangMaster!B321)","v":"Persons engaged in Farming Sector (Total) (sum of 6.1 & 6.2)"},null,{"$f":"SUM(E26,E29)","v":0},{"$f":"SUM(F26,F29)","v":0},0,0,0,0,0,0,{"$f":"SUM(M26,M29)","v":0},{"$f":"SUM(N26,N29)","v":0},{"$f":"SUM(O26,O29)","v":0},{"$f":"SUM(P26,P29)","v":0},{"$f":"SUM(Q26,Q29)","v":0},0,0,{"$f":"SUM(T26,T29)","v":0},{"$f":"SUM(U26,U29)","v":0},{"$f":"SUM(V26,V29)","v":0},{"$f":"SUM(W26,W29)","v":0},{"$f":"SUM(X26,X29)","v":0},0,0]
[817,null,{"$f":"IF(ADSI!$L$10=1,LangMaster!A322,LangMaster!B322)","v":"6.1 Farmers/Cultivators (Sub-Total) (sum of 6.1.1 & 6.1.2)"},null,{"$f":"SUM(E27:E28)","v":0},{"$f":"SUM(F27:F28)","v":0},0,0,0,0,0,0,{"$f":"SUM(M27:M28)","v":0},{"$f":"SUM(N27:N28)","v":0},{"$f":"SUM(O27:O28)","v":0},{"$f":"SUM(P27:P28)","v":0},{"$f":"SUM(Q27:Q28)","v":0},0,0,{"$f":"SUM(T27:T28)","v":0},{"$f":"SUM(U27:U28)","v":0},{"$f":"SUM(V27:V28)","v":0},{"$f":"SUM(W27:W28)","v":0},{"$f":"SUM(X27:X28)","v":0},0,0]
[818,null,{"$f":"IF(ADSI!$L$10=1,LangMaster!A323,LangMaster!B323)","v":"6.1.1 who cultivate their own land with or without assistance of agricultural labourers"},null,0,0,0,0,0,0,0,0,0,0,0,0,0,0,0,0,0,0,0,0,0,0]
[819,null,{"$f":"IF(ADSI!$L$10=1,LangMaster!A324,LangMaster!B324)","v":"6.1.2 who cultivate on lease land/work on lease/on other's land (known by different nomenclature) with or without assistance of agricultural labourers"},null,0,0,0,0,0,0,0,0,0,0,0,0,0,0,0,0,0,0,0,0,0,0]
[820,null,{"$f":"IF(ADSI!$L$10=1,LangMaster!A325,LangMaster!B325)","v":"6.2 Agricultural labourers"},null,0,0,0,0,0,0,0,0,0,0,0,0,0,0,0,0,0,0,0,0,0,0]
[821,7,{"$f":"IF(ADSI!$L$10=1,LangMaster!A326,LangMaster!B326)","v":"Daily Wage Earner"},null,0,0,12,14,9,1,36,0,0,0,0,0,0,0,0,0,0,0,0,0,0,36]
[822,8,{"$f":"IF(ADSI!$L$10=1,LangMaster!A327,LangMaster!B327)","v":"Retired Persons"},null,0,0,0,0,1,13,14,0,0,0,0,0,0,0,0,0,0,0,0,0,0,14]
[823,9,{"$f":"IF(ADSI!$L$10=1,LangMaster!A328,LangMaster!B328)","v":"Other Persons"},null,0,0,1,6,0,1,8,0,0,0,0,0,0,0,0,0,0,0,0,0,0,8]
[840,10,{"$f":"IF(ADSI!$L$10=1,LangMaster!A329,LangMaster!B329)","v":"Total (sum of Sl. 1 to 9)"},null,{"$f":"SUM(E9:E10,E17:E19,E25,E30:E32)","v":1},{"$f":"SUM(F9:F10,F17:F19,F25,F30:F32)","v":3},55,88,57,28,232,1,{"$f":"SUM(M9:M10,M17:M19,M25,M30:M32)","v":7},{"$f":"SUM(N9:N10,N17:N19,N25,N30:N32)","v":26},{"$f":"SUM(O9:O10,O17:O19,O25,O30:O32)","v":16},{"$f":"SUM(P9:P10,P17:P19,P25,P30:P32)","v":14},{"$f":"SUM(Q9:Q10,Q17:Q19,Q25,Q30:Q32)","v":6},70,0,{"$f":"SUM(T9:T10,T17:T19,T25,T30:T32)","v":0},{"$f":"SUM(U9:U10,U17:U19,U25,U30:U32)","v":0},{"$f":"SUM(V9:V10,V17:V19,V25,V30:V32)","v":0},{"$f":"SUM(W9:W10,W17:W19,W25,W30:W32)","v":0},{"$f":"SUM(X9:X10,X17:X19,X25,X30:X32)","v":0},0,302]
[" PROFORMA–XIV VALUES [Sl.–21 (Total)]",null,null,null,{"$f":"'P-XIV'!D38","v":1},{"$f":"'P-XIV'!E38","v":3},{"$f":"'P-XIV'!F38","v":55},{"$f":"'P-XIV'!G38","v":88},{"$f":"'P-XIV'!H38","v":57},{"$f":"'P-XIV'!I38","v":28},{"$f":"'P-XIV'!J38","v":232},{"$f":"'P-XIV'!K38","v":1},{"$f":"'P-XIV'!L38","v":7},{"$f":"'P-XIV'!M38","v":26},{"$f":"'P-XIV'!N38","v":16},{"$f":"'P-XIV'!O38","v":14},{"$f":"'P-XIV'!P38","v":6},{"$f":"'P-XIV'!Q38","v":70},{"$f":"'P-XIV'!R38","v":0},{"$f":"'P-XIV'!S38","v":0},{"$f":"'P-XIV'!T38","v":0},{"$f":"'P-XIV'!U38","v":0},{"$f":"'P-XIV'!V38","v":0},{"$f":"'P-XIV'!W38","v":0},{"$f":"'P-XIV'!X38","v":0},{"$f":"'P-XIV'!Y38","v":302}]
["VALIDATION  WITH PROFORMA–XIV [Sl.–21 (Total)]",null,null,null,{"$f":"IF(E33='P-XIV'!D38,\"\",FALSE)","v":""},{"$f":"IF(F33='P-XIV'!E38,\"\",FALSE)","v":""},{"$f":"IF(G33='P-XIV'!F38,\"\",FALSE)","v":""},{"$f":"IF(H33='P-XIV'!G38,\"\",FALSE)","v":""},{"$f":"IF(I33='P-XIV'!H38,\"\",FALSE)","v":""},{"$f":"IF(J33='P-XIV'!I38,\"\",FALSE)","v":""},{"$f":"IF(K33='P-XIV'!J38,\"\",FALSE)","v":""},{"$f":"IF(L33='P-XIV'!K38,\"\",FALSE)","v":""},{"$f":"IF(M33='P-XIV'!L38,\"\",FALSE)","v":""},{"$f":"IF(N33='P-XIV'!M38,\"\",FALSE)","v":""},{"$f":"IF(O33='P-XIV'!N38,\"\",FALSE)","v":""},{"$f":"IF(P33='P-XIV'!O38,\"\",FALSE)","v":""},{"$f":"IF(Q33='P-XIV'!P38,\"\",FALSE)","v":""},{"$f":"IF(R33='P-XIV'!Q38,\"\",FALSE)","v":""},{"$f":"IF(S33='P-XIV'!R38,\"\",FALSE)","v":""},{"$f":"IF(T33='P-XIV'!S38,\"\",FALSE)","v":""},{"$f":"IF(U33='P-XIV'!T38,\"\",FALSE)","v":""},{"$f":"IF(V33='P-XIV'!U38,\"\",FALSE)","v":""},{"$f":"IF(W33='P-XIV'!V38,\"\",FALSE)","v":""},{"$f":"IF(X33='P-XIV'!W38,\"\",FALSE)","v":""},{"$f":"IF(Y33='P-XIV'!X38,\"\",FALSE)","v":""},{"$f":"IF(Z33='P-XIV'!Y38,\"\",FALSE)","v":""}]
["SL-5.1.3 ABNORMAL VARIATION IN \"OTHER BUSINESS\" DATA",null,null,null,{"$f":"IF(E20>0,IF((E23/E20*100)>10,\"ABVAR\",\"\"),\"\")","v":""},{"$f":"IF(F20>0,IF((F23/F20*100)>10,\"ABVAR\",\"\"),\"\")","v":""},"","ABVAR","ABVAR","","ABVAR","","","","","","","","","","","","","","","ABVAR"]
["SL-5.2 ABNORMAL VARIATION IN \"OTHER SELF-EMPLOYED PERSONS\" DATA",null,null,null,{"$f":"IF(E19>0,IF((E24/E19*100)>10,\"ABVAR\",\"\"),\"\")","v":""},{"$f":"IF(F19>0,IF((F24/F19*100)>10,\"ABVAR\",\"\"),\"\")","v":""},"ABVAR","ABVAR","","ABVAR","ABVAR","","","ABVAR","","","","ABVAR","","","","","","","","ABVAR"]
["SL-9 ABNORMAL VARIATION IN \"OTHER PERSONS\" DATA",null,null,null,{"$f":"IF(E33>0,IF((E32/E33*100)>10,\"ABVAR\",\"\"),\"\")","v":""},{"$f":"IF(F33>0,IF((F32/F33*100)>10,\"ABVAR\",\"\"),\"\")","v":""},"","","","","","","","","","","","","","","","","","","",""]
[]
[null,null,null,null,"Daily wage earner excludes Agricultural labourer."]
[null,null,null,null,"Disclaimer:  “This data depicts only profession of persons who have committed suicide and has no linkage whatsoever regarding cause of suicide.”"]
[]
[]
[]
[]
[]
[]
[]
[]
[]
[]
[]
[]
[]
[]
[]
[]
[]
[]
[]
[]
[]
[]
[]
[]
[]
[]
[]
[]
[]
[]
[]
[]
[]
[]
[]
[]
[]
[]
[]
[]
[]
[]
[]
[]
[]
[]
[]
[]
[]
[]
[]
[]
[]
[]
[]
[]
[]
[]
[]
[]
[]
[]
[]
[]
[]
[]
[]
[]
[]
[]
[]
[]
[]
[]
[]
[]
[]
[]
[]
[]
[]
[]
[]
[]
[]
[]
[]
[]
[]
[]
[]
[]
[]
[]
[]
[]
[]
[]
[]
[]
[]
[]
[]
[]
[]
[]
[]
[]
[]
[]
[]
[]
[]
[]
[]
[]
[]
[]
[]
[]
[]
[]
[]
[]
[]
[]
[]
[]
[]
[]
[]
[]
[]
[]
[]
[]
[]
[]
[]
[]
[]
[]
[]
[]
[]
[]
[]
[]
[]
[]
[]
[]
[]
[]
[]
[]
[]
[]
[null,null,null,null,null,null,null,null,null,null,null,null,null,null,null,null,null,null,null,null,null,null,null,null,null,null,null,null,null,null,null,null,null,null,null,null,null,null,null,null,null,null,null,null,null,null,null,null,null,null,null,null,{"$f":"A1","v":"Goa, , ADSI-2022"}]
[null,null,null,null,null,null,null,null,null,null,null,null,null,null,null,null,null,null,null,null,null,null,null,null,null,null,null,null,null,null,null,null,null,null,null,null,null,null,null,null,null,null,null,null,null,null,null,null,null,null,null,null,{"$f":"A2","v":"Errors"},null,{"$f":"C2","v":0},null,null,{"$f":"E2","v":"Abnormal Variations"},{"$f":"F2","v":11}]
[null,null,null,null,null,null,null,null,null,null,null,null,null,null,null,null,null,null,null,null,null,null,null,null,null,null,null,null,null,null,null,null,null,null,null,null,null,null,null,null,null,null,null,null,null,null,null,null,null,null,null,null,{"$f":"A3","v":"Proforma-XV"}]
[null,null,null,null,null,null,null,null,null,null,null,null,null,null,null,null,null,null,null,null,null,null,null,null,null,null,null,null,null,null,null,null,null,null,null,null,null,null,null,null,null,null,null,null,null,null,null,null,null,null,null,null,{"$f":"A4","v":"Profession Profile of Suicide Victims"}]
[null,null,null,null,null,null,null,null,null,null,null,null,null,null,null,null,null,null,null,null,null,null,null,null,null,null,null,null,null,null,null,null,null,null,null,null,null,null,null,null,null,null,null,null,null,null,null,null,null,null,null,null,{"$f":"B5","v":"S.No."},{"$f":"C5","v":"Profession"},null,{"$f":"E5","v":"Number of Suicidal Deaths"},null,null,null,null,null,null,null,null,null,null,null,null,null,null,null,null,null,null,null,null,{"$f":"Z5","v":"Grand Total (9) + (16)+(23)"}]
[null,null,null,null,null,null,null,null,null,null,null,null,null,null,null,null,null,null,null,null,null,null,null,null,null,null,null,null,null,null,null,null,null,null,null,null,null,null,null,null,null,null,null,null,null,null,null,null,null,null,null,null,null,null,null,"Male",null,null,null,null,null,null,{"$f":"L6","v":"Female"},null,null,null,null,null,null,{"$f":"S6","v":"Transgender"}]
[null,null,null,null,null,null,null,null,null,null,null,null,null,null,null,null,null,null,null,null,null,null,null,null,null,null,null,null,null,null,null,null,null,null,null,null,null,null,null,null,null,null,null,null,null,null,null,null,null,null,null,null,null,null,null,"below 14 years",{"$f":"F7","v":"14 and above – below 18 years"},{"$f":"G7","v":"18 and above – below 30 years"},{"$f":"H7","v":"30 and above – below 45 years"},{"$f":"I7","v":"45 and above – below 60 years"},{"$f":"J7","v":"60 years & above"},{"$f":"K7","v":" Total [sum of (3) to (8)]"},"below 14 years",{"$f":"M7","v":"14 and above – below 18 years"},{"$f":"N7","v":"18 and above – below 30 years"},{"$f":"O7","v":"30 and above – below 45 years"},{"$f":"P7","v":"45 and above – below 60 years"},{"$f":"Q7","v":"60 years & above"},{"$f":"R7","v":"Total    [sum of (10) to (15)]"},"below 14 years",{"$f":"T7","v":"14 and above – below 18 years"},{"$f":"U7","v":"18 and above – below 30 years"},{"$f":"V7","v":"30 and above – below 45 years"},{"$f":"W7","v":"45 and above – below 60 years"},{"$f":"X7","v":"60 years & above"},{"$f":"Y7","v":"Total [sum of (17) to (22)]"}]
[null,null,null,null,null,null,null,null,null,null,null,null,null,null,null,null,null,null,null,null,null,null,null,null,null,null,null,null,null,null,null,null,null,null,null,null,null,null,null,null,null,null,null,null,null,null,null,null,null,null,null,null,{"$f":"B8","v":"(1)"},"(2)",null,"(3)","(4)","(5)","(6)","(7)","(8)","(9)","(10)","(11)","(12)","(13)","(14)","(15)","(16)","(17)","(18)","(19)","(20)","(21)","(22)","(23)",{"$f":"Z8","v":"(24)"}]
[null,null,null,null,null,null,null,null,null,null,null,null,null,null,null,null,null,null,null,null,null,null,null,null,null,null,null,null,null,null,null,null,null,null,null,null,null,null,null,null,null,null,null,null,null,null,null,null,null,null,null,null,1,"Housewife",null,0,0,0,0,0,0,0,0,0,9,11,13,3,36,0,0,0,0,0,0,0,36]
[null,null,null,null,null,null,null,null,null,null,null,null,null,null,null,null,null,null,null,null,null,null,null,null,null,null,null,null,null,null,null,null,null,null,null,null,null,null,null,null,null,null,null,null,null,null,null,null,null,null,null,null,2,"Professional/Salaried Persons (Total) (sum of 2.1 to 2.3)",null,0,0,19,34,15,1,69,0,0,9,2,0,0,11,0,0,0,0,0,0,0,80]
[null,null,null,null,null,null,null,null,null,null,null,null,null,null,null,null,null,null,null,null,null,null,null,null,null,null,null,null,null,null,null,null,null,null,null,null,null,null,null,null,null,null,null,null,null,null,null,null,null,null,null,null,null,{"$f":"C11","v":"2.1. Govt."},{"$f":"D11","v":"Govt. Servants (Total) (sum of 2.1.1 to 2.1.3)"},0,0,2,7,4,0,13,0,0,0,0,0,0,0,0,0,0,0,0,0,0,13]
[null,null,null,null,null,null,null,null,null,null,null,null,null,null,null,null,null,null,null,null,null,null,null,null,null,null,null,null,null,null,null,null,null,null,null,null,null,null,null,null,null,null,null,null,null,null,null,null,null,null,null,null,null,null,{"$f":"D12","v":"2.1.1 Central/UT Govt. Servants"},0,0,1,2,0,0,3,0,0,0,0,0,0,0,0,0,0,0,0,0,0,3]
[null,null,null,null,null,null,null,null,null,null,null,null,null,null,null,null,null,null,null,null,null,null,null,null,null,null,null,null,null,null,null,null,null,null,null,null,null,null,null,null,null,null,null,null,null,null,null,null,null,null,null,null,null,null,{"$f":"D13","v":"2.1.2 State Govt. Servants"},0,0,1,5,4,0,10,0,0,0,0,0,0,0,0,0,0,0,0,0,0,10]
[null,null,null,null,null,null,null,null,null,null,null,null,null,null,null,null,null,null,null,null,null,null,null,null,null,null,null,null,null,null,null,null,null,null,null,null,null,null,null,null,null,null,null,null,null,null,null,null,null,null,null,null,null,null,{"$f":"D14","v":"2.1.3 Other Statutory Body/etc."},0,0,0,0,0,0,0,0,0,0,0,0,0,0,0,0,0,0,0,0,0,0]
[null,null,null,null,null,null,null,null,null,null,null,null,null,null,null,null,null,null,null,null,null,null,null,null,null,null,null,null,null,null,null,null,null,null,null,null,null,null,null,null,null,null,null,null,null,null,null,null,null,null,null,null,null,{"$f":"C15","v":"2.2 Private Sector Enterprises"},null,0,0,16,19,8,1,44,0,0,8,2,0,0,10,0,0,0,0,0,0,0,54]
[null,null,null,null,null,null,null,null,null,null,null,null,null,null,null,null,null,null,null,null,null,null,null,null,null,null,null,null,null,null,null,null,null,null,null,null,null,null,null,null,null,null,null,null,null,null,null,null,null,null,null,null,null,"2.3 Public Sector Undertaking",null,0,0,1,8,3,0,12,0,0,1,0,0,0,1,0,0,0,0,0,0,0,13]
[null,null,null,null,null,null,null,null,null,null,null,null,null,null,null,null,null,null,null,null,null,null,null,null,null,null,null,null,null,null,null,null,null,null,null,null,null,null,null,null,null,null,null,null,null,null,null,null,null,null,null,null,{"$f":"B17","v":3},"Students",null,1,2,6,0,0,0,9,1,7,3,0,0,0,11,0,0,0,0,0,0,0,20]
[null,null,null,null,null,null,null,null,null,null,null,null,null,null,null,null,null,null,null,null,null,null,null,null,null,null,null,null,null,null,null,null,null,null,null,null,null,null,null,null,null,null,null,null,null,null,null,null,null,null,null,null,{"$f":"B18","v":4},"Unemployed Persons",null,0,0,13,20,26,11,70,0,0,3,3,1,3,10,0,0,0,0,0,0,0,80]
[null,null,null,null,null,null,null,null,null,null,null,null,null,null,null,null,null,null,null,null,null,null,null,null,null,null,null,null,null,null,null,null,null,null,null,null,null,null,null,null,null,null,null,null,null,null,null,null,null,null,null,null,5,"Self-employed Persons (Total) \n(sum of 5.1 & 5.2)",null,0,1,4,14,6,1,26,0,0,2,0,0,0,2,0,0,0,0,0,0,0,28]
[null,null,null,null,null,null,null,null,null,null,null,null,null,null,null,null,null,null,null,null,null,null,null,null,null,null,null,null,null,null,null,null,null,null,null,null,null,null,null,null,null,null,null,null,null,null,null,null,null,null,null,null,null,"5.1 Business (Total) (sum of 5.1.1 to 5.1.3)",null,0,1,3,12,6,0,22,0,0,0,0,0,0,0,0,0,0,0,0,0,0,22]
[null,null,null,null,null,null,null,null,null,null,null,null,null,null,null,null,null,null,null,null,null,null,null,null,null,null,null,null,null,null,null,null,null,null,null,null,null,null,null,null,null,null,null,null,null,null,null,null,null,null,null,null,null,"5.1.1 Vendor",null,0,1,3,4,4,0,12,0,0,0,0,0,0,0,0,0,0,0,0,0,0,12]
[null,null,null,null,null,null,null,null,null,null,null,null,null,null,null,null,null,null,null,null,null,null,null,null,null,null,null,null,null,null,null,null,null,null,null,null,null,null,null,null,null,null,null,null,null,null,null,null,null,null,null,null,null,"5.1.2 Tradesmen",null,0,0,0,5,1,0,6,0,0,0,0,0,0,0,0,0,0,0,0,0,0,6]
[null,null,null,null,null,null,null,null,null,null,null,null,null,null,null,null,null,null,null,null,null,null,null,null,null,null,null,null,null,null,null,null,null,null,null,null,null,null,null,null,null,null,null,null,null,null,null,null,null,null,null,null,null,"5.1.3 Other Business",null,0,0,0,3,1,0,4,0,0,0,0,0,0,0,0,0,0,0,0,0,0,4]
[null,null,null,null,null,null,null,null,null,null,null,null,null,null,null,null,null,null,null,null,null,null,null,null,null,null,null,null,null,null,null,null,null,null,null,null,null,null,null,null,null,null,null,null,null,null,null,null,null,null,null,null,null,{"$f":"C24","v":"5.2 Other Self-employed Persons"},null,0,0,1,2,0,1,4,0,0,2,0,0,0,2,0,0,0,0,0,0,0,6]
[null,null,null,null,null,null,null,null,null,null,null,null,null,null,null,null,null,null,null,null,null,null,null,null,null,null,null,null,null,null,null,null,null,null,null,null,null,null,null,null,null,null,null,null,null,null,null,null,null,null,null,null,{"$f":"B25","v":6},{"$f":"C25","v":"Persons engaged in Farming Sector (Total) (sum of 6.1 & 6.2)"},null,{"$f":"E25","v":0},0,0,0,0,0,0,0,0,0,0,0,0,0,0,0,0,0,0,0,0,0]
[null,null,null,null,null,null,null,null,null,null,null,null,null,null,null,null,null,null,null,null,null,null,null,null,null,null,null,null,null,null,null,null,null,null,null,null,null,null,null,null,null,null,null,null,null,null,null,null,null,null,null,null,null,{"$f":"C26","v":"6.1 Farmers/Cultivators (Sub-Total) (sum of 6.1.1 & 6.1.2)"},null,{"$f":"E26","v":0},{"$f":"F26","v":0},{"$f":"G26","v":0},{"$f":"H26","v":0},{"$f":"I26","v":0},{"$f":"J26","v":0},{"$f":"K26","v":0},{"$f":"L26","v":0},{"$f":"M26","v":0},{"$f":"N26","v":0},{"$f":"O26","v":0},{"$f":"P26","v":0},{"$f":"Q26","v":0},{"$f":"R26","v":0},{"$f":"S26","v":0},{"$f":"T26","v":0},{"$f":"U26","v":0},{"$f":"V26","v":0},{"$f":"W26","v":0},{"$f":"X26","v":0},{"$f":"Y26","v":0},{"$f":"Z26","v":0}]
[null,null,null,null,null,null,null,null,null,null,null,null,null,null,null,null,null,null,null,null,null,null,null,null,null,null,null,null,null,null,null,null,null,null,null,null,null,null,null,null,null,null,null,null,null,null,null,null,null,null,null,null,null,"6.1.1 who cultivate their own land with or without assistance of agricultural labourers",null,0,0,0,0,0,0,0,0,0,0,0,0,0,0,0,0,0,0,0,0,0,0]
[null,null,null,null,null,null,null,null,null,null,null,null,null,null,null,null,null,null,null,null,null,null,null,null,null,null,null,null,null,null,null,null,null,null,null,null,null,null,null,null,null,null,null,null,null,null,null,null,null,null,null,null,null,"6.1.2 who cultivate on lease land/work on lease/on other's land (known by different nomenclature) with or without assistance of agricultural labourers",null,0,0,0,0,0,0,0,0,0,0,0,0,0,0,0,0,0,0,0,0,0,0]
[null,null,null,null,null,null,null,null,null,null,null,null,null,null,null,null,null,null,null,null,null,null,null,null,null,null,null,null,null,null,null,null,null,null,null,null,null,null,null,null,null,null,null,null,null,null,null,null,null,null,null,null,null,"6.2 Agricultural labourers",null,0,0,0,0,0,0,0,0,0,0,0,0,0,0,0,0,0,0,0,0,0,0]
[null,null,null,null,null,null,null,null,null,null,null,null,null,null,null,null,null,null,null,null,null,null,null,null,null,null,null,null,null,null,null,null,null,null,null,null,null,null,null,null,null,null,null,null,null,null,null,null,null,null,null,null,{"$f":"B30","v":7},"Daily Wage Earner",null,0,0,12,14,9,1,36,0,0,0,0,0,0,0,0,0,0,0,0,0,0,36]
[null,null,null,null,null,null,null,null,null,null,null,null,null,null,null,null,null,null,null,null,null,null,null,null,null,null,null,null,null,null,null,null,null,null,null,null,null,null,null,null,null,null,null,null,null,null,null,null,null,null,null,null,8,"Retired Persons",null,0,0,0,0,1,13,14,0,0,0,0,0,0,0,0,0,0,0,0,0,0,14]
[null,null,null,null,null,null,null,null,null,null,null,null,null,null,null,null,null,null,null,null,null,null,null,null,null,null,null,null,null,null,null,null,null,null,null,null,null,null,null,null,null,null,null,null,null,null,null,null,null,null,null,null,9,"Other Persons",null,0,0,1,6,0,1,8,0,0,0,0,0,0,0,0,0,0,0,0,0,0,8]
[null,null,null,null,null,null,null,null,null,null,null,null,null,null,null,null,null,null,null,null,null,null,null,null,null,null,null,null,null,null,null,null,null,null,null,null,null,null,null,null,null,null,null,null,null,null,null,null,null,null,null,null,10,"Total (sum of Sl. 1 to 9)",null,1,3,55,88,57,28,232,1,7,26,16,14,6,70,0,0,0,0,0,0,0,302]
[null,null,null,null,null,null,null,null,null,null,null,null,null,null,null,null,null,null,null,null,null,null,null,null,null,null,null,null,null,null,null,null,null,null,null,null,null,null,null,null,null,null,null,null,null,null,null,null,null,null,null,null,{"$f":"A34","v":" PROFORMA–XIV VALUES [Sl.–21 (Total)]"},null,null,{"$f":"E34","v":1},3,55,88,57,28,232,1,7,26,16,14,6,70,0,0,0,0,0,0,0,302]
[null,null,null,null,null,null,null,null,null,null,null,null,null,null,null,null,null,null,null,null,null,null,null,null,null,null,null,null,null,null,null,null,null,null,null,null,null,null,null,null,null,null,null,null,null,null,null,null,null,null,null,null,{"$f":"A35","v":"VALIDATION  WITH PROFORMA–XIV [Sl.–21 (Total)]"},null,null,{"$f":"E35","v":""},"","","","","","","","","","","","","","","","","","","","",""]
[null,null,null,null,null,null,null,null,null,null,null,null,null,null,null,null,null,null,null,null,null,null,null,null,null,null,null,null,null,null,null,null,null,null,null,null,null,null,null,null,null,null,null,null,null,null,null,null,null,null,null,null,{"$f":"A36","v":"SL-5.1.3 ABNORMAL VARIATION IN \"OTHER BUSINESS\" DATA"},null,null,{"$f":"E36","v":""},"","","ABVAR","ABVAR","","ABVAR","","","","","","","","","","","","","","","ABVAR"]
[null,null,null,null,null,null,null,null,null,null,null,null,null,null,null,null,null,null,null,null,null,null,null,null,null,null,null,null,null,null,null,null,null,null,null,null,null,null,null,null,null,null,null,null,null,null,null,null,null,null,null,null,{"$f":"A37","v":"SL-5.2 ABNORMAL VARIATION IN \"OTHER SELF-EMPLOYED PERSONS\" DATA"},null,null,{"$f":"E37","v":""},"","ABVAR","ABVAR","","ABVAR","ABVAR","","","ABVAR","","","","ABVAR","","","","","","","","ABVAR"]
[null,null,null,null,null,null,null,null,null,null,null,null,null,null,null,null,null,null,null,null,null,null,null,null,null,null,null,null,null,null,null,null,null,null,null,null,null,null,null,null,null,null,null,null,null,null,null,null,null,null,null,null,"SL-9 ABNORMAL VARIATION IN \"OTHER PERSONS\" DATA",null,null,"","","","","","","","","","","","","","","","","","","","","",""]
[null,null,null,null,null,null,null,null,null,null,null,null,null,null,null,null,null,null,null,null,null,null,null,null,null,null,null,null,null,null,null,null,null,null,null,null,null,null,null,null,null,null,null,null,null,null,null,null,null,null,null,null,null,{"$f":"#REF!","v":{"$error":"#REF!"}}]
[null,null,null,null,null,null,null,null,null,null,null,null,null,null,null,null,null,null,null,null,null,null,null,null,null,null,null,null,null,null,null,null,null,null,null,null,null,null,null,null,null,null,null,null,null,null,null,null,null,null,null,null,null,{"$f":"#REF!","v":{"$error":"#REF!"}}]
[null,null,null,null,null,null,null,null,null,null,null,null,null,null,null,null,null,null,null,null,null,null,null,null,null,null,null,null,null,null,null,null,null,null,null,null,null,null,null,null,null,null,null,null,null,null,null,null,null,null,null,null,null,{"$f":"E42","v":0}]
[null,null,null,null,null,null,null,null,null,null,null,null,null,null,null,null,null,null,null,null,null,null,null,null,null,null,null,null,null,null,null,null,null,null,null,null,null,null,null,null,null,null,null,null,null,null,null,null,null,null,null,null,null,{"$f":"E40","v":"Daily wage earner excludes Agricultural labourer."}]
[]
[]
[]
[]
[]
[]
[]
[]
[]
[]
[]
[]
[]
[]
[]
[]
[]
[]
[]
[]
[]
[]
[]
[]
[]
[]
[]
[]
[]
[]
[]
[]
[]
[]
[]
[]
[]
[]
[]
[]
[]
[]
[]
[]
[]
[]
[]
[]
[]
[]
[]
[]
[]
[]
[]
[]
[]
[]
[]
[]
[]
[]
[]
[]
[]
[]
[]
[]
[]
[]
[]
[]
[]
[]
[]
[]
[]
[]
[]
[]
[]
[]
[]
[]
[]
[]
[]
[]
[]
[]
[]
[]
[]
[]
[]
[]
[]
[]
[]
[]
[]
[]
[]
[]
[]
[]
[]
[]
[]
[]
[]
[]
[]
[]
[]
[]
[]
[]
[]
[]
[]
[]
[]
[]
[]
[]
[]
[]
[]
[]
[]
[]
[]
[]
[]
[]
[]
[]
[]
[]
[]
[]
[]
[]
[]
[]
[]
[]
[]
[]
[]
[]
[]
[]
[]
[]
[]
[]
[]
[]
[]
[]
[]
[]
[]
[]
[]
[]
[]
[]
[]
[]
[]
[]
[]
[]
[]
[]
[]
[]
[]
[]
[]
[]
[]
[]
[]
[]
[]
[]
[]
[]
[]
[]
[]
[]
[]
[]
[]
[]
[]
[]
[]
[]
[]
[]
[]
[]
[]
[]
[]
[]
[]
[]
[]
[]
[]
[]
[]
[]
[]
[]
[]
[]
[]
[]
[]
[]
[]
[]
[]
[]
[]
[]
[]
[]
[]
[]
[]
[]
[]
[]
[]
[]
[]
[]
[]
[]
[]
[]
[]
[]
[]
[]
[]
[]
[]
[]
["StateUTCityCode","DistrictCode","CrimeCode","DataYear","Male_below 14 years","Male_14 and above – below 18 years","Male_18 and above – below 30 years","Male_30 and above – below 45 years","Male_45 and above – below 60 years","Male_60 years & above","Male_Total","Female_below 14 years","Female_14 and above – below 18 years","Female_18 and above – below 30 years","Female_30 and above – below 45 years","Female_45 and above – below 60 years","Female_60 years & above","Female_Total","Trans_below 14 years","Trans_14 and above – below 18 years","Trans_18 and above – below 30 years","Trans_30 and above – below 45 years","Trans_45 and above – below 60 years","Trans_60 years & above","Trans_Total","Grand Total"]
[{"$f":"IF(ADSI!$G$12=\"\",ADSI!$H$16,ADSI!$H$12)","v":6},{"$f":"IF(ADSI!$G$12=\"\",ADSI!$H$16,ADSI!$H$14)","v":""},{"$f":"A9","v":800},{"$f":"ADSI!$K$12","v":2022},{"$f":"E9","v":0},0,0,0,0,0,0,0,0,9,11,13,3,36,0,0,0,0,0,0,0,36]
[{"$f":"IF(ADSI!$G$12=\"\",ADSI!$H$16,ADSI!$H$12)","v":6},{"$f":"IF(ADSI!$G$12=\"\",ADSI!$H$16,ADSI!$H$14)","v":""},{"$f":"A10","v":801},{"$f":"ADSI!$K$12","v":2022},{"$f":"E10","v":0},0,19,34,15,1,69,0,0,9,2,0,0,11,0,0,0,0,0,0,0,80]
[{"$f":"IF(ADSI!$G$12=\"\",ADSI!$H$16,ADSI!$H$12)","v":6},{"$f":"IF(ADSI!$G$12=\"\",ADSI!$H$16,ADSI!$H$14)","v":""},802,{"$f":"ADSI!$K$12","v":2022},{"$f":"E11","v":0},0,2,7,4,0,13,0,0,0,0,0,0,0,0,0,0,0,0,0,0,13]
[{"$f":"IF(ADSI!$G$12=\"\",ADSI!$H$16,ADSI!$H$12)","v":6},{"$f":"IF(ADSI!$G$12=\"\",ADSI!$H$16,ADSI!$H$14)","v":""},803,{"$f":"ADSI!$K$12","v":2022},{"$f":"E12","v":0},0,1,2,0,0,3,0,0,0,0,0,0,0,0,0,0,0,0,0,0,3]
[{"$f":"IF(ADSI!$G$12=\"\",ADSI!$H$16,ADSI!$H$12)","v":6},{"$f":"IF(ADSI!$G$12=\"\",ADSI!$H$16,ADSI!$H$14)","v":""},804,{"$f":"ADSI!$K$12","v":2022},{"$f":"E13","v":0},0,1,5,4,0,10,0,0,0,0,0,0,0,0,0,0,0,0,0,0,10]
[{"$f":"IF(ADSI!$G$12=\"\",ADSI!$H$16,ADSI!$H$12)","v":6},{"$f":"IF(ADSI!$G$12=\"\",ADSI!$H$16,ADSI!$H$14)","v":""},805,{"$f":"ADSI!$K$12","v":2022},{"$f":"E14","v":0},0,0,0,0,0,0,0,0,0,0,0,0,0,0,0,0,0,0,0,0,0]
[{"$f":"IF(ADSI!$G$12=\"\",ADSI!$H$16,ADSI!$H$12)","v":6},{"$f":"IF(ADSI!$G$12=\"\",ADSI!$H$16,ADSI!$H$14)","v":""},806,{"$f":"ADSI!$K$12","v":2022},{"$f":"E15","v":0},0,16,19,8,1,44,0,0,8,2,0,0,10,0,0,0,0,0,0,0,54]
[{"$f":"IF(ADSI!$G$12=\"\",ADSI!$H$16,ADSI!$H$12)","v":6},{"$f":"IF(ADSI!$G$12=\"\",ADSI!$H$16,ADSI!$H$14)","v":""},807,{"$f":"ADSI!$K$12","v":2022},{"$f":"E16","v":0},0,1,8,3,0,12,0,0,1,0,0,0,1,0,0,0,0,0,0,0,13]
[{"$f":"IF(ADSI!$G$12=\"\",ADSI!$H$16,ADSI!$H$12)","v":6},{"$f":"IF(ADSI!$G$12=\"\",ADSI!$H$16,ADSI!$H$14)","v":""},808,{"$f":"ADSI!$K$12","v":2022},{"$f":"E17","v":1},2,6,0,0,0,9,1,7,3,0,0,0,11,0,0,0,0,0,0,0,20]
[{"$f":"IF(ADSI!$G$12=\"\",ADSI!$H$16,ADSI!$H$12)","v":6},{"$f":"IF(ADSI!$G$12=\"\",ADSI!$H$16,ADSI!$H$14)","v":""},809,{"$f":"ADSI!$K$12","v":2022},{"$f":"E18","v":0},0,13,20,26,11,70,0,0,3,3,1,3,10,0,0,0,0,0,0,0,80]
[{"$f":"IF(ADSI!$G$12=\"\",ADSI!$H$16,ADSI!$H$12)","v":6},{"$f":"IF(ADSI!$G$12=\"\",ADSI!$H$16,ADSI!$H$14)","v":""},810,{"$f":"ADSI!$K$12","v":2022},{"$f":"E19","v":0},1,4,14,6,1,26,0,0,2,0,0,0,2,0,0,0,0,0,0,0,28]
[{"$f":"IF(ADSI!$G$12=\"\",ADSI!$H$16,ADSI!$H$12)","v":6},{"$f":"IF(ADSI!$G$12=\"\",ADSI!$H$16,ADSI!$H$14)","v":""},811,{"$f":"ADSI!$K$12","v":2022},{"$f":"E20","v":0},1,3,12,6,0,22,0,0,0,0,0,0,0,0,0,0,0,0,0,0,22]
[{"$f":"IF(ADSI!$G$12=\"\",ADSI!$H$16,ADSI!$H$12)","v":6},{"$f":"IF(ADSI!$G$12=\"\",ADSI!$H$16,ADSI!$H$14)","v":""},812,{"$f":"ADSI!$K$12","v":2022},{"$f":"E21","v":0},1,3,4,4,0,12,0,0,0,0,0,0,0,0,0,0,0,0,0,0,12]
[{"$f":"IF(ADSI!$G$12=\"\",ADSI!$H$16,ADSI!$H$12)","v":6},{"$f":"IF(ADSI!$G$12=\"\",ADSI!$H$16,ADSI!$H$14)","v":""},813,{"$f":"ADSI!$K$12","v":2022},{"$f":"E22","v":0},0,0,5,1,0,6,0,0,0,0,0,0,0,0,0,0,0,0,0,0,6]
[{"$f":"IF(ADSI!$G$12=\"\",ADSI!$H$16,ADSI!$H$12)","v":6},{"$f":"IF(ADSI!$G$12=\"\",ADSI!$H$16,ADSI!$H$14)","v":""},814,{"$f":"ADSI!$K$12","v":2022},{"$f":"E23","v":0},0,0,3,1,0,4,0,0,0,0,0,0,0,0,0,0,0,0,0,0,4]
[{"$f":"IF(ADSI!$G$12=\"\",ADSI!$H$16,ADSI!$H$12)","v":6},{"$f":"IF(ADSI!$G$12=\"\",ADSI!$H$16,ADSI!$H$14)","v":""},815,{"$f":"ADSI!$K$12","v":2022},{"$f":"E24","v":0},0,1,2,0,1,4,0,0,2,0,0,0,2,0,0,0,0,0,0,0,6]
[{"$f":"IF(ADSI!$G$12=\"\",ADSI!$H$16,ADSI!$H$12)","v":6},{"$f":"IF(ADSI!$G$12=\"\",ADSI!$H$16,ADSI!$H$14)","v":""},816,{"$f":"ADSI!$K$12","v":2022},{"$f":"E25","v":0},0,0,0,0,0,0,0,0,0,0,0,0,0,0,0,0,0,0,0,0,0]
[{"$f":"IF(ADSI!$G$12=\"\",ADSI!$H$16,ADSI!$H$12)","v":6},{"$f":"IF(ADSI!$G$12=\"\",ADSI!$H$16,ADSI!$H$14)","v":""},817,{"$f":"ADSI!$K$12","v":2022},{"$f":"E26","v":0},0,0,0,0,0,0,0,0,0,0,0,0,0,0,0,0,0,0,0,0,0]
[{"$f":"IF(ADSI!$G$12=\"\",ADSI!$H$16,ADSI!$H$12)","v":6},{"$f":"IF(ADSI!$G$12=\"\",ADSI!$H$16,ADSI!$H$14)","v":""},818,{"$f":"ADSI!$K$12","v":2022},{"$f":"E27","v":0},0,0,0,0,0,0,0,0,0,0,0,0,0,0,0,0,0,0,0,0,0]
[{"$f":"IF(ADSI!$G$12=\"\",ADSI!$H$16,ADSI!$H$12)","v":6},{"$f":"IF(ADSI!$G$12=\"\",ADSI!$H$16,ADSI!$H$14)","v":""},819,{"$f":"ADSI!$K$12","v":2022},{"$f":"E28","v":0},0,0,0,0,0,0,0,0,0,0,0,0,0,0,0,0,0,0,0,0,0]
[{"$f":"IF(ADSI!$G$12=\"\",ADSI!$H$16,ADSI!$H$12)","v":6},{"$f":"IF(ADSI!$G$12=\"\",ADSI!$H$16,ADSI!$H$14)","v":""},820,{"$f":"ADSI!$K$12","v":2022},{"$f":"E29","v":0},0,0,0,0,0,0,0,0,0,0,0,0,0,0,0,0,0,0,0,0,0]
[{"$f":"IF(ADSI!$G$12=\"\",ADSI!$H$16,ADSI!$H$12)","v":6},{"$f":"IF(ADSI!$G$12=\"\",ADSI!$H$16,ADSI!$H$14)","v":""},821,{"$f":"ADSI!$K$12","v":2022},{"$f":"E30","v":0},0,12,14,9,1,36,0,0,0,0,0,0,0,0,0,0,0,0,0,0,36]
[{"$f":"IF(ADSI!$G$12=\"\",ADSI!$H$16,ADSI!$H$12)","v":6},{"$f":"IF(ADSI!$G$12=\"\",ADSI!$H$16,ADSI!$H$14)","v":""},822,{"$f":"ADSI!$K$12","v":2022},{"$f":"E31","v":0},0,0,0,1,13,14,0,0,0,0,0,0,0,0,0,0,0,0,0,0,14]
[{"$f":"IF(ADSI!$G$12=\"\",ADSI!$H$16,ADSI!$H$12)","v":6},{"$f":"IF(ADSI!$G$12=\"\",ADSI!$H$16,ADSI!$H$14)","v":""},823,{"$f":"ADSI!$K$12","v":2022},{"$f":"E32","v":0},0,1,6,0,1,8,0,0,0,0,0,0,0,0,0,0,0,0,0,0,8]
[{"$f":"IF(ADSI!$G$12=\"\",ADSI!$H$16,ADSI!$H$12)","v":6},{"$f":"IF(ADSI!$G$12=\"\",ADSI!$H$16,ADSI!$H$14)","v":""},840,{"$f":"ADSI!$K$12","v":2022},{"$f":"E33","v":1},3,55,88,57,28,232,1,7,26,16,14,6,70,0,0,0,0,0,0,0,302]

{"sheet":"P-XVI","index":18,"n_rows":513,"n_cols":102,"rows_kept":513,"cut":false,"hidden":false,"merged":[[229,78,229,81],[243,54,243,73],[225,52,225,53],[226,52,226,53],[205,54,205,69],[206,54,206,69],[223,52,223,53],[205,52,208,52],[205,53,208,53],[210,52,210,97],[224,52,224,53],[207,94,207,97],[207,90,207,93],[241,54,241,73],[241,78,241,93],[242,54,242,73],[227,70,227,85],[227,86,227,97],[242,78,242,93],[223,78,223,93],[4,43,5,46],[238,78,239,93],[205,70,205,85],[206,70,206,77],[206,78,206,85],[205,86,205,97],[224,78,224,93],[225,78,225,93],[226,78,226,93],[228,78,228,85],[228,86,228,97],[229,94,229,97],[229,82,229,85],[229,86,229,89],[229,90,229,93],[219,52,219,53],[220,52,220,53],[221,78,222,93],[223,54,223,73],[224,54,224,73],[225,54,225,73],[226,54,226,73],[229,54,229,57],[229,58,229,61],[229,62,229,65],[229,66,229,69],[229,70,229,73],[227,54,227,69],[207,86,207,89],[207,82,207,85],[24,0,24,2],[19,0,19,2],[25,0,25,2],[22,0,22,2],[206,86,206,97],[207,58,207,61],[207,54,207,57],[207,78,207,81],[207,74,207,77],[207,70,207,73],[207,66,207,69],[28,0,28,2],[39,0,39,2],[38,0,38,2],[243,52,243,53],[232,52,232,97],[238,52,239,53],[240,52,240,53],[241,52,241,53],[240,78,240,93],[243,78,243,93],[238,94,238,97],[205,98,207,101],[227,98,229,101],[207,62,207,65],[221,52,222,53],[242,52,242,53],[228,54,228,69],[228,70,228,77],[227,52,230,52],[227,53,230,53],[229,74,229,77],[238,54,239,73],[238,74,238,77],[240,54,240,73],[221,74,221,77],[221,94,221,97],[221,54,222,73]]}
[{"$f":"ADSI!$B$1","v":"Goa, , ADSI-2022"}]
["Errors",null,{"$f":"COUNTIF(X24:AA24,FALSE)+COUNTIF(X26:AA26,FALSE)+COUNTIF(AR24:AU24,FALSE)+COUNTIF(AR26:AU26,FALSE)+COUNTIF(X38:AA38,FALSE)+COUNTIF(X40:AA40,FALSE)+COUNTIF(AR38:AU38,FALSE)+COUNTIF(AR40:AU40,FALSE)+COUNTIF(AV11:AY18,FALSE)+COUNTIF(AV30:AY34,FALSE)","v":0},null,"Abnormal Variations",{"$f":"COUNTIF(D19:AU20,\"ABVAR\")","v":0}]
[{"$f":"IF(ADSI!$L$10=1,LangMaster!A332,LangMaster!B332)","v":"Proforma-XVI"}]
[{"$f":"IF(ADSI!$L$10=1,LangMaster!A333,LangMaster!B333)","v":"Social and Economic Status of Suicide Victims"}]
[{"$f":"IF(ADSI!$L$10=1,LangMaster!A26,LangMaster!B26)","v":"Code"},{"$f":"IF(ADSI!$L$10=1,LangMaster!A27,LangMaster!B27)","v":"S.No."},{"$f":"IF(ADSI!$L$10=1,LangMaster!A334,LangMaster!B334)","v":"Status"},null,null,null,null,null,null,null,null,null,null,null,null,null,null,null,null,null,null,null,null,null,null,null,null,null,null,null,null,null,null,null,null,null,null,null,null,null,null,null,null,"Number of Suicidal Deaths"]
[]
[]
[null,null,null,null,null,null,null,null,null,null,null,null,null,null,null,null,null,null,null,null,null,null,null,null,null,null,null,null,null,null,null,null,null,null,null,null,null,null,null,null,null,null,null,"Male","Female","Transgender","Total"]
[null,"(1)","(2)",null,null,null,null,null,null,null,null,null,null,null,null,null,null,null,null,null,null,null,null,null,null,null,null,null,null,null,null,null,null,null,null,null,null,null,null,null,null,null,null,"(3)","(4)","(5)","(6)"]
[{"$f":"IF(ADSI!$L$10=1,LangMaster!A335,LangMaster!B335)","v":"Part-I: Social Status"}]
[850,1,{"$f":"IF(ADSI!$L$10=1,LangMaster!A336,LangMaster!B336)","v":"Un-Married"},null,null,null,null,null,null,null,null,null,null,null,null,null,null,null,null,null,null,null,null,null,null,null,null,null,null,null,null,null,null,null,null,null,null,null,null,null,null,null,null,82,26,0,{"$f":"SUM(AR11:AT11)","v":108}]
[851,2,{"$f":"IF(ADSI!$L$10=1,LangMaster!A337,LangMaster!B337)","v":"Married"},null,null,null,null,null,null,null,null,null,null,null,null,null,null,null,null,null,null,null,null,null,null,null,null,null,null,null,null,null,null,null,null,null,null,null,null,null,null,null,null,132,38,0,{"$f":"SUM(AR12:AT12)","v":170}]
[852,3,{"$f":"IF(ADSI!$L$10=1,LangMaster!A338,LangMaster!B338)","v":"Widowed/Widower"},null,null,null,null,null,null,null,null,null,null,null,null,null,null,null,null,null,null,null,null,null,null,null,null,null,null,null,null,null,null,null,null,null,null,null,null,null,null,null,null,5,5,0,10]
[853,4,{"$f":"IF(ADSI!$L$10=1,LangMaster!A339,LangMaster!B339)","v":"Divorcee"},null,null,null,null,null,null,null,null,null,null,null,null,null,null,null,null,null,null,null,null,null,null,null,null,null,null,null,null,null,null,null,null,null,null,null,null,null,null,null,null,2,0,0,2]
[854,5,{"$f":"IF(ADSI!$L$10=1,LangMaster!A340,LangMaster!B340)","v":"Separated"},null,null,null,null,null,null,null,null,null,null,null,null,null,null,null,null,null,null,null,null,null,null,null,null,null,null,null,null,null,null,null,null,null,null,null,null,null,null,null,null,0,0,0,0]
[855,6,{"$f":"IF(ADSI!$L$10=1,LangMaster!A341,LangMaster!B341)","v":"Others"},null,null,null,null,null,null,null,null,null,null,null,null,null,null,null,null,null,null,null,null,null,null,null,null,null,null,null,null,null,null,null,null,null,null,null,null,null,null,null,null,0,0,0,0]
[856,7,{"$f":"IF(ADSI!$L$10=1,LangMaster!A342,LangMaster!B342)","v":"Status not known"},null,null,null,null,null,null,null,null,null,null,null,null,null,null,null,null,null,null,null,null,null,null,null,null,null,null,null,null,null,null,null,null,null,null,null,null,null,null,null,null,11,1,0,12]
[865,8,{"$f":"IF(ADSI!$L$10=1,LangMaster!A343,LangMaster!B343)","v":"Total (sum of sl. 1 to 7)"},null,null,null,null,null,null,null,null,null,null,null,null,null,null,null,null,null,null,null,null,null,null,null,null,null,null,null,null,null,null,null,null,null,null,null,null,null,null,null,null,{"$f":"SUM(AR11:AR17)","v":232},{"$f":"SUM(AS11:AS17)","v":70},{"$f":"SUM(AT11:AT17)","v":0},{"$f":"SUM(AU11:AU17)","v":302}]
["SL-6 ABNORMAL VARIATION IN \"OTHERS\" DATA",null,null,null,null,null,null,null,null,null,null,null,null,null,null,null,null,null,null,null,null,null,null,null,null,null,null,null,null,null,null,null,null,null,null,null,null,null,null,null,null,null,null,{"$f":"IF(AR18>0,IF((AR16/AR18*100)>10,\"ABVAR\",\"\"),\"\")","v":""},"","",""]
["SL-7 ABNORMAL VARIATION IN \"STATUS NOT KNOWN\" DATA",null,null,null,null,null,null,null,null,null,null,null,null,null,null,null,null,null,null,null,null,null,null,null,null,null,null,null,null,null,null,null,null,null,null,null,null,null,null,null,null,null,null,{"$f":"IF(AR18>0,IF((AR17/AR18*100)>10,\"ABVAR\",\"\"),\"\")","v":""},"","",""]
[]
[null,null,null,null,null,null,null,null,null,null,null,null,null,null,null,null,null,null,null,null,null,null,null,null,null,null,null,null,null,null,null,null,null,null,null,null,null,null,null,null,null,null,null,"Male","Female","Transgender","Total"]
[]
[]
["PROFORMA–XIV VALUES [Sl.–21 (Total)]",null,null,null,null,null,null,null,null,null,null,null,null,null,null,null,null,null,null,null,null,null,null,null,null,null,null,null,null,null,null,null,null,null,null,null,null,null,null,null,null,null,null,{"$f":"'P-XIV'!J38","v":232},{"$f":"'P-XIV'!Q38","v":70},{"$f":"'P-XIV'!X38","v":0},{"$f":"'P-XIV'!Y38","v":302}]
["VALIDATION WITH PROFORMA–XIV [Sl.–21 (Total)]",null,null,null,null,null,null,null,null,null,null,null,null,null,null,null,null,null,null,null,null,null,null,null,null,null,null,null,null,null,null,null,null,null,null,null,null,null,null,null,null,null,null,{"$f":"IF(AR18='P-XIV'!J38,\"\",FALSE)","v":""},{"$f":"IF(AS18='P-XIV'!Q38,\"\",FALSE)","v":""},{"$f":"IF(AT18='P-XIV'!X38,\"\",FALSE)","v":""},{"$f":"IF(AU18='P-XIV'!Y38,\"\",FALSE)","v":""}]
[]
[]
[{"$f":"IF(ADSI!$L$10=1,LangMaster!A344,LangMaster!B344)","v":"Part-II: Economic Status"}]
[875,9,{"$f":"IF(ADSI!$L$10=1,LangMaster!A345,LangMaster!B345)","v":"less than Rs. 1 lakh"},null,null,null,null,null,null,null,null,null,null,null,null,null,null,null,null,null,null,null,null,null,null,null,null,null,null,null,null,null,null,null,null,null,null,null,null,null,null,null,null,93,48,0,{"$f":"SUM(AR30:AT30)","v":141}]
[876,10,{"$f":"IF(ADSI!$L$10=1,LangMaster!A346,LangMaster!B346)","v":"Rs. 1 lakh & above – less than Rs. 5 lakhs"},null,null,null,null,null,null,null,null,null,null,null,null,null,null,null,null,null,null,null,null,null,null,null,null,null,null,null,null,null,null,null,null,null,null,null,null,null,null,null,null,119,20,0,{"$f":"SUM(AR31:AT31)","v":139}]
[877,11,{"$f":"IF(ADSI!$L$10=1,LangMaster!A347,LangMaster!B347)","v":"Rs. 5 lakhs & above – less than Rs. 10 lakhs"},null,null,null,null,null,null,null,null,null,null,null,null,null,null,null,null,null,null,null,null,null,null,null,null,null,null,null,null,null,null,null,null,null,null,null,null,null,null,null,null,19,2,0,21]
[878,12,{"$f":"IF(ADSI!$L$10=1,LangMaster!A348,LangMaster!B348)","v":"Rs. 10 lakhs and above"},null,null,null,null,null,null,null,null,null,null,null,null,null,null,null,null,null,null,null,null,null,null,null,null,null,null,null,null,null,null,null,null,null,null,null,null,null,null,null,null,1,0,0,1]
[890,13,{"$f":"IF(ADSI!$L$10=1,LangMaster!A349,LangMaster!B349)","v":"Total (Economic Status) (sum of Sl. 9 to 12)"},null,null,null,null,null,null,null,null,null,null,null,null,null,null,null,null,null,null,null,null,null,null,null,null,null,null,null,null,null,null,null,null,null,null,null,null,null,null,null,null,{"$f":"SUM(AR30:AR33)","v":232},70,0,302]
[]
[]
[]
[]
[" PROFORMA–XIV VALUES [Sl.–21 (Total)]",null,null,null,null,null,null,null,null,null,null,null,null,null,null,null,null,null,null,null,null,null,null,null,null,null,null,null,null,null,null,null,null,null,null,null,null,null,null,null,null,null,null,{"$f":"'P-XIV'!J38","v":232},{"$f":"'P-XIV'!Q38","v":70},{"$f":"'P-XIV'!X38","v":0},{"$f":"'P-XIV'!Y38","v":302}]
["VALIDATION WITH PROFORMA–XIV [Sl.–21 (Total)]",null,null,null,null,null,null,null,null,null,null,null,null,null,null,null,null,null,null,null,null,null,null,null,null,null,null,null,null,null,null,null,null,null,null,null,null,null,null,null,null,null,null,{"$f":"IF(AR34='P-XIV'!J38,\"\",FALSE)","v":""},{"$f":"IF(AS34='P-XIV'!Q38,\"\",FALSE)","v":""},{"$f":"IF(AT34='P-XIV'!X38,\"\",FALSE)","v":""},{"$f":"IF(AU34='P-XIV'!Y38,\"\",FALSE)","v":""}]
[]
[]
[]
[]
[]
[]
[]
[]
[]
[]
[]
[]
[]
[]
[]
[]
[]
[]
[]
[]
[]
[]
[]
[]
[]
[]
[]
[]
[]
[]
[]
[]
[]
[]
[]
[]
[]
[]
[]
[]
[]
[]
[]
[]
[]
[]
[]
[]
[]
[]
[]
[]
[]
[]
[]
[]
[]
[]
[]
[]
[]
[]
[]
[]
[]
[]
[]
[]
[]
[]
[]
[]
[]
[]
[]
[]
[]
[]
[]
[]
[]
[]
[]
[]
[]
[]
[]
[]
[]
[]
[]
[]
[]
[]
[]
[]
[]
[]
[]
[]
[]
[]
[]
[]
[]
[]
[]
[]
[]
[]
[]
[]
[]
[]
[]
[]
[]
[]
[]
[]
[]
[]
[]
[]
[]
[]
[]
[]
[]
[]
[]
[]
[]
[]
[]
[]
[]
[]
[]
[]
[]
[]
[]
[]
[]
[]
[]
[]
[]
[]
[]
[]
[]
[]
[]
[]
[]
[]
[]
[]
[]
[null,null,null,null,null,null,null,null,null,null,null,null,null,null,null,null,null,null,null,null,null,null,null,null,null,null,null,null,null,null,null,null,null,null,null,null,null,null,null,null,null,null,null,null,null,null,null,null,null,null,null,null,{"$f":"A1","v":"Goa, , ADSI-2022"}]
[null,null,null,null,null,null,null,null,null,null,null,null,null,null,null,null,null,null,null,null,null,null,null,null,null,null,null,null,null,null,null,null,null,null,null,null,null,null,null,null,null,null,null,null,null,null,null,null,null,null,null,null,{"$f":"A2","v":"Errors"},{"$f":"C2","v":0},null,{"$f":"E2","v":"Abnormal Variations"},{"$f":"F2","v":0}]
[null,null,null,null,null,null,null,null,null,null,null,null,null,null,null,null,null,null,null,null,null,null,null,null,null,null,null,null,null,null,null,null,null,null,null,null,null,null,null,null,null,null,null,null,null,null,null,null,null,null,null,null,{"$f":"A3","v":"Proforma-XVI"}]
[null,null,null,null,null,null,null,null,null,null,null,null,null,null,null,null,null,null,null,null,null,null,null,null,null,null,null,null,null,null,null,null,null,null,null,null,null,null,null,null,null,null,null,null,null,null,null,null,null,null,null,null,{"$f":"A4","v":"Social and Economic Status of Suicide Victims"}]
[null,null,null,null,null,null,null,null,null,null,null,null,null,null,null,null,null,null,null,null,null,null,null,null,null,null,null,null,null,null,null,null,null,null,null,null,null,null,null,null,null,null,null,null,null,null,null,null,null,null,null,null,{"$f":"B5","v":"S.No."},{"$f":"C5","v":"Status"},{"$f":"D5","v":0},null,null,null,null,null,null,null,null,null,null,null,null,null,null,null,"Number of Suicidal Deaths",null,null,null,null,null,null,null,null,null,null,null,null,null,null,null,"Number of Suicidal Deaths",null,null,null,null,null,null,null,null,null,null,null,{"$f":"AV5","v":0}]
[null,null,null,null,null,null,null,null,null,null,null,null,null,null,null,null,null,null,null,null,null,null,null,null,null,null,null,null,null,null,null,null,null,null,null,null,null,null,null,null,null,null,null,null,null,null,null,null,null,null,null,null,null,null,{"$f":"D6","v":0},null,null,null,null,null,null,null,null,null,null,null,null,null,null,null,"Religion of Victims",null,null,null,null,null,null,null,{"$f":"AB6","v":0},null,null,null,null,null,null,null,"Caste of Victims"]
[null,null,null,null,null,null,null,null,null,null,null,null,null,null,null,null,null,null,null,null,null,null,null,null,null,null,null,null,null,null,null,null,null,null,null,null,null,null,null,null,null,null,null,null,null,null,null,null,null,null,null,null,null,null,{"$f":"D7","v":0},null,null,null,{"$f":"H7","v":0},null,null,null,{"$f":"L7","v":0},null,null,null,{"$f":"P7","v":0},null,null,null,{"$f":"T7","v":0},null,null,null,{"$f":"X7","v":0},null,null,null,{"$f":"AB7","v":0},null,null,null,{"$f":"AF7","v":0},null,null,null,{"$f":"AJ7","v":0},null,null,null,{"$f":"AN7","v":0},null,null,null,{"$f":"AR7","v":0}]
[null,null,null,null,null,null,null,null,null,null,null,null,null,null,null,null,null,null,null,null,null,null,null,null,null,null,null,null,null,null,null,null,null,null,null,null,null,null,null,null,null,null,null,null,null,null,null,null,null,null,null,null,null,null,{"$f":"D8","v":0},{"$f":"E8","v":0},0,0,{"$f":"H8","v":0},{"$f":"I8","v":0},0,0,{"$f":"L8","v":0},{"$f":"M8","v":0},0,0,{"$f":"P8","v":0},{"$f":"Q8","v":0},0,0,{"$f":"T8","v":0},{"$f":"U8","v":0},0,0,{"$f":"X8","v":0},{"$f":"Y8","v":0},0,0,{"$f":"AB8","v":0},{"$f":"AC8","v":0},0,0,{"$f":"AF8","v":0},{"$f":"AG8","v":0},0,0,{"$f":"AJ8","v":0},{"$f":"AK8","v":0},0,0,{"$f":"AN8","v":0},{"$f":"AO8","v":0},0,0,{"$f":"AR8","v":"Male"},{"$f":"AS8","v":"Female"},{"$f":"AT8","v":"Transgender"},{"$f":"AU8","v":"Total"},{"$f":"AV8","v":0},{"$f":"AW8","v":0},0,0]
[null,null,null,null,null,null,null,null,null,null,null,null,null,null,null,null,null,null,null,null,null,null,null,null,null,null,null,null,null,null,null,null,null,null,null,null,null,null,null,null,null,null,null,null,null,null,null,null,null,null,null,null,{"$f":"B9","v":"(1)"},{"$f":"C9","v":"(2)"},{"$f":"D9","v":0},0,0,0,{"$f":"H9","v":0},0,0,0,{"$f":"L9","v":0},0,0,0,{"$f":"P9","v":0},0,0,0,{"$f":"T9","v":0},0,0,0,{"$f":"X9","v":0},0,0,0,{"$f":"AB9","v":0},0,0,0,{"$f":"AF9","v":0},0,0,0,{"$f":"AJ9","v":0},0,0,0,{"$f":"AN9","v":0},0,0,0,{"$f":"AR9","v":"(3)"},{"$f":"AS9","v":"(4)"},{"$f":"AT9","v":"(5)"},{"$f":"AU9","v":"(6)"}]
[null,null,null,null,null,null,null,null,null,null,null,null,null,null,null,null,null,null,null,null,null,null,null,null,null,null,null,null,null,null,null,null,null,null,null,null,null,null,null,null,null,null,null,null,null,null,null,null,null,null,null,null,{"$f":"A10","v":"Part-I: Social Status"}]
[null,null,null,null,null,null,null,null,null,null,null,null,null,null,null,null,null,null,null,null,null,null,null,null,null,null,null,null,null,null,null,null,null,null,null,null,null,null,null,null,null,null,null,null,null,null,null,null,null,null,null,null,{"$f":"B11","v":1},"Un-Married",0,0,0,0,0,0,0,0,{"$f":"L11","v":0},0,0,0,0,0,0,0,0,0,{"$f":"V11","v":0},0,0,0,0,0,0,0,0,0,{"$f":"AF11","v":0},0,0,0,0,0,0,0,0,0,{"$f":"AP11","v":0},0,82,26,0,108,0,0,0,0]
[null,null,null,null,null,null,null,null,null,null,null,null,null,null,null,null,null,null,null,null,null,null,null,null,null,null,null,null,null,null,null,null,null,null,null,null,null,null,null,null,null,null,null,null,null,null,null,null,null,null,null,null,2,"Married",0,0,0,0,0,0,0,0,0,0,0,0,0,0,0,0,0,0,0,0,0,0,0,0,0,0,0,0,0,0,0,0,0,0,0,0,0,0,0,0,132,38,0,170,0,0,0,0]
[null,null,null,null,null,null,null,null,null,null,null,null,null,null,null,null,null,null,null,null,null,null,null,null,null,null,null,null,null,null,null,null,null,null,null,null,null,null,null,null,null,null,null,null,null,null,null,null,null,null,null,null,3,"Widowed/Widower",0,0,0,0,0,0,0,0,0,0,0,0,0,0,0,0,0,0,0,0,0,0,0,0,0,0,0,0,0,0,0,0,0,0,0,0,0,0,0,0,5,5,0,10,0,0,0,0]
[null,null,null,null,null,null,null,null,null,null,null,null,null,null,null,null,null,null,null,null,null,null,null,null,null,null,null,null,null,null,null,null,null,null,null,null,null,null,null,null,null,null,null,null,null,null,null,null,null,null,null,null,4,"Divorcee",0,0,0,0,0,0,0,0,0,0,0,0,0,0,0,0,0,0,0,0,0,0,0,0,0,0,0,0,0,0,0,0,0,0,0,0,0,0,0,0,2,0,0,2,0,0,0,0]
[null,null,null,null,null,null,null,null,null,null,null,null,null,null,null,null,null,null,null,null,null,null,null,null,null,null,null,null,null,null,null,null,null,null,null,null,null,null,null,null,null,null,null,null,null,null,null,null,null,null,null,null,5,"Separated",0,0,0,0,0,0,0,0,0,0,0,0,0,0,0,0,0,0,0,0,0,0,0,0,0,0,0,0,0,0,0,0,0,0,0,0,0,0,0,0,0,0,0,0,0,0,0,0]
[null,null,null,null,null,null,null,null,null,null,null,null,null,null,null,null,null,null,null,null,null,null,null,null,null,null,null,null,null,null,null,null,null,null,null,null,null,null,null,null,null,null,null,null,null,null,null,null,null,null,null,null,6,"Others",0,0,0,0,0,0,0,0,0,0,0,0,0,0,0,0,0,0,0,0,0,0,0,0,0,0,0,0,0,0,0,0,0,0,0,0,0,0,0,0,0,0,0,0,0,0,0,0]
[null,null,null,null,null,null,null,null,null,null,null,null,null,null,null,null,null,null,null,null,null,null,null,null,null,null,null,null,null,null,null,null,null,null,null,null,null,null,null,null,null,null,null,null,null,null,null,null,null,null,null,null,7,"Status not known",0,0,0,0,0,0,0,0,0,0,0,0,0,0,0,0,0,0,0,0,0,0,0,0,0,0,0,0,0,0,0,0,0,0,0,0,0,0,0,0,11,1,0,12,0,0,0,0]
[null,null,null,null,null,null,null,null,null,null,null,null,null,null,null,null,null,null,null,null,null,null,null,null,null,null,null,null,null,null,null,null,null,null,null,null,null,null,null,null,null,null,null,null,null,null,null,null,null,null,null,null,8,"Total (sum of sl. 1 to 7)",0,0,0,0,0,0,0,0,0,0,0,0,0,0,0,0,0,0,0,0,0,0,0,0,0,0,0,0,0,0,0,0,0,0,0,0,0,0,0,0,232,70,0,302,0,0,0,0]
[null,null,null,null,null,null,null,null,null,null,null,null,null,null,null,null,null,null,null,null,null,null,null,null,null,null,null,null,null,null,null,null,null,null,null,null,null,null,null,null,null,null,null,null,null,null,null,null,null,null,null,null,{"$f":"A19","v":"SL-6 ABNORMAL VARIATION IN \"OTHERS\" DATA"},null,{"$f":"D19","v":0},0,0,0,0,0,0,0,0,0,{"$f":"N19","v":0},0,0,0,0,0,0,0,0,0,{"$f":"X19","v":0},0,0,0,0,0,0,0,0,0,{"$f":"AH19","v":0},0,0,0,0,0,0,0,0,0,{"$f":"AR19","v":""},"","",""]
[null,null,null,null,null,null,null,null,null,null,null,null,null,null,null,null,null,null,null,null,null,null,null,null,null,null,null,null,null,null,null,null,null,null,null,null,null,null,null,null,null,null,null,null,null,null,null,null,null,null,null,null,{"$f":"A20","v":"SL-7 ABNORMAL VARIATION IN \"STATUS NOT KNOWN\" DATA"},null,0,0,0,0,0,0,0,0,0,0,0,0,0,0,0,0,0,0,0,0,0,0,0,0,0,0,0,0,0,0,0,0,0,0,0,0,0,0,0,0,"","","",""]
[null,null,null,null,null,null,null,null,null,null,null,null,null,null,null,null,null,null,null,null,null,null,null,null,null,null,null,null,null,null,null,null,null,null,null,null,null,null,null,null,null,null,null,null,null,null,null,null,null,null,null,null,{"$f":"A21","v":0},null,null,null,null,null,null,null,null,null,null,null,null,null,null,null,null,null,null,null,null,null,{"$f":"X21","v":0},null,null,null,null,null,null,null,null,null,null,null,null,null,null,null,null,null,null,null,{"$f":"AR21","v":0}]
[null,null,null,null,null,null,null,null,null,null,null,null,null,null,null,null,null,null,null,null,null,null,null,null,null,null,null,null,null,null,null,null,null,null,null,null,null,null,null,null,null,null,null,null,null,null,null,null,null,null,null,null,null,null,null,null,null,null,null,null,null,null,null,null,null,null,null,null,null,null,null,null,null,null,0,{"$f":"Y22","v":0},0,0,null,null,null,null,null,null,null,null,null,null,null,null,null,null,null,null,{"$f":"X22","v":0},{"$f":"Y22","v":0},0,0]
[null,null,null,null,null,null,null,null,null,null,null,null,null,null,null,null,null,null,null,null,null,null,null,null,null,null,null,null,null,null,null,null,null,null,null,null,null,null,null,null,null,null,null,null,null,null,null,null,null,null,null,null,{"$f":"A23","v":0},null,null,null,null,null,null,null,null,null,null,null,null,null,null,null,null,null,null,null,null,null,0,{"$f":"Y23","v":0},0,0,null,null,null,null,null,null,null,null,null,null,null,null,null,null,null,null,{"$f":"AR23","v":0},{"$f":"AS23","v":0},0,0]
[null,null,null,null,null,null,null,null,null,null,null,null,null,null,null,null,null,null,null,null,null,null,null,null,null,null,null,null,null,null,null,null,null,null,null,null,null,null,null,null,null,null,null,null,null,null,null,null,null,null,null,null,{"$f":"A24","v":0},null,null,null,null,null,null,null,null,null,null,null,null,null,null,null,null,null,null,null,null,null,0,{"$f":"Y24","v":0},0,0,null,null,null,null,null,null,null,null,null,null,null,null,null,null,null,null,{"$f":"AR24","v":0},{"$f":"AS24","v":0},0,0]
[null,null,null,null,null,null,null,null,null,null,null,null,null,null,null,null,null,null,null,null,null,null,null,null,null,null,null,null,null,null,null,null,null,null,null,null,null,null,null,null,null,null,null,null,null,null,null,null,null,null,null,null,{"$f":"A25","v":"PROFORMA–XIV VALUES [Sl.–21 (Total)]"},null,null,null,null,null,null,null,null,null,null,null,null,null,null,null,null,null,null,null,null,null,0,0,0,0,null,null,null,null,null,null,null,null,null,null,null,null,null,null,null,null,{"$f":"AR25","v":232},70,0,302]
[null,null,null,null,null,null,null,null,null,null,null,null,null,null,null,null,null,null,null,null,null,null,null,null,null,null,null,null,null,null,null,null,null,null,null,null,null,null,null,null,null,null,null,null,null,null,null,null,null,null,null,null,{"$f":"A26","v":"VALIDATION WITH PROFORMA–XIV [Sl.–21 (Total)]"},null,null,null,null,null,null,null,null,null,null,null,null,null,null,null,null,null,null,null,null,null,0,0,0,0,null,null,null,null,null,null,null,null,null,null,null,null,null,null,null,null,{"$f":"AR26","v":""},"","",""]
[null,null,null,null,null,null,null,null,null,null,null,null,null,null,null,null,null,null,null,null,null,null,null,null,null,null,null,null,null,null,null,null,null,null,null,null,null,null,null,null,null,null,null,null,null,null,null,null,null,null,null,null,{"$f":"B5","v":"S.No."},{"$f":"C5","v":"Status"},{"$f":"AB5","v":0},null,null,null,null,null,null,null,null,null,null,null,null,null,null,null,null,null,null,null,null,null,null,null,null,null,null,null,null,null,null,null,null,null,null,null,null,null,null,null,null,null,null,null,{"$f":"AV5","v":0}]
[null,null,null,null,null,null,null,null,null,null,null,null,null,null,null,null,null,null,null,null,null,null,null,null,null,null,null,null,null,null,null,null,null,null,null,null,null,null,null,null,null,null,null,null,null,null,null,null,null,null,null,null,null,null,{"$f":"D6","v":0},null,null,null,null,null,null,null,null,null,null,null,null,null,null,null,null,null,null,null,null,null,null,null,{"$f":"AB6","v":0}]
[null,null,null,null,null,null,null,null,null,null,null,null,null,null,null,null,null,null,null,null,null,null,null,null,null,null,null,null,null,null,null,null,null,null,null,null,null,null,null,null,null,null,null,null,null,null,null,null,null,null,null,null,null,null,{"$f":"D7","v":0},null,null,null,{"$f":"H7","v":0},null,null,null,{"$f":"L7","v":0},null,null,null,{"$f":"P7","v":0},null,null,null,{"$f":"T7","v":0},null,null,null,{"$f":"X7","v":0},null,null,null,{"$f":"AB7","v":0},null,null,null,{"$f":"AF7","v":0},null,null,null,{"$f":"AJ7","v":0},null,null,null,{"$f":"AN7","v":0},null,null,null,{"$f":"AR7","v":0}]
[null,null,null,null,null,null,null,null,null,null,null,null,null,null,null,null,null,null,null,null,null,null,null,null,null,null,null,null,null,null,null,null,null,null,null,null,null,null,null,null,null,null,null,null,null,null,null,null,null,null,null,null,null,null,{"$f":"D8","v":0},{"$f":"E8","v":0},{"$f":"F8","v":0},{"$f":"G8","v":0},{"$f":"H8","v":0},0,0,0,{"$f":"L8","v":0},{"$f":"M8","v":0},{"$f":"N8","v":0},{"$f":"O8","v":0},{"$f":"P8","v":0},{"$f":"Q8","v":0},{"$f":"R8","v":0},{"$f":"S8","v":0},{"$f":"T8","v":0},{"$f":"U8","v":0},{"$f":"V8","v":0},{"$f":"W8","v":0},{"$f":"X8","v":0},{"$f":"Y8","v":0},{"$f":"Z8","v":0},{"$f":"AA8","v":0},{"$f":"AB8","v":0},{"$f":"AC8","v":0},{"$f":"AD8","v":0},{"$f":"AE8","v":0},{"$f":"AF8","v":0},{"$f":"AG8","v":0},{"$f":"AH8","v":0},{"$f":"AI8","v":0},{"$f":"AJ8","v":0},{"$f":"AK8","v":0},{"$f":"AL8","v":0},{"$f":"AM8","v":0},{"$f":"AN8","v":0},{"$f":"AO8","v":0},{"$f":"AP8","v":0},{"$f":"AQ8","v":0},{"$f":"AR8","v":"Male"},{"$f":"AS8","v":"Female"},{"$f":"AT8","v":"Transgender"},{"$f":"AU8","v":"Total"},{"$f":"AV8","v":0},{"$f":"AW8","v":0},0,0]
[null,null,null,null,null,null,null,null,null,null,null,null,null,null,null,null,null,null,null,null,null,null,null,null,null,null,null,null,null,null,null,null,null,null,null,null,null,null,null,null,null,null,null,null,null,null,null,null,null,null,null,null,{"$f":"B9","v":"(1)"},{"$f":"C9","v":"(2)"},{"$f":"D9","v":0},0,0,0,0,0,0,0,0,0,0,0,0,0,0,0,0,0,0,0,0,0,0,0,0,0,0,0,0,0,0,0,0,0,0,0,0,0,0,0,"(3)","(4)","(5)","(6)"]
[null,null,null,null,null,null,null,null,null,null,null,null,null,null,null,null,null,null,null,null,null,null,null,null,null,null,null,null,null,null,null,null,null,null,null,null,null,null,null,null,null,null,null,null,null,null,null,null,null,null,null,null,{"$f":"A29","v":"Part-II: Economic Status"}]
[null,null,null,null,null,null,null,null,null,null,null,null,null,null,null,null,null,null,null,null,null,null,null,null,null,null,null,null,null,null,null,null,null,null,null,null,null,null,null,null,null,null,null,null,null,null,null,null,null,null,null,null,{"$f":"B30","v":9},{"$f":"C30","v":"less than Rs. 1 lakh"},{"$f":"D30","v":0},{"$f":"E30","v":0},0,0,0,0,0,0,0,0,0,0,0,0,0,0,0,0,0,0,0,0,0,0,0,0,0,0,0,0,0,0,0,0,0,0,0,0,0,0,93,48,0,141,{"$f":"AV30","v":0},{"$f":"AW30","v":0},0,0]
[null,null,null,null,null,null,null,null,null,null,null,null,null,null,null,null,null,null,null,null,null,null,null,null,null,null,null,null,null,null,null,null,null,null,null,null,null,null,null,null,null,null,null,null,null,null,null,null,null,null,null,null,{"$f":"B31","v":10},{"$f":"C31","v":"Rs. 1 lakh & above – less than Rs. 5 lakhs"},{"$f":"D31","v":0},0,0,0,0,0,0,0,0,0,0,0,0,0,0,0,0,0,0,0,0,0,0,0,0,0,0,0,0,0,0,0,0,0,0,0,0,0,0,0,119,20,0,139,{"$f":"AV31","v":0},{"$f":"AW31","v":0},{"$f":"AX31","v":0},{"$f":"AY31","v":0}]
[null,null,null,null,null,null,null,null,null,null,null,null,null,null,null,null,null,null,null,null,null,null,null,null,null,null,null,null,null,null,null,null,null,null,null,null,null,null,null,null,null,null,null,null,null,null,null,null,null,null,null,null,11,"Rs. 5 lakhs & above – less than Rs. 10 lakhs",0,0,0,0,0,0,0,0,0,0,0,0,0,0,0,0,0,0,0,0,0,0,0,0,0,0,0,0,0,0,0,0,0,0,0,0,0,0,0,0,19,2,0,21,0,0,0,0]
[null,null,null,null,null,null,null,null,null,null,null,null,null,null,null,null,null,null,null,null,null,null,null,null,null,null,null,null,null,null,null,null,null,null,null,null,null,null,null,null,null,null,null,null,null,null,null,null,null,null,null,null,12,"Rs. 10 lakhs and above",0,0,0,0,0,0,0,0,0,0,0,0,0,0,0,0,0,0,0,0,0,0,0,0,0,0,0,0,0,0,0,0,0,0,0,0,0,0,0,0,1,0,0,1,0,0,0,0]
[null,null,null,null,null,null,null,null,null,null,null,null,null,null,null,null,null,null,null,null,null,null,null,null,null,null,null,null,null,null,null,null,null,null,null,null,null,null,null,null,null,null,null,null,null,null,null,null,null,null,null,null,13,"Total (Economic Status) (sum of Sl. 9 to 12)",0,0,0,0,0,0,0,0,0,0,0,0,0,0,0,0,0,0,0,0,0,0,0,0,0,0,0,0,0,0,0,0,0,0,0,0,0,0,0,0,232,70,0,302,0,0,0,0]
[null,null,null,null,null,null,null,null,null,null,null,null,null,null,null,null,null,null,null,null,null,null,null,null,null,null,null,null,null,null,null,null,null,null,null,null,null,null,null,null,null,null,null,null,null,null,null,null,null,null,null,null,{"$f":"A35","v":0},null,null,null,null,null,null,null,null,null,null,null,null,null,null,null,null,null,null,null,null,null,{"$f":"X35","v":0},null,null,null,null,null,null,null,null,null,null,null,null,null,null,null,null,null,null,null,{"$f":"AR35","v":0}]
[null,null,null,null,null,null,null,null,null,null,null,null,null,null,null,null,null,null,null,null,null,null,null,null,null,null,null,null,null,null,null,null,null,null,null,null,null,null,null,null,null,null,null,null,null,null,null,null,null,null,null,null,null,null,null,null,null,null,null,null,null,null,null,null,null,null,null,null,null,null,null,null,null,null,{"$f":"X36","v":0},{"$f":"Y36","v":0},0,0,null,null,null,null,null,null,null,null,null,null,null,null,null,null,null,null,{"$f":"AR36","v":0},{"$f":"AS36","v":0},0,0]
[null,null,null,null,null,null,null,null,null,null,null,null,null,null,null,null,null,null,null,null,null,null,null,null,null,null,null,null,null,null,null,null,null,null,null,null,null,null,null,null,null,null,null,null,null,null,null,null,null,null,null,null,{"$f":"A37","v":0},null,null,null,null,null,null,null,null,null,null,null,null,null,null,null,null,null,null,null,null,null,{"$f":"X37","v":0},{"$f":"Y37","v":0},0,0,null,null,null,null,null,null,null,null,null,null,null,null,null,null,null,null,{"$f":"AR37","v":0},{"$f":"AS37","v":0},{"$f":"AT37","v":0},{"$f":"AU37","v":0}]
[null,null,null,null,null,null,null,null,null,null,null,null,null,null,null,null,null,null,null,null,null,null,null,null,null,null,null,null,null,null,null,null,null,null,null,null,null,null,null,null,null,null,null,null,null,null,null,null,null,null,null,null,{"$f":"A38","v":0},null,null,null,null,null,null,null,null,null,null,null,null,null,null,null,null,null,null,null,null,null,{"$f":"X38","v":0},{"$f":"Y38","v":0},{"$f":"Z38","v":0},{"$f":"AA38","v":0},null,null,null,null,null,null,null,null,null,null,null,null,null,null,null,null,0,0,0,0]
[null,null,null,null,null,null,null,null,null,null,null,null,null,null,null,null,null,null,null,null,null,null,null,null,null,null,null,null,null,null,null,null,null,null,null,null,null,null,null,null,null,null,null,null,null,null,null,null,null,null,null,null,{"$f":"A39","v":" PROFORMA–XIV VALUES [Sl.–21 (Total)]"},null,null,null,null,null,null,null,null,null,null,null,null,null,null,null,null,null,null,null,null,null,0,0,0,0,null,null,null,null,null,null,null,null,null,null,null,null,null,null,null,null,232,70,0,302]
[null,null,null,null,null,null,null,null,null,null,null,null,null,null,null,null,null,null,null,null,null,null,null,null,null,null,null,null,null,null,null,null,null,null,null,null,null,null,null,null,null,null,null,null,null,null,null,null,null,null,null,null,{"$f":"A40","v":"VALIDATION WITH PROFORMA–XIV [Sl.–21 (Total)]"},null,null,null,null,null,null,null,null,null,null,null,null,null,null,null,null,null,null,null,null,null,0,0,0,0,null,null,null,null,null,null,null,null,null,null,null,null,null,null,null,null,"","","",""]
[]
[]
[]
[]
[]
[]
[]
[]
[]
[]
[]
[]
[]
[]
[]
[]
[]
[]
[]
[]
[]
[]
[]
[]
[]
[]
[]
[]
[]
[]
[]
[]
[]
[]
[]
[]
[]
[]
[]
[]
[]
[]
[]
[]
[]
[]
[]
[]
[]
[]
[]
[]
[]
[]
[]
[]
[]
[]
[]
[]
[]
[]
[]
[]
[]
[]
[]
[]
[]
[]
[]
[]
[]
[]
[]
[]
[]
[]
[]
[]
[]
[]
[]
[]
[]
[]
[]
[]
[]
[]
[]
[]
[]
[]
[]
[]
[]
[]
[]
[]
[]
[]
[]
[]
[]
[]
[]
[]
[]
[]
[]
[]
[]
[]
[]
[]
[]
[]
[]
[]
[]
[]
[]
[]
[]
[]
[]
[]
[]
[]
[]
[]
[]
[]
[]
[]
[]
[]
[]
[]
[]
[]
[]
[]
[]
[]
[]
[]
[]
[]
[]
[]
[]
[]
[]
[]
[]
[]
[]
[]
[]
[]
[]
[]
[]
[]
[]
[]
[]
[]
[]
[]
[]
[]
[]
[]
[]
[]
[]
[]
[]
[]
[]
[]
[]
[]
[]
[]
[]
[]
[]
[]
[]
[]
[]
[]
[]
[]
[]
[]
[]
[]
[]
[]
[]
[]
[]
[]
["DistrictCode","StateUTCityCode","CrimeCode","DataYear","ReligionHindu_Male","ReligionHindu_Female","ReligionHindu_Trans","ReligionHindu_Total","ReligionMuslim_Male","ReligionMuslim_Female","ReligionMuslim_Trans","ReligionMuslim_Total","ReligionChristian_Male","ReligionChristian_Female","ReligionChristian_Trans","ReligionChristian_Total","ReligionSikh_Male","ReligionSikh_Female","ReligionSikh_Trans","ReligionSikh_Total","ReligionOthers_Male","ReligionOthers_Female","ReligionOthers_Trans","ReligionOthers_Total","ReligionTotal_Male","ReligionTotal_Female","ReligionTotal_Trans","ReligionTotal_Total","CasteGeneral_Male","CasteGeneral_Female","CasteGeneral_Trans","CasteGeneral_Total","CasteOBC_Male","CasteOBC_Female","CasteOBC_Trans","CasteOBC_Total","CasteSC_Male","CasteSC_Female","CasteSC_Trans","CasteSC_Total","CasteST_Male","CasteST_Female","CasteST_Trans","CasteST_Total","CasteTotal_Male","CasteTotal_Female","CasteTotal_Trans","CasteTotal_Total"]
[{"$f":"IF(ADSI!$G$12=\"\",ADSI!$H$16,ADSI!$H$14)","v":""},{"$f":"IF(ADSI!$G$12=\"\",ADSI!$H$16,ADSI!$H$12)","v":6},{"$f":"A11","v":850},{"$f":"ADSI!$K$12","v":2022},{"$f":"D11","v":0},{"$f":"E11","v":0},0,0,0,0,0,0,0,0,0,0,0,0,0,0,0,0,0,0,0,0,0,0,0,0,0,0,0,0,0,0,0,0,0,0,0,0,0,0,82,26,0,108]
[{"$f":"IF(ADSI!$G$12=\"\",ADSI!$H$16,ADSI!$H$14)","v":""},{"$f":"IF(ADSI!$G$12=\"\",ADSI!$H$16,ADSI!$H$12)","v":6},851,{"$f":"ADSI!$K$12","v":2022},{"$f":"D12","v":0},0,0,0,0,0,0,0,0,0,0,0,0,0,0,0,0,0,0,0,0,0,0,0,0,0,0,0,0,0,0,0,0,0,0,0,0,0,0,0,132,38,0,170]
[{"$f":"IF(ADSI!$G$12=\"\",ADSI!$H$16,ADSI!$H$14)","v":""},{"$f":"IF(ADSI!$G$12=\"\",ADSI!$H$16,ADSI!$H$12)","v":6},852,{"$f":"ADSI!$K$12","v":2022},{"$f":"D13","v":0},0,0,0,0,0,0,0,0,0,0,0,0,0,0,0,0,0,0,0,0,0,0,0,0,0,0,0,0,0,0,0,0,0,0,0,0,0,0,0,5,5,0,10]
[{"$f":"IF(ADSI!$G$12=\"\",ADSI!$H$16,ADSI!$H$14)","v":""},{"$f":"IF(ADSI!$G$12=\"\",ADSI!$H$16,ADSI!$H$12)","v":6},853,{"$f":"ADSI!$K$12","v":2022},{"$f":"D14","v":0},0,0,0,0,0,0,0,0,0,0,0,0,0,0,0,0,0,0,0,0,0,0,0,0,0,0,0,0,0,0,0,0,0,0,0,0,0,0,0,2,0,0,2]
[{"$f":"IF(ADSI!$G$12=\"\",ADSI!$H$16,ADSI!$H$14)","v":""},{"$f":"IF(ADSI!$G$12=\"\",ADSI!$H$16,ADSI!$H$12)","v":6},854,{"$f":"ADSI!$K$12","v":2022},{"$f":"D15","v":0},0,0,0,0,0,0,0,0,0,0,0,0,0,0,0,0,0,0,0,0,0,0,0,0,0,0,0,0,0,0,0,0,0,0,0,0,0,0,0,0,0,0,0]
[{"$f":"IF(ADSI!$G$12=\"\",ADSI!$H$16,ADSI!$H$14)","v":""},{"$f":"IF(ADSI!$G$12=\"\",ADSI!$H$16,ADSI!$H$12)","v":6},855,{"$f":"ADSI!$K$12","v":2022},{"$f":"D16","v":0},0,0,0,0,0,0,0,0,0,0,0,0,0,0,0,0,0,0,0,0,0,0,0,0,0,0,0,0,0,0,0,0,0,0,0,0,0,0,0,0,0,0,0]
[{"$f":"IF(ADSI!$G$12=\"\",ADSI!$H$16,ADSI!$H$14)","v":""},{"$f":"IF(ADSI!$G$12=\"\",ADSI!$H$16,ADSI!$H$12)","v":6},856,{"$f":"ADSI!$K$12","v":2022},{"$f":"D17","v":0},0,0,0,0,0,0,0,0,0,0,0,0,0,0,0,0,0,0,0,0,0,0,0,0,0,0,0,0,0,0,0,0,0,0,0,0,0,0,0,11,1,0,12]
[{"$f":"IF(ADSI!$G$12=\"\",ADSI!$H$16,ADSI!$H$14)","v":""},{"$f":"IF(ADSI!$G$12=\"\",ADSI!$H$16,ADSI!$H$12)","v":6},865,{"$f":"ADSI!$K$12","v":2022},{"$f":"D18","v":0},0,0,0,0,0,0,0,0,0,0,0,0,0,0,0,0,0,0,0,0,0,0,0,0,0,0,0,0,0,0,0,0,0,0,0,0,0,0,0,232,70,0,302]
[]
[]
[]
[]
[]
[]
[]
[]
[]
[]
[]
[]
[]
[]
[]
[]
[]
[]
[]
[]
[]
[]
[]
[]
[]
[]
[]
[]
[]
[]
[]
[]
[]
[]
[]
[]
[]
[]
["StateUTCityCode","DistrictCode","CrimeCode","DataYear","ReligionHindu_Male","ReligionHindu_Female","ReligionHindu_Trans","ReligionHindu_Total","ReligionMuslim_Male","ReligionMuslim_Female","ReligionMuslim_Trans","ReligionMuslim_Total","ReligionChristian_Male","ReligionChristian_Female","ReligionChristian_Trans","ReligionChristian_Total","ReligionSikh_Male","ReligionSikh_Female","ReligionSikh_Trans","ReligionSikh_Total","ReligionOthers_Male","ReligionOthers_Female","ReligionOthers_Trans","ReligionOthers_Total","ReligionTotal_Male","ReligionTotal_Female","ReligionTotal_Trans","ReligionTotal_Total","CasteGeneral_Male","CasteGeneral_Female","CasteGeneral_Trans","CasteGeneral_Total","CasteOBC_Male","CasteOBC_Female","CasteOBC_Trans","CasteOBC_Total","CasteSC_Male","CasteSC_Female","CasteSC_Trans","CasteSC_Total","CasteST_Male","CasteST_Female","CasteST_Trans","CasteST_Total","CasteTotal_Male","CasteTotal_Female","CasteTotal_Trans","CasteTotal_Total"]
[{"$f":"IF(ADSI!$G$12=\"\",ADSI!$H$16,ADSI!$H$12)","v":6},{"$f":"IF(ADSI!$G$12=\"\",ADSI!$H$16,ADSI!$H$14)","v":""},{"$f":"A11","v":850},{"$f":"ADSI!$K$12","v":2022},{"$f":"D11","v":0},{"$f":"E11","v":0},0,0,0,0,0,0,0,0,0,0,0,0,0,0,0,0,0,0,0,0,0,0,0,0,0,0,0,0,0,0,0,0,0,0,0,0,0,0,82,26,0,108]
[{"$f":"IF(ADSI!$G$12=\"\",ADSI!$H$16,ADSI!$H$12)","v":6},{"$f":"IF(ADSI!$G$12=\"\",ADSI!$H$16,ADSI!$H$14)","v":""},851,{"$f":"ADSI!$K$12","v":2022},{"$f":"D12","v":0},0,0,0,0,0,0,0,0,0,0,0,0,0,0,0,0,0,0,0,0,0,0,0,0,0,0,0,0,0,0,0,0,0,0,0,0,0,0,0,132,38,0,170]
[{"$f":"IF(ADSI!$G$12=\"\",ADSI!$H$16,ADSI!$H$12)","v":6},{"$f":"IF(ADSI!$G$12=\"\",ADSI!$H$16,ADSI!$H$14)","v":""},852,{"$f":"ADSI!$K$12","v":2022},{"$f":"D13","v":0},0,0,0,0,0,0,0,0,0,0,0,0,0,0,0,0,0,0,0,0,0,0,0,0,0,0,0,0,0,0,0,0,0,0,0,0,0,0,0,5,5,0,10]
[{"$f":"IF(ADSI!$G$12=\"\",ADSI!$H$16,ADSI!$H$12)","v":6},{"$f":"IF(ADSI!$G$12=\"\",ADSI!$H$16,ADSI!$H$14)","v":""},853,{"$f":"ADSI!$K$12","v":2022},{"$f":"D14","v":0},0,0,0,0,0,0,0,0,0,0,0,0,0,0,0,0,0,0,0,0,0,0,0,0,0,0,0,0,0,0,0,0,0,0,0,0,0,0,0,2,0,0,2]
[{"$f":"IF(ADSI!$G$12=\"\",ADSI!$H$16,ADSI!$H$12)","v":6},{"$f":"IF(ADSI!$G$12=\"\",ADSI!$H$16,ADSI!$H$14)","v":""},854,{"$f":"ADSI!$K$12","v":2022},{"$f":"D15","v":0},0,0,0,0,0,0,0,0,0,0,0,0,0,0,0,0,0,0,0,0,0,0,0,0,0,0,0,0,0,0,0,0,0,0,0,0,0,0,0,0,0,0,0]
[{"$f":"IF(ADSI!$G$12=\"\",ADSI!$H$16,ADSI!$H$12)","v":6},{"$f":"IF(ADSI!$G$12=\"\",ADSI!$H$16,ADSI!$H$14)","v":""},855,{"$f":"ADSI!$K$12","v":2022},{"$f":"D16","v":0},0,0,0,0,0,0,0,0,0,0,0,0,0,0,0,0,0,0,0,0,0,0,0,0,0,0,0,0,0,0,0,0,0,0,0,0,0,0,0,0,0,0,0]
[{"$f":"IF(ADSI!$G$12=\"\",ADSI!$H$16,ADSI!$H$12)","v":6},{"$f":"IF(ADSI!$G$12=\"\",ADSI!$H$16,ADSI!$H$14)","v":""},856,{"$f":"ADSI!$K$12","v":2022},{"$f":"D17","v":0},0,0,0,0,0,0,0,0,0,0,0,0,0,0,0,0,0,0,0,0,0,0,0,0,0,0,0,0,0,0,0,0,0,0,0,0,0,0,0,11,1,0,12]
[{"$f":"IF(ADSI!$G$12=\"\",ADSI!$H$16,ADSI!$H$12)","v":6},{"$f":"IF(ADSI!$G$12=\"\",ADSI!$H$16,ADSI!$H$14)","v":""},865,{"$f":"ADSI!$K$12","v":2022},{"$f":"D18","v":0},0,0,0,0,0,0,0,0,0,0,0,0,0,0,0,0,0,0,0,0,0,0,0,0,0,0,0,0,0,0,0,0,0,0,0,0,0,0,0,232,70,0,302]
[{"$f":"IF(ADSI!$G$12=\"\",ADSI!$H$16,ADSI!$H$12)","v":6},{"$f":"IF(ADSI!$G$12=\"\",ADSI!$H$16,ADSI!$H$14)","v":""},{"$f":"A30","v":875},{"$f":"ADSI!$K$12","v":2022},{"$f":"D30","v":0},{"$f":"E30","v":0},0,0,0,0,0,0,0,0,0,0,0,0,0,0,0,0,0,0,0,0,0,0,0,0,0,0,0,0,0,0,0,0,0,0,0,0,0,0,93,48,0,141]
[{"$f":"IF(ADSI!$G$12=\"\",ADSI!$H$16,ADSI!$H$12)","v":6},{"$f":"IF(ADSI!$G$12=\"\",ADSI!$H$16,ADSI!$H$14)","v":""},{"$f":"A31","v":876},{"$f":"ADSI!$K$12","v":2022},{"$f":"D31","v":0},0,0,0,0,0,0,0,0,0,0,0,0,0,0,0,0,0,0,0,0,0,0,0,0,0,0,0,0,0,0,0,0,0,0,0,0,0,0,0,119,20,0,139]
[{"$f":"IF(ADSI!$G$12=\"\",ADSI!$H$16,ADSI!$H$12)","v":6},{"$f":"IF(ADSI!$G$12=\"\",ADSI!$H$16,ADSI!$H$14)","v":""},877,{"$f":"ADSI!$K$12","v":2022},{"$f":"D32","v":0},0,0,0,0,0,0,0,0,0,0,0,0,0,0,0,0,0,0,0,0,0,0,0,0,0,0,0,0,0,0,0,0,0,0,0,0,0,0,0,19,2,0,21]
[{"$f":"IF(ADSI!$G$12=\"\",ADSI!$H$16,ADSI!$H$12)","v":6},{"$f":"IF(ADSI!$G$12=\"\",ADSI!$H$16,ADSI!$H$14)","v":""},878,{"$f":"ADSI!$K$12","v":2022},{"$f":"D33","v":0},0,0,0,0,0,0,0,0,0,0,0,0,0,0,0,0,0,0,0,0,0,0,0,0,0,0,0,0,0,0,0,0,0,0,0,0,0,0,0,1,0,0,1]
[{"$f":"IF(ADSI!$G$12=\"\",ADSI!$H$16,ADSI!$H$12)","v":6},{"$f":"IF(ADSI!$G$12=\"\",ADSI!$H$16,ADSI!$H$14)","v":""},890,{"$f":"ADSI!$K$12","v":2022},{"$f":"D34","v":0},0,0,0,0,0,0,0,0,0,0,0,0,0,0,0,0,0,0,0,0,0,0,0,0,0,0,0,0,0,0,0,0,0,0,0,0,0,0,0,232,70,0,302]

{"sheet":"P-XVII","index":19,"n_rows":510,"n_cols":102,"rows_kept":510,"cut":false,"hidden":false,"merged":[[221,74,221,77],[226,52,226,53],[225,52,225,53],[223,78,223,93],[224,78,224,93],[224,54,224,73],[225,54,225,73],[226,54,226,73],[224,52,224,53],[225,78,225,93],[226,78,226,93],[2,22,2,31],[2,32,2,42],[4,43,6,46],[203,52,206,52],[219,52,219,53],[203,53,206,53],[218,52,218,53],[27,0,27,2],[20,0,20,2],[21,0,21,2],[205,66,205,69],[205,70,205,73],[205,58,205,61],[205,62,205,65],[203,54,203,69],[203,70,203,85],[204,54,204,69],[204,70,204,77],[204,78,204,85],[205,54,205,57],[4,0,7,0],[4,1,7,1],[4,2,7,2],[26,0,26,2],[19,0,19,2],[203,98,205,101],[205,90,205,93],[205,86,205,89],[220,52,220,53],[223,52,223,53],[205,74,205,77],[205,78,205,81],[205,82,205,85],[221,52,222,53],[221,94,221,97],[221,54,222,73],[221,78,222,93],[205,94,205,97],[203,86,203,97],[204,86,204,97],[223,54,223,73]]}
[{"$f":"ADSI!$B$1","v":"Goa, , ADSI-2022"}]
["Errors",null,{"$f":"COUNTIF(D22:AU22,FALSE)+COUNTIF(X26:AA26,FALSE)+COUNTIF(X28:AA28,FALSE)+COUNTIF(AR26:AU26,FALSE)+COUNTIF(AR28:AU28,FALSE)+COUNTIF(AV10:AY19,FALSE)","v":0}]
[{"$f":"IF(ADSI!$L$10=1,LangMaster!A350,LangMaster!B350)","v":"Proforma-XVII"},null,"Abnormal Variations",null,null,null,null,null,null,null,null,null,null,null,null,null,null,null,null,null,null,null,null,null,null,null,null,null,null,null,null,null,null,null,null,null,null,null,null,null,null,null,null,{"$f":"COUNTIF(D20:AU20,\"ABVAR\")","v":0}]
[{"$f":"IF(ADSI!$L$10=1,LangMaster!A351,LangMaster!B351)","v":"Educational Status of Suicide Victims"}]
[{"$f":"IF(ADSI!$L$10=1,LangMaster!A26,LangMaster!B26)","v":"Code"},{"$f":"IF(ADSI!$L$10=1,LangMaster!A27,LangMaster!B27)","v":"S.No."},{"$f":"IF(ADSI!$L$10=1,LangMaster!A352,LangMaster!B352)","v":"Educational Status"},null,null,null,null,null,null,null,null,null,null,null,null,null,null,null,null,null,null,null,null,null,null,null,null,null,null,null,null,null,null,null,null,null,null,null,null,null,null,null,null,"Number of Suicidal Deaths"]
[]
[]
[null,null,null,null,null,null,null,null,null,null,null,null,null,null,null,null,null,null,null,null,null,null,null,null,null,null,null,null,null,null,null,null,null,null,null,null,null,null,null,null,null,null,null,"Male","Female","Transgender","Total"]
[null,"(1)","(2)",null,null,null,null,null,null,null,null,null,null,null,null,null,null,null,null,null,null,null,null,null,null,null,null,null,null,null,null,null,null,null,null,null,null,null,null,null,null,null,null,"(3)","(4)","(5)","(6)"]
[900,1,{"$f":"IF(ADSI!$L$10=1,LangMaster!A353,LangMaster!B353)","v":"No Education"},null,null,null,null,null,null,null,null,null,null,null,null,null,null,null,null,null,null,null,null,null,null,null,null,null,null,null,null,null,null,null,null,null,null,null,null,null,null,null,null,7,4,0,{"$f":"SUM(AR10:AT10)","v":11}]
[901,2,{"$f":"IF(ADSI!$L$10=1,LangMaster!A354,LangMaster!B354)","v":"Primary (upto class–5)"},null,null,null,null,null,null,null,null,null,null,null,null,null,null,null,null,null,null,null,null,null,null,null,null,null,null,null,null,null,null,null,null,null,null,null,null,null,null,null,null,31,8,0,{"$f":"SUM(AR11:AT11)","v":39}]
[902,3,{"$f":"IF(ADSI!$L$10=1,LangMaster!A355,LangMaster!B355)","v":"Middle (upto class–8)"},null,null,null,null,null,null,null,null,null,null,null,null,null,null,null,null,null,null,null,null,null,null,null,null,null,null,null,null,null,null,null,null,null,null,null,null,null,null,null,null,56,20,0,76]
[903,4,{"$f":"IF(ADSI!$L$10=1,LangMaster!A356,LangMaster!B356)","v":"Matriculate/Secondary (upto class–10)"},null,null,null,null,null,null,null,null,null,null,null,null,null,null,null,null,null,null,null,null,null,null,null,null,null,null,null,null,null,null,null,null,null,null,null,null,null,null,null,null,66,22,0,88]
[904,5,{"$f":"IF(ADSI!$L$10=1,LangMaster!A357,LangMaster!B357)","v":"Higher Secondary/ Intermediate/ Pre-University (upto class–12)"},null,null,null,null,null,null,null,null,null,null,null,null,null,null,null,null,null,null,null,null,null,null,null,null,null,null,null,null,null,null,null,null,null,null,null,null,null,null,null,null,45,13,0,58]
[905,6,{"$f":"IF(ADSI!$L$10=1,LangMaster!A358,LangMaster!B358)","v":"Diploma/ITI/Certificate"},null,null,null,null,null,null,null,null,null,null,null,null,null,null,null,null,null,null,null,null,null,null,null,null,null,null,null,null,null,null,null,null,null,null,null,null,null,null,null,null,3,1,0,4]
[906,7,{"$f":"IF(ADSI!$L$10=1,LangMaster!A359,LangMaster!B359)","v":"Graduate and above"},null,null,null,null,null,null,null,null,null,null,null,null,null,null,null,null,null,null,null,null,null,null,null,null,null,null,null,null,null,null,null,null,null,null,null,null,null,null,null,null,14,1,0,15]
[907,8,{"$f":"IF(ADSI!$L$10=1,LangMaster!A360,LangMaster!B360)","v":"Professionals (MBA, etc.)"},null,null,null,null,null,null,null,null,null,null,null,null,null,null,null,null,null,null,null,null,null,null,null,null,null,null,null,null,null,null,null,null,null,null,null,null,null,null,null,null,0,0,0,0]
[908,9,{"$f":"IF(ADSI!$L$10=1,LangMaster!A361,LangMaster!B361)","v":"Status not known"},null,null,null,null,null,null,null,null,null,null,null,null,null,null,null,null,null,null,null,null,null,null,null,null,null,null,null,null,null,null,null,null,null,null,null,null,null,null,null,null,10,1,0,11]
[915,10,{"$f":"IF(ADSI!$L$10=1,LangMaster!A362,LangMaster!B362)","v":"Total (sum of Sl. 1 to 9 )"},null,null,null,null,null,null,null,null,null,null,null,null,null,null,null,null,null,null,null,null,null,null,null,null,null,null,null,null,null,null,null,null,null,null,null,null,null,null,null,null,{"$f":"SUM(AR10:AR18)","v":232},{"$f":"SUM(AS10:AS18)","v":70},{"$f":"SUM(AT10:AT18)","v":0},{"$f":"SUM(AR19:AT19)","v":302}]
["SL-9 ABNORMAL VARIATION IN \"STATUS NOT KNOWN\" DATA",null,null,null,null,null,null,null,null,null,null,null,null,null,null,null,null,null,null,null,null,null,null,null,null,null,null,null,null,null,null,null,null,null,null,null,null,null,null,null,null,null,null,{"$f":"IF(AR19>0,IF((AR18/AR19*100)>10,\"ABVAR\",\"\"),\"\")","v":""},"","",""]
["PROFORMA–XVI VALUES [Sl.–8 (SOCIAL STATUS TOTAL)]",null,null,null,null,null,null,null,null,null,null,null,null,null,null,null,null,null,null,null,null,null,null,null,null,null,null,null,null,null,null,null,null,null,null,null,null,null,null,null,null,null,null,{"$f":"'P-XVI'!AR18","v":232},{"$f":"'P-XVI'!AS18","v":70},{"$f":"'P-XVI'!AT18","v":0},{"$f":"'P-XVI'!AU18","v":302}]
["VALIDATION WITH PROFORMA–XVI [Sl.–8 (SOCIAL STATUS TOTAL)]",null,null,null,null,null,null,null,null,null,null,null,null,null,null,null,null,null,null,null,null,null,null,null,null,null,null,null,null,null,null,null,null,null,null,null,null,null,null,null,null,null,null,{"$f":"IF(AR19='P-XVI'!AR18,\"\",FALSE)","v":""},{"$f":"IF(AS19='P-XVI'!AS18,\"\",FALSE)","v":""},{"$f":"IF(AT19='P-XVI'!AT18,\"\",FALSE)","v":""},{"$f":"IF(AU19='P-XVI'!AU18,\"\",FALSE)","v":""}]
[]
[]
[]
[]
["PROFORMA–XIV VALUES [Sl.–21 (Total)]",null,null,null,null,null,null,null,null,null,null,null,null,null,null,null,null,null,null,null,null,null,null,null,null,null,null,null,null,null,null,null,null,null,null,null,null,null,null,null,null,null,null,{"$f":"'P-XIV'!J38","v":232},{"$f":"'P-XIV'!Q38","v":70},{"$f":"'P-XIV'!X38","v":0},{"$f":"'P-XIV'!Y38","v":302}]
["VALIDATION WITH PROFORMA–XIV [Sl.–21 (Total)]",null,null,null,null,null,null,null,null,null,null,null,null,null,null,null,null,null,null,null,null,null,null,null,null,null,null,null,null,null,null,null,null,null,null,null,null,null,null,null,null,null,null,{"$f":"IF(AR19='P-XIV'!J38,\"\",FALSE)","v":""},{"$f":"IF(AS19='P-XIV'!Q38,\"\",FALSE)","v":""},{"$f":"IF(AT19='P-XIV'!X38,\"\",FALSE)","v":""},{"$f":"IF(AU19='P-XIV'!Y38,\"\",FALSE)","v":""}]
[]
[]
[]
[]
[]
[]
[]
[]
[]
[]
[]
[]
[]
[]
[]
[]
[]
[]
[]
[]
[]
[]
[]
[]
[]
[]
[]
[]
[]
[]
[]
[]
[]
[]
[]
[]
[]
[]
[]
[]
[]
[]
[]
[]
[]
[]
[]
[]
[]
[]
[]
[]
[]
[]
[]
[]
[]
[]
[]
[]
[]
[]
[]
[]
[]
[]
[]
[]
[]
[]
[]
[]
[]
[]
[]
[]
[]
[]
[]
[]
[]
[]
[]
[]
[]
[]
[]
[]
[]
[]
[]
[]
[]
[]
[]
[]
[]
[]
[]
[]
[]
[]
[]
[]
[]
[]
[]
[]
[]
[]
[]
[]
[]
[]
[]
[]
[]
[]
[]
[]
[]
[]
[]
[]
[]
[]
[]
[]
[]
[]
[]
[]
[]
[]
[]
[]
[]
[]
[]
[]
[]
[]
[]
[]
[]
[]
[]
[]
[]
[]
[]
[]
[]
[]
[]
[]
[]
[]
[]
[]
[]
[]
[]
[]
[]
[]
[]
[]
[]
[]
[]
[null,null,null,null,null,null,null,null,null,null,null,null,null,null,null,null,null,null,null,null,null,null,null,null,null,null,null,null,null,null,null,null,null,null,null,null,null,null,null,null,null,null,null,null,null,null,null,null,null,null,null,null,{"$f":"A1","v":"Goa, , ADSI-2022"}]
[null,null,null,null,null,null,null,null,null,null,null,null,null,null,null,null,null,null,null,null,null,null,null,null,null,null,null,null,null,null,null,null,null,null,null,null,null,null,null,null,null,null,null,null,null,null,null,null,null,null,null,null,{"$f":"A2","v":"Errors"},{"$f":"C2","v":0},null,{"$f":"C3","v":"Abnormal Variations"},{"$f":"AR3","v":0}]
[null,null,null,null,null,null,null,null,null,null,null,null,null,null,null,null,null,null,null,null,null,null,null,null,null,null,null,null,null,null,null,null,null,null,null,null,null,null,null,null,null,null,null,null,null,null,null,null,null,null,null,null,{"$f":"A3","v":"Proforma-XVII"}]
[null,null,null,null,null,null,null,null,null,null,null,null,null,null,null,null,null,null,null,null,null,null,null,null,null,null,null,null,null,null,null,null,null,null,null,null,null,null,null,null,null,null,null,null,null,null,null,null,null,null,null,null,{"$f":"A4","v":"Educational Status of Suicide Victims"}]
[null,null,null,null,null,null,null,null,null,null,null,null,null,null,null,null,null,null,null,null,null,null,null,null,null,null,null,null,null,null,null,null,null,null,null,null,null,null,null,null,null,null,null,null,null,null,null,null,null,null,null,null,{"$f":"B5","v":"S.No."},{"$f":"C5","v":"Educational Status"},{"$f":"D5","v":0},null,null,null,null,null,null,null,null,null,null,null,null,null,null,null,"Number of Suicidal Deaths",null,null,null,null,null,null,null,null,null,null,null,null,null,null,null,"Number of Suicidal Deaths",null,null,null,null,null,null,null,null,null,null,null,{"$f":"AV5","v":0}]
[null,null,null,null,null,null,null,null,null,null,null,null,null,null,null,null,null,null,null,null,null,null,null,null,null,null,null,null,null,null,null,null,null,null,null,null,null,null,null,null,null,null,null,null,null,null,null,null,null,null,null,null,null,null,{"$f":"D6","v":0},null,null,null,null,null,null,null,null,null,null,null,null,null,null,null,"Religion of Victims",null,null,null,null,null,null,null,{"$f":"AB6","v":0},null,null,null,null,null,null,null,"Caste of Victims"]
[null,null,null,null,null,null,null,null,null,null,null,null,null,null,null,null,null,null,null,null,null,null,null,null,null,null,null,null,null,null,null,null,null,null,null,null,null,null,null,null,null,null,null,null,null,null,null,null,null,null,null,null,null,null,0,null,null,null,{"$f":"H7","v":0},null,null,null,{"$f":"L7","v":0},null,null,null,{"$f":"P7","v":0},null,null,null,{"$f":"T7","v":0},null,null,null,{"$f":"X7","v":0},null,null,null,0,null,null,null,{"$f":"AF7","v":0},null,null,null,{"$f":"AJ7","v":0},null,null,null,{"$f":"AN7","v":0},null,null,null,{"$f":"AR5","v":"Number of Suicidal Deaths"}]
[null,null,null,null,null,null,null,null,null,null,null,null,null,null,null,null,null,null,null,null,null,null,null,null,null,null,null,null,null,null,null,null,null,null,null,null,null,null,null,null,null,null,null,null,null,null,null,null,null,null,null,null,null,null,0,{"$f":"E8","v":0},{"$f":"F8","v":0},{"$f":"G8","v":0},0,{"$f":"I8","v":0},{"$f":"J8","v":0},{"$f":"K8","v":0},0,{"$f":"M8","v":0},{"$f":"N8","v":0},{"$f":"O8","v":0},0,{"$f":"Q8","v":0},{"$f":"R8","v":0},{"$f":"S8","v":0},0,{"$f":"U8","v":0},{"$f":"V8","v":0},{"$f":"W8","v":0},0,{"$f":"Y8","v":0},{"$f":"Z8","v":0},{"$f":"AA8","v":0},0,{"$f":"AC8","v":0},{"$f":"AD8","v":0},{"$f":"AE8","v":0},0,{"$f":"AG8","v":0},{"$f":"AH8","v":0},{"$f":"AI8","v":0},0,{"$f":"AK8","v":0},{"$f":"AL8","v":0},{"$f":"AM8","v":0},0,{"$f":"AO8","v":0},{"$f":"AP8","v":0},{"$f":"AQ8","v":0},{"$f":"AR8","v":"Male"},{"$f":"AS8","v":"Female"},{"$f":"AT8","v":"Transgender"},{"$f":"AU8","v":"Total"},{"$f":"AV8","v":0},{"$f":"AW8","v":0},0,0]
[null,null,null,null,null,null,null,null,null,null,null,null,null,null,null,null,null,null,null,null,null,null,null,null,null,null,null,null,null,null,null,null,null,null,null,null,null,null,null,null,null,null,null,null,null,null,null,null,null,null,null,null,{"$f":"B9","v":"(1)"},{"$f":"C9","v":"(2)"},0,0,0,0,0,0,0,0,0,0,0,0,0,0,0,0,0,0,0,0,0,0,0,0,0,0,0,0,0,0,0,0,0,0,0,0,0,0,0,0,"(3)","(4)","(5)","(6)"]
[null,null,null,null,null,null,null,null,null,null,null,null,null,null,null,null,null,null,null,null,null,null,null,null,null,null,null,null,null,null,null,null,null,null,null,null,null,null,null,null,null,null,null,null,null,null,null,null,null,null,null,null,1,"No Education",0,0,0,0,0,0,0,0,0,0,0,0,0,0,0,0,0,0,0,0,0,0,0,0,0,0,0,0,0,0,0,0,0,0,0,0,0,0,0,0,7,4,0,11,{"$f":"AV10","v":0},{"$f":"AW10","v":0},{"$f":"AX10","v":0},{"$f":"AY10","v":0}]
[null,null,null,null,null,null,null,null,null,null,null,null,null,null,null,null,null,null,null,null,null,null,null,null,null,null,null,null,null,null,null,null,null,null,null,null,null,null,null,null,null,null,null,null,null,null,null,null,null,null,null,null,2,"Primary (upto class–5)",0,0,0,0,0,0,0,0,0,0,0,0,0,0,0,0,0,0,0,0,0,0,0,0,0,0,0,0,0,0,0,0,0,0,0,0,0,0,0,0,31,8,0,39,0,0,0,0]
[null,null,null,null,null,null,null,null,null,null,null,null,null,null,null,null,null,null,null,null,null,null,null,null,null,null,null,null,null,null,null,null,null,null,null,null,null,null,null,null,null,null,null,null,null,null,null,null,null,null,null,null,3,"Middle (upto class–8)",0,0,0,0,0,0,0,0,0,0,0,0,0,0,0,0,0,0,0,0,0,0,0,0,0,0,0,0,0,0,0,0,0,0,0,0,0,0,0,0,56,20,0,76,0,0,0,0]
[null,null,null,null,null,null,null,null,null,null,null,null,null,null,null,null,null,null,null,null,null,null,null,null,null,null,null,null,null,null,null,null,null,null,null,null,null,null,null,null,null,null,null,null,null,null,null,null,null,null,null,null,4,"Matriculate/Secondary (upto class–10)",0,0,0,0,0,0,0,0,0,0,0,0,0,0,0,0,0,0,0,0,0,0,0,0,0,0,0,0,0,0,0,0,0,0,0,0,0,0,0,0,66,22,0,88,0,0,0,0]
[null,null,null,null,null,null,null,null,null,null,null,null,null,null,null,null,null,null,null,null,null,null,null,null,null,null,null,null,null,null,null,null,null,null,null,null,null,null,null,null,null,null,null,null,null,null,null,null,null,null,null,null,5,"Higher Secondary/ Intermediate/ Pre-University (upto class–12)",0,0,0,0,0,0,0,0,0,0,0,0,0,0,0,0,0,0,0,0,0,0,0,0,0,0,0,0,0,0,0,0,0,0,0,0,0,0,0,0,45,13,0,58,0,0,0,0]
[null,null,null,null,null,null,null,null,null,null,null,null,null,null,null,null,null,null,null,null,null,null,null,null,null,null,null,null,null,null,null,null,null,null,null,null,null,null,null,null,null,null,null,null,null,null,null,null,null,null,null,null,6,"Diploma/ITI/Certificate",0,0,0,0,0,0,0,0,0,0,0,0,0,0,0,0,0,0,0,0,0,0,0,0,0,0,0,0,0,0,0,0,0,0,0,0,0,0,0,0,3,1,0,4,0,0,0,0]
[null,null,null,null,null,null,null,null,null,null,null,null,null,null,null,null,null,null,null,null,null,null,null,null,null,null,null,null,null,null,null,null,null,null,null,null,null,null,null,null,null,null,null,null,null,null,null,null,null,null,null,null,7,"Graduate and above",0,0,0,0,0,0,0,0,0,0,0,0,0,0,0,0,0,0,0,0,0,0,0,0,0,0,0,0,0,0,0,0,0,0,0,0,0,0,0,0,14,1,0,15,0,0,0,0]
[null,null,null,null,null,null,null,null,null,null,null,null,null,null,null,null,null,null,null,null,null,null,null,null,null,null,null,null,null,null,null,null,null,null,null,null,null,null,null,null,null,null,null,null,null,null,null,null,null,null,null,null,8,"Professionals (MBA, etc.)",0,0,0,0,0,0,0,0,0,0,0,0,0,0,0,0,0,0,0,0,0,0,0,0,0,0,0,0,0,0,0,0,0,0,0,0,0,0,0,0,0,0,0,0,0,0,0,0]
[null,null,null,null,null,null,null,null,null,null,null,null,null,null,null,null,null,null,null,null,null,null,null,null,null,null,null,null,null,null,null,null,null,null,null,null,null,null,null,null,null,null,null,null,null,null,null,null,null,null,null,null,9,"Status not known",0,0,0,0,0,0,0,0,0,0,0,0,0,0,0,0,0,0,0,0,0,0,0,0,0,0,0,0,0,0,0,0,0,0,0,0,0,0,0,0,10,1,0,11,0,0,0,0]
[null,null,null,null,null,null,null,null,null,null,null,null,null,null,null,null,null,null,null,null,null,null,null,null,null,null,null,null,null,null,null,null,null,null,null,null,null,null,null,null,null,null,null,null,null,null,null,null,null,null,null,null,10,"Total (sum of Sl. 1 to 9 )",0,0,0,0,0,0,0,0,0,0,0,0,0,0,0,0,0,0,0,0,0,0,0,0,0,0,0,0,0,0,0,0,0,0,0,0,0,0,0,0,232,70,0,302,0,0,0,0]
[null,null,null,null,null,null,null,null,null,null,null,null,null,null,null,null,null,null,null,null,null,null,null,null,null,null,null,null,null,null,null,null,null,null,null,null,null,null,null,null,null,null,null,null,null,null,null,null,null,null,null,null,{"$f":"A20","v":"SL-9 ABNORMAL VARIATION IN \"STATUS NOT KNOWN\" DATA"},null,{"$f":"D20","v":0},0,0,0,0,0,0,0,0,0,0,0,0,0,0,0,0,0,0,0,0,0,0,0,0,0,0,0,0,0,0,0,0,0,0,0,0,0,0,0,"","","",""]
[null,null,null,null,null,null,null,null,null,null,null,null,null,null,null,null,null,null,null,null,null,null,null,null,null,null,null,null,null,null,null,null,null,null,null,null,null,null,null,null,null,null,null,null,null,null,null,null,null,null,null,null,{"$f":"A21","v":"PROFORMA–XVI VALUES [Sl.–8 (SOCIAL STATUS TOTAL)]"},null,{"$f":"D21","v":0},{"$f":"E21","v":0},{"$f":"F21","v":0},{"$f":"G21","v":0},{"$f":"H21","v":0},{"$f":"I21","v":0},{"$f":"J21","v":0},{"$f":"K21","v":0},{"$f":"L21","v":0},{"$f":"M21","v":0},{"$f":"N21","v":0},{"$f":"O21","v":0},{"$f":"P21","v":0},{"$f":"Q21","v":0},{"$f":"R21","v":0},{"$f":"S21","v":0},{"$f":"T21","v":0},{"$f":"U21","v":0},{"$f":"V21","v":0},{"$f":"W21","v":0},{"$f":"X21","v":0},{"$f":"Y21","v":0},{"$f":"Z21","v":0},{"$f":"AA21","v":0},{"$f":"AB21","v":0},{"$f":"AC21","v":0},{"$f":"AD21","v":0},{"$f":"AE21","v":0},{"$f":"AF21","v":0},{"$f":"AG21","v":0},{"$f":"AH21","v":0},{"$f":"AI21","v":0},{"$f":"AJ21","v":0},{"$f":"AK21","v":0},{"$f":"AL21","v":0},{"$f":"AM21","v":0},{"$f":"AN21","v":0},{"$f":"AO21","v":0},{"$f":"AP21","v":0},{"$f":"AQ21","v":0},{"$f":"AR21","v":232},{"$f":"AS21","v":70},{"$f":"AT21","v":0},{"$f":"AU21","v":302}]
[null,null,null,null,null,null,null,null,null,null,null,null,null,null,null,null,null,null,null,null,null,null,null,null,null,null,null,null,null,null,null,null,null,null,null,null,null,null,null,null,null,null,null,null,null,null,null,null,null,null,null,null,{"$f":"A22","v":"VALIDATION WITH PROFORMA–XVI [Sl.–8 (SOCIAL STATUS TOTAL)]"},null,{"$f":"D22","v":0},0,0,0,0,0,0,0,0,0,0,0,0,0,0,0,0,0,0,0,0,0,0,0,0,0,0,0,0,0,0,0,0,0,0,0,0,0,0,0,"","","",{"$f":"AU22","v":""}]
[null,null,null,null,null,null,null,null,null,null,null,null,null,null,null,null,null,null,null,null,null,null,null,null,null,null,null,null,null,null,null,null,null,null,null,null,null,null,null,null,null,null,null,null,null,null,null,null,null,null,null,null,{"$f":"A23","v":0},null,null,null,null,null,null,null,null,null,null,null,null,null,null,null,null,null,null,null,null,null,{"$f":"X23","v":0},null,null,null,null,null,null,null,null,null,null,null,null,null,null,null,null,null,null,null,{"$f":"AR23","v":0}]
[null,null,null,null,null,null,null,null,null,null,null,null,null,null,null,null,null,null,null,null,null,null,null,null,null,null,null,null,null,null,null,null,null,null,null,null,null,null,null,null,null,null,null,null,null,null,null,null,null,null,null,null,null,null,null,null,null,null,null,null,null,null,null,null,null,null,null,null,null,null,null,null,null,null,{"$f":"X24","v":0},{"$f":"Y24","v":0},0,0,null,null,null,null,null,null,null,null,null,null,null,null,null,null,null,null,{"$f":"AR24","v":0},{"$f":"AS24","v":0},0,0]
[null,null,null,null,null,null,null,null,null,null,null,null,null,null,null,null,null,null,null,null,null,null,null,null,null,null,null,null,null,null,null,null,null,null,null,null,null,null,null,null,null,null,null,null,null,null,null,null,null,null,null,null,{"$f":"A25","v":0},null,null,null,null,null,null,null,null,null,null,null,null,null,null,null,null,null,null,null,null,null,{"$f":"X25","v":0},{"$f":"Y25","v":0},{"$f":"Z25","v":0},{"$f":"AA25","v":0},null,null,null,null,null,null,null,null,null,null,null,null,null,null,null,null,{"$f":"AR25","v":0},{"$f":"AS25","v":0},0,0]
[null,null,null,null,null,null,null,null,null,null,null,null,null,null,null,null,null,null,null,null,null,null,null,null,null,null,null,null,null,null,null,null,null,null,null,null,null,null,null,null,null,null,null,null,null,null,null,null,null,null,null,null,{"$f":"A26","v":0},null,null,null,null,null,null,null,null,null,null,null,null,null,null,null,null,null,null,null,null,null,0,0,0,0,null,null,null,null,null,null,null,null,null,null,null,null,null,null,null,null,{"$f":"AR26","v":0},{"$f":"AS26","v":0},{"$f":"AT26","v":0},{"$f":"AU26","v":0}]
[null,null,null,null,null,null,null,null,null,null,null,null,null,null,null,null,null,null,null,null,null,null,null,null,null,null,null,null,null,null,null,null,null,null,null,null,null,null,null,null,null,null,null,null,null,null,null,null,null,null,null,null,{"$f":"A27","v":"PROFORMA–XIV VALUES [Sl.–21 (Total)]"},null,null,null,null,null,null,null,null,null,null,null,null,null,null,null,null,null,null,null,null,null,0,0,0,0,null,null,null,null,null,null,null,null,null,null,null,null,null,null,null,null,232,70,0,302]
[null,null,null,null,null,null,null,null,null,null,null,null,null,null,null,null,null,null,null,null,null,null,null,null,null,null,null,null,null,null,null,null,null,null,null,null,null,null,null,null,null,null,null,null,null,null,null,null,null,null,null,null,{"$f":"A28","v":"VALIDATION WITH PROFORMA–XIV [Sl.–21 (Total)]"},null,null,null,null,null,null,null,null,null,null,null,null,null,null,null,null,null,null,null,null,null,0,0,0,0,null,null,null,null,null,null,null,null,null,null,null,null,null,null,null,null,"","","",""]
[]
[]
[]
[]
[]
[]
[]
[]
[]
[]
[]
[]
[]
[]
[]
[]
[]
[]
[]
[]
[]
[]
[]
[]
[]
[]
[]
[]
[]
[]
[]
[]
[]
[]
[]
[]
[]
[]
[]
[]
[]
[]
[]
[]
[]
[]
[]
[]
[]
[]
[]
[]
[]
[]
[]
[]
[]
[]
[]
[]
[]
[]
[]
[]
[]
[]
[]
[]
[]
[]
[]
[]
[]
[]
[]
[]
[]
[]
[]
[]
[]
[]
[]
[]
[]
[]
[]
[]
[]
[]
[]
[]
[]
[]
[]
[]
[]
[]
[]
[]
[]
[]
[]
[]
[]
[]
[]
[]
[]
[]
[]
[]
[]
[]
[]
[]
[]
[]
[]
[]
[]
[]
[]
[]
[]
[]
[]
[]
[]
[]
[]
[]
[]
[]
[]
[]
[]
[]
[]
[]
[]
[]
[]
[]
[]
[]
[]
[]
[]
[]
[]
[]
[]
[]
[]
[]
[]
[]
[]
[]
[]
[]
[]
[]
[]
[]
[]
[]
[]
[]
[]
[]
[]
[]
[]
[]
[]
[]
[]
[]
[]
[]
[]
[]
[]
[]
[]
[]
[]
[]
[]
[]
[]
[]
[]
[]
[]
[]
[]
[]
[]
[]
[]
[]
[]
[]
[]
[]
[]
[]
[]
[]
[]
[]
[]
[]
[]
[]
[]
[]
[]
[]
[]
[]
[]
[]
[]
[]
[]
[]
[]
[]
[]
[]
[]
[]
[]
[]
[]
[]
[]
[]
[]
[]
[]
[]
[]
[]
[]
[]
[]
[]
[]
[]
[]
[]
[]
[]
[]
[]
[]
[]
[]
[]
[]
[]
[]
[]
[]
[]
[]
[]
["StateUTCityCode","DistrictCode","CrimeCode","DataYear","ReligionHindu_Male","ReligionHindu_Female","ReligionHindu_Trans","ReligionHindu_Total","ReligionMuslim_Male","ReligionMuslim_Female","ReligionMuslim_Trans","ReligionMuslim_Total","ReligionChristian_Male","ReligionChristian_Female","ReligionChristian_Trans","ReligionChristian_Total","ReligionSikh_Male","ReligionSikh_Female","ReligionSikh_Trans","ReligionSikh_Total","ReligionOthers_Male","ReligionOthers_Female","ReligionOthers_Trans","ReligionOthers_Total","ReligionTotal_Male","ReligionTotal_Female","ReligionTotal_Trans","ReligionTotal_Total","CasteGeneral_Male","CasteGeneral_Female","CasteGeneral_Trans","CasteGeneral_Total","CasteOBC_Male","CasteOBC_Female","CasteOBC_Trans","CasteOBC_Total","CasteSC_Male","CasteSC_Female","CasteSC_Trans","CasteSC_Total","CasteST_Male","CasteST_Female","CasteST_Trans","CasteST_Total","CasteTotal_Male","CasteTotal_Female","CasteTotal_Trans","CasteTotal_Total"]
[{"$f":"IF(ADSI!$G$12=\"\",ADSI!$H$16,ADSI!$H$12)","v":6},{"$f":"IF(ADSI!$G$12=\"\",ADSI!$H$16,ADSI!$H$14)","v":""},{"$f":"A10","v":900},{"$f":"ADSI!$K$12","v":2022},{"$f":"D10","v":0},{"$f":"E10","v":0},0,0,0,0,0,0,0,0,0,0,0,0,0,0,0,0,0,0,0,0,0,0,0,0,0,0,0,0,0,0,0,0,0,0,0,0,0,0,7,4,0,11]
[{"$f":"IF(ADSI!$G$12=\"\",ADSI!$H$16,ADSI!$H$12)","v":6},{"$f":"IF(ADSI!$G$12=\"\",ADSI!$H$16,ADSI!$H$14)","v":""},{"$f":"A11","v":901},{"$f":"ADSI!$K$12","v":2022},{"$f":"D11","v":0},0,0,0,0,0,0,0,0,0,0,0,0,0,0,0,0,0,0,0,0,0,0,0,0,0,0,0,0,0,0,0,0,0,0,0,0,0,0,0,31,8,0,39]
[{"$f":"IF(ADSI!$G$12=\"\",ADSI!$H$16,ADSI!$H$12)","v":6},{"$f":"IF(ADSI!$G$12=\"\",ADSI!$H$16,ADSI!$H$14)","v":""},902,{"$f":"ADSI!$K$12","v":2022},{"$f":"D12","v":0},0,0,0,0,0,0,0,0,0,0,0,0,0,0,0,0,0,0,0,0,0,0,0,0,0,0,0,0,0,0,0,0,0,0,0,0,0,0,0,56,20,0,76]
[{"$f":"IF(ADSI!$G$12=\"\",ADSI!$H$16,ADSI!$H$12)","v":6},{"$f":"IF(ADSI!$G$12=\"\",ADSI!$H$16,ADSI!$H$14)","v":""},903,{"$f":"ADSI!$K$12","v":2022},{"$f":"D13","v":0},0,0,0,0,0,0,0,0,0,0,0,0,0,0,0,0,0,0,0,0,0,0,0,0,0,0,0,0,0,0,0,0,0,0,0,0,0,0,0,66,22,0,88]
[{"$f":"IF(ADSI!$G$12=\"\",ADSI!$H$16,ADSI!$H$12)","v":6},{"$f":"IF(ADSI!$G$12=\"\",ADSI!$H$16,ADSI!$H$14)","v":""},904,{"$f":"ADSI!$K$12","v":2022},{"$f":"D14","v":0},0,0,0,0,0,0,0,0,0,0,0,0,0,0,0,0,0,0,0,0,0,0,0,0,0,0,0,0,0,0,0,0,0,0,0,0,0,0,0,45,13,0,58]
[{"$f":"IF(ADSI!$G$12=\"\",ADSI!$H$16,ADSI!$H$12)","v":6},{"$f":"IF(ADSI!$G$12=\"\",ADSI!$H$16,ADSI!$H$14)","v":""},905,{"$f":"ADSI!$K$12","v":2022},{"$f":"D15","v":0},0,0,0,0,0,0,0,0,0,0,0,0,0,0,0,0,0,0,0,0,0,0,0,0,0,0,0,0,0,0,0,0,0,0,0,0,0,0,0,3,1,0,4]
[{"$f":"IF(ADSI!$G$12=\"\",ADSI!$H$16,ADSI!$H$12)","v":6},{"$f":"IF(ADSI!$G$12=\"\",ADSI!$H$16,ADSI!$H$14)","v":""},906,{"$f":"ADSI!$K$12","v":2022},{"$f":"D16","v":0},0,0,0,0,0,0,0,0,0,0,0,0,0,0,0,0,0,0,0,0,0,0,0,0,0,0,0,0,0,0,0,0,0,0,0,0,0,0,0,14,1,0,15]
[{"$f":"IF(ADSI!$G$12=\"\",ADSI!$H$16,ADSI!$H$12)","v":6},{"$f":"IF(ADSI!$G$12=\"\",ADSI!$H$16,ADSI!$H$14)","v":""},907,{"$f":"ADSI!$K$12","v":2022},{"$f":"D17","v":0},0,0,0,0,0,0,0,0,0,0,0,0,0,0,0,0,0,0,0,0,0,0,0,0,0,0,0,0,0,0,0,0,0,0,0,0,0,0,0,0,0,0,0]
[{"$f":"IF(ADSI!$G$12=\"\",ADSI!$H$16,ADSI!$H$12)","v":6},{"$f":"IF(ADSI!$G$12=\"\",ADSI!$H$16,ADSI!$H$14)","v":""},908,{"$f":"ADSI!$K$12","v":2022},{"$f":"D18","v":0},0,0,0,0,0,0,0,0,0,0,0,0,0,0,0,0,0,0,0,0,0,0,0,0,0,0,0,0,0,0,0,0,0,0,0,0,0,0,0,10,1,0,11]
[{"$f":"IF(ADSI!$G$12=\"\",ADSI!$H$16,ADSI!$H$12)","v":6},{"$f":"IF(ADSI!$G$12=\"\",ADSI!$H$16,ADSI!$H$14)","v":""},915,{"$f":"ADSI!$K$12","v":2022},{"$f":"D19","v":0},0,0,0,0,0,0,0,0,0,0,0,0,0,0,0,0,0,0,0,0,0,0,0,0,0,0,0,0,0,0,0,0,0,0,0,0,0,0,0,232,70,0,302]

{"sheet":"P-XVIII","index":20,"n_rows":517,"n_cols":76,"rows_kept":517,"cut":false,"hidden":false,"merged":[[203,75,205,75],[204,68,204,74],[204,61,204,67],[204,54,204,60],[203,54,203,67],[203,68,203,74],[26,0,26,2],[4,24,6,24],[5,3,5,9],[5,10,5,16],[4,1,6,1],[4,2,6,2],[5,17,5,23],[4,3,4,23],[25,0,25,2],[4,0,6,0],[226,52,226,53],[227,52,227,53],[228,52,228,53],[27,0,27,2],[28,0,28,2],[29,0,29,2],[203,52,205,52],[203,53,205,53]]}
[{"$f":"ADSI!$B$1","v":"Goa, , ADSI-2022"}]
["Errors",null,{"$f":"COUNTIF(D27:Y27,FALSE)","v":0},null,"Abnormal Variations",{"$f":"COUNTIF(D28:Y30,\"ABVAR\")","v":4}]
[{"$f":"IF(ADSI!$L$10=1,LangMaster!A363,LangMaster!B363)","v":"Proforma-XVIII"}]
[{"$f":"IF(ADSI!$L$10=1,LangMaster!A364,LangMaster!B364)","v":"Distribution of Suicides by Means Adopted"}]
[{"$f":"IF(ADSI!$L$10=1,LangMaster!A26,LangMaster!B26)","v":"Code"},{"$f":"IF(ADSI!$L$10=1,LangMaster!A27,LangMaster!B27)","v":"S.No."},{"$f":"IF(ADSI!$L$10=1,LangMaster!A478,LangMaster!B478)","v":"Causes"},{"$f":"IF(ADSI!$L$10=1,LangMaster!A268,LangMaster!B268)","v":"Number of Suicidal Deaths"},null,null,null,null,null,null,null,null,null,null,null,null,null,null,null,null,null,null,null,null,{"$f":"IF(ADSI!$L$10=1,LangMaster!A473,LangMaster!B473)","v":"Grand Total (9) + (16)+(23)"}]
[null,null,null,{"$f":"IF(ADSI!$L$10=1,LangMaster!A30,LangMaster!B30)","v":"Male"},null,null,null,null,null,null,{"$f":"IF(ADSI!$L$10=1,LangMaster!A31,LangMaster!B31)","v":"Female"},null,null,null,null,null,null,{"$f":"IF(ADSI!$L$10=1,LangMaster!A32,LangMaster!B32)","v":"Transgender"}]
[null,null,null,{"$f":"IF(ADSI!$L$10=1,LangMaster!A461,LangMaster!B461)","v":"below 14 years"},{"$f":"IF(ADSI!$L$10=1,LangMaster!A462,LangMaster!B462)","v":"14 and above – below 18 years"},{"$f":"IF(ADSI!$L$10=1,LangMaster!A463,LangMaster!B463)","v":"18 and above – below 30 years"},{"$f":"IF(ADSI!$L$10=1,LangMaster!A464,LangMaster!B464)","v":"30 and above – below 45 years"},{"$f":"IF(ADSI!$L$10=1,LangMaster!A465,LangMaster!B465)","v":"45 and above – below 60 years"},{"$f":"IF(ADSI!$L$10=1,LangMaster!A466,LangMaster!B466)","v":"60 years & above"},{"$f":"IF(ADSI!$L$10=1,LangMaster!A470,LangMaster!B470)","v":" Total [sum of (3) to (8)]"},{"$f":"IF(ADSI!$L$10=1,LangMaster!A461,LangMaster!B461)","v":"below 14 years"},{"$f":"IF(ADSI!$L$10=1,LangMaster!A462,LangMaster!B462)","v":"14 and above – below 18 years"},{"$f":"IF(ADSI!$L$10=1,LangMaster!A463,LangMaster!B463)","v":"18 and above – below 30 years"},{"$f":"IF(ADSI!$L$10=1,LangMaster!A464,LangMaster!B464)","v":"30 and above – below 45 years"},{"$f":"IF(ADSI!$L$10=1,LangMaster!A465,LangMaster!B465)","v":"45 and above – below 60 years"},{"$f":"IF(ADSI!$L$10=1,LangMaster!A466,LangMaster!B466)","v":"60 years & above"},{"$f":"IF(ADSI!$L$10=1,LangMaster!A471,LangMaster!B471)","v":"Total    [sum of (10) to (15)]"},{"$f":"IF(ADSI!$L$10=1,LangMaster!A461,LangMaster!B461)","v":"below 14 years"},{"$f":"IF(ADSI!$L$10=1,LangMaster!A462,LangMaster!B462)","v":"14 and above – below 18 years"},{"$f":"IF(ADSI!$L$10=1,LangMaster!A463,LangMaster!B463)","v":"18 and above – below 30 years"},{"$f":"IF(ADSI!$L$10=1,LangMaster!A464,LangMaster!B464)","v":"30 and above – below 45 years"},{"$f":"IF(ADSI!$L$10=1,LangMaster!A465,LangMaster!B465)","v":"45 and above – below 60 years"},{"$f":"IF(ADSI!$L$10=1,LangMaster!A466,LangMaster!B466)","v":"60 years & above"},{"$f":"IF(ADSI!$L$10=1,LangMaster!A472,LangMaster!B472)","v":"Total [sum of (17) to (22)]"}]
[null,"(1)","(2)","(3)","(4)","(5)","(6)","(7)","(8)","(9)","(10)","(11)","(12)","(13)","(14)","(15)","(16)","(17)","(18)","(19)","(20)","(21)","(22)","(23)","(24)"]
[925,1,{"$f":"IF(ADSI!$L$10=1,LangMaster!A365,LangMaster!B365)","v":"By consuming Sleeping Pills"},0,0,1,0,0,0,{"$f":"SUM(D9:I9)","v":1},0,0,0,0,0,0,{"$f":"SUM(K9:P9)","v":0},0,0,0,0,0,0,{"$f":"SUM(R9:W9)","v":0},{"$f":"SUM(J9+Q9+X9)","v":1}]
[926,2,{"$f":"IF(ADSI!$L$10=1,LangMaster!A366,LangMaster!B366)","v":"By Drowning"},0,0,4,4,8,11,{"$f":"SUM(D10:I10)","v":27},0,0,0,4,2,3,{"$f":"SUM(K10:P10)","v":9},0,0,0,0,0,0,{"$f":"SUM(R10:W10)","v":0},{"$f":"SUM(J10+Q10+X10)","v":36}]
[927,3,{"$f":"IF(ADSI!$L$10=1,LangMaster!A367,LangMaster!B367)","v":"By Fire/Self Immolation"},0,0,1,0,0,0,1,0,0,0,1,1,0,2,0,0,0,0,0,0,0,3]
[928,4,{"$f":"IF(ADSI!$L$10=1,LangMaster!A368,LangMaster!B368)","v":"By Firearms"},0,0,0,0,0,0,0,0,0,0,0,0,0,0,0,0,0,0,0,0,0,0]
[929,5,{"$f":"IF(ADSI!$L$10=1,LangMaster!A369,LangMaster!B369)","v":"By Hanging"},1,0,43,72,43,12,171,1,5,22,11,8,3,50,0,0,0,0,0,0,0,221]
[930,6,{"$f":"IF(ADSI!$L$10=1,LangMaster!A370,LangMaster!B370)","v":"By Poison (sum of 6.1 & 6.2)"},{"$f":"SUM(D15:D16)","v":0},{"$f":"SUM(E15:E16)","v":2},4,3,5,4,18,0,2,3,0,3,0,8,0,0,0,0,0,0,0,26]
[931,null,{"$f":"IF(ADSI!$L$10=1,LangMaster!A371,LangMaster!B371)","v":"6.1 By Consuming Insecticides"},0,2,4,3,4,2,15,0,0,2,0,3,0,5,0,0,0,0,0,0,0,20]
[932,null,{"$f":"IF(ADSI!$L$10=1,LangMaster!A372,LangMaster!B372)","v":"6.2 By Consuming other Poison"},0,0,0,0,1,2,3,0,2,1,0,0,0,3,0,0,0,0,0,0,0,6]
[933,7,{"$f":"IF(ADSI!$L$10=1,LangMaster!A373,LangMaster!B373)","v":"By Self Inflicting  Injury"},0,0,0,1,0,0,1,0,0,0,0,0,0,0,0,0,0,0,0,0,0,1]
[934,8,{"$f":"IF(ADSI!$L$10=1,LangMaster!A374,LangMaster!B374)","v":"By Jumping from (sum of 8.1 to 8.3)"},{"$f":"SUM(D19:D21)","v":0},{"$f":"SUM(E19:E21)","v":0},0,2,0,0,2,0,0,1,0,0,0,1,0,0,0,0,0,0,0,3]
[935,null,{"$f":"IF(ADSI!$L$10=1,LangMaster!A375,LangMaster!B375)","v":"8.1 Building"},0,0,0,2,0,0,2,0,0,1,0,0,0,1,0,0,0,0,0,0,0,3]
[936,null,{"$f":"IF(ADSI!$L$10=1,LangMaster!A376,LangMaster!B376)","v":"8.2 Other sites"},0,0,0,0,0,0,0,0,0,0,0,0,0,0,0,0,0,0,0,0,0,0]
[937,null,{"$f":"IF(ADSI!$L$10=1,LangMaster!A377,LangMaster!B377)","v":"8.3 by Jumping off moving trains/ vehicles"},0,0,0,0,0,0,0,0,0,0,0,0,0,0,0,0,0,0,0,0,0,0]
[938,9,{"$f":"IF(ADSI!$L$10=1,LangMaster!A378,LangMaster!B378)","v":"By Coming under running vehicles/trains"},0,1,1,6,1,1,10,0,0,0,0,0,0,0,0,0,0,0,0,0,0,10]
[939,10,{"$f":"IF(ADSI!$L$10=1,LangMaster!A379,LangMaster!B379)","v":"By touching electric wire"},0,0,0,0,0,0,0,0,0,0,0,0,0,0,0,0,0,0,0,0,0,0]
[940,11,{"$f":"IF(ADSI!$L$10=1,LangMaster!A380,LangMaster!B380)","v":"By Other Means"},0,0,1,0,0,0,1,0,0,0,0,0,0,0,0,0,0,0,0,0,0,1]
[960,12,{"$f":"IF(ADSI!$L$10=1,LangMaster!A381,LangMaster!B381)","v":"Total (sum of Sl. 1 to 11)"},{"$f":"SUM(D9:D14,D17:D18,D22:D24)","v":1},{"$f":"SUM(E9:E14,E17:E18,E22:E24)","v":3},55,88,57,28,{"$f":"SUM(D25:I25)","v":232},1,7,26,16,14,6,{"$f":"SUM(K25:P25)","v":70},0,0,0,0,0,0,{"$f":"SUM(R25:W25)","v":0},{"$f":"J25+Q25+X25","v":302}]
[" PROFORMA–XIV VALUES [Sl.–21 (Total)]",null,null,{"$f":"'P-XIV'!D38","v":1},{"$f":"'P-XIV'!E38","v":3},{"$f":"'P-XIV'!F38","v":55},{"$f":"'P-XIV'!G38","v":88},{"$f":"'P-XIV'!H38","v":57},{"$f":"'P-XIV'!I38","v":28},{"$f":"'P-XIV'!J38","v":232},{"$f":"'P-XIV'!K38","v":1},{"$f":"'P-XIV'!L38","v":7},{"$f":"'P-XIV'!M38","v":26},{"$f":"'P-XIV'!N38","v":16},{"$f":"'P-XIV'!O38","v":14},{"$f":"'P-XIV'!P38","v":6},{"$f":"'P-XIV'!Q38","v":70},{"$f":"'P-XIV'!R38","v":0},{"$f":"'P-XIV'!S38","v":0},{"$f":"'P-XIV'!T38","v":0},{"$f":"'P-XIV'!U38","v":0},{"$f":"'P-XIV'!V38","v":0},{"$f":"'P-XIV'!W38","v":0},{"$f":"'P-XIV'!X38","v":0},{"$f":"'P-XIV'!Y38","v":302}]
["VALIDATION WITH PROFORMA–XIV [Sl.–21 (Total)]",null,null,{"$f":"IF(D25='P-XIV'!D38,\"\",FALSE)","v":""},{"$f":"IF(E25='P-XIV'!E38,\"\",FALSE)","v":""},{"$f":"IF(F25='P-XIV'!F38,\"\",FALSE)","v":""},{"$f":"IF(G25='P-XIV'!G38,\"\",FALSE)","v":""},{"$f":"IF(H25='P-XIV'!H38,\"\",FALSE)","v":""},{"$f":"IF(I25='P-XIV'!I38,\"\",FALSE)","v":""},{"$f":"IF(J25='P-XIV'!J38,\"\",FALSE)","v":""},{"$f":"IF(K25='P-XIV'!K38,\"\",FALSE)","v":""},{"$f":"IF(L25='P-XIV'!L38,\"\",FALSE)","v":""},{"$f":"IF(M25='P-XIV'!M38,\"\",FALSE)","v":""},{"$f":"IF(N25='P-XIV'!N38,\"\",FALSE)","v":""},{"$f":"IF(O25='P-XIV'!O38,\"\",FALSE)","v":""},{"$f":"IF(P25='P-XIV'!P38,\"\",FALSE)","v":""},{"$f":"IF(Q25='P-XIV'!Q38,\"\",FALSE)","v":""},{"$f":"IF(R25='P-XIV'!R38,\"\",FALSE)","v":""},{"$f":"IF(S25='P-XIV'!S38,\"\",FALSE)","v":""},{"$f":"IF(T25='P-XIV'!T38,\"\",FALSE)","v":""},{"$f":"IF(U25='P-XIV'!U38,\"\",FALSE)","v":""},{"$f":"IF(V25='P-XIV'!V38,\"\",FALSE)","v":""},{"$f":"IF(W25='P-XIV'!W38,\"\",FALSE)","v":""},{"$f":"IF(X25='P-XIV'!X38,\"\",FALSE)","v":""},{"$f":"IF(Y25='P-XIV'!Y38,\"\",FALSE)","v":""}]
["SL-6.2 ABNORMAL VARIATION IN \"BY CONSUMING OTHER POISON\" DATA",null,null,{"$f":"IF(D14>0,IF((D16/D14*100)>30,\"ABVAR\",\"\"),\"\")","v":""},{"$f":"IF(E14>0,IF((E16/E14*100)>30,\"ABVAR\",\"\"),\"\")","v":""},"","","","ABVAR","","","ABVAR","ABVAR","","","","ABVAR","","","","","","","",""]
["SL-8.2 ABNORMAL VARIATION IN \"OTHER SITES\" DATA",null,null,{"$f":"IF(D18>0,IF((D20/D18*100)>30,\"ABVAR\",\"\"),\"\")","v":""},{"$f":"IF(E18>0,IF((E20/E18*100)>30,\"ABVAR\",\"\"),\"\")","v":""},"","","","","","","","","","","","","","","","","","","",""]
["SL-11 ABNORMAL VARIATION IN \"BY OTHER MEANS\" DATA",null,null,{"$f":"IF(D25>0,IF((D24/D25*100)>10,\"ABVAR\",\"\"),\"\")","v":""},{"$f":"IF(E25>0,IF((E24/E25*100)>10,\"ABVAR\",\"\"),\"\")","v":""},"","","","","","","","","","","","","","","","","","","",""]
[]
[]
[]
[]
[]
[]
[]
[]
[]
[]
[]
[]
[]
[]
[]
[]
[]
[]
[]
[]
[]
[]
[]
[]
[]
[]
[]
[]
[]
[]
[]
[]
[]
[]
[]
[]
[]
[]
[]
[]
[]
[]
[]
[]
[]
[]
[]
[]
[]
[]
[]
[]
[]
[]
[]
[]
[]
[]
[]
[]
[]
[]
[]
[]
[]
[]
[]
[]
[]
[]
[]
[]
[]
[]
[]
[]
[]
[]
[]
[]
[]
[]
[]
[]
[]
[]
[]
[]
[]
[]
[]
[]
[]
[]
[]
[]
[]
[]
[]
[]
[]
[]
[]
[]
[]
[]
[]
[]
[]
[]
[]
[]
[]
[]
[]
[]
[]
[]
[]
[]
[]
[]
[]
[]
[]
[]
[]
[]
[]
[]
[]
[]
[]
[]
[]
[]
[]
[]
[]
[]
[]
[]
[]
[]
[]
[]
[]
[]
[]
[]
[]
[]
[]
[]
[]
[]
[]
[]
[]
[]
[]
[]
[]
[]
[]
[]
[]
[]
[]
[null,null,null,null,null,null,null,null,null,null,null,null,null,null,null,null,null,null,null,null,null,null,null,null,null,null,null,null,null,null,null,null,null,null,null,null,null,null,null,null,null,null,null,null,null,null,null,null,null,null,null,null,{"$f":"A1","v":"Goa, , ADSI-2022"}]
[null,null,null,null,null,null,null,null,null,null,null,null,null,null,null,null,null,null,null,null,null,null,null,null,null,null,null,null,null,null,null,null,null,null,null,null,null,null,null,null,null,null,null,null,null,null,null,null,null,null,null,null,{"$f":"A2","v":"Errors"},{"$f":"C2","v":0},null,{"$f":"E2","v":"Abnormal Variations"},{"$f":"F2","v":4}]
[null,null,null,null,null,null,null,null,null,null,null,null,null,null,null,null,null,null,null,null,null,null,null,null,null,null,null,null,null,null,null,null,null,null,null,null,null,null,null,null,null,null,null,null,null,null,null,null,null,null,null,null,{"$f":"A3","v":"Proforma-XVIII"}]
[null,null,null,null,null,null,null,null,null,null,null,null,null,null,null,null,null,null,null,null,null,null,null,null,null,null,null,null,null,null,null,null,null,null,null,null,null,null,null,null,null,null,null,null,null,null,null,null,null,null,null,null,{"$f":"A4","v":"Distribution of Suicides by Means Adopted"}]
[null,null,null,null,null,null,null,null,null,null,null,null,null,null,null,null,null,null,null,null,null,null,null,null,null,null,null,null,null,null,null,null,null,null,null,null,null,null,null,null,null,null,null,null,null,null,null,null,null,null,null,null,{"$f":"B5","v":"S.No."},{"$f":"C5","v":"Causes"},{"$f":"D5","v":"Number of Suicidal Deaths"},null,null,null,null,null,null,null,null,null,null,null,null,null,"Number of Suicidal Deaths",null,null,null,null,null,null,{"$f":"Y5","v":"Grand Total (9) + (16)+(23)"}]
[null,null,null,null,null,null,null,null,null,null,null,null,null,null,null,null,null,null,null,null,null,null,null,null,null,null,null,null,null,null,null,null,null,null,null,null,null,null,null,null,null,null,null,null,null,null,null,null,null,null,null,null,null,null,{"$f":"D6","v":"Male"},null,null,null,null,null,null,{"$f":"K6","v":"Female"},null,null,null,null,null,null,{"$f":"R6","v":"Transgender"}]
[null,null,null,null,null,null,null,null,null,null,null,null,null,null,null,null,null,null,null,null,null,null,null,null,null,null,null,null,null,null,null,null,null,null,null,null,null,null,null,null,null,null,null,null,null,null,null,null,null,null,null,null,null,null,"below 14 years",{"$f":"E7","v":"14 and above – below 18 years"},{"$f":"F7","v":"18 and above – below 30 years"},{"$f":"G7","v":"30 and above – below 45 years"},{"$f":"H7","v":"45 and above – below 60 years"},{"$f":"I7","v":"60 years & above"},{"$f":"J7","v":" Total [sum of (3) to (8)]"},"below 14 years",{"$f":"L7","v":"14 and above – below 18 years"},{"$f":"M7","v":"18 and above – below 30 years"},{"$f":"N7","v":"30 and above – below 45 years"},{"$f":"O7","v":"45 and above – below 60 years"},{"$f":"P7","v":"60 years & above"},{"$f":"Q7","v":"Total    [sum of (10) to (15)]"},"below 14 years",{"$f":"S7","v":"14 and above – below 18 years"},{"$f":"T7","v":"18 and above – below 30 years"},{"$f":"U7","v":"30 and above – below 45 years"},{"$f":"V7","v":"45 and above – below 60 years"},{"$f":"W7","v":"60 years & above"},{"$f":"X7","v":"Total [sum of (17) to (22)]"}]
[null,null,null,null,null,null,null,null,null,null,null,null,null,null,null,null,null,null,null,null,null,null,null,null,null,null,null,null,null,null,null,null,null,null,null,null,null,null,null,null,null,null,null,null,null,null,null,null,null,null,null,null,{"$f":"B8","v":"(1)"},{"$f":"C8","v":"(2)"},"(3)","(4)","(5)","(6)","(7)","(8)","(9)","(10)","(11)","(12)","(13)","(14)","(15)","(16)","(17)","(18)","(19)","(20)","(21)","(22)","(23)",{"$f":"Y8","v":"(24)"}]
[null,null,null,null,null,null,null,null,null,null,null,null,null,null,null,null,null,null,null,null,null,null,null,null,null,null,null,null,null,null,null,null,null,null,null,null,null,null,null,null,null,null,null,null,null,null,null,null,null,null,null,null,1,"By consuming Sleeping Pills",0,0,1,0,0,0,1,0,0,0,0,0,0,0,0,0,0,0,0,0,0,1]
[null,null,null,null,null,null,null,null,null,null,null,null,null,null,null,null,null,null,null,null,null,null,null,null,null,null,null,null,null,null,null,null,null,null,null,null,null,null,null,null,null,null,null,null,null,null,null,null,null,null,null,null,2,"By Drowning",0,0,4,4,8,11,27,0,0,0,4,2,3,9,0,0,0,0,0,0,0,36]
[null,null,null,null,null,null,null,null,null,null,null,null,null,null,null,null,null,null,null,null,null,null,null,null,null,null,null,null,null,null,null,null,null,null,null,null,null,null,null,null,null,null,null,null,null,null,null,null,null,null,null,null,3,"By Fire/Self Immolation",0,0,1,0,0,0,1,0,0,0,1,1,0,2,0,0,0,0,0,0,0,3]
[null,null,null,null,null,null,null,null,null,null,null,null,null,null,null,null,null,null,null,null,null,null,null,null,null,null,null,null,null,null,null,null,null,null,null,null,null,null,null,null,null,null,null,null,null,null,null,null,null,null,null,null,4,"By Firearms",0,0,0,0,0,0,0,0,0,0,0,0,0,0,0,0,0,0,0,0,0,0]
[null,null,null,null,null,null,null,null,null,null,null,null,null,null,null,null,null,null,null,null,null,null,null,null,null,null,null,null,null,null,null,null,null,null,null,null,null,null,null,null,null,null,null,null,null,null,null,null,null,null,null,null,5,"By Hanging",1,0,43,72,43,12,171,1,5,22,11,8,3,50,0,0,0,0,0,0,0,221]
[null,null,null,null,null,null,null,null,null,null,null,null,null,null,null,null,null,null,null,null,null,null,null,null,null,null,null,null,null,null,null,null,null,null,null,null,null,null,null,null,null,null,null,null,null,null,null,null,null,null,null,null,6,"By Poison (sum of 6.1 & 6.2)",0,2,4,3,5,4,18,0,2,3,0,3,0,8,0,0,0,0,0,0,0,26]
[null,null,null,null,null,null,null,null,null,null,null,null,null,null,null,null,null,null,null,null,null,null,null,null,null,null,null,null,null,null,null,null,null,null,null,null,null,null,null,null,null,null,null,null,null,null,null,null,null,null,null,null,null,"6.1 By Consuming Insecticides",0,2,4,3,4,2,15,0,0,2,0,3,0,5,0,0,0,0,0,0,0,20]
[null,null,null,null,null,null,null,null,null,null,null,null,null,null,null,null,null,null,null,null,null,null,null,null,null,null,null,null,null,null,null,null,null,null,null,null,null,null,null,null,null,null,null,null,null,null,null,null,null,null,null,null,null,"6.2 By Consuming other Poison",0,0,0,0,1,2,3,0,2,1,0,0,0,3,0,0,0,0,0,0,0,6]
[null,null,null,null,null,null,null,null,null,null,null,null,null,null,null,null,null,null,null,null,null,null,null,null,null,null,null,null,null,null,null,null,null,null,null,null,null,null,null,null,null,null,null,null,null,null,null,null,null,null,null,null,7,"By Self Inflicting  Injury",0,0,0,1,0,0,1,0,0,0,0,0,0,0,0,0,0,0,0,0,0,1]
[null,null,null,null,null,null,null,null,null,null,null,null,null,null,null,null,null,null,null,null,null,null,null,null,null,null,null,null,null,null,null,null,null,null,null,null,null,null,null,null,null,null,null,null,null,null,null,null,null,null,null,null,8,"By Jumping from (sum of 8.1 to 8.3)",0,0,0,2,0,0,2,0,0,1,0,0,0,1,0,0,0,0,0,0,0,3]
[null,null,null,null,null,null,null,null,null,null,null,null,null,null,null,null,null,null,null,null,null,null,null,null,null,null,null,null,null,null,null,null,null,null,null,null,null,null,null,null,null,null,null,null,null,null,null,null,null,null,null,null,null,"8.1 Building",0,0,0,2,0,0,2,0,0,1,0,0,0,1,0,0,0,0,0,0,0,3]
[null,null,null,null,null,null,null,null,null,null,null,null,null,null,null,null,null,null,null,null,null,null,null,null,null,null,null,null,null,null,null,null,null,null,null,null,null,null,null,null,null,null,null,null,null,null,null,null,null,null,null,null,null,"8.2 Other sites",0,0,0,0,0,0,0,0,0,0,0,0,0,0,0,0,0,0,0,0,0,0]
[null,null,null,null,null,null,null,null,null,null,null,null,null,null,null,null,null,null,null,null,null,null,null,null,null,null,null,null,null,null,null,null,null,null,null,null,null,null,null,null,null,null,null,null,null,null,null,null,null,null,null,null,null,"8.3 by Jumping off moving trains/ vehicles",0,0,0,0,0,0,0,0,0,0,0,0,0,0,0,0,0,0,0,0,0,0]
[null,null,null,null,null,null,null,null,null,null,null,null,null,null,null,null,null,null,null,null,null,null,null,null,null,null,null,null,null,null,null,null,null,null,null,null,null,null,null,null,null,null,null,null,null,null,null,null,null,null,null,null,9,"By Coming under running vehicles/trains",0,1,1,6,1,1,10,0,0,0,0,0,0,0,0,0,0,0,0,0,0,10]
[null,null,null,null,null,null,null,null,null,null,null,null,null,null,null,null,null,null,null,null,null,null,null,null,null,null,null,null,null,null,null,null,null,null,null,null,null,null,null,null,null,null,null,null,null,null,null,null,null,null,null,null,10,"By touching electric wire",0,0,0,0,0,0,0,0,0,0,0,0,0,0,0,0,0,0,0,0,0,0]
[null,null,null,null,null,null,null,null,null,null,null,null,null,null,null,null,null,null,null,null,null,null,null,null,null,null,null,null,null,null,null,null,null,null,null,null,null,null,null,null,null,null,null,null,null,null,null,null,null,null,null,null,11,"By Other Means",0,0,1,0,0,0,1,0,0,0,0,0,0,0,0,0,0,0,0,0,0,1]
[null,null,null,null,null,null,null,null,null,null,null,null,null,null,null,null,null,null,null,null,null,null,null,null,null,null,null,null,null,null,null,null,null,null,null,null,null,null,null,null,null,null,null,null,null,null,null,null,null,null,null,null,12,"Total (sum of Sl. 1 to 11)",1,3,55,88,57,28,232,1,7,26,16,14,6,70,0,0,0,0,0,0,0,302]
[null,null,null,null,null,null,null,null,null,null,null,null,null,null,null,null,null,null,null,null,null,null,null,null,null,null,null,null,null,null,null,null,null,null,null,null,null,null,null,null,null,null,null,null,null,null,null,null,null,null,null,null,{"$f":"A26","v":" PROFORMA–XIV VALUES [Sl.–21 (Total)]"},null,{"$f":"D26","v":1},{"$f":"E26","v":3},{"$f":"F26","v":55},{"$f":"G26","v":88},{"$f":"H26","v":57},{"$f":"I26","v":28},{"$f":"J26","v":232},{"$f":"K26","v":1},{"$f":"L26","v":7},{"$f":"M26","v":26},{"$f":"N26","v":16},{"$f":"O26","v":14},{"$f":"P26","v":6},{"$f":"Q26","v":70},{"$f":"R26","v":0},{"$f":"S26","v":0},{"$f":"T26","v":0},{"$f":"U26","v":0},{"$f":"V26","v":0},{"$f":"W26","v":0},{"$f":"X26","v":0},{"$f":"Y26","v":302}]
[null,null,null,null,null,null,null,null,null,null,null,null,null,null,null,null,null,null,null,null,null,null,null,null,null,null,null,null,null,null,null,null,null,null,null,null,null,null,null,null,null,null,null,null,null,null,null,null,null,null,null,null,{"$f":"A27","v":"VALIDATION WITH PROFORMA–XIV [Sl.–21 (Total)]"},null,"","","","","","","","","","","","","","","","","","","","","",""]
[null,null,null,null,null,null,null,null,null,null,null,null,null,null,null,null,null,null,null,null,null,null,null,null,null,null,null,null,null,null,null,null,null,null,null,null,null,null,null,null,null,null,null,null,null,null,null,null,null,null,null,null,{"$f":"A28","v":"SL-6.2 ABNORMAL VARIATION IN \"BY CONSUMING OTHER POISON\" DATA"},null,{"$f":"D28","v":""},"","","","","ABVAR","","","ABVAR","ABVAR","","","","ABVAR","","","","","","","",""]
[null,null,null,null,null,null,null,null,null,null,null,null,null,null,null,null,null,null,null,null,null,null,null,null,null,null,null,null,null,null,null,null,null,null,null,null,null,null,null,null,null,null,null,null,null,null,null,null,null,null,null,null,{"$f":"A29","v":"SL-8.2 ABNORMAL VARIATION IN \"OTHER SITES\" DATA"},null,{"$f":"D29","v":""},"","","","","","","","","","","","","","","","","","","","",""]
[null,null,null,null,null,null,null,null,null,null,null,null,null,null,null,null,null,null,null,null,null,null,null,null,null,null,null,null,null,null,null,null,null,null,null,null,null,null,null,null,null,null,null,null,null,null,null,null,null,null,null,null,"SL-11 ABNORMAL VARIATION IN \"BY OTHER MEANS\" DATA",null,"","","","","","","","","","","","","","","","","","","","","",""]
[]
[]
[]
[]
[]
[]
[]
[]
[]
[]
[]
[]
[]
[]
[]
[]
[]
[]
[]
[]
[]
[]
[]
[]
[]
[]
[]
[]
[]
[]
[]
[]
[]
[]
[]
[]
[]
[]
[]
[]
[]
[]
[]
[]
[]
[]
[]
[]
[]
[]
[]
[]
[]
[]
[]
[]
[]
[]
[]
[]
[]
[]
[]
[]
[]
[]
[]
[]
[]
[]
[]
[]
[]
[]
[]
[]
[]
[]
[]
[]
[]
[]
[]
[]
[]
[]
[]
[]
[]
[]
[]
[]
[]
[]
[]
[]
[]
[]
[]
[]
[]
[]
[]
[]
[]
[]
[]
[]
[]
[]
[]
[]
[]
[]
[]
[]
[]
[]
[]
[]
[]
[]
[]
[]
[]
[]
[]
[]
[]
[]
[]
[]
[]
[]
[]
[]
[]
[]
[]
[]
[]
[]
[]
[]
[]
[]
[]
[]
[]
[]
[]
[]
[]
[]
[]
[]
[]
[]
[]
[]
[]
[]
[]
[]
[]
[]
[]
[]
[]
[]
[]
[]
[]
[]
[]
[]
[]
[]
[]
[]
[]
[]
[]
[]
[]
[]
[]
[]
[]
[]
[]
[]
[]
[]
[]
[]
[]
[]
[]
[]
[]
[]
[]
[]
[]
[]
[]
[]
[]
[]
[]
[]
[]
[]
[]
[]
[]
[]
[]
[]
[]
[]
[]
[]
[]
[]
[]
[]
[]
[]
[]
[]
[]
[]
[]
[]
[]
[]
[]
[]
[]
[]
[]
[]
[]
[]
[]
[]
[]
[]
[]
[]
[]
[]
[]
[]
[]
[]
[]
[]
[]
[]
[]
[]
[]
[]
[]
[]
[]
[]
["StateUTCityCode","DistrictCode","CrimeCode","DataYear","Male_below 14 years","Male_14 and above – below 18 years","Male_18 and above – below 30 years","Male_30 and above – below 45 years","Male_45 and above – below 60 years","Male_60 years & above","Male_Total","Female_below 14 years","Female_14 and above – below 18 years","Female_18 and above – below 30 years","Female_30 and above – below 45 years","Female_45 and above – below 60 years","Female_60 years & above","Female_Total","Trans_below 14 years","Trans_14 and above – below 18 years","Trans_18 and above – below 30 years","Trans_30 and above – below 45 years","Trans_45 and above – below 60 years","Trans_60 years & above","Trans_Total","Grand Total"]
[{"$f":"IF(ADSI!$G$12=\"\",ADSI!$H$16,ADSI!$H$12)","v":6},{"$f":"IF(ADSI!$G$12=\"\",ADSI!$H$16,ADSI!$H$14)","v":""},{"$f":"A9","v":925},{"$f":"ADSI!$K$12","v":2022},{"$f":"D9","v":0},{"$f":"E9","v":0},1,0,0,0,1,0,0,0,0,0,0,0,0,0,0,0,0,0,0,1]
[{"$f":"IF(ADSI!$G$12=\"\",ADSI!$H$16,ADSI!$H$12)","v":6},{"$f":"IF(ADSI!$G$12=\"\",ADSI!$H$16,ADSI!$H$14)","v":""},{"$f":"A10","v":926},{"$f":"ADSI!$K$12","v":2022},{"$f":"D10","v":0},0,4,4,8,11,27,0,0,0,4,2,3,9,0,0,0,0,0,0,0,36]
[{"$f":"IF(ADSI!$G$12=\"\",ADSI!$H$16,ADSI!$H$12)","v":6},{"$f":"IF(ADSI!$G$12=\"\",ADSI!$H$16,ADSI!$H$14)","v":""},927,{"$f":"ADSI!$K$12","v":2022},{"$f":"D11","v":0},0,1,0,0,0,1,0,0,0,1,1,0,2,0,0,0,0,0,0,0,3]
[{"$f":"IF(ADSI!$G$12=\"\",ADSI!$H$16,ADSI!$H$12)","v":6},{"$f":"IF(ADSI!$G$12=\"\",ADSI!$H$16,ADSI!$H$14)","v":""},928,{"$f":"ADSI!$K$12","v":2022},{"$f":"D12","v":0},0,0,0,0,0,0,0,0,0,0,0,0,0,0,0,0,0,0,0,0,0]
[{"$f":"IF(ADSI!$G$12=\"\",ADSI!$H$16,ADSI!$H$12)","v":6},{"$f":"IF(ADSI!$G$12=\"\",ADSI!$H$16,ADSI!$H$14)","v":""},929,{"$f":"ADSI!$K$12","v":2022},{"$f":"D13","v":1},0,43,72,43,12,171,1,5,22,11,8,3,50,0,0,0,0,0,0,0,221]
[{"$f":"IF(ADSI!$G$12=\"\",ADSI!$H$16,ADSI!$H$12)","v":6},{"$f":"IF(ADSI!$G$12=\"\",ADSI!$H$16,ADSI!$H$14)","v":""},930,{"$f":"ADSI!$K$12","v":2022},{"$f":"D14","v":0},2,4,3,5,4,18,0,2,3,0,3,0,8,0,0,0,0,0,0,0,26]
[{"$f":"IF(ADSI!$G$12=\"\",ADSI!$H$16,ADSI!$H$12)","v":6},{"$f":"IF(ADSI!$G$12=\"\",ADSI!$H$16,ADSI!$H$14)","v":""},931,{"$f":"ADSI!$K$12","v":2022},{"$f":"D15","v":0},2,4,3,4,2,15,0,0,2,0,3,0,5,0,0,0,0,0,0,0,20]
[{"$f":"IF(ADSI!$G$12=\"\",ADSI!$H$16,ADSI!$H$12)","v":6},{"$f":"IF(ADSI!$G$12=\"\",ADSI!$H$16,ADSI!$H$14)","v":""},932,{"$f":"ADSI!$K$12","v":2022},{"$f":"D16","v":0},0,0,0,1,2,3,0,2,1,0,0,0,3,0,0,0,0,0,0,0,6]
[{"$f":"IF(ADSI!$G$12=\"\",ADSI!$H$16,ADSI!$H$12)","v":6},{"$f":"IF(ADSI!$G$12=\"\",ADSI!$H$16,ADSI!$H$14)","v":""},933,{"$f":"ADSI!$K$12","v":2022},{"$f":"D17","v":0},0,0,1,0,0,1,0,0,0,0,0,0,0,0,0,0,0,0,0,0,1]
[{"$f":"IF(ADSI!$G$12=\"\",ADSI!$H$16,ADSI!$H$12)","v":6},{"$f":"IF(ADSI!$G$12=\"\",ADSI!$H$16,ADSI!$H$14)","v":""},934,{"$f":"ADSI!$K$12","v":2022},{"$f":"D18","v":0},0,0,2,0,0,2,0,0,1,0,0,0,1,0,0,0,0,0,0,0,3]
[{"$f":"IF(ADSI!$G$12=\"\",ADSI!$H$16,ADSI!$H$12)","v":6},{"$f":"IF(ADSI!$G$12=\"\",ADSI!$H$16,ADSI!$H$14)","v":""},935,{"$f":"ADSI!$K$12","v":2022},{"$f":"D19","v":0},0,0,2,0,0,2,0,0,1,0,0,0,1,0,0,0,0,0,0,0,3]
[{"$f":"IF(ADSI!$G$12=\"\",ADSI!$H$16,ADSI!$H$12)","v":6},{"$f":"IF(ADSI!$G$12=\"\",ADSI!$H$16,ADSI!$H$14)","v":""},936,{"$f":"ADSI!$K$12","v":2022},{"$f":"D20","v":0},0,0,0,0,0,0,0,0,0,0,0,0,0,0,0,0,0,0,0,0,0]
[{"$f":"IF(ADSI!$G$12=\"\",ADSI!$H$16,ADSI!$H$12)","v":6},{"$f":"IF(ADSI!$G$12=\"\",ADSI!$H$16,ADSI!$H$14)","v":""},937,{"$f":"ADSI!$K$12","v":2022},{"$f":"D21","v":0},0,0,0,0,0,0,0,0,0,0,0,0,0,0,0,0,0,0,0,0,0]
[{"$f":"IF(ADSI!$G$12=\"\",ADSI!$H$16,ADSI!$H$12)","v":6},{"$f":"IF(ADSI!$G$12=\"\",ADSI!$H$16,ADSI!$H$14)","v":""},938,{"$f":"ADSI!$K$12","v":2022},{"$f":"D22","v":0},1,1,6,1,1,10,0,0,0,0,0,0,0,0,0,0,0,0,0,0,10]
[{"$f":"IF(ADSI!$G$12=\"\",ADSI!$H$16,ADSI!$H$12)","v":6},{"$f":"IF(ADSI!$G$12=\"\",ADSI!$H$16,ADSI!$H$14)","v":""},939,{"$f":"ADSI!$K$12","v":2022},{"$f":"D23","v":0},0,0,0,0,0,0,0,0,0,0,0,0,0,0,0,0,0,0,0,0,0]
[{"$f":"IF(ADSI!$G$12=\"\",ADSI!$H$16,ADSI!$H$12)","v":6},{"$f":"IF(ADSI!$G$12=\"\",ADSI!$H$16,ADSI!$H$14)","v":""},940,{"$f":"ADSI!$K$12","v":2022},{"$f":"D24","v":0},0,1,0,0,0,1,0,0,0,0,0,0,0,0,0,0,0,0,0,0,1]
[{"$f":"IF(ADSI!$G$12=\"\",ADSI!$H$16,ADSI!$H$12)","v":6},{"$f":"IF(ADSI!$G$12=\"\",ADSI!$H$16,ADSI!$H$14)","v":""},960,{"$f":"ADSI!$K$12","v":2022},{"$f":"D25","v":1},3,55,88,57,28,232,1,7,26,16,14,6,70,0,0,0,0,0,0,0,302]

{"sheet":"P-XIX","index":21,"n_rows":529,"n_cols":76,"rows_kept":529,"cut":false,"hidden":false,"merged":[[41,0,41,2],[42,0,42,2],[38,0,38,2],[40,0,40,2],[4,24,6,24],[5,3,5,9],[5,10,5,16],[4,1,6,1],[4,2,6,2],[5,17,5,23],[4,3,4,23],[37,0,37,2],[39,0,39,2],[4,0,6,0],[203,52,205,52],[203,53,205,53],[203,54,203,67],[203,68,203,74],[203,75,205,75],[204,68,204,74],[204,61,204,67],[204,54,204,60],[240,52,240,53],[241,52,241,53],[238,52,238,53],[236,52,236,53],[237,52,237,53],[239,52,239,53]]}
[{"$f":"ADSI!$B$1","v":"Goa, , ADSI-2022"}]
["Errors",null,{"$f":"COUNTIF(D39:Y39,FALSE)+COUNTIF(D41:Y41,FALSE)","v":0},null,"Abnormal Variations",{"$f":"COUNTIF(D42:Y43,\"ABVAR\")","v":0}]
[{"$f":"IF(ADSI!$L$10=1,LangMaster!A382,LangMaster!B382)","v":"Proforma-XIX"}]
[{"$f":"IF(ADSI!$L$10=1,LangMaster!A383,LangMaster!B383)","v":"Cause-wise distribution of suicides committed by Farmers/Cultivators"}]
[{"$f":"IF(ADSI!$L$10=1,LangMaster!A26,LangMaster!B26)","v":"Code"},{"$f":"IF(ADSI!$L$10=1,LangMaster!A27,LangMaster!B27)","v":"S.No."},{"$f":"IF(ADSI!$L$10=1,LangMaster!A478,LangMaster!B478)","v":"Causes"},{"$f":"IF(ADSI!$L$10=1,LangMaster!A268,LangMaster!B268)","v":"Number of Suicidal Deaths"},null,null,null,null,null,null,null,null,null,null,null,null,null,null,null,null,null,null,null,null,{"$f":"IF(ADSI!$L$10=1,LangMaster!A473,LangMaster!B473)","v":"Grand Total (9) + (16)+(23)"}]
[null,null,null,{"$f":"IF(ADSI!$L$10=1,LangMaster!A30,LangMaster!B30)","v":"Male"},null,null,null,null,null,null,{"$f":"IF(ADSI!$L$10=1,LangMaster!A31,LangMaster!B31)","v":"Female"},null,null,null,null,null,null,{"$f":"IF(ADSI!$L$10=1,LangMaster!A32,LangMaster!B32)","v":"Transgender"}]
[null,null,null,{"$f":"IF(ADSI!$L$10=1,LangMaster!A461,LangMaster!B461)","v":"below 14 years"},{"$f":"IF(ADSI!$L$10=1,LangMaster!A462,LangMaster!B462)","v":"14 and above – below 18 years"},{"$f":"IF(ADSI!$L$10=1,LangMaster!A463,LangMaster!B463)","v":"18 and above – below 30 years"},{"$f":"IF(ADSI!$L$10=1,LangMaster!A464,LangMaster!B464)","v":"30 and above – below 45 years"},{"$f":"IF(ADSI!$L$10=1,LangMaster!A465,LangMaster!B465)","v":"45 and above – below 60 years"},{"$f":"IF(ADSI!$L$10=1,LangMaster!A466,LangMaster!B466)","v":"60 years & above"},{"$f":"IF(ADSI!$L$10=1,LangMaster!A470,LangMaster!B470)","v":" Total [sum of (3) to (8)]"},{"$f":"IF(ADSI!$L$10=1,LangMaster!A461,LangMaster!B461)","v":"below 14 years"},{"$f":"IF(ADSI!$L$10=1,LangMaster!A462,LangMaster!B462)","v":"14 and above – below 18 years"},{"$f":"IF(ADSI!$L$10=1,LangMaster!A463,LangMaster!B463)","v":"18 and above – below 30 years"},{"$f":"IF(ADSI!$L$10=1,LangMaster!A464,LangMaster!B464)","v":"30 and above – below 45 years"},{"$f":"IF(ADSI!$L$10=1,LangMaster!A465,LangMaster!B465)","v":"45 and above – below 60 years"},{"$f":"IF(ADSI!$L$10=1,LangMaster!A466,LangMaster!B466)","v":"60 years & above"},{"$f":"IF(ADSI!$L$10=1,LangMaster!A471,LangMaster!B471)","v":"Total    [sum of (10) to (15)]"},{"$f":"IF(ADSI!$L$10=1,LangMaster!A461,LangMaster!B461)","v":"below 14 years"},{"$f":"IF(ADSI!$L$10=1,LangMaster!A462,LangMaster!B462)","v":"14 and above – below 18 years"},{"$f":"IF(ADSI!$L$10=1,LangMaster!A463,LangMaster!B463)","v":"18 and above – below 30 years"},{"$f":"IF(ADSI!$L$10=1,LangMaster!A464,LangMaster!B464)","v":"30 and above – below 45 years"},{"$f":"IF(ADSI!$L$10=1,LangMaster!A465,LangMaster!B465)","v":"45 and above – below 60 years"},{"$f":"IF(ADSI!$L$10=1,LangMaster!A466,LangMaster!B466)","v":"60 years & above"},{"$f":"IF(ADSI!$L$10=1,LangMaster!A472,LangMaster!B472)","v":"Total [sum of (17) to (22)]"}]
[null,"(1)","(2)","(3)","(4)","(5)","(6)","(7)","(8)","(9)","(10)","(11)","(12)","(13)","(14)","(15)","(16)","(17)","(18)","(19)","(20)","(21)","(22)","(23)","(24)"]
[975,1,{"$f":"IF(ADSI!$L$10=1,LangMaster!A384,LangMaster!B384)","v":"Poverty"},0,0,0,0,0,0,{"$f":"SUM(D9:I9)","v":0},0,0,0,0,0,0,{"$f":"SUM(K9:P9)","v":0},0,0,0,0,0,0,{"$f":"SUM(R9:W9)","v":0},{"$f":"SUM(J9+Q9+X9)","v":0}]
[976,2,{"$f":"IF(ADSI!$L$10=1,LangMaster!A385,LangMaster!B385)","v":"Property dispute"},0,0,0,0,0,0,{"$f":"SUM(D10:I10)","v":0},0,0,0,0,0,0,{"$f":"SUM(K10:P10)","v":0},0,0,0,0,0,0,{"$f":"SUM(R10:W10)","v":0},{"$f":"SUM(J10+Q10+X10)","v":0}]
[977,3,{"$f":"IF(ADSI!$L$10=1,LangMaster!A386,LangMaster!B386)","v":"Marriage Related Issues (sum of 3.1 to 3.5)"},{"$f":"SUM(D12:D16)","v":0},{"$f":"SUM(E12:E16)","v":0},0,0,0,0,0,0,{"$f":"SUM(L12:L16)","v":0},{"$f":"SUM(M12:M16)","v":0},{"$f":"SUM(N12:N16)","v":0},{"$f":"SUM(O12:O16)","v":0},{"$f":"SUM(P12:P16)","v":0},0,0,{"$f":"SUM(S12:S16)","v":0},{"$f":"SUM(T12:T16)","v":0},{"$f":"SUM(U12:U16)","v":0},{"$f":"SUM(V12:V16)","v":0},{"$f":"SUM(W12:W16)","v":0},0,0]
[978,null,{"$f":"IF(ADSI!$L$10=1,LangMaster!A387,LangMaster!B387)","v":"3.1 Non Settlement of Marriage"},0,0,0,0,0,0,0,0,0,0,0,0,0,0,0,0,0,0,0,0,0,0]
[979,null,{"$f":"IF(ADSI!$L$10=1,LangMaster!A388,LangMaster!B388)","v":"3.2 Dowry Related Issues"},0,0,0,0,0,0,0,0,0,0,0,0,0,0,0,0,0,0,0,0,0,0]
[980,null,{"$f":"IF(ADSI!$L$10=1,LangMaster!A389,LangMaster!B389)","v":"3.3 Extra Marital affairs"},0,0,0,0,0,0,0,0,0,0,0,0,0,0,0,0,0,0,0,0,0,0]
[981,null,{"$f":"IF(ADSI!$L$10=1,LangMaster!A390,LangMaster!B390)","v":"3.4 Divorce"},0,0,0,0,0,0,0,0,0,0,0,0,0,0,0,0,0,0,0,0,0,0]
[982,null,{"$f":"IF(ADSI!$L$10=1,LangMaster!A391,LangMaster!B391)","v":"3.5 Others"},0,0,0,0,0,0,0,0,0,0,0,0,0,0,0,0,0,0,0,0,0,0]
[983,4,{"$f":"IF(ADSI!$L$10=1,LangMaster!A392,LangMaster!B392)","v":"Family problems"},0,0,0,0,0,0,0,0,0,0,0,0,0,0,0,0,0,0,0,0,0,0]
[984,5,{"$f":"IF(ADSI!$L$10=1,LangMaster!A393,LangMaster!B393)","v":"Farming related Issues (sum of 5.1 & 5.2)"},{"$f":"SUM(D19,D22)","v":0},{"$f":"SUM(E19,E22)","v":0},0,0,0,0,0,0,{"$f":"SUM(L19,L22)","v":0},{"$f":"SUM(M19,M22)","v":0},{"$f":"SUM(N19,N22)","v":0},{"$f":"SUM(O19,O22)","v":0},{"$f":"SUM(P19,P22)","v":0},0,0,{"$f":"SUM(S19,S22)","v":0},{"$f":"SUM(T19,T22)","v":0},{"$f":"SUM(U19,U22)","v":0},{"$f":"SUM(V19,V22)","v":0},{"$f":"SUM(W19,W22)","v":0},0,0]
[985,null,{"$f":"IF(ADSI!$L$10=1,LangMaster!A394,LangMaster!B394)","v":"5.1 Failure of  Crop (sum of 5.1.1 & 5.1.2)"},{"$f":"SUM(D20:D21)","v":0},{"$f":"SUM(E20:E21)","v":0},0,0,0,0,0,0,{"$f":"SUM(L20:L21)","v":0},{"$f":"SUM(M20:M21)","v":0},{"$f":"SUM(N20:N21)","v":0},{"$f":"SUM(O20:O21)","v":0},{"$f":"SUM(P20:P21)","v":0},0,0,{"$f":"SUM(S20:S21)","v":0},{"$f":"SUM(T20:T21)","v":0},{"$f":"SUM(U20:U21)","v":0},{"$f":"SUM(V20:V21)","v":0},{"$f":"SUM(W20:W21)","v":0},0,0]
[986,null,{"$f":"IF(ADSI!$L$10=1,LangMaster!A395,LangMaster!B395)","v":"5.1.1 Due to Natural Calamities"},0,0,0,0,0,0,0,0,0,0,0,0,0,0,0,0,0,0,0,0,0,0]
[987,null,{"$f":"IF(ADSI!$L$10=1,LangMaster!A396,LangMaster!B396)","v":"5.1.2 Due to Other reasons"},0,0,0,0,0,0,0,0,0,0,0,0,0,0,0,0,0,0,0,0,0,0]
[988,null,{"$f":"IF(ADSI!$L$10=1,LangMaster!A397,LangMaster!B397)","v":"5.2 Inability to Sell"},0,0,0,0,0,0,0,0,0,0,0,0,0,0,0,0,0,0,0,0,0,0]
[989,6,{"$f":"IF(ADSI!$L$10=1,LangMaster!A398,LangMaster!B398)","v":"Illness (sum of 6.1 to 6.5)"},{"$f":"SUM(D24:D28)","v":0},{"$f":"SUM(E24:E28)","v":0},0,0,0,0,0,0,{"$f":"SUM(L24:L28)","v":0},{"$f":"SUM(M24:M28)","v":0},{"$f":"SUM(N24:N28)","v":0},{"$f":"SUM(O24:O28)","v":0},{"$f":"SUM(P24:P28)","v":0},0,0,{"$f":"SUM(S24:S28)","v":0},{"$f":"SUM(T24:T28)","v":0},{"$f":"SUM(U24:U28)","v":0},{"$f":"SUM(V24:V28)","v":0},{"$f":"SUM(W24:W28)","v":0},0,0]
[990,null,{"$f":"IF(ADSI!$L$10=1,LangMaster!A399,LangMaster!B399)","v":"6.1 AIDS/STD"},0,0,0,0,0,0,0,0,0,0,0,0,0,0,0,0,0,0,0,0,0,0]
[991,null,{"$f":"IF(ADSI!$L$10=1,LangMaster!A400,LangMaster!B400)","v":"6.2 Cancer"},0,0,0,0,0,0,0,0,0,0,0,0,0,0,0,0,0,0,0,0,0,0]
[992,null,{"$f":"IF(ADSI!$L$10=1,LangMaster!A401,LangMaster!B401)","v":"6.3 Paralysis"},0,0,0,0,0,0,0,0,0,0,0,0,0,0,0,0,0,0,0,0,0,0]
[993,null,{"$f":"IF(ADSI!$L$10=1,LangMaster!A402,LangMaster!B402)","v":"6.4 Insanity/Mental illness"},0,0,0,0,0,0,0,0,0,0,0,0,0,0,0,0,0,0,0,0,0,0]
[994,null,{"$f":"IF(ADSI!$L$10=1,LangMaster!A403,LangMaster!B403)","v":"6.5 Other prolonged illness"},0,0,0,0,0,0,0,0,0,0,0,0,0,0,0,0,0,0,0,0,0,0]
[995,7,{"$f":"IF(ADSI!$L$10=1,LangMaster!A404,LangMaster!B404)","v":"Drug abuse/Alcoholic addiction"},0,0,0,0,0,0,0,0,0,0,0,0,0,0,0,0,0,0,0,0,0,0]
[996,8,{"$f":"IF(ADSI!$L$10=1,LangMaster!A405,LangMaster!B405)","v":"Fall in social reputation"},0,0,0,0,0,0,0,0,0,0,0,0,0,0,0,0,0,0,0,0,0,0]
[997,9,{"$f":"IF(ADSI!$L$10=1,LangMaster!A406,LangMaster!B406)","v":"Bankruptcy or Indebtedness (sum of 9.1 to 9.3)"},{"$f":"SUM(D32:D34)","v":0},0,0,0,0,0,0,{"$f":"SUM(K32:K34)","v":0},0,0,0,0,0,0,{"$f":"SUM(R32:R34)","v":0},0,0,0,0,0,0,0]
[998,null,{"$f":"IF(ADSI!$L$10=1,LangMaster!A407,LangMaster!B407)","v":"9.1 Bankruptcy or Indebtedness due to Loan taken from Financial Institutions like Bank/Registered Micro Financial Institutions"},0,0,0,0,0,0,0,0,0,0,0,0,0,0,0,0,0,0,0,0,0,0]
[999,null,{"$f":"IF(ADSI!$L$10=1,LangMaster!A408,LangMaster!B408)","v":"9.2 Due to loan taken from Money Lenders/ Non-Financial Institutions"},0,0,0,0,0,0,0,0,0,0,0,0,0,0,0,0,0,0,0,0,0,0]
[1000,null,{"$f":"IF(ADSI!$L$10=1,LangMaster!A409,LangMaster!B409)","v":"9.3 Due to loan taken from both Financial Institutions as well as Money Lenders/Non-Financial Institutions"},0,0,0,0,0,0,0,0,0,0,0,0,0,0,0,0,0,0,0,0,0,0]
[1001,10,{"$f":"IF(ADSI!$L$10=1,LangMaster!A410,LangMaster!B410)","v":"Causes not known"},0,0,0,0,0,0,0,0,0,0,0,0,0,0,0,0,0,0,0,0,0,0]
[1002,11,{"$f":"IF(ADSI!$L$10=1,LangMaster!A411,LangMaster!B411)","v":"Other causes"},0,0,0,0,0,0,0,0,0,0,0,0,0,0,0,0,0,0,0,0,0,0]
[1020,12,{"$f":"IF(ADSI!$L$10=1,LangMaster!A412,LangMaster!B412)","v":"Total (sum of Sl. 1 to 11)"},{"$f":"SUM(D9:D11,D17:D18,D23,D29:D31,D35:D36)","v":0},0,0,0,0,0,{"$f":"SUM(D37:I37)","v":0},{"$f":"SUM(K9:K11,K17:K18,K23,K29:K31,K35:K36)","v":0},0,0,0,0,0,{"$f":"SUM(K37:P37)","v":0},{"$f":"SUM(R9:R11,R17:R18,R23,R29:R31,R35:R36)","v":0},0,0,0,0,0,{"$f":"SUM(R37:W37)","v":0},0]
["PROFORMA–XV VALUES [Sl.-6.1 Farmers/Cultivators (Sub-Total)]",null,null,{"$f":"'P-XV'!E26","v":0},{"$f":"'P-XV'!F26","v":0},{"$f":"'P-XV'!G26","v":0},{"$f":"'P-XV'!H26","v":0},{"$f":"'P-XV'!I26","v":0},{"$f":"'P-XV'!J26","v":0},{"$f":"'P-XV'!K26","v":0},{"$f":"'P-XV'!L26","v":0},{"$f":"'P-XV'!M26","v":0},{"$f":"'P-XV'!N26","v":0},{"$f":"'P-XV'!O26","v":0},{"$f":"'P-XV'!P26","v":0},{"$f":"'P-XV'!Q26","v":0},{"$f":"'P-XV'!R26","v":0},{"$f":"'P-XV'!S26","v":0},{"$f":"'P-XV'!T26","v":0},{"$f":"'P-XV'!U26","v":0},{"$f":"'P-XV'!V26","v":0},{"$f":"'P-XV'!W26","v":0},{"$f":"'P-XV'!X26","v":0},{"$f":"'P-XV'!Y26","v":0},{"$f":"'P-XV'!Z26","v":0}]
["VALIDATION  WITH PROFORMA–XV [Sl.-6.1 Farmers/Cultivators (Sub-Total)]",null,null,{"$f":"IF(D37='P-XV'!E26,\"\",FALSE)","v":""},{"$f":"IF(E37='P-XV'!F26,\"\",FALSE)","v":""},{"$f":"IF(F37='P-XV'!G26,\"\",FALSE)","v":""},{"$f":"IF(G37='P-XV'!H26,\"\",FALSE)","v":""},{"$f":"IF(H37='P-XV'!I26,\"\",FALSE)","v":""},{"$f":"IF(I37='P-XV'!J26,\"\",FALSE)","v":""},{"$f":"IF(J37='P-XV'!K26,\"\",FALSE)","v":""},{"$f":"IF(K37='P-XV'!L26,\"\",FALSE)","v":""},{"$f":"IF(L37='P-XV'!M26,\"\",FALSE)","v":""},{"$f":"IF(M37='P-XV'!N26,\"\",FALSE)","v":""},{"$f":"IF(N37='P-XV'!O26,\"\",FALSE)","v":""},{"$f":"IF(O37='P-XV'!P26,\"\",FALSE)","v":""},{"$f":"IF(P37='P-XV'!Q26,\"\",FALSE)","v":""},{"$f":"IF(Q37='P-XV'!R26,\"\",FALSE)","v":""},{"$f":"IF(R37='P-XV'!S26,\"\",FALSE)","v":""},{"$f":"IF(S37='P-XV'!T26,\"\",FALSE)","v":""},{"$f":"IF(T37='P-XV'!U26,\"\",FALSE)","v":""},{"$f":"IF(U37='P-XV'!V26,\"\",FALSE)","v":""},{"$f":"IF(V37='P-XV'!W26,\"\",FALSE)","v":""},{"$f":"IF(W37='P-XV'!X26,\"\",FALSE)","v":""},{"$f":"IF(X37='P-XV'!Y26,\"\",FALSE)","v":""},{"$f":"IF(Y37='P-XV'!Z26,\"\",FALSE)","v":""}]
[" PROFORMA–XIV VALUES [Sl.–21 (Total)]",null,null,{"$f":"'P-XIV'!D38","v":1},{"$f":"'P-XIV'!E38","v":3},{"$f":"'P-XIV'!F38","v":55},{"$f":"'P-XIV'!G38","v":88},{"$f":"'P-XIV'!H38","v":57},{"$f":"'P-XIV'!I38","v":28},{"$f":"'P-XIV'!J38","v":232},{"$f":"'P-XIV'!K38","v":1},{"$f":"'P-XIV'!L38","v":7},{"$f":"'P-XIV'!M38","v":26},{"$f":"'P-XIV'!N38","v":16},{"$f":"'P-XIV'!O38","v":14},{"$f":"'P-XIV'!P38","v":6},{"$f":"'P-XIV'!Q38","v":70},{"$f":"'P-XIV'!R38","v":0},{"$f":"'P-XIV'!S38","v":0},{"$f":"'P-XIV'!T38","v":0},{"$f":"'P-XIV'!U38","v":0},{"$f":"'P-XIV'!V38","v":0},{"$f":"'P-XIV'!W38","v":0},{"$f":"'P-XIV'!X38","v":0},{"$f":"'P-XIV'!Y38","v":302}]
["VALIDATION  WITH  PROFORMA–XIV [Sl.–21 (Total)]",null,null,{"$f":"IF(D37<='P-XIV'!D38,\"\",FALSE)","v":""},{"$f":"IF(E37<='P-XIV'!E38,\"\",FALSE)","v":""},{"$f":"IF(F37<='P-XIV'!F38,\"\",FALSE)","v":""},{"$f":"IF(G37<='P-XIV'!G38,\"\",FALSE)","v":""},{"$f":"IF(H37<='P-XIV'!H38,\"\",FALSE)","v":""},{"$f":"IF(I37<='P-XIV'!I38,\"\",FALSE)","v":""},{"$f":"IF(J37<='P-XIV'!J38,\"\",FALSE)","v":""},{"$f":"IF(K37<='P-XIV'!K38,\"\",FALSE)","v":""},{"$f":"IF(L37<='P-XIV'!L38,\"\",FALSE)","v":""},{"$f":"IF(M37<='P-XIV'!M38,\"\",FALSE)","v":""},{"$f":"IF(N37<='P-XIV'!N38,\"\",FALSE)","v":""},{"$f":"IF(O37<='P-XIV'!O38,\"\",FALSE)","v":""},{"$f":"IF(P37<='P-XIV'!P38,\"\",FALSE)","v":""},{"$f":"IF(Q37<='P-XIV'!Q38,\"\",FALSE)","v":""},{"$f":"IF(R37<='P-XIV'!R38,\"\",FALSE)","v":""},{"$f":"IF(S37<='P-XIV'!S38,\"\",FALSE)","v":""},{"$f":"IF(T37<='P-XIV'!T38,\"\",FALSE)","v":""},{"$f":"IF(U37<='P-XIV'!U38,\"\",FALSE)","v":""},{"$f":"IF(V37<='P-XIV'!V38,\"\",FALSE)","v":""},{"$f":"IF(W37<='P-XIV'!W38,\"\",FALSE)","v":""},{"$f":"IF(X37<='P-XIV'!X38,\"\",FALSE)","v":""},{"$f":"IF(Y37<='P-XIV'!Y38,\"\",FALSE)","v":""}]
["SL-10 ABNORMAL VARIATION IN \"CAUSES NOT KNOWN\" DATA",null,null,{"$f":"IF(D37>0,IF((D35/D37*100)>10,\"ABVAR\",\"\"),\"\")","v":""},{"$f":"IF(E37>0,IF((E35/E37*100)>10,\"ABVAR\",\"\"),\"\")","v":""},"","","","","","","","","","","","","","","","","","","",""]
["SL-11 ABNORMAL VARIATION IN \"OTHER CAUSES\" DATA",null,null,{"$f":"IF(D37>0,IF((D36/D37*100)>10,\"ABVAR\",\"\"),\"\")","v":""},{"$f":"IF(E37>0,IF((E36/E37*100)>10,\"ABVAR\",\"\"),\"\")","v":""},"","","","","","","","","","","","","","","","","","","",""]
[]
["Note: If causes of suicides is found as more than one, the most immediate cause of suicides should be considered."]
[]
[]
[]
[]
[]
[]
[]
[]
[]
[]
[]
[]
[]
[]
[]
[]
[]
[]
[]
[]
[]
[]
[]
[]
[]
[]
[]
[]
[]
[]
[]
[]
[]
[]
[]
[]
[]
[]
[]
[]
[]
[]
[]
[]
[]
[]
[]
[]
[]
[]
[]
[]
[]
[]
[]
[]
[]
[]
[]
[]
[]
[]
[]
[]
[]
[]
[]
[]
[]
[]
[]
[]
[]
[]
[]
[]
[]
[]
[]
[]
[]
[]
[]
[]
[]
[]
[]
[]
[]
[]
[]
[]
[]
[]
[]
[]
[]
[]
[]
[]
[]
[]
[]
[]
[]
[]
[]
[]
[]
[]
[]
[]
[]
[]
[]
[]
[]
[]
[]
[]
[]
[]
[]
[]
[]
[]
[]
[]
[]
[]
[]
[]
[]
[]
[]
[]
[]
[]
[]
[]
[]
[]
[]
[]
[]
[]
[]
[]
[]
[]
[]
[]
[]
[]
[null,null,null,null,null,null,null,null,null,null,null,null,null,null,null,null,null,null,null,null,null,null,null,null,null,null,null,null,null,null,null,null,null,null,null,null,null,null,null,null,null,null,null,null,null,null,null,null,null,null,null,null,{"$f":"A1","v":"Goa, , ADSI-2022"}]
[null,null,null,null,null,null,null,null,null,null,null,null,null,null,null,null,null,null,null,null,null,null,null,null,null,null,null,null,null,null,null,null,null,null,null,null,null,null,null,null,null,null,null,null,null,null,null,null,null,null,null,null,{"$f":"A2","v":"Errors"},{"$f":"C2","v":0},null,{"$f":"E2","v":"Abnormal Variations"},{"$f":"F2","v":0}]
[null,null,null,null,null,null,null,null,null,null,null,null,null,null,null,null,null,null,null,null,null,null,null,null,null,null,null,null,null,null,null,null,null,null,null,null,null,null,null,null,null,null,null,null,null,null,null,null,null,null,null,null,{"$f":"A3","v":"Proforma-XIX"}]
[null,null,null,null,null,null,null,null,null,null,null,null,null,null,null,null,null,null,null,null,null,null,null,null,null,null,null,null,null,null,null,null,null,null,null,null,null,null,null,null,null,null,null,null,null,null,null,null,null,null,null,null,{"$f":"A4","v":"Cause-wise distribution of suicides committed by Farmers/Cultivators"}]
[null,null,null,null,null,null,null,null,null,null,null,null,null,null,null,null,null,null,null,null,null,null,null,null,null,null,null,null,null,null,null,null,null,null,null,null,null,null,null,null,null,null,null,null,null,null,null,null,null,null,null,null,{"$f":"B5","v":"S.No."},{"$f":"C5","v":"Causes"},{"$f":"D5","v":"Number of Suicidal Deaths"},null,null,null,null,null,null,null,null,null,null,null,null,null,"Number of Suicidal Deaths",null,null,null,null,null,null,{"$f":"Y5","v":"Grand Total (9) + (16)+(23)"}]
[null,null,null,null,null,null,null,null,null,null,null,null,null,null,null,null,null,null,null,null,null,null,null,null,null,null,null,null,null,null,null,null,null,null,null,null,null,null,null,null,null,null,null,null,null,null,null,null,null,null,null,null,null,null,{"$f":"D6","v":"Male"},null,null,null,null,null,null,{"$f":"K6","v":"Female"},null,null,null,null,null,null,{"$f":"R6","v":"Transgender"}]
[null,null,null,null,null,null,null,null,null,null,null,null,null,null,null,null,null,null,null,null,null,null,null,null,null,null,null,null,null,null,null,null,null,null,null,null,null,null,null,null,null,null,null,null,null,null,null,null,null,null,null,null,null,null,"below 14 years",{"$f":"E7","v":"14 and above – below 18 years"},{"$f":"F7","v":"18 and above – below 30 years"},{"$f":"G7","v":"30 and above – below 45 years"},{"$f":"H7","v":"45 and above – below 60 years"},{"$f":"I7","v":"60 years & above"},{"$f":"J7","v":" Total [sum of (3) to (8)]"},"below 14 years",{"$f":"L7","v":"14 and above – below 18 years"},{"$f":"M7","v":"18 and above – below 30 years"},{"$f":"N7","v":"30 and above – below 45 years"},{"$f":"O7","v":"45 and above – below 60 years"},{"$f":"P7","v":"60 years & above"},{"$f":"Q7","v":"Total    [sum of (10) to (15)]"},"below 14 years",{"$f":"S7","v":"14 and above – below 18 years"},{"$f":"T7","v":"18 and above – below 30 years"},{"$f":"U7","v":"30 and above – below 45 years"},{"$f":"V7","v":"45 and above – below 60 years"},{"$f":"W7","v":"60 years & above"},{"$f":"X7","v":"Total [sum of (17) to (22)]"}]
[null,null,null,null,null,null,null,null,null,null,null,null,null,null,null,null,null,null,null,null,null,null,null,null,null,null,null,null,null,null,null,null,null,null,null,null,null,null,null,null,null,null,null,null,null,null,null,null,null,null,null,null,{"$f":"B8","v":"(1)"},"(2)","(3)","(4)","(5)","(6)","(7)","(8)","(9)","(10)","(11)","(12)","(13)","(14)","(15)","(16)","(17)","(18)","(19)","(20)","(21)","(22)","(23)",{"$f":"Y8","v":"(24)"}]
[null,null,null,null,null,null,null,null,null,null,null,null,null,null,null,null,null,null,null,null,null,null,null,null,null,null,null,null,null,null,null,null,null,null,null,null,null,null,null,null,null,null,null,null,null,null,null,null,null,null,null,null,1,"Poverty",0,0,0,0,0,0,0,0,0,0,0,0,0,0,0,0,0,0,0,0,0,0]
[null,null,null,null,null,null,null,null,null,null,null,null,null,null,null,null,null,null,null,null,null,null,null,null,null,null,null,null,null,null,null,null,null,null,null,null,null,null,null,null,null,null,null,null,null,null,null,null,null,null,null,null,2,"Property dispute",0,0,0,0,0,0,0,0,0,0,0,0,0,0,0,0,0,0,0,0,0,0]
[null,null,null,null,null,null,null,null,null,null,null,null,null,null,null,null,null,null,null,null,null,null,null,null,null,null,null,null,null,null,null,null,null,null,null,null,null,null,null,null,null,null,null,null,null,null,null,null,null,null,null,null,3,"Marriage Related Issues (sum of 3.1 to 3.5)",0,0,0,0,0,0,0,0,0,0,0,0,0,0,0,0,0,0,0,0,0,0]
[null,null,null,null,null,null,null,null,null,null,null,null,null,null,null,null,null,null,null,null,null,null,null,null,null,null,null,null,null,null,null,null,null,null,null,null,null,null,null,null,null,null,null,null,null,null,null,null,null,null,null,null,null,{"$f":"C12","v":"3.1 Non Settlement of Marriage"},0,0,0,0,0,0,0,0,0,0,0,0,0,0,0,0,0,0,0,0,0,0]
[null,null,null,null,null,null,null,null,null,null,null,null,null,null,null,null,null,null,null,null,null,null,null,null,null,null,null,null,null,null,null,null,null,null,null,null,null,null,null,null,null,null,null,null,null,null,null,null,null,null,null,null,null,"3.2 Dowry Related Issues",0,0,0,0,0,0,0,0,0,0,0,0,0,0,0,0,0,0,0,0,0,0]
[null,null,null,null,null,null,null,null,null,null,null,null,null,null,null,null,null,null,null,null,null,null,null,null,null,null,null,null,null,null,null,null,null,null,null,null,null,null,null,null,null,null,null,null,null,null,null,null,null,null,null,null,null,"3.3 Extra Marital affairs",0,0,0,0,0,0,0,0,0,0,0,0,0,0,0,0,0,0,0,0,0,0]
[null,null,null,null,null,null,null,null,null,null,null,null,null,null,null,null,null,null,null,null,null,null,null,null,null,null,null,null,null,null,null,null,null,null,null,null,null,null,null,null,null,null,null,null,null,null,null,null,null,null,null,null,null,"3.4 Divorce",0,0,0,0,0,0,0,0,0,0,0,0,0,0,0,0,0,0,0,0,0,0]
[null,null,null,null,null,null,null,null,null,null,null,null,null,null,null,null,null,null,null,null,null,null,null,null,null,null,null,null,null,null,null,null,null,null,null,null,null,null,null,null,null,null,null,null,null,null,null,null,null,null,null,null,null,"3.5 Others",0,0,0,0,0,0,0,0,0,0,0,0,0,0,0,0,0,0,0,0,0,0]
[null,null,null,null,null,null,null,null,null,null,null,null,null,null,null,null,null,null,null,null,null,null,null,null,null,null,null,null,null,null,null,null,null,null,null,null,null,null,null,null,null,null,null,null,null,null,null,null,null,null,null,null,{"$f":"B17","v":4},"Family problems",0,0,0,0,0,0,0,0,0,0,0,0,0,0,0,0,0,0,0,0,0,0]
[null,null,null,null,null,null,null,null,null,null,null,null,null,null,null,null,null,null,null,null,null,null,null,null,null,null,null,null,null,null,null,null,null,null,null,null,null,null,null,null,null,null,null,null,null,null,null,null,null,null,null,null,{"$f":"B18","v":5},"Farming related Issues (sum of 5.1 & 5.2)",0,0,0,0,0,0,0,0,0,0,0,0,0,0,0,0,0,0,0,0,0,0]
[null,null,null,null,null,null,null,null,null,null,null,null,null,null,null,null,null,null,null,null,null,null,null,null,null,null,null,null,null,null,null,null,null,null,null,null,null,null,null,null,null,null,null,null,null,null,null,null,null,null,null,null,null,"5.1 Failure of  Crop (sum of 5.1.1 & 5.1.2)",0,0,0,0,0,0,0,0,0,0,0,0,0,0,0,0,0,0,0,0,0,0]
[null,null,null,null,null,null,null,null,null,null,null,null,null,null,null,null,null,null,null,null,null,null,null,null,null,null,null,null,null,null,null,null,null,null,null,null,null,null,null,null,null,null,null,null,null,null,null,null,null,null,null,null,null,"5.1.1 Due to Natural Calamities",0,0,0,0,0,0,0,0,0,0,0,0,0,0,0,0,0,0,0,0,0,0]
[null,null,null,null,null,null,null,null,null,null,null,null,null,null,null,null,null,null,null,null,null,null,null,null,null,null,null,null,null,null,null,null,null,null,null,null,null,null,null,null,null,null,null,null,null,null,null,null,null,null,null,null,null,"5.1.2 Due to Other reasons",0,0,0,0,0,0,0,0,0,0,0,0,0,0,0,0,0,0,0,0,0,0]
[null,null,null,null,null,null,null,null,null,null,null,null,null,null,null,null,null,null,null,null,null,null,null,null,null,null,null,null,null,null,null,null,null,null,null,null,null,null,null,null,null,null,null,null,null,null,null,null,null,null,null,null,null,"5.2 Inability to Sell",0,0,0,0,0,0,0,0,0,0,0,0,0,0,0,0,0,0,0,0,0,0]
[null,null,null,null,null,null,null,null,null,null,null,null,null,null,null,null,null,null,null,null,null,null,null,null,null,null,null,null,null,null,null,null,null,null,null,null,null,null,null,null,null,null,null,null,null,null,null,null,null,null,null,null,{"$f":"B23","v":6},"Illness (sum of 6.1 to 6.5)",0,0,0,0,0,0,0,0,0,0,0,0,0,0,0,0,0,0,0,0,0,0]
[null,null,null,null,null,null,null,null,null,null,null,null,null,null,null,null,null,null,null,null,null,null,null,null,null,null,null,null,null,null,null,null,null,null,null,null,null,null,null,null,null,null,null,null,null,null,null,null,null,null,null,null,null,"6.1 AIDS/STD",0,0,0,0,0,0,0,0,0,0,0,0,0,0,0,0,0,0,0,0,0,0]
[null,null,null,null,null,null,null,null,null,null,null,null,null,null,null,null,null,null,null,null,null,null,null,null,null,null,null,null,null,null,null,null,null,null,null,null,null,null,null,null,null,null,null,null,null,null,null,null,null,null,null,null,null,"6.2 Cancer",0,0,0,0,0,0,0,0,0,0,0,0,0,0,0,0,0,0,0,0,0,0]
[null,null,null,null,null,null,null,null,null,null,null,null,null,null,null,null,null,null,null,null,null,null,null,null,null,null,null,null,null,null,null,null,null,null,null,null,null,null,null,null,null,null,null,null,null,null,null,null,null,null,null,null,null,"6.3 Paralysis",0,0,0,0,0,0,0,0,0,0,0,0,0,0,0,0,0,0,0,0,0,0]
[null,null,null,null,null,null,null,null,null,null,null,null,null,null,null,null,null,null,null,null,null,null,null,null,null,null,null,null,null,null,null,null,null,null,null,null,null,null,null,null,null,null,null,null,null,null,null,null,null,null,null,null,null,"6.4 Insanity/Mental illness",0,0,0,0,0,0,0,0,0,0,0,0,0,0,0,0,0,0,0,0,0,0]
[null,null,null,null,null,null,null,null,null,null,null,null,null,null,null,null,null,null,null,null,null,null,null,null,null,null,null,null,null,null,null,null,null,null,null,null,null,null,null,null,null,null,null,null,null,null,null,null,null,null,null,null,null,"6.5 Other prolonged illness",0,0,0,0,0,0,0,0,0,0,0,0,0,0,0,0,0,0,0,0,0,0]
[null,null,null,null,null,null,null,null,null,null,null,null,null,null,null,null,null,null,null,null,null,null,null,null,null,null,null,null,null,null,null,null,null,null,null,null,null,null,null,null,null,null,null,null,null,null,null,null,null,null,null,null,{"$f":"B29","v":7},"Drug abuse/Alcoholic addiction",0,0,0,0,0,0,0,0,0,0,0,0,0,0,0,0,0,0,0,0,0,0]
[null,null,null,null,null,null,null,null,null,null,null,null,null,null,null,null,null,null,null,null,null,null,null,null,null,null,null,null,null,null,null,null,null,null,null,null,null,null,null,null,null,null,null,null,null,null,null,null,null,null,null,null,{"$f":"B30","v":8},"Fall in social reputation",0,0,0,0,0,0,0,0,0,0,0,0,0,0,0,0,0,0,0,0,0,0]
[null,null,null,null,null,null,null,null,null,null,null,null,null,null,null,null,null,null,null,null,null,null,null,null,null,null,null,null,null,null,null,null,null,null,null,null,null,null,null,null,null,null,null,null,null,null,null,null,null,null,null,null,{"$f":"B31","v":9},"Bankruptcy or Indebtedness (sum of 9.1 to 9.3)",0,0,0,0,0,0,0,0,0,0,0,0,0,0,0,0,0,0,0,0,0,0]
[null,null,null,null,null,null,null,null,null,null,null,null,null,null,null,null,null,null,null,null,null,null,null,null,null,null,null,null,null,null,null,null,null,null,null,null,null,null,null,null,null,null,null,null,null,null,null,null,null,null,null,null,null,"9.1 Bankruptcy or Indebtedness due to Loan taken from Financial Institutions like Bank/Registered Micro Financial Institutions",0,0,0,0,0,0,0,0,0,0,0,0,0,0,0,0,0,0,0,0,0,0]
[null,null,null,null,null,null,null,null,null,null,null,null,null,null,null,null,null,null,null,null,null,null,null,null,null,null,null,null,null,null,null,null,null,null,null,null,null,null,null,null,null,null,null,null,null,null,null,null,null,null,null,null,null,"9.2 Due to loan taken from Money Lenders/ Non-Financial Institutions",0,0,0,0,0,0,0,0,0,0,0,0,0,0,0,0,0,0,0,0,0,0]
[null,null,null,null,null,null,null,null,null,null,null,null,null,null,null,null,null,null,null,null,null,null,null,null,null,null,null,null,null,null,null,null,null,null,null,null,null,null,null,null,null,null,null,null,null,null,null,null,null,null,null,null,null,{"$f":"C34","v":"9.3 Due to loan taken from both Financial Institutions as well as Money Lenders/Non-Financial Institutions"},{"$f":"D34","v":0},{"$f":"E34","v":0},{"$f":"F34","v":0},{"$f":"G34","v":0},{"$f":"H34","v":0},{"$f":"I34","v":0},{"$f":"J34","v":0},{"$f":"K34","v":0},{"$f":"L34","v":0},{"$f":"M34","v":0},{"$f":"N34","v":0},{"$f":"O34","v":0},{"$f":"P34","v":0},{"$f":"Q34","v":0},{"$f":"R34","v":0},{"$f":"S34","v":0},{"$f":"T34","v":0},{"$f":"U34","v":0},{"$f":"V34","v":0},{"$f":"W34","v":0},{"$f":"X34","v":0},{"$f":"Y34","v":0}]
[null,null,null,null,null,null,null,null,null,null,null,null,null,null,null,null,null,null,null,null,null,null,null,null,null,null,null,null,null,null,null,null,null,null,null,null,null,null,null,null,null,null,null,null,null,null,null,null,null,null,null,null,{"$f":"B35","v":10},{"$f":"C35","v":"Causes not known"},{"$f":"D35","v":0},{"$f":"E35","v":0},{"$f":"F35","v":0},{"$f":"G35","v":0},{"$f":"H35","v":0},{"$f":"I35","v":0},{"$f":"J35","v":0},{"$f":"K35","v":0},{"$f":"L35","v":0},{"$f":"M35","v":0},{"$f":"N35","v":0},{"$f":"O35","v":0},{"$f":"P35","v":0},{"$f":"Q35","v":0},{"$f":"R35","v":0},{"$f":"S35","v":0},{"$f":"T35","v":0},{"$f":"U35","v":0},{"$f":"V35","v":0},{"$f":"W35","v":0},{"$f":"X35","v":0},{"$f":"Y35","v":0}]
[null,null,null,null,null,null,null,null,null,null,null,null,null,null,null,null,null,null,null,null,null,null,null,null,null,null,null,null,null,null,null,null,null,null,null,null,null,null,null,null,null,null,null,null,null,null,null,null,null,null,null,null,{"$f":"B36","v":11},"Other causes",0,0,0,0,0,0,0,0,0,0,0,0,0,0,0,0,0,0,0,0,0,0]
[null,null,null,null,null,null,null,null,null,null,null,null,null,null,null,null,null,null,null,null,null,null,null,null,null,null,null,null,null,null,null,null,null,null,null,null,null,null,null,null,null,null,null,null,null,null,null,null,null,null,null,null,{"$f":"B37","v":12},"Total (sum of Sl. 1 to 11)",0,0,0,0,0,0,0,0,0,0,0,0,0,0,0,0,0,0,0,0,0,0]
[null,null,null,null,null,null,null,null,null,null,null,null,null,null,null,null,null,null,null,null,null,null,null,null,null,null,null,null,null,null,null,null,null,null,null,null,null,null,null,null,null,null,null,null,null,null,null,null,null,null,null,null,{"$f":"A38","v":"PROFORMA–XV VALUES [Sl.-6.1 Farmers/Cultivators (Sub-Total)]"},null,0,0,0,0,0,0,0,0,0,0,0,0,0,0,0,0,0,0,0,0,0,0]
[null,null,null,null,null,null,null,null,null,null,null,null,null,null,null,null,null,null,null,null,null,null,null,null,null,null,null,null,null,null,null,null,null,null,null,null,null,null,null,null,null,null,null,null,null,null,null,null,null,null,null,null,"VALIDATION  WITH PROFORMA–XV [Sl.-6.1 Farmers/Cultivators (Sub-Total)]",null,"","","","","","","","","","","","","","","","","","","","","",""]
[null,null,null,null,null,null,null,null,null,null,null,null,null,null,null,null,null,null,null,null,null,null,null,null,null,null,null,null,null,null,null,null,null,null,null,null,null,null,null,null,null,null,null,null,null,null,null,null,null,null,null,null," PROFORMA–XIV VALUES [Sl.–21 (Total)]",null,1,3,55,88,57,28,232,1,7,26,16,14,6,70,0,0,0,0,0,0,0,302]
[null,null,null,null,null,null,null,null,null,null,null,null,null,null,null,null,null,null,null,null,null,null,null,null,null,null,null,null,null,null,null,null,null,null,null,null,null,null,null,null,null,null,null,null,null,null,null,null,null,null,null,null,"VALIDATION  WITH  PROFORMA–XIV [Sl.–21 (Total)]",null,{"$f":"D41","v":""},{"$f":"E41","v":""},{"$f":"F41","v":""},{"$f":"G41","v":""},{"$f":"H41","v":""},{"$f":"I41","v":""},{"$f":"J41","v":""},{"$f":"K41","v":""},{"$f":"L41","v":""},{"$f":"M41","v":""},{"$f":"N41","v":""},{"$f":"O41","v":""},{"$f":"P41","v":""},{"$f":"Q41","v":""},{"$f":"R41","v":""},{"$f":"S41","v":""},{"$f":"T41","v":""},{"$f":"U41","v":""},{"$f":"V41","v":""},{"$f":"W41","v":""},{"$f":"X41","v":""},{"$f":"Y41","v":""}]
[null,null,null,null,null,null,null,null,null,null,null,null,null,null,null,null,null,null,null,null,null,null,null,null,null,null,null,null,null,null,null,null,null,null,null,null,null,null,null,null,null,null,null,null,null,null,null,null,null,null,null,null,"SL-10 ABNORMAL VARIATION IN \"CAUSES NOT KNOWN\" DATA",null,{"$f":"D42","v":""},"","","","","","","","","","","",{"$f":"P42","v":""},"","","","","","",{"$f":"W42","v":""},"",""]
[null,null,null,null,null,null,null,null,null,null,null,null,null,null,null,null,null,null,null,null,null,null,null,null,null,null,null,null,null,null,null,null,null,null,null,null,null,null,null,null,null,null,null,null,null,null,null,null,null,null,null,null,"SL-11 ABNORMAL VARIATION IN \"OTHER CAUSES\" DATA",null,{"$f":"D43","v":""},"","","","","","","","","","","","","","","","","","","","",""]
[]
[]
[]
[]
[]
[]
[]
[]
[]
[]
[]
[]
[]
[]
[]
[]
[]
[]
[]
[]
[]
[]
[]
[]
[]
[]
[]
[]
[]
[]
[]
[]
[]
[]
[]
[]
[]
[]
[]
[]
[]
[]
[]
[]
[]
[]
[]
[]
[]
[]
[]
[]
[]
[]
[]
[]
[]
[]
[]
[]
[]
[]
[]
[]
[]
[]
[]
[]
[]
[]
[]
[]
[]
[]
[]
[]
[]
[]
[]
[]
[]
[]
[]
[]
[]
[]
[]
[]
[]
[]
[]
[]
[]
[]
[]
[]
[]
[]
[]
[]
[]
[]
[]
[]
[]
[]
[]
[]
[]
[]
[]
[]
[]
[]
[]
[]
[]
[]
[]
[]
[]
[]
[]
[]
[]
[]
[]
[]
[]
[]
[]
[]
[]
[]
[]
[]
[]
[]
[]
[]
[]
[]
[]
[]
[]
[]
[]
[]
[]
[]
[]
[]
[]
[]
[]
[]
[]
[]
[]
[]
[]
[]
[]
[]
[]
[]
[]
[]
[]
[]
[]
[]
[]
[]
[]
[]
[]
[]
[]
[]
[]
[]
[]
[]
[]
[]
[]
[]
[]
[]
[]
[]
[]
[]
[]
[]
[]
[]
[]
[]
[]
[]
[]
[]
[]
[]
[]
[]
[]
[]
[]
[]
[]
[]
[]
[]
[]
[]
[]
[]
[]
[]
[]
[]
[]
[]
[]
[]
[]
[]
[]
[]
[]
[]
[]
[]
[]
[]
[]
[]
[]
[]
[]
[]
[]
[]
[]
[]
[]
[]
[]
[]
[]
[]
[]
[]
[]
["StateUTCityCode","DistrictCode","CrimeCode","DataYear","Male_below 14 years","Male_14 and above – below 18 years","Male_18 and above – below 30 years","Male_30 and above – below 45 years","Male_45 and above – below 60 years","Male_60 years & above","Male_Total","Female_below 14 years","Female_14 and above – below 18 years","Female_18 and above – below 30 years","Female_30 and above – below 45 years","Female_45 and above – below 60 years","Female_60 years & above","Female_Total","Trans_below 14 years","Trans_14 and above – below 18 years","Trans_18 and above – below 30 years","Trans_30 and above – below 45 years","Trans_45 and above – below 60 years","Trans_60 years & above","Trans_Total","Grand Total"]
[{"$f":"IF(ADSI!$G$12=\"\",ADSI!$H$16,ADSI!$H$12)","v":6},{"$f":"IF(ADSI!$G$12=\"\",ADSI!$H$16,ADSI!$H$14)","v":""},{"$f":"A9","v":975},{"$f":"ADSI!$K$12","v":2022},{"$f":"D9","v":0},0,0,0,0,0,0,0,0,0,0,0,0,0,0,0,0,0,0,0,0,0]
[{"$f":"IF(ADSI!$G$12=\"\",ADSI!$H$16,ADSI!$H$12)","v":6},{"$f":"IF(ADSI!$G$12=\"\",ADSI!$H$16,ADSI!$H$14)","v":""},976,{"$f":"ADSI!$K$12","v":2022},{"$f":"D10","v":0},0,0,0,0,0,0,0,0,0,0,0,0,0,0,0,0,0,0,0,0,0]
[{"$f":"IF(ADSI!$G$12=\"\",ADSI!$H$16,ADSI!$H$12)","v":6},{"$f":"IF(ADSI!$G$12=\"\",ADSI!$H$16,ADSI!$H$14)","v":""},977,{"$f":"ADSI!$K$12","v":2022},{"$f":"D11","v":0},0,0,0,0,0,0,0,0,0,0,0,0,0,0,0,0,0,0,0,0,0]
[{"$f":"IF(ADSI!$G$12=\"\",ADSI!$H$16,ADSI!$H$12)","v":6},{"$f":"IF(ADSI!$G$12=\"\",ADSI!$H$16,ADSI!$H$14)","v":""},978,{"$f":"ADSI!$K$12","v":2022},{"$f":"D12","v":0},0,0,0,0,0,0,0,0,0,0,0,0,0,0,0,0,0,0,0,0,0]
[{"$f":"IF(ADSI!$G$12=\"\",ADSI!$H$16,ADSI!$H$12)","v":6},{"$f":"IF(ADSI!$G$12=\"\",ADSI!$H$16,ADSI!$H$14)","v":""},979,{"$f":"ADSI!$K$12","v":2022},{"$f":"D13","v":0},0,0,0,0,0,0,0,0,0,0,0,0,0,0,0,0,0,0,0,0,0]
[{"$f":"IF(ADSI!$G$12=\"\",ADSI!$H$16,ADSI!$H$12)","v":6},{"$f":"IF(ADSI!$G$12=\"\",ADSI!$H$16,ADSI!$H$14)","v":""},980,{"$f":"ADSI!$K$12","v":2022},{"$f":"D14","v":0},0,0,0,0,0,0,0,0,0,0,0,0,0,0,0,0,0,0,0,0,0]
[{"$f":"IF(ADSI!$G$12=\"\",ADSI!$H$16,ADSI!$H$12)","v":6},{"$f":"IF(ADSI!$G$12=\"\",ADSI!$H$16,ADSI!$H$14)","v":""},981,{"$f":"ADSI!$K$12","v":2022},{"$f":"D15","v":0},0,0,0,0,0,0,0,0,0,0,0,0,0,0,0,0,0,0,0,0,0]
[{"$f":"IF(ADSI!$G$12=\"\",ADSI!$H$16,ADSI!$H$12)","v":6},{"$f":"IF(ADSI!$G$12=\"\",ADSI!$H$16,ADSI!$H$14)","v":""},982,{"$f":"ADSI!$K$12","v":2022},{"$f":"D16","v":0},0,0,0,0,0,0,0,0,0,0,0,0,0,0,0,0,0,0,0,0,0]
[{"$f":"IF(ADSI!$G$12=\"\",ADSI!$H$16,ADSI!$H$12)","v":6},{"$f":"IF(ADSI!$G$12=\"\",ADSI!$H$16,ADSI!$H$14)","v":""},983,{"$f":"ADSI!$K$12","v":2022},{"$f":"D17","v":0},0,0,0,0,0,0,0,0,0,0,0,0,0,0,0,0,0,0,0,0,0]
[{"$f":"IF(ADSI!$G$12=\"\",ADSI!$H$16,ADSI!$H$12)","v":6},{"$f":"IF(ADSI!$G$12=\"\",ADSI!$H$16,ADSI!$H$14)","v":""},984,{"$f":"ADSI!$K$12","v":2022},{"$f":"D18","v":0},0,0,0,0,0,0,0,0,0,0,0,0,0,0,0,0,0,0,0,0,0]
[{"$f":"IF(ADSI!$G$12=\"\",ADSI!$H$16,ADSI!$H$12)","v":6},{"$f":"IF(ADSI!$G$12=\"\",ADSI!$H$16,ADSI!$H$14)","v":""},985,{"$f":"ADSI!$K$12","v":2022},{"$f":"D19","v":0},0,0,0,0,0,0,0,0,0,0,0,0,0,0,0,0,0,0,0,0,0]
[{"$f":"IF(ADSI!$G$12=\"\",ADSI!$H$16,ADSI!$H$12)","v":6},{"$f":"IF(ADSI!$G$12=\"\",ADSI!$H$16,ADSI!$H$14)","v":""},986,{"$f":"ADSI!$K$12","v":2022},{"$f":"D20","v":0},0,0,0,0,0,0,0,0,0,0,0,0,0,0,0,0,0,0,0,0,0]
[{"$f":"IF(ADSI!$G$12=\"\",ADSI!$H$16,ADSI!$H$12)","v":6},{"$f":"IF(ADSI!$G$12=\"\",ADSI!$H$16,ADSI!$H$14)","v":""},987,{"$f":"ADSI!$K$12","v":2022},{"$f":"D21","v":0},0,0,0,0,0,0,0,0,0,0,0,0,0,0,0,0,0,0,0,0,0]
[{"$f":"IF(ADSI!$G$12=\"\",ADSI!$H$16,ADSI!$H$12)","v":6},{"$f":"IF(ADSI!$G$12=\"\",ADSI!$H$16,ADSI!$H$14)","v":""},988,{"$f":"ADSI!$K$12","v":2022},{"$f":"D22","v":0},0,0,0,0,0,0,0,0,0,0,0,0,0,0,0,0,0,0,0,0,0]
[{"$f":"IF(ADSI!$G$12=\"\",ADSI!$H$16,ADSI!$H$12)","v":6},{"$f":"IF(ADSI!$G$12=\"\",ADSI!$H$16,ADSI!$H$14)","v":""},989,{"$f":"ADSI!$K$12","v":2022},{"$f":"D23","v":0},0,0,0,0,0,0,0,0,0,0,0,0,0,0,0,0,0,0,0,0,0]
[{"$f":"IF(ADSI!$G$12=\"\",ADSI!$H$16,ADSI!$H$12)","v":6},{"$f":"IF(ADSI!$G$12=\"\",ADSI!$H$16,ADSI!$H$14)","v":""},990,{"$f":"ADSI!$K$12","v":2022},{"$f":"D24","v":0},0,0,0,0,0,0,0,0,0,0,0,0,0,0,0,0,0,0,0,0,0]
[{"$f":"IF(ADSI!$G$12=\"\",ADSI!$H$16,ADSI!$H$12)","v":6},{"$f":"IF(ADSI!$G$12=\"\",ADSI!$H$16,ADSI!$H$14)","v":""},991,{"$f":"ADSI!$K$12","v":2022},{"$f":"D25","v":0},0,0,0,0,0,0,0,0,0,0,0,0,0,0,0,0,0,0,0,0,0]
[{"$f":"IF(ADSI!$G$12=\"\",ADSI!$H$16,ADSI!$H$12)","v":6},{"$f":"IF(ADSI!$G$12=\"\",ADSI!$H$16,ADSI!$H$14)","v":""},992,{"$f":"ADSI!$K$12","v":2022},{"$f":"D26","v":0},0,0,0,0,0,0,0,0,0,0,0,0,0,0,0,0,0,0,0,0,0]
[{"$f":"IF(ADSI!$G$12=\"\",ADSI!$H$16,ADSI!$H$12)","v":6},{"$f":"IF(ADSI!$G$12=\"\",ADSI!$H$16,ADSI!$H$14)","v":""},993,{"$f":"ADSI!$K$12","v":2022},{"$f":"D27","v":0},0,0,0,0,0,0,0,0,0,0,0,0,0,0,0,0,0,0,0,0,0]
[{"$f":"IF(ADSI!$G$12=\"\",ADSI!$H$16,ADSI!$H$12)","v":6},{"$f":"IF(ADSI!$G$12=\"\",ADSI!$H$16,ADSI!$H$14)","v":""},994,{"$f":"ADSI!$K$12","v":2022},{"$f":"D28","v":0},0,0,0,0,0,0,0,0,0,0,0,0,0,0,0,0,0,0,0,0,0]
[{"$f":"IF(ADSI!$G$12=\"\",ADSI!$H$16,ADSI!$H$12)","v":6},{"$f":"IF(ADSI!$G$12=\"\",ADSI!$H$16,ADSI!$H$14)","v":""},995,{"$f":"ADSI!$K$12","v":2022},{"$f":"D29","v":0},0,0,0,0,0,0,0,0,0,0,0,0,0,0,0,0,0,0,0,0,0]
[{"$f":"IF(ADSI!$G$12=\"\",ADSI!$H$16,ADSI!$H$12)","v":6},{"$f":"IF(ADSI!$G$12=\"\",ADSI!$H$16,ADSI!$H$14)","v":""},996,{"$f":"ADSI!$K$12","v":2022},{"$f":"D30","v":0},0,0,0,0,0,0,0,0,0,0,0,0,0,0,0,0,0,0,0,0,0]
[{"$f":"IF(ADSI!$G$12=\"\",ADSI!$H$16,ADSI!$H$12)","v":6},{"$f":"IF(ADSI!$G$12=\"\",ADSI!$H$16,ADSI!$H$14)","v":""},997,{"$f":"ADSI!$K$12","v":2022},{"$f":"D31","v":0},0,0,0,0,0,0,0,0,0,0,0,0,0,0,0,0,0,0,0,0,0]
[{"$f":"IF(ADSI!$G$12=\"\",ADSI!$H$16,ADSI!$H$12)","v":6},{"$f":"IF(ADSI!$G$12=\"\",ADSI!$H$16,ADSI!$H$14)","v":""},998,{"$f":"ADSI!$K$12","v":2022},{"$f":"D32","v":0},0,0,0,0,0,0,0,0,0,0,0,0,0,0,0,0,0,0,0,0,0]
[{"$f":"IF(ADSI!$G$12=\"\",ADSI!$H$16,ADSI!$H$12)","v":6},{"$f":"IF(ADSI!$G$12=\"\",ADSI!$H$16,ADSI!$H$14)","v":""},999,{"$f":"ADSI!$K$12","v":2022},{"$f":"D33","v":0},0,0,0,0,0,0,0,0,0,0,0,0,0,0,0,0,0,0,0,0,0]
[{"$f":"IF(ADSI!$G$12=\"\",ADSI!$H$16,ADSI!$H$12)","v":6},{"$f":"IF(ADSI!$G$12=\"\",ADSI!$H$16,ADSI!$H$14)","v":""},{"$f":"A34","v":1000},{"$f":"ADSI!$K$12","v":2022},{"$f":"D34","v":0},{"$f":"E34","v":0},{"$f":"F34","v":0},{"$f":"G34","v":0},{"$f":"H34","v":0},{"$f":"I34","v":0},{"$f":"J34","v":0},{"$f":"K34","v":0},{"$f":"L34","v":0},{"$f":"M34","v":0},{"$f":"N34","v":0},{"$f":"O34","v":0},{"$f":"P34","v":0},{"$f":"Q34","v":0},{"$f":"R34","v":0},{"$f":"S34","v":0},{"$f":"T34","v":0},{"$f":"U34","v":0},{"$f":"V34","v":0},{"$f":"W34","v":0},{"$f":"X34","v":0},{"$f":"Y34","v":0}]
[{"$f":"IF(ADSI!$G$12=\"\",ADSI!$H$16,ADSI!$H$12)","v":6},{"$f":"IF(ADSI!$G$12=\"\",ADSI!$H$16,ADSI!$H$14)","v":""},1001,{"$f":"ADSI!$K$12","v":2022},0,0,0,0,0,0,0,0,0,0,0,0,0,0,0,0,0,0,0,0,0,0]
[{"$f":"IF(ADSI!$G$12=\"\",ADSI!$H$16,ADSI!$H$12)","v":6},{"$f":"IF(ADSI!$G$12=\"\",ADSI!$H$16,ADSI!$H$14)","v":""},1002,{"$f":"ADSI!$K$12","v":2022},0,0,0,0,0,0,0,0,0,0,0,0,0,0,0,0,0,0,0,0,0,0]
[{"$f":"IF(ADSI!$G$12=\"\",ADSI!$H$16,ADSI!$H$12)","v":6},{"$f":"IF(ADSI!$G$12=\"\",ADSI!$H$16,ADSI!$H$14)","v":""},1020,{"$f":"ADSI!$K$12","v":2022},0,0,0,0,0,0,0,0,0,0,0,0,0,0,0,0,0,0,0,0,0,0]

{"sheet":"P-XIX-A","index":22,"n_rows":514,"n_cols":76,"rows_kept":514,"cut":false,"hidden":false,"merged":[[4,0,6,0],[4,1,6,1],[4,2,6,2],[4,3,4,23],[4,24,6,24],[5,3,5,9],[5,10,5,16],[5,17,5,23],[22,0,22,2],[23,0,23,2],[24,0,24,2],[25,0,25,2],[203,52,205,52],[26,0,26,2],[27,0,27,2],[224,52,224,53],[225,52,225,53],[226,52,226,53],[203,68,203,74],[203,75,205,75],[204,54,204,60],[204,61,204,67],[204,68,204,74],[203,54,203,67],[203,53,205,53],[221,52,221,53],[222,52,222,53],[223,52,223,53]]}
[{"$f":"ADSI!$B$1","v":"Goa, , ADSI-2022"}]
["Errors",null,{"$f":"COUNTIF(D24:Y24,FALSE)+COUNTIF(D26:Y26,FALSE)","v":0},null,"Abnormal Variations",{"$f":"COUNTIF(D27:Y28,\"ABVAR\")","v":0}]
[{"$f":"IF(ADSI!$L$10=1,LangMaster!A413,LangMaster!B413)","v":"Proforma-XIX(A)"}]
[{"$f":"IF(ADSI!$L$10=1,LangMaster!A414,LangMaster!B414)","v":"Cause-wise distribution of suicides committed by Agricultural Labourers"}]
[{"$f":"IF(ADSI!$L$10=1,LangMaster!A26,LangMaster!B26)","v":"Code"},{"$f":"IF(ADSI!$L$10=1,LangMaster!A27,LangMaster!B27)","v":"S.No."},{"$f":"IF(ADSI!$L$10=1,LangMaster!A478,LangMaster!B478)","v":"Causes"},{"$f":"IF(ADSI!$L$10=1,LangMaster!A268,LangMaster!B268)","v":"Number of Suicidal Deaths"},null,null,null,null,null,null,null,null,null,null,null,null,null,null,null,null,null,null,null,null,{"$f":"IF(ADSI!$L$10=1,LangMaster!A473,LangMaster!B473)","v":"Grand Total (9) + (16)+(23)"}]
[null,null,null,{"$f":"IF(ADSI!$L$10=1,LangMaster!A30,LangMaster!B30)","v":"Male"},null,null,null,null,null,null,{"$f":"IF(ADSI!$L$10=1,LangMaster!A31,LangMaster!B31)","v":"Female"},null,null,null,null,null,null,{"$f":"IF(ADSI!$L$10=1,LangMaster!A32,LangMaster!B32)","v":"Transgender"}]
[null,null,null,{"$f":"IF(ADSI!$L$10=1,LangMaster!A461,LangMaster!B461)","v":"below 14 years"},{"$f":"IF(ADSI!$L$10=1,LangMaster!A462,LangMaster!B462)","v":"14 and above – below 18 years"},{"$f":"IF(ADSI!$L$10=1,LangMaster!A463,LangMaster!B463)","v":"18 and above – below 30 years"},{"$f":"IF(ADSI!$L$10=1,LangMaster!A464,LangMaster!B464)","v":"30 and above – below 45 years"},{"$f":"IF(ADSI!$L$10=1,LangMaster!A465,LangMaster!B465)","v":"45 and above – below 60 years"},{"$f":"IF(ADSI!$L$10=1,LangMaster!A466,LangMaster!B466)","v":"60 years & above"},{"$f":"IF(ADSI!$L$10=1,LangMaster!A470,LangMaster!B470)","v":" Total [sum of (3) to (8)]"},{"$f":"IF(ADSI!$L$10=1,LangMaster!A461,LangMaster!B461)","v":"below 14 years"},{"$f":"IF(ADSI!$L$10=1,LangMaster!A462,LangMaster!B462)","v":"14 and above – below 18 years"},{"$f":"IF(ADSI!$L$10=1,LangMaster!A463,LangMaster!B463)","v":"18 and above – below 30 years"},{"$f":"IF(ADSI!$L$10=1,LangMaster!A464,LangMaster!B464)","v":"30 and above – below 45 years"},{"$f":"IF(ADSI!$L$10=1,LangMaster!A464,LangMaster!B464)","v":"30 and above – below 45 years"},{"$f":"IF(ADSI!$L$10=1,LangMaster!A466,LangMaster!B466)","v":"60 years & above"},{"$f":"IF(ADSI!$L$10=1,LangMaster!A471,LangMaster!B471)","v":"Total    [sum of (10) to (15)]"},{"$f":"IF(ADSI!$L$10=1,LangMaster!A461,LangMaster!B461)","v":"below 14 years"},{"$f":"IF(ADSI!$L$10=1,LangMaster!A462,LangMaster!B462)","v":"14 and above – below 18 years"},{"$f":"IF(ADSI!$L$10=1,LangMaster!A463,LangMaster!B463)","v":"18 and above – below 30 years"},{"$f":"IF(ADSI!$L$10=1,LangMaster!A464,LangMaster!B464)","v":"30 and above – below 45 years"},{"$f":"IF(ADSI!$L$10=1,LangMaster!A465,LangMaster!B465)","v":"45 and above – below 60 years"},{"$f":"IF(ADSI!$L$10=1,LangMaster!A466,LangMaster!B466)","v":"60 years & above"},{"$f":"IF(ADSI!$L$10=1,LangMaster!A472,LangMaster!B472)","v":"Total [sum of (17) to (22)]"}]
[null,"(1)","(2)","(3)","(4)","(5)","(6)","(7)","(8)","(9)","(10)","(11)","(12)","(13)","(14)","(15)","(16)","(17)","(18)","(19)","(20)","(21)","(22)","(23)","(24)"]
[1150,1,{"$f":"IF(ADSI!$L$10=1,LangMaster!A415,LangMaster!B415)","v":"Poverty"},0,0,0,0,0,0,{"$f":"SUM(D9:I9)","v":0},0,0,0,0,0,0,{"$f":"SUM(K9:P9)","v":0},0,0,0,0,0,0,{"$f":"SUM(R9:W9)","v":0},{"$f":"SUM(J9+Q9+X9)","v":0}]
[1151,2,{"$f":"IF(ADSI!$L$10=1,LangMaster!A416,LangMaster!B416)","v":"Property dispute"},0,0,0,0,0,0,{"$f":"SUM(D10:I10)","v":0},0,0,0,0,0,0,{"$f":"SUM(K10:P10)","v":0},0,0,0,0,0,0,{"$f":"SUM(R10:W10)","v":0},{"$f":"SUM(J10+Q10+X10)","v":0}]
[1152,3,{"$f":"IF(ADSI!$L$10=1,LangMaster!A417,LangMaster!B417)","v":"Marriage Related Issues (Dowry, Non settlement of marriage, divorce/extra-marital affairs etc.)"},0,0,0,0,0,0,0,0,0,0,0,0,0,0,0,0,0,0,0,0,0,0]
[1153,4,{"$f":"IF(ADSI!$L$10=1,LangMaster!A418,LangMaster!B418)","v":"Death of dear person"},0,0,0,0,0,0,0,0,0,0,0,0,0,0,0,0,0,0,0,0,0,0]
[1154,5,{"$f":"IF(ADSI!$L$10=1,LangMaster!A419,LangMaster!B419)","v":"Family problems"},0,0,0,0,0,0,0,0,0,0,0,0,0,0,0,0,0,0,0,0,0,0]
[1155,6,{"$f":"IF(ADSI!$L$10=1,LangMaster!A420,LangMaster!B420)","v":"Illness"},0,0,0,0,0,0,0,0,0,0,0,0,0,0,0,0,0,0,0,0,0,0]
[1156,7,{"$f":"IF(ADSI!$L$10=1,LangMaster!A421,LangMaster!B421)","v":"Drug abuse/Alcoholic addiction"},0,0,0,0,0,0,0,0,0,0,0,0,0,0,0,0,0,0,0,0,0,0]
[1157,8,{"$f":"IF(ADSI!$L$10=1,LangMaster!A422,LangMaster!B422)","v":"Fall in social reputation"},0,0,0,0,0,0,0,0,0,0,0,0,0,0,0,0,0,0,0,0,0,0]
[1158,9,{"$f":"IF(ADSI!$L$10=1,LangMaster!A423,LangMaster!B423)","v":"Bankruptcy or Indebtedness from Financial Institutions"},0,0,0,0,0,0,0,0,0,0,0,0,0,0,0,0,0,0,0,0,0,0]
[1159,10,{"$f":"IF(ADSI!$L$10=1,LangMaster!A424,LangMaster!B424)","v":"Bankruptcy or Indebtedness from  Non-Financial Institutions/Money Lenders"},0,0,0,0,0,0,0,0,0,0,0,0,0,0,0,0,0,0,0,0,0,0]
[1160,11,{"$f":"IF(ADSI!$L$10=1,LangMaster!A425,LangMaster!B425)","v":"Physical Abuse (rape etc.)"},0,0,0,0,0,0,0,0,0,0,0,0,0,0,0,0,0,0,0,0,0,0]
[1161,12,{"$f":"IF(ADSI!$L$10=1,LangMaster!A426,LangMaster!B426)","v":"Causes not known"},0,0,0,0,0,0,0,0,0,0,0,0,0,0,0,0,0,0,0,0,0,0]
[1162,13,{"$f":"IF(ADSI!$L$10=1,LangMaster!A427,LangMaster!B427)","v":"Other causes"},0,0,0,0,0,0,0,0,0,0,0,0,0,0,0,0,0,0,0,0,0,0]
[1175,14,{"$f":"IF(ADSI!$L$10=1,LangMaster!A428,LangMaster!B428)","v":"Total (sum of Sl. 1 to 13)"},{"$f":"SUM(D9:D21)","v":0},{"$f":"SUM(E9:E21)","v":0},0,0,0,0,{"$f":"SUM(D22:I22)","v":0},0,{"$f":"SUM(L9:L21)","v":0},{"$f":"SUM(M9:M21)","v":0},{"$f":"SUM(N9:N21)","v":0},{"$f":"SUM(O9:O21)","v":0},{"$f":"SUM(P9:P21)","v":0},{"$f":"SUM(K22:P22)","v":0},0,{"$f":"SUM(S9:S21)","v":0},{"$f":"SUM(T9:T21)","v":0},{"$f":"SUM(U9:U21)","v":0},{"$f":"SUM(V9:V21)","v":0},{"$f":"SUM(W9:W21)","v":0},{"$f":"SUM(R22:W22)","v":0},0]
["PROFORMA–XV VALUES [6.2 Agricultural labourers]",null,null,{"$f":"'P-XV'!E29","v":0},{"$f":"'P-XV'!F29","v":0},{"$f":"'P-XV'!G29","v":0},{"$f":"'P-XV'!H29","v":0},{"$f":"'P-XV'!I29","v":0},{"$f":"'P-XV'!J29","v":0},{"$f":"'P-XV'!K29","v":0},{"$f":"'P-XV'!L29","v":0},{"$f":"'P-XV'!M29","v":0},{"$f":"'P-XV'!N29","v":0},{"$f":"'P-XV'!O29","v":0},{"$f":"'P-XV'!P29","v":0},{"$f":"'P-XV'!Q29","v":0},{"$f":"'P-XV'!R29","v":0},{"$f":"'P-XV'!S29","v":0},{"$f":"'P-XV'!T29","v":0},{"$f":"'P-XV'!U29","v":0},{"$f":"'P-XV'!V29","v":0},{"$f":"'P-XV'!W29","v":0},{"$f":"'P-XV'!X29","v":0},{"$f":"'P-XV'!Y29","v":0},{"$f":"'P-XV'!Z29","v":0}]
["VALIDATION  WITH PROFORMA–XV [6.2 Agricultural labourers]",null,null,{"$f":"IF(D22='P-XV'!E29,\"\",FALSE)","v":""},{"$f":"IF(E22='P-XV'!F29,\"\",FALSE)","v":""},{"$f":"IF(F22='P-XV'!G29,\"\",FALSE)","v":""},{"$f":"IF(G22='P-XV'!H29,\"\",FALSE)","v":""},{"$f":"IF(H22='P-XV'!I29,\"\",FALSE)","v":""},{"$f":"IF(I22='P-XV'!J29,\"\",FALSE)","v":""},{"$f":"IF(J22='P-XV'!K29,\"\",FALSE)","v":""},{"$f":"IF(K22='P-XV'!L29,\"\",FALSE)","v":""},{"$f":"IF(L22='P-XV'!M29,\"\",FALSE)","v":""},{"$f":"IF(M22='P-XV'!N29,\"\",FALSE)","v":""},{"$f":"IF(N22='P-XV'!O29,\"\",FALSE)","v":""},{"$f":"IF(O22='P-XV'!P29,\"\",FALSE)","v":""},{"$f":"IF(P22='P-XV'!Q29,\"\",FALSE)","v":""},{"$f":"IF(Q22='P-XV'!R29,\"\",FALSE)","v":""},{"$f":"IF(R22='P-XV'!S29,\"\",FALSE)","v":""},{"$f":"IF(S22='P-XV'!T29,\"\",FALSE)","v":""},{"$f":"IF(T22='P-XV'!U29,\"\",FALSE)","v":""},{"$f":"IF(U22='P-XV'!V29,\"\",FALSE)","v":""},{"$f":"IF(V22='P-XV'!W29,\"\",FALSE)","v":""},{"$f":"IF(W22='P-XV'!X29,\"\",FALSE)","v":""},{"$f":"IF(X22='P-XV'!Y29,\"\",FALSE)","v":""},{"$f":"IF(Y22='P-XV'!Z29,\"\",FALSE)","v":""}]
[" PROFORMA–XIV VALUES [Sl.–21 (Total)]",null,null,{"$f":"'P-XIV'!D38","v":1},{"$f":"'P-XIV'!E38","v":3},{"$f":"'P-XIV'!F38","v":55},{"$f":"'P-XIV'!G38","v":88},{"$f":"'P-XIV'!H38","v":57},{"$f":"'P-XIV'!I38","v":28},{"$f":"'P-XIV'!J38","v":232},{"$f":"'P-XIV'!K38","v":1},{"$f":"'P-XIV'!L38","v":7},{"$f":"'P-XIV'!M38","v":26},{"$f":"'P-XIV'!N38","v":16},{"$f":"'P-XIV'!O38","v":14},{"$f":"'P-XIV'!P38","v":6},{"$f":"'P-XIV'!Q38","v":70},{"$f":"'P-XIV'!R38","v":0},{"$f":"'P-XIV'!S38","v":0},{"$f":"'P-XIV'!T38","v":0},{"$f":"'P-XIV'!U38","v":0},{"$f":"'P-XIV'!V38","v":0},{"$f":"'P-XIV'!W38","v":0},{"$f":"'P-XIV'!X38","v":0},{"$f":"'P-XIV'!Y38","v":302}]
["VALIDATION  WITH  PROFORMA–XIV [Sl.–21 (Total)]",null,null,{"$f":"IF(D22<='P-XIV'!D38,\"\",FALSE)","v":""},{"$f":"IF(E22<='P-XIV'!E38,\"\",FALSE)","v":""},{"$f":"IF(F22<='P-XIV'!F38,\"\",FALSE)","v":""},{"$f":"IF(G22<='P-XIV'!G38,\"\",FALSE)","v":""},{"$f":"IF(H22<='P-XIV'!H38,\"\",FALSE)","v":""},{"$f":"IF(I22<='P-XIV'!I38,\"\",FALSE)","v":""},{"$f":"IF(J22<='P-XIV'!J38,\"\",FALSE)","v":""},{"$f":"IF(K22<='P-XIV'!K38,\"\",FALSE)","v":""},{"$f":"IF(L22<='P-XIV'!L38,\"\",FALSE)","v":""},{"$f":"IF(M22<='P-XIV'!M38,\"\",FALSE)","v":""},{"$f":"IF(N22<='P-XIV'!N38,\"\",FALSE)","v":""},{"$f":"IF(O22<='P-XIV'!O38,\"\",FALSE)","v":""},{"$f":"IF(P22<='P-XIV'!P38,\"\",FALSE)","v":""},{"$f":"IF(Q22<='P-XIV'!Q38,\"\",FALSE)","v":""},{"$f":"IF(R22<='P-XIV'!R38,\"\",FALSE)","v":""},{"$f":"IF(S22<='P-XIV'!S38,\"\",FALSE)","v":""},{"$f":"IF(T22<='P-XIV'!T38,\"\",FALSE)","v":""},{"$f":"IF(U22<='P-XIV'!U38,\"\",FALSE)","v":""},{"$f":"IF(V22<='P-XIV'!V38,\"\",FALSE)","v":""},{"$f":"IF(W22<='P-XIV'!W38,\"\",FALSE)","v":""},{"$f":"IF(X22<='P-XIV'!X38,\"\",FALSE)","v":""},{"$f":"IF(Y22<='P-XIV'!Y38,\"\",FALSE)","v":""}]
["SL-12 ABNORMAL VARIATION IN \"CAUSES NOT KNOWN\" DATA",null,null,{"$f":"IF(D22>0,IF((D20/D22*100)>10,\"ABVAR\",\"\"),\"\")","v":""},{"$f":"IF(E22>0,IF((E20/E22*100)>10,\"ABVAR\",\"\"),\"\")","v":""},"","","","","","","","","","","","","","","","","","","",""]
["SL-13 ABNORMAL VARIATION IN \"OTHER CAUSES\" DATA",null,null,{"$f":"IF(D22>0,IF((D21/D22*100)>10,\"ABVAR\",\"\"),\"\")","v":""},{"$f":"IF(E22>0,IF((E21/E22*100)>10,\"ABVAR\",\"\"),\"\")","v":""},"","","","","","","","","","","","","","","","","","","",""]
[]
["Note: If causes of suicides is found as more than one, the most immediate cause of suicides should be considered."]
[]
[]
[]
[]
[]
[]
[]
[]
[]
[]
[]
[]
[]
[]
[]
[]
[]
[]
[]
[]
[]
[]
[]
[]
[]
[]
[]
[]
[]
[]
[]
[]
[]
[]
[]
[]
[]
[]
[]
[]
[]
[]
[]
[]
[]
[]
[]
[]
[]
[]
[]
[]
[]
[]
[]
[]
[]
[]
[]
[]
[]
[]
[]
[]
[]
[]
[]
[]
[]
[]
[]
[]
[]
[]
[]
[]
[]
[]
[]
[]
[]
[]
[]
[]
[]
[]
[]
[]
[]
[]
[]
[]
[]
[]
[]
[]
[]
[]
[]
[]
[]
[]
[]
[]
[]
[]
[]
[]
[]
[]
[]
[]
[]
[]
[]
[]
[]
[]
[]
[]
[]
[]
[]
[]
[]
[]
[]
[]
[]
[]
[]
[]
[]
[]
[]
[]
[]
[]
[]
[]
[]
[]
[]
[]
[]
[]
[]
[]
[]
[]
[]
[]
[]
[]
[]
[]
[]
[]
[]
[]
[]
[]
[]
[]
[]
[]
[]
[]
[]
[null,null,null,null,null,null,null,null,null,null,null,null,null,null,null,null,null,null,null,null,null,null,null,null,null,null,null,null,null,null,null,null,null,null,null,null,null,null,null,null,null,null,null,null,null,null,null,null,null,null,null,null,{"$f":"A1","v":"Goa, , ADSI-2022"}]
[null,null,null,null,null,null,null,null,null,null,null,null,null,null,null,null,null,null,null,null,null,null,null,null,null,null,null,null,null,null,null,null,null,null,null,null,null,null,null,null,null,null,null,null,null,null,null,null,null,null,null,null,{"$f":"A2","v":"Errors"},{"$f":"C2","v":0},null,{"$f":"E2","v":"Abnormal Variations"},{"$f":"F2","v":0}]
[null,null,null,null,null,null,null,null,null,null,null,null,null,null,null,null,null,null,null,null,null,null,null,null,null,null,null,null,null,null,null,null,null,null,null,null,null,null,null,null,null,null,null,null,null,null,null,null,null,null,null,null,{"$f":"A3","v":"Proforma-XIX(A)"}]
[null,null,null,null,null,null,null,null,null,null,null,null,null,null,null,null,null,null,null,null,null,null,null,null,null,null,null,null,null,null,null,null,null,null,null,null,null,null,null,null,null,null,null,null,null,null,null,null,null,null,null,null,{"$f":"A4","v":"Cause-wise distribution of suicides committed by Agricultural Labourers"}]
[null,null,null,null,null,null,null,null,null,null,null,null,null,null,null,null,null,null,null,null,null,null,null,null,null,null,null,null,null,null,null,null,null,null,null,null,null,null,null,null,null,null,null,null,null,null,null,null,null,null,null,null,{"$f":"B5","v":"S.No."},{"$f":"C5","v":"Causes"},{"$f":"D5","v":"Number of Suicidal Deaths"},null,null,null,null,null,null,null,null,null,null,null,null,null,"Number of Suicidal Deaths",null,null,null,null,null,null,{"$f":"Y5","v":"Grand Total (9) + (16)+(23)"}]
[null,null,null,null,null,null,null,null,null,null,null,null,null,null,null,null,null,null,null,null,null,null,null,null,null,null,null,null,null,null,null,null,null,null,null,null,null,null,null,null,null,null,null,null,null,null,null,null,null,null,null,null,null,null,{"$f":"D6","v":"Male"},null,null,null,null,null,null,{"$f":"K6","v":"Female"},null,null,null,null,null,null,{"$f":"R6","v":"Transgender"}]
[null,null,null,null,null,null,null,null,null,null,null,null,null,null,null,null,null,null,null,null,null,null,null,null,null,null,null,null,null,null,null,null,null,null,null,null,null,null,null,null,null,null,null,null,null,null,null,null,null,null,null,null,null,null,{"$f":"D7","v":"below 14 years"},{"$f":"E7","v":"14 and above – below 18 years"},"18 and above – below 30 years","30 and above – below 45 years","45 and above – below 60 years","60 years & above"," Total [sum of (3) to (8)]",{"$f":"K7","v":"below 14 years"},{"$f":"L7","v":"14 and above – below 18 years"},"18 and above – below 30 years","30 and above – below 45 years","30 and above – below 45 years","60 years & above","Total    [sum of (10) to (15)]",{"$f":"R7","v":"below 14 years"},{"$f":"S7","v":"14 and above – below 18 years"},"18 and above – below 30 years","30 and above – below 45 years","45 and above – below 60 years","60 years & above","Total [sum of (17) to (22)]"]
[null,null,null,null,null,null,null,null,null,null,null,null,null,null,null,null,null,null,null,null,null,null,null,null,null,null,null,null,null,null,null,null,null,null,null,null,null,null,null,null,null,null,null,null,null,null,null,null,null,null,null,null,{"$f":"B8","v":"(1)"},{"$f":"C8","v":"(2)"},{"$f":"D8","v":"(3)"},"(4)","(5)","(6)","(7)","(8)","(9)",{"$f":"K8","v":"(10)"},"(11)","(12)","(13)","(14)","(15)","(16)",{"$f":"R8","v":"(17)"},"(18)","(19)","(20)","(21)","(22)","(23)",{"$f":"Y8","v":"(24)"}]
[null,null,null,null,null,null,null,null,null,null,null,null,null,null,null,null,null,null,null,null,null,null,null,null,null,null,null,null,null,null,null,null,null,null,null,null,null,null,null,null,null,null,null,null,null,null,null,null,null,null,null,null,{"$f":"B9","v":1},{"$f":"C9","v":"Poverty"},0,0,0,0,0,0,0,0,0,0,0,0,0,0,0,0,0,0,0,0,0,0]
[null,null,null,null,null,null,null,null,null,null,null,null,null,null,null,null,null,null,null,null,null,null,null,null,null,null,null,null,null,null,null,null,null,null,null,null,null,null,null,null,null,null,null,null,null,null,null,null,null,null,null,null,{"$f":"B10","v":2},{"$f":"C10","v":"Property dispute"},{"$f":"D10","v":0},{"$f":"E10","v":0},{"$f":"F10","v":0},{"$f":"G10","v":0},{"$f":"H10","v":0},{"$f":"I10","v":0},{"$f":"J10","v":0},{"$f":"K10","v":0},{"$f":"L10","v":0},{"$f":"M10","v":0},{"$f":"N10","v":0},{"$f":"O10","v":0},{"$f":"P10","v":0},{"$f":"Q10","v":0},{"$f":"R10","v":0},{"$f":"S10","v":0},{"$f":"T10","v":0},{"$f":"U10","v":0},{"$f":"V10","v":0},{"$f":"W10","v":0},{"$f":"X10","v":0},{"$f":"Y10","v":0}]
[null,null,null,null,null,null,null,null,null,null,null,null,null,null,null,null,null,null,null,null,null,null,null,null,null,null,null,null,null,null,null,null,null,null,null,null,null,null,null,null,null,null,null,null,null,null,null,null,null,null,null,null,3,"Marriage Related Issues (Dowry, Non settlement of marriage, divorce/extra-marital affairs etc.)",0,0,0,0,0,0,0,0,0,0,0,0,0,0,0,0,0,0,0,0,0,0]
[null,null,null,null,null,null,null,null,null,null,null,null,null,null,null,null,null,null,null,null,null,null,null,null,null,null,null,null,null,null,null,null,null,null,null,null,null,null,null,null,null,null,null,null,null,null,null,null,null,null,null,null,4,"Death of dear person",0,0,0,0,0,0,0,0,0,0,0,0,0,0,0,0,0,0,0,0,0,0]
[null,null,null,null,null,null,null,null,null,null,null,null,null,null,null,null,null,null,null,null,null,null,null,null,null,null,null,null,null,null,null,null,null,null,null,null,null,null,null,null,null,null,null,null,null,null,null,null,null,null,null,null,5,"Family problems",0,0,0,0,0,0,0,0,0,0,0,0,0,0,0,0,0,0,0,0,0,0]
[null,null,null,null,null,null,null,null,null,null,null,null,null,null,null,null,null,null,null,null,null,null,null,null,null,null,null,null,null,null,null,null,null,null,null,null,null,null,null,null,null,null,null,null,null,null,null,null,null,null,null,null,6,"Illness",0,0,0,0,0,0,0,0,0,0,0,0,0,0,0,0,0,0,0,0,0,0]
[null,null,null,null,null,null,null,null,null,null,null,null,null,null,null,null,null,null,null,null,null,null,null,null,null,null,null,null,null,null,null,null,null,null,null,null,null,null,null,null,null,null,null,null,null,null,null,null,null,null,null,null,7,"Drug abuse/Alcoholic addiction",0,0,0,0,0,0,0,0,0,0,0,0,0,0,0,0,0,0,0,0,0,0]
[null,null,null,null,null,null,null,null,null,null,null,null,null,null,null,null,null,null,null,null,null,null,null,null,null,null,null,null,null,null,null,null,null,null,null,null,null,null,null,null,null,null,null,null,null,null,null,null,null,null,null,null,8,"Fall in social reputation",0,0,0,0,0,0,0,0,0,0,0,0,0,0,0,0,0,0,0,0,0,0]
[null,null,null,null,null,null,null,null,null,null,null,null,null,null,null,null,null,null,null,null,null,null,null,null,null,null,null,null,null,null,null,null,null,null,null,null,null,null,null,null,null,null,null,null,null,null,null,null,null,null,null,null,9,"Bankruptcy or Indebtedness from Financial Institutions",0,0,0,0,0,0,0,0,0,0,0,0,0,0,0,0,0,0,0,0,0,0]
[null,null,null,null,null,null,null,null,null,null,null,null,null,null,null,null,null,null,null,null,null,null,null,null,null,null,null,null,null,null,null,null,null,null,null,null,null,null,null,null,null,null,null,null,null,null,null,null,null,null,null,null,10,"Bankruptcy or Indebtedness from  Non-Financial Institutions/Money Lenders",0,0,0,0,0,0,0,0,0,0,0,0,0,0,0,0,0,0,0,0,0,0]
[null,null,null,null,null,null,null,null,null,null,null,null,null,null,null,null,null,null,null,null,null,null,null,null,null,null,null,null,null,null,null,null,null,null,null,null,null,null,null,null,null,null,null,null,null,null,null,null,null,null,null,null,11,"Physical Abuse (rape etc.)",0,0,0,0,0,0,0,0,0,0,0,0,0,0,0,0,0,0,0,0,0,0]
[null,null,null,null,null,null,null,null,null,null,null,null,null,null,null,null,null,null,null,null,null,null,null,null,null,null,null,null,null,null,null,null,null,null,null,null,null,null,null,null,null,null,null,null,null,null,null,null,null,null,null,null,{"$f":"B20","v":12},{"$f":"C20","v":"Causes not known"},{"$f":"D20","v":0},{"$f":"E20","v":0},{"$f":"F20","v":0},{"$f":"G20","v":0},{"$f":"H20","v":0},{"$f":"I20","v":0},{"$f":"J20","v":0},{"$f":"K20","v":0},{"$f":"L20","v":0},{"$f":"M20","v":0},{"$f":"N20","v":0},{"$f":"O20","v":0},{"$f":"P20","v":0},{"$f":"Q20","v":0},{"$f":"R20","v":0},{"$f":"S20","v":0},{"$f":"T20","v":0},{"$f":"U20","v":0},{"$f":"V20","v":0},{"$f":"W20","v":0},{"$f":"X20","v":0},{"$f":"Y20","v":0}]
[null,null,null,null,null,null,null,null,null,null,null,null,null,null,null,null,null,null,null,null,null,null,null,null,null,null,null,null,null,null,null,null,null,null,null,null,null,null,null,null,null,null,null,null,null,null,null,null,null,null,null,null,{"$f":"B21","v":13},"Other causes",0,0,0,0,0,0,0,0,0,0,0,0,0,0,0,0,0,0,0,0,0,0]
[null,null,null,null,null,null,null,null,null,null,null,null,null,null,null,null,null,null,null,null,null,null,null,null,null,null,null,null,null,null,null,null,null,null,null,null,null,null,null,null,null,null,null,null,null,null,null,null,null,null,null,null,{"$f":"B22","v":14},"Total (sum of Sl. 1 to 13)",0,0,0,0,0,0,0,0,0,0,0,0,0,0,0,0,0,0,0,0,0,0]
[null,null,null,null,null,null,null,null,null,null,null,null,null,null,null,null,null,null,null,null,null,null,null,null,null,null,null,null,null,null,null,null,null,null,null,null,null,null,null,null,null,null,null,null,null,null,null,null,null,null,null,null,{"$f":"A23","v":"PROFORMA–XV VALUES [6.2 Agricultural labourers]"},null,{"$f":"D23","v":0},0,0,0,0,0,0,0,0,0,0,0,0,0,0,0,0,0,0,0,0,0]
[null,null,null,null,null,null,null,null,null,null,null,null,null,null,null,null,null,null,null,null,null,null,null,null,null,null,null,null,null,null,null,null,null,null,null,null,null,null,null,null,null,null,null,null,null,null,null,null,null,null,null,null,{"$f":"A24","v":"VALIDATION  WITH PROFORMA–XV [6.2 Agricultural labourers]"},null,{"$f":"D24","v":""},"","","","","","","","","","","","","","","","","","","","",""]
[null,null,null,null,null,null,null,null,null,null,null,null,null,null,null,null,null,null,null,null,null,null,null,null,null,null,null,null,null,null,null,null,null,null,null,null,null,null,null,null,null,null,null,null,null,null,null,null,null,null,null,null," PROFORMA–XIV VALUES [Sl.–21 (Total)]",null,{"$f":"D25","v":1},3,55,88,57,28,232,1,7,26,16,14,6,70,0,0,0,0,0,0,0,302]
[null,null,null,null,null,null,null,null,null,null,null,null,null,null,null,null,null,null,null,null,null,null,null,null,null,null,null,null,null,null,null,null,null,null,null,null,null,null,null,null,null,null,null,null,null,null,null,null,null,null,null,null,"VALIDATION  WITH  PROFORMA–XIV [Sl.–21 (Total)]",null,{"$f":"D26","v":""},{"$f":"E26","v":""},{"$f":"F26","v":""},{"$f":"G26","v":""},{"$f":"H26","v":""},{"$f":"I26","v":""},{"$f":"J26","v":""},{"$f":"K26","v":""},{"$f":"L26","v":""},{"$f":"M26","v":""},{"$f":"N26","v":""},{"$f":"O26","v":""},{"$f":"P26","v":""},{"$f":"Q26","v":""},{"$f":"R26","v":""},{"$f":"S26","v":""},{"$f":"T26","v":""},{"$f":"U26","v":""},{"$f":"V26","v":""},{"$f":"W26","v":""},{"$f":"X26","v":""},{"$f":"Y26","v":""}]
[null,null,null,null,null,null,null,null,null,null,null,null,null,null,null,null,null,null,null,null,null,null,null,null,null,null,null,null,null,null,null,null,null,null,null,null,null,null,null,null,null,null,null,null,null,null,null,null,null,null,null,null,{"$f":"A27","v":"SL-12 ABNORMAL VARIATION IN \"CAUSES NOT KNOWN\" DATA"},null,"","","","","","","","","","","","","","","","","","","","","",""]
[null,null,null,null,null,null,null,null,null,null,null,null,null,null,null,null,null,null,null,null,null,null,null,null,null,null,null,null,null,null,null,null,null,null,null,null,null,null,null,null,null,null,null,null,null,null,null,null,null,null,null,null,{"$f":"A28","v":"SL-13 ABNORMAL VARIATION IN \"OTHER CAUSES\" DATA"},null,"","","","","","","","","","","","","","","","","","","","","",""]
[]
[]
[]
[]
[]
[]
[]
[]
[]
[]
[]
[]
[]
[]
[]
[]
[]
[]
[]
[]
[]
[]
[]
[]
[]
[]
[]
[]
[]
[]
[]
[]
[]
[]
[]
[]
[]
[]
[]
[]
[]
[]
[]
[]
[]
[]
[]
[]
[]
[]
[]
[]
[]
[]
[]
[]
[]
[]
[]
[]
[]
[]
[]
[]
[]
[]
[]
[]
[]
[]
[]
[]
[]
[]
[]
[]
[]
[]
[]
[]
[]
[]
[]
[]
[]
[]
[]
[]
[]
[]
[]
[]
[]
[]
[]
[]
[]
[]
[]
[]
[]
[]
[]
[]
[]
[]
[]
[]
[]
[]
[]
[]
[]
[]
[]
[]
[]
[]
[]
[]
[]
[]
[]
[]
[]
[]
[]
[]
[]
[]
[]
[]
[]
[]
[]
[]
[]
[]
[]
[]
[]
[]
[]
[]
[]
[]
[]
[]
[]
[]
[]
[]
[]
[]
[]
[]
[]
[]
[]
[]
[]
[]
[]
[]
[]
[]
[]
[]
[]
[]
[]
[]
[]
[]
[]
[]
[]
[]
[]
[]
[]
[]
[]
[]
[]
[]
[]
[]
[]
[]
[]
[]
[]
[]
[]
[]
[]
[]
[]
[]
[]
[]
[]
[]
[]
[]
[]
[]
[]
[]
[]
[]
[]
[]
[]
[]
[]
[]
[]
[]
[]
[]
[]
[]
[]
[]
[]
[]
[]
[]
[]
[]
[]
[]
[]
[]
[]
[]
[]
[]
[]
[]
[]
[]
[]
[]
[]
[]
[]
[]
[]
[]
[]
[]
[]
[]
[]
[]
[]
[]
[]
[]
[]
[]
[]
[]
[]
[]
[]
[]
[]
[]
["StateUTCityCode","DistrictCode","CrimeCode","DataYear","Male_below 14 years","Male_14 and above – below 18 years","Male_18 and above – below 30 years","Male_30 and above – below 45 years","Male_45 and above – below 60 years","Male_60 years & above","Male_Total","Female_below 14 years","Female_14 and above – below 18 years","Female_18 and above – below 30 years","Female_30 and above – below 45 years","Female_45 and above – below 60 years","Female_60 years & above","Female_Total","Trans_below 14 years","Trans_14 and above – below 18 years","Trans_18 and above – below 30 years","Trans_30 and above – below 45 years","Trans_45 and above – below 60 years","Trans_60 years & above","Trans_Total","Grand Total"]
[{"$f":"IF(ADSI!$G$12=\"\",ADSI!$H$16,ADSI!$H$12)","v":6},{"$f":"IF(ADSI!$G$12=\"\",ADSI!$H$16,ADSI!$H$14)","v":""},{"$f":"A9","v":1150},{"$f":"ADSI!$K$12","v":2022},{"$f":"D9","v":0},{"$f":"E9","v":0},0,0,0,0,0,0,0,0,0,0,0,0,0,0,0,0,0,0,0,0]
[{"$f":"IF(ADSI!$G$12=\"\",ADSI!$H$16,ADSI!$H$12)","v":6},{"$f":"IF(ADSI!$G$12=\"\",ADSI!$H$16,ADSI!$H$14)","v":""},1151,{"$f":"ADSI!$K$12","v":2022},{"$f":"D10","v":0},0,0,0,0,0,0,0,0,0,0,0,0,0,0,0,0,0,0,0,0,0]
[{"$f":"IF(ADSI!$G$12=\"\",ADSI!$H$16,ADSI!$H$12)","v":6},{"$f":"IF(ADSI!$G$12=\"\",ADSI!$H$16,ADSI!$H$14)","v":""},1152,{"$f":"ADSI!$K$12","v":2022},{"$f":"D11","v":0},0,0,0,0,0,0,0,0,0,0,0,0,0,0,0,0,0,0,0,0,0]
[{"$f":"IF(ADSI!$G$12=\"\",ADSI!$H$16,ADSI!$H$12)","v":6},{"$f":"IF(ADSI!$G$12=\"\",ADSI!$H$16,ADSI!$H$14)","v":""},1153,{"$f":"ADSI!$K$12","v":2022},{"$f":"D12","v":0},0,0,0,0,0,0,0,0,0,0,0,0,0,0,0,0,0,0,0,0,0]
[{"$f":"IF(ADSI!$G$12=\"\",ADSI!$H$16,ADSI!$H$12)","v":6},{"$f":"IF(ADSI!$G$12=\"\",ADSI!$H$16,ADSI!$H$14)","v":""},1154,{"$f":"ADSI!$K$12","v":2022},{"$f":"D13","v":0},0,0,0,0,0,0,0,0,0,0,0,0,0,0,0,0,0,0,0,0,0]
[{"$f":"IF(ADSI!$G$12=\"\",ADSI!$H$16,ADSI!$H$12)","v":6},{"$f":"IF(ADSI!$G$12=\"\",ADSI!$H$16,ADSI!$H$14)","v":""},1155,{"$f":"ADSI!$K$12","v":2022},{"$f":"D14","v":0},0,0,0,0,0,0,0,0,0,0,0,0,0,0,0,0,0,0,0,0,0]
[{"$f":"IF(ADSI!$G$12=\"\",ADSI!$H$16,ADSI!$H$12)","v":6},{"$f":"IF(ADSI!$G$12=\"\",ADSI!$H$16,ADSI!$H$14)","v":""},1156,{"$f":"ADSI!$K$12","v":2022},{"$f":"D15","v":0},0,0,0,0,0,0,0,0,0,0,0,0,0,0,0,0,0,0,0,0,0]
[{"$f":"IF(ADSI!$G$12=\"\",ADSI!$H$16,ADSI!$H$12)","v":6},{"$f":"IF(ADSI!$G$12=\"\",ADSI!$H$16,ADSI!$H$14)","v":""},1157,{"$f":"ADSI!$K$12","v":2022},{"$f":"D16","v":0},0,0,0,0,0,0,0,0,0,0,0,0,0,0,0,0,0,0,0,0,0]
[{"$f":"IF(ADSI!$G$12=\"\",ADSI!$H$16,ADSI!$H$12)","v":6},{"$f":"IF(ADSI!$G$12=\"\",ADSI!$H$16,ADSI!$H$14)","v":""},1158,{"$f":"ADSI!$K$12","v":2022},{"$f":"D17","v":0},0,0,0,0,0,0,0,0,0,0,0,0,0,0,0,0,0,0,0,0,0]
[{"$f":"IF(ADSI!$G$12=\"\",ADSI!$H$16,ADSI!$H$12)","v":6},{"$f":"IF(ADSI!$G$12=\"\",ADSI!$H$16,ADSI!$H$14)","v":""},1159,{"$f":"ADSI!$K$12","v":2022},{"$f":"D18","v":0},0,0,0,0,0,0,0,0,0,0,0,0,0,0,0,0,0,0,0,0,0]
[{"$f":"IF(ADSI!$G$12=\"\",ADSI!$H$16,ADSI!$H$12)","v":6},{"$f":"IF(ADSI!$G$12=\"\",ADSI!$H$16,ADSI!$H$14)","v":""},1160,{"$f":"ADSI!$K$12","v":2022},{"$f":"D19","v":0},0,0,0,0,0,0,0,0,0,0,0,0,0,0,0,0,0,0,0,0,0]
[{"$f":"IF(ADSI!$G$12=\"\",ADSI!$H$16,ADSI!$H$12)","v":6},{"$f":"IF(ADSI!$G$12=\"\",ADSI!$H$16,ADSI!$H$14)","v":""},1161,{"$f":"ADSI!$K$12","v":2022},{"$f":"D20","v":0},0,0,0,0,0,0,0,0,0,0,0,0,0,0,0,0,0,0,0,0,0]
[{"$f":"IF(ADSI!$G$12=\"\",ADSI!$H$16,ADSI!$H$12)","v":6},{"$f":"IF(ADSI!$G$12=\"\",ADSI!$H$16,ADSI!$H$14)","v":""},1162,{"$f":"ADSI!$K$12","v":2022},{"$f":"D21","v":0},0,0,0,0,0,0,0,0,0,0,0,0,0,0,0,0,0,0,0,0,0]
[{"$f":"IF(ADSI!$G$12=\"\",ADSI!$H$16,ADSI!$H$12)","v":6},{"$f":"IF(ADSI!$G$12=\"\",ADSI!$H$16,ADSI!$H$14)","v":""},1175,{"$f":"ADSI!$K$12","v":2022},{"$f":"D22","v":0},0,0,0,0,0,0,0,0,0,0,0,0,0,0,0,0,0,0,0,0,0]

{"sheet":"P-XX","index":23,"n_rows":510,"n_cols":82,"rows_kept":510,"cut":false,"hidden":false,"merged":[[21,0,21,2],[218,52,218,53],[219,52,219,53],[220,52,220,53],[217,54,217,77],[218,54,218,77],[219,54,219,77],[220,54,220,77],[217,52,217,53],[216,52,216,53],[4,0,6,0],[20,0,20,2],[20,3,20,26],[4,27,4,30],[4,23,4,26],[4,1,5,1],[4,2,5,2],[4,3,4,6],[4,7,4,10],[4,11,4,14],[4,15,4,18],[4,19,4,22],[19,0,19,2],[18,0,18,2],[17,0,17,2],[203,78,203,81],[203,62,203,65],[203,66,203,69],[203,70,203,73],[18,3,18,26],[19,3,19,26],[21,3,21,26],[203,52,204,52],[203,53,204,53],[203,54,203,57],[203,58,203,61],[203,74,203,77]]}
[{"$f":"ADSI!$B$1","v":"Goa, , ADSI-2022"}]
["Errors",null,{"$f":"COUNTIF(AB20:AE20,FALSE)+COUNTIF(AB22:AE22,FALSE)","v":0},null,"Abnormal Variations",{"$f":"COUNTIF(D18:AE18,\"ABVAR\")","v":0}]
[{"$f":"IF(ADSI!$L$10=1,LangMaster!A429,LangMaster!B429)","v":"Proforma-XX"}]
[{"$f":"IF(ADSI!$L$10=1,LangMaster!A430,LangMaster!B430)","v":"Educational Status-wise distribution of suicides committed by Farmers/Cultivators"}]
[{"$f":"IF(ADSI!$L$10=1,LangMaster!A26,LangMaster!B26)","v":"Code"},{"$f":"IF(ADSI!$L$10=1,LangMaster!A27,LangMaster!B27)","v":"S.No."},{"$f":"IF(ADSI!$L$10=1,LangMaster!A352,LangMaster!B352)","v":"Educational Status"},"Un-Married",null,null,null," Married",null,null,null," Widowed/Widower",null,null,null," Divorcee",null,null,null," Separated",null,null,null,"Status not known",null,null,null,"Grand Total"]
[null,null,null,{"$f":"IF(ADSI!$L$10=1,LangMaster!A450,LangMaster!B30)","v":"Medium  Farmers (sum of 3.1 & 3.2)"},{"$f":"IF(ADSI!$L$10=1,LangMaster!A31,LangMaster!B31)","v":"Female"},{"$f":"IF(ADSI!$L$10=1,LangMaster!A32,LangMaster!B32)","v":"Transgender"},{"$f":"IF(ADSI!$L$10=1,LangMaster!A33,LangMaster!B33)","v":"Total"},{"$f":"IF(ADSI!$L$10=1,LangMaster!A450,LangMaster!B30)","v":"Medium  Farmers (sum of 3.1 & 3.2)"},{"$f":"IF(ADSI!$L$10=1,LangMaster!A31,LangMaster!B31)","v":"Female"},{"$f":"IF(ADSI!$L$10=1,LangMaster!A32,LangMaster!B32)","v":"Transgender"},{"$f":"IF(ADSI!$L$10=1,LangMaster!A33,LangMaster!B33)","v":"Total"},{"$f":"IF(ADSI!$L$10=1,LangMaster!A450,LangMaster!B30)","v":"Medium  Farmers (sum of 3.1 & 3.2)"},{"$f":"IF(ADSI!$L$10=1,LangMaster!A31,LangMaster!B31)","v":"Female"},{"$f":"IF(ADSI!$L$10=1,LangMaster!A32,LangMaster!B32)","v":"Transgender"},{"$f":"IF(ADSI!$L$10=1,LangMaster!A33,LangMaster!B33)","v":"Total"},{"$f":"IF(ADSI!$L$10=1,LangMaster!A450,LangMaster!B30)","v":"Medium  Farmers (sum of 3.1 & 3.2)"},{"$f":"IF(ADSI!$L$10=1,LangMaster!A31,LangMaster!B31)","v":"Female"},{"$f":"IF(ADSI!$L$10=1,LangMaster!A32,LangMaster!B32)","v":"Transgender"},{"$f":"IF(ADSI!$L$10=1,LangMaster!A33,LangMaster!B33)","v":"Total"},{"$f":"IF(ADSI!$L$10=1,LangMaster!A450,LangMaster!B30)","v":"Medium  Farmers (sum of 3.1 & 3.2)"},{"$f":"IF(ADSI!$L$10=1,LangMaster!A31,LangMaster!B31)","v":"Female"},{"$f":"IF(ADSI!$L$10=1,LangMaster!A32,LangMaster!B32)","v":"Transgender"},{"$f":"IF(ADSI!$L$10=1,LangMaster!A33,LangMaster!B33)","v":"Total"},{"$f":"IF(ADSI!$L$10=1,LangMaster!A450,LangMaster!B30)","v":"Medium  Farmers (sum of 3.1 & 3.2)"},{"$f":"IF(ADSI!$L$10=1,LangMaster!A31,LangMaster!B31)","v":"Female"},{"$f":"IF(ADSI!$L$10=1,LangMaster!A32,LangMaster!B32)","v":"Transgender"},{"$f":"IF(ADSI!$L$10=1,LangMaster!A33,LangMaster!B33)","v":"Total"},{"$f":"IF(ADSI!$L$10=1,LangMaster!A450,LangMaster!B30)","v":"Medium  Farmers (sum of 3.1 & 3.2)"},{"$f":"IF(ADSI!$L$10=1,LangMaster!A31,LangMaster!B31)","v":"Female"},{"$f":"IF(ADSI!$L$10=1,LangMaster!A32,LangMaster!B32)","v":"Transgender"},{"$f":"IF(ADSI!$L$10=1,LangMaster!A33,LangMaster!B33)","v":"Total"}]
[null,"(1)","(2)","(3)","(4)","(5)","(6)","(7)","(8)","(9)","(10)","(11)","(12)","(13)","(14)","(15)","(16)","(17)","(18)","(19)","(20)","(21)","(22)","(23)","(24)","(25)","(26)","(27)","(28)","(29)","(30)"]
[1030,1,{"$f":"IF(ADSI!$L$10=1,LangMaster!A431,LangMaster!B431)","v":"No Education"},0,0,0,{"$f":"SUM(D8:F8)","v":0},0,0,0,{"$f":"SUM(H8:J8)","v":0},0,0,0,{"$f":"SUM(L8:N8)","v":0},0,0,0,{"$f":"SUM(P8:R8)","v":0},0,0,0,{"$f":"SUM(T8:V8)","v":0},0,0,0,{"$f":"SUM(X8:Z8)","v":0},{"$f":"SUM(D8+H8+L8+P8+T8+X8)","v":0},{"$f":"SUM(E8+I8+M8+Q8+U8+Y8)","v":0},{"$f":"SUM(F8+J8+N8+R8+V8+Z8)","v":0},{"$f":"SUM(AB8:AD8)","v":0}]
[1031,2,{"$f":"IF(ADSI!$L$10=1,LangMaster!A432,LangMaster!B432)","v":"Primary (upto class–5)"},0,0,0,{"$f":"SUM(D9:F9)","v":0},0,0,0,{"$f":"SUM(H9:J9)","v":0},0,0,0,{"$f":"SUM(L9:N9)","v":0},0,0,0,{"$f":"SUM(P9:R9)","v":0},0,0,0,{"$f":"SUM(T9:V9)","v":0},0,0,0,{"$f":"SUM(X9:Z9)","v":0},0,{"$f":"SUM(E9+I9+M9+Q9+U9+Y9)","v":0},0,{"$f":"SUM(AB9:AD9)","v":0}]
[1032,3,{"$f":"IF(ADSI!$L$10=1,LangMaster!A433,LangMaster!B433)","v":"Middle (upto class–8)"},0,0,0,0,0,0,0,0,0,0,0,0,0,0,0,0,0,0,0,0,0,0,0,0,0,0,0,0]
[1033,4,{"$f":"IF(ADSI!$L$10=1,LangMaster!A434,LangMaster!B434)","v":"Matriculate/Secondary (upto class–10)"},0,0,0,0,0,0,0,0,0,0,0,0,0,0,0,0,0,0,0,0,0,0,0,0,0,0,0,0]
[1034,5,{"$f":"IF(ADSI!$L$10=1,LangMaster!A435,LangMaster!B435)","v":"Higher Secondary/ Intermediate/ Pre-University (upto class–12)"},0,0,0,0,0,0,0,0,0,0,0,0,0,0,0,0,0,0,0,0,0,0,0,0,0,0,0,0]
[1035,6,{"$f":"IF(ADSI!$L$10=1,LangMaster!A436,LangMaster!B436)","v":"Diploma/ITI/Certificate"},0,0,0,0,0,0,0,0,0,0,0,0,0,0,0,0,0,0,0,0,0,0,0,0,0,0,0,0]
[1036,7,{"$f":"IF(ADSI!$L$10=1,LangMaster!A437,LangMaster!B437)","v":"Graduate and above"},0,0,0,0,0,0,0,0,0,0,0,0,0,0,0,0,0,0,0,0,0,0,0,0,0,0,0,0]
[1037,8,{"$f":"IF(ADSI!$L$10=1,LangMaster!A438,LangMaster!B438)","v":"Professionals (MBA, etc.)"},0,0,0,0,0,0,0,0,0,0,0,0,0,0,0,0,0,0,0,0,0,0,0,0,0,0,0,0]
[1038,9,{"$f":"IF(ADSI!$L$10=1,LangMaster!A439,LangMaster!B439)","v":"Not known"},0,0,0,0,0,0,0,0,0,0,0,0,0,0,0,0,0,0,0,0,0,0,0,0,0,0,0,0]
[1045,10,{"$f":"IF(ADSI!$L$10=1,LangMaster!A440,LangMaster!B440)","v":"Total (sum of Sl. 1 to 9 )"},{"$f":"SUM(D8:D16)","v":0},{"$f":"SUM(E8:E16)","v":0},0,0,0,0,0,0,0,0,0,0,0,0,0,0,0,0,0,0,0,0,0,0,0,0,0,{"$f":"SUM(AE8:AE16)","v":0}]
["SL-9 ABNORMAL VARIATION IN \"NOT KNOWN\" DATA",null,null,{"$f":"IF(D17>0,IF((D16/D17*100)>10,\"ABVAR\",\"\"),\"\")","v":""},{"$f":"IF(E17>0,IF((E16/E17*100)>10,\"ABVAR\",\"\"),\"\")","v":""},"","","","","","","","","","","","","","","","","","","","","","","","","",""]
["PROFORMA–XV VALUES [Sl.-6.1 Farmers/Cultivators (Sub-Total)]",null,null,null,null,null,null,null,null,null,null,null,null,null,null,null,null,null,null,null,null,null,null,null,null,null,null,{"$f":"'P-XV'!K26","v":0},{"$f":"'P-XV'!R26","v":0},{"$f":"'P-XV'!Y26","v":0},{"$f":"'P-XV'!Z26","v":0}]
["VALIDATION  WITH PROFORMA–XV [Sl.-6.1 Farmers/Cultivators (Sub-Total)]",null,null,null,null,null,null,null,null,null,null,null,null,null,null,null,null,null,null,null,null,null,null,null,null,null,null,{"$f":"IF(AB17='P-XV'!K26,\"\",FALSE)","v":""},{"$f":"IF(AC17='P-XV'!R26,\"\",FALSE)","v":""},{"$f":"IF(AD17='P-XV'!Y26,\"\",FALSE)","v":""},{"$f":"IF(AE17='P-XV'!Z26,\"\",FALSE)","v":""}]
[" PROFORMA–XIV VALUES [Sl.–21 (Total)]",null,null,null,null,null,null,null,null,null,null,null,null,null,null,null,null,null,null,null,null,null,null,null,null,null,null,{"$f":"'P-XIV'!J38","v":232},{"$f":"'P-XIV'!Q38","v":70},{"$f":"'P-XIV'!X38","v":0},{"$f":"'P-XIV'!Y38","v":302}]
["VALIDATION  WITH  PROFORMA–XIV [Sl.–21 (Total)]",null,null,null,null,null,null,null,null,null,null,null,null,null,null,null,null,null,null,null,null,null,null,null,null,null,null,{"$f":"IF(AB17<='P-XIV'!J38,\"\",FALSE)","v":""},{"$f":"IF(AC17<='P-XIV'!Q38,\"\",FALSE)","v":""},{"$f":"IF(AD17<='P-XIV'!X38,\"\",FALSE)","v":""},{"$f":"IF(AE17<='P-XIV'!Y38,\"\",FALSE)","v":""}]
[]
[]
[]
[]
[]
[]
[]
[]
[]
[]
[]
[]
[]
[]
[]
[]
[]
[]
[]
[]
[]
[]
[]
[]
[]
[]
[]
[]
[]
[]
[]
[]
[]
[]
[]
[]
[]
[]
[]
[]
[]
[]
[]
[]
[]
[]
[]
[]
[]
[]
[]
[]
[]
[]
[]
[]
[]
[]
[]
[]
[]
[]
[]
[]
[]
[]
[]
[]
[]
[]
[]
[]
[]
[]
[]
[]
[]
[]
[]
[]
[]
[]
[]
[]
[]
[]
[]
[]
[]
[]
[]
[]
[]
[]
[]
[]
[]
[]
[]
[]
[]
[]
[]
[]
[]
[]
[]
[]
[]
[]
[]
[]
[]
[]
[]
[]
[]
[]
[]
[]
[]
[]
[]
[]
[]
[]
[]
[]
[]
[]
[]
[]
[]
[]
[]
[]
[]
[]
[]
[]
[]
[]
[]
[]
[]
[]
[]
[]
[]
[]
[]
[]
[]
[]
[]
[]
[]
[]
[]
[]
[]
[]
[]
[]
[]
[]
[]
[]
[]
[]
[]
[]
[]
[]
[]
[]
[]
[null,null,null,null,null,null,null,null,null,null,null,null,null,null,null,null,null,null,null,null,null,null,null,null,null,null,null,null,null,null,null,null,null,null,null,null,null,null,null,null,null,null,null,null,null,null,null,null,null,null,null,null,{"$f":"A1","v":"Goa, , ADSI-2022"}]
[null,null,null,null,null,null,null,null,null,null,null,null,null,null,null,null,null,null,null,null,null,null,null,null,null,null,null,null,null,null,null,null,null,null,null,null,null,null,null,null,null,null,null,null,null,null,null,null,null,null,null,null,{"$f":"A2","v":"Errors"},{"$f":"C2","v":0},null,{"$f":"E2","v":"Abnormal Variations"},{"$f":"F2","v":0}]
[null,null,null,null,null,null,null,null,null,null,null,null,null,null,null,null,null,null,null,null,null,null,null,null,null,null,null,null,null,null,null,null,null,null,null,null,null,null,null,null,null,null,null,null,null,null,null,null,null,null,null,null,{"$f":"A3","v":"Proforma-XX"},null,null,null,null,null,null,null,null,null,null,null,null,null,null,null,null,null,null,null,null,null,null,null,null,null,null,null,{"$f":"A1","v":"Goa, , ADSI-2022"}]
[null,null,null,null,null,null,null,null,null,null,null,null,null,null,null,null,null,null,null,null,null,null,null,null,null,null,null,null,null,null,null,null,null,null,null,null,null,null,null,null,null,null,null,null,null,null,null,null,null,null,null,null,{"$f":"A4","v":"Educational Status-wise distribution of suicides committed by Farmers/Cultivators"},null,null,null,null,null,null,null,null,null,null,null,null,null,null,null,null,null,null,null,null,null,null,null,null,null,null,{"$f":"A2","v":"Errors"},{"$f":"C2","v":0}]
[null,null,null,null,null,null,null,null,null,null,null,null,null,null,null,null,null,null,null,null,null,null,null,null,null,null,null,null,null,null,null,null,null,null,null,null,null,null,null,null,null,null,null,null,null,null,null,null,null,null,null,null,{"$f":"B5","v":"S.No."},{"$f":"C5","v":"Educational Status"},{"$f":"D5","v":"Un-Married"},null,null,null,{"$f":"H5","v":" Married"},null,null,null,{"$f":"L5","v":" Widowed/Widower"},null,null,null,{"$f":"P5","v":" Divorcee"},null,null,null,{"$f":"T5","v":" Separated"},null,null,null,{"$f":"X5","v":"Status not known"},null,null,null,{"$f":"AB5","v":"Grand Total"}]
[null,null,null,null,null,null,null,null,null,null,null,null,null,null,null,null,null,null,null,null,null,null,null,null,null,null,null,null,null,null,null,null,null,null,null,null,null,null,null,null,null,null,null,null,null,null,null,null,null,null,null,null,null,null,{"$f":"D6","v":"Medium  Farmers (sum of 3.1 & 3.2)"},{"$f":"E6","v":"Female"},{"$f":"F6","v":"Transgender"},{"$f":"G6","v":"Total"},"Medium  Farmers (sum of 3.1 & 3.2)",{"$f":"I6","v":"Female"},{"$f":"J6","v":"Transgender"},{"$f":"K6","v":"Total"},"Medium  Farmers (sum of 3.1 & 3.2)",{"$f":"M6","v":"Female"},{"$f":"N6","v":"Transgender"},{"$f":"O6","v":"Total"},"Medium  Farmers (sum of 3.1 & 3.2)",{"$f":"Q6","v":"Female"},{"$f":"R6","v":"Transgender"},{"$f":"S6","v":"Total"},"Medium  Farmers (sum of 3.1 & 3.2)",{"$f":"U6","v":"Female"},{"$f":"V6","v":"Transgender"},{"$f":"W6","v":"Total"},"Medium  Farmers (sum of 3.1 & 3.2)",{"$f":"Y6","v":"Female"},{"$f":"Z6","v":"Transgender"},{"$f":"AA6","v":"Total"},"Medium  Farmers (sum of 3.1 & 3.2)",{"$f":"AC6","v":"Female"},{"$f":"AD6","v":"Transgender"},{"$f":"AE6","v":"Total"}]
[null,null,null,null,null,null,null,null,null,null,null,null,null,null,null,null,null,null,null,null,null,null,null,null,null,null,null,null,null,null,null,null,null,null,null,null,null,null,null,null,null,null,null,null,null,null,null,null,null,null,null,null,{"$f":"B7","v":"(1)"},{"$f":"C7","v":"(2)"},"(3)","(4)","(5)","(6)","(7)","(8)","(9)","(10)","(11)","(12)","(13)","(14)","(15)","(16)","(17)","(18)","(19)","(20)","(21)","(22)","(23)","(24)","(25)","(26)","(27)","(28)","(29)","(30)"]
[null,null,null,null,null,null,null,null,null,null,null,null,null,null,null,null,null,null,null,null,null,null,null,null,null,null,null,null,null,null,null,null,null,null,null,null,null,null,null,null,null,null,null,null,null,null,null,null,null,null,null,null,1,"No Education",0,0,0,0,0,0,0,0,0,0,0,0,0,0,0,0,0,0,0,0,0,0,0,0,0,0,0,0]
[null,null,null,null,null,null,null,null,null,null,null,null,null,null,null,null,null,null,null,null,null,null,null,null,null,null,null,null,null,null,null,null,null,null,null,null,null,null,null,null,null,null,null,null,null,null,null,null,null,null,null,null,2,"Primary (upto class–5)",0,0,0,0,0,0,0,0,0,0,0,0,0,0,0,0,0,0,0,0,0,0,0,0,0,0,0,0]
[null,null,null,null,null,null,null,null,null,null,null,null,null,null,null,null,null,null,null,null,null,null,null,null,null,null,null,null,null,null,null,null,null,null,null,null,null,null,null,null,null,null,null,null,null,null,null,null,null,null,null,null,3,"Middle (upto class–8)",0,0,0,0,0,0,0,0,0,0,0,0,0,0,0,0,0,0,0,0,0,0,0,0,0,0,0,0]
[null,null,null,null,null,null,null,null,null,null,null,null,null,null,null,null,null,null,null,null,null,null,null,null,null,null,null,null,null,null,null,null,null,null,null,null,null,null,null,null,null,null,null,null,null,null,null,null,null,null,null,null,4,"Matriculate/Secondary (upto class–10)",0,0,0,0,0,0,0,0,0,0,0,0,0,0,0,0,0,0,0,0,0,0,0,0,0,0,0,0]
[null,null,null,null,null,null,null,null,null,null,null,null,null,null,null,null,null,null,null,null,null,null,null,null,null,null,null,null,null,null,null,null,null,null,null,null,null,null,null,null,null,null,null,null,null,null,null,null,null,null,null,null,5,"Higher Secondary/ Intermediate/ Pre-University (upto class–12)",0,0,0,0,0,0,0,0,0,0,0,0,0,0,0,0,0,0,0,0,0,0,0,0,0,0,0,0]
[null,null,null,null,null,null,null,null,null,null,null,null,null,null,null,null,null,null,null,null,null,null,null,null,null,null,null,null,null,null,null,null,null,null,null,null,null,null,null,null,null,null,null,null,null,null,null,null,null,null,null,null,6,"Diploma/ITI/Certificate",0,0,0,0,0,0,0,0,0,0,0,0,0,0,0,0,0,0,0,0,0,0,0,0,0,0,0,0]
[null,null,null,null,null,null,null,null,null,null,null,null,null,null,null,null,null,null,null,null,null,null,null,null,null,null,null,null,null,null,null,null,null,null,null,null,null,null,null,null,null,null,null,null,null,null,null,null,null,null,null,null,7,"Graduate and above",0,0,0,0,0,0,0,0,0,0,0,0,0,0,0,0,0,0,0,0,0,0,0,0,0,0,0,0]
[null,null,null,null,null,null,null,null,null,null,null,null,null,null,null,null,null,null,null,null,null,null,null,null,null,null,null,null,null,null,null,null,null,null,null,null,null,null,null,null,null,null,null,null,null,null,null,null,null,null,null,null,8,"Professionals (MBA, etc.)",0,0,0,0,0,0,0,0,0,0,0,0,0,0,0,0,0,0,0,0,0,0,0,0,0,0,0,0]
[null,null,null,null,null,null,null,null,null,null,null,null,null,null,null,null,null,null,null,null,null,null,null,null,null,null,null,null,null,null,null,null,null,null,null,null,null,null,null,null,null,null,null,null,null,null,null,null,null,null,null,null,9,"Not known",0,0,0,0,0,0,0,0,0,0,0,0,0,0,0,0,0,0,0,0,0,0,0,0,0,0,0,0]
[null,null,null,null,null,null,null,null,null,null,null,null,null,null,null,null,null,null,null,null,null,null,null,null,null,null,null,null,null,null,null,null,null,null,null,null,null,null,null,null,null,null,null,null,null,null,null,null,null,null,null,null,10,"Total (sum of Sl. 1 to 9 )",0,0,0,0,0,0,0,0,0,0,0,0,0,0,0,0,0,0,0,0,0,0,0,0,0,0,0,0]
[null,null,null,null,null,null,null,null,null,null,null,null,null,null,null,null,null,null,null,null,null,null,null,null,null,null,null,null,null,null,null,null,null,null,null,null,null,null,null,null,null,null,null,null,null,null,null,null,null,null,null,null,{"$f":"A18","v":"SL-9 ABNORMAL VARIATION IN \"NOT KNOWN\" DATA"},null,{"$f":"D18","v":""},"","","","","","","","","","","","","","","","","","","","","","","","","","",""]
[null,null,null,null,null,null,null,null,null,null,null,null,null,null,null,null,null,null,null,null,null,null,null,null,null,null,null,null,null,null,null,null,null,null,null,null,null,null,null,null,null,null,null,null,null,null,null,null,null,null,null,null,{"$f":"A19","v":"PROFORMA–XV VALUES [Sl.-6.1 Farmers/Cultivators (Sub-Total)]"},null,null,null,null,null,null,null,null,null,null,null,null,null,null,null,null,null,null,null,null,null,null,null,null,null,{"$f":"AB19","v":0},0,0,0]
[null,null,null,null,null,null,null,null,null,null,null,null,null,null,null,null,null,null,null,null,null,null,null,null,null,null,null,null,null,null,null,null,null,null,null,null,null,null,null,null,null,null,null,null,null,null,null,null,null,null,null,null,{"$f":"A20","v":"VALIDATION  WITH PROFORMA–XV [Sl.-6.1 Farmers/Cultivators (Sub-Total)]"},null,null,null,null,null,null,null,null,null,null,null,null,null,null,null,null,null,null,null,null,null,null,null,null,null,"","","",""]
[null,null,null,null,null,null,null,null,null,null,null,null,null,null,null,null,null,null,null,null,null,null,null,null,null,null,null,null,null,null,null,null,null,null,null,null,null,null,null,null,null,null,null,null,null,null,null,null,null,null,null,null,{"$f":"A21","v":" PROFORMA–XIV VALUES [Sl.–21 (Total)]"},null,null,null,null,null,null,null,null,null,null,null,null,null,null,null,null,null,null,null,null,null,null,null,null,null,232,70,0,302]
[null,null,null,null,null,null,null,null,null,null,null,null,null,null,null,null,null,null,null,null,null,null,null,null,null,null,null,null,null,null,null,null,null,null,null,null,null,null,null,null,null,null,null,null,null,null,null,null,null,null,null,null,{"$f":"A22","v":"VALIDATION  WITH  PROFORMA–XIV [Sl.–21 (Total)]"},null,null,null,null,null,null,null,null,null,null,null,null,null,null,null,null,null,null,null,null,null,null,null,null,null,"","","",""]
[]
[]
[]
[]
[]
[]
[]
[]
[]
[]
[]
[]
[]
[]
[]
[]
[]
[]
[]
[]
[]
[]
[]
[]
[]
[]
[]
[]
[]
[]
[]
[]
[]
[]
[]
[]
[]
[]
[]
[]
[]
[]
[]
[]
[]
[]
[]
[]
[]
[]
[]
[]
[]
[]
[]
[]
[]
[]
[]
[]
[]
[]
[]
[]
[]
[]
[]
[]
[]
[]
[]
[]
[]
[]
[]
[]
[]
[]
[]
[]
[]
[]
[]
[]
[]
[]
[]
[]
[]
[]
[]
[]
[]
[]
[]
[]
[]
[]
[]
[]
[]
[]
[]
[]
[]
[]
[]
[]
[]
[]
[]
[]
[]
[]
[]
[]
[]
[]
[]
[]
[]
[]
[]
[]
[]
[]
[]
[]
[]
[]
[]
[]
[]
[]
[]
[]
[]
[]
[]
[]
[]
[]
[]
[]
[]
[]
[]
[]
[]
[]
[]
[]
[]
[]
[]
[]
[]
[]
[]
[]
[]
[]
[]
[]
[]
[]
[]
[]
[]
[]
[]
[]
[]
[]
[]
[]
[]
[]
[]
[]
[]
[]
[]
[]
[]
[]
[]
[]
[]
[]
[]
[]
[]
[]
[]
[]
[]
[]
[]
[]
[]
[]
[]
[]
[]
[]
[]
[]
[]
[]
[]
[]
[]
[]
[]
[]
[]
[]
[]
[]
[]
[]
[]
[]
[]
[]
[]
[]
[]
[]
[]
[]
[]
[]
[]
[]
[]
[]
[]
[]
[]
[]
[]
[]
[]
[]
[]
[]
[]
[]
[]
[]
[]
[]
[]
[]
[]
[]
[]
[]
[]
[]
[]
[]
[]
[]
[]
[]
[]
[]
[]
[]
[]
[]
[]
[]
[]
[]
["StateUTCityCode","DistrictCode","CrimeCode","DataYear","UnMarried_Male","UnMarried_Female","UnMarried_Trans","UnMarried_Total","Married_Male","Married_Female","Married_Trans","Married_Total","Widow_Male","Widow_Female","Widow_Trans","Widow_Total","Divorce_Male","Divorce_Female","Divorce_Trans","Divorce_Total","Separated_Male","Separated_Female","Separated_Trans","Separated_Total","NotKnown_Male","NotKnown_Female","NotKnown_Trans","NotKnown_Total","Total_Male","Total_Female","Total_Trans","Total_Total"]
[{"$f":"IF(ADSI!$G$12=\"\",ADSI!$H$16,ADSI!$H$12)","v":6},{"$f":"IF(ADSI!$G$12=\"\",ADSI!$H$16,ADSI!$H$14)","v":""},{"$f":"A8","v":1030},{"$f":"ADSI!$K$12","v":2022},{"$f":"D8","v":0},{"$f":"E8","v":0},0,0,0,0,0,0,0,0,0,0,0,0,0,0,0,0,0,0,0,0,0,0,0,0,0,0]
[{"$f":"IF(ADSI!$G$12=\"\",ADSI!$H$16,ADSI!$H$12)","v":6},{"$f":"IF(ADSI!$G$12=\"\",ADSI!$H$16,ADSI!$H$14)","v":""},{"$f":"A9","v":1031},{"$f":"ADSI!$K$12","v":2022},{"$f":"D9","v":0},0,0,0,0,0,0,0,0,0,0,0,0,0,0,0,0,0,0,0,0,0,0,0,0,0,0,0]
[{"$f":"IF(ADSI!$G$12=\"\",ADSI!$H$16,ADSI!$H$12)","v":6},{"$f":"IF(ADSI!$G$12=\"\",ADSI!$H$16,ADSI!$H$14)","v":""},1032,{"$f":"ADSI!$K$12","v":2022},{"$f":"D10","v":0},0,0,0,0,0,0,0,0,0,0,0,0,0,0,0,0,0,0,0,0,0,0,0,0,0,0,0]
[{"$f":"IF(ADSI!$G$12=\"\",ADSI!$H$16,ADSI!$H$12)","v":6},{"$f":"IF(ADSI!$G$12=\"\",ADSI!$H$16,ADSI!$H$14)","v":""},1033,{"$f":"ADSI!$K$12","v":2022},{"$f":"D11","v":0},0,0,0,0,0,0,0,0,0,0,0,0,0,0,0,0,0,0,0,0,0,0,0,0,0,0,0]
[{"$f":"IF(ADSI!$G$12=\"\",ADSI!$H$16,ADSI!$H$12)","v":6},{"$f":"IF(ADSI!$G$12=\"\",ADSI!$H$16,ADSI!$H$14)","v":""},1034,{"$f":"ADSI!$K$12","v":2022},{"$f":"D12","v":0},0,0,0,0,0,0,0,0,0,0,0,0,0,0,0,0,0,0,0,0,0,0,0,0,0,0,0]
[{"$f":"IF(ADSI!$G$12=\"\",ADSI!$H$16,ADSI!$H$12)","v":6},{"$f":"IF(ADSI!$G$12=\"\",ADSI!$H$16,ADSI!$H$14)","v":""},1035,{"$f":"ADSI!$K$12","v":2022},{"$f":"D13","v":0},0,0,0,0,0,0,0,0,0,0,0,0,0,0,0,0,0,0,0,0,0,0,0,0,0,0,0]
[{"$f":"IF(ADSI!$G$12=\"\",ADSI!$H$16,ADSI!$H$12)","v":6},{"$f":"IF(ADSI!$G$12=\"\",ADSI!$H$16,ADSI!$H$14)","v":""},1036,{"$f":"ADSI!$K$12","v":2022},{"$f":"D14","v":0},0,0,0,0,0,0,0,0,0,0,0,0,0,0,0,0,0,0,0,0,0,0,0,0,0,0,0]
[{"$f":"IF(ADSI!$G$12=\"\",ADSI!$H$16,ADSI!$H$12)","v":6},{"$f":"IF(ADSI!$G$12=\"\",ADSI!$H$16,ADSI!$H$14)","v":""},1037,{"$f":"ADSI!$K$12","v":2022},{"$f":"D15","v":0},0,0,0,0,0,0,0,0,0,0,0,0,0,0,0,0,0,0,0,0,0,0,0,0,0,0,0]
[{"$f":"IF(ADSI!$G$12=\"\",ADSI!$H$16,ADSI!$H$12)","v":6},{"$f":"IF(ADSI!$G$12=\"\",ADSI!$H$16,ADSI!$H$14)","v":""},1038,{"$f":"ADSI!$K$12","v":2022},{"$f":"D16","v":0},0,0,0,0,0,0,0,0,0,0,0,0,0,0,0,0,0,0,0,0,0,0,0,0,0,0,0]
[{"$f":"IF(ADSI!$G$12=\"\",ADSI!$H$16,ADSI!$H$12)","v":6},{"$f":"IF(ADSI!$G$12=\"\",ADSI!$H$16,ADSI!$H$14)","v":""},1045,{"$f":"ADSI!$K$12","v":2022},{"$f":"D17","v":0},0,0,0,0,0,0,0,0,0,0,0,0,0,0,0,0,0,0,0,0,0,0,0,0,0,0,0]

{"sheet":"P-XXI","index":24,"n_rows":513,"n_cols":58,"rows_kept":513,"cut":false,"hidden":false,"merged":[[4,0,5,0],[218,52,218,53],[219,52,219,53],[220,52,220,53],[221,52,221,53],[20,0,20,2],[22,0,22,2],[19,0,19,2],[21,0,21,2]]}
[{"$f":"ADSI!$B$1","v":"Goa, , ADSI-2022"}]
["Errors",null,{"$f":"COUNTIF(D21:G21,FALSE)+COUNTIF(D23:G23,FALSE)","v":0}]
[{"$f":"IF(ADSI!$L$10=1,LangMaster!A441,LangMaster!B441)","v":"Proforma-XXI"}]
[{"$f":"IF(ADSI!$L$10=1,LangMaster!A442,LangMaster!B442)","v":"Land Holding Status-wise distribution of  suicides committed by Farmers/Cultivators"}]
[{"$f":"IF(ADSI!$L$10=1,LangMaster!A26,LangMaster!B26)","v":"Code"},{"$f":"IF(ADSI!$L$10=1,LangMaster!A27,LangMaster!B27)","v":"S.No."},{"$f":"IF(ADSI!$L$10=1,LangMaster!A443,LangMaster!B443)","v":"Land Holding Status"},{"$f":"IF(ADSI!$L$10=1,LangMaster!A30,LangMaster!B30)","v":"Male"},{"$f":"IF(ADSI!$L$10=1,LangMaster!A31,LangMaster!B31)","v":"Female"},{"$f":"IF(ADSI!$L$10=1,LangMaster!A32,LangMaster!B32)","v":"Transgender"},{"$f":"IF(ADSI!$L$10=1,LangMaster!A33,LangMaster!B33)","v":"Total"}]
[null,"(1)","(2)","(3)","(4)","(5)","(6)"]
[1050,1,{"$f":"IF(ADSI!$L$10=1,LangMaster!A444,LangMaster!B444)","v":"Marginal Farmers (sum of 1.1 & 1.2)"},{"$f":"SUM(D8:D9)","v":0},{"$f":"SUM(E8:E9)","v":0},0,{"$f":"SUM(D7:F7)","v":0}]
[1051,null,{"$f":"IF(ADSI!$L$10=1,LangMaster!A445,LangMaster!B445)","v":"1.1 Irrigated"},0,0,0,{"$f":"SUM(D8:F8)","v":0}]
[1052,null,{"$f":"IF(ADSI!$L$10=1,LangMaster!A446,LangMaster!B446)","v":"1.2 Un-irrigated"},0,0,0,0]
[1053,2,{"$f":"IF(ADSI!$L$10=1,LangMaster!A447,LangMaster!B447)","v":"Small Farmers (sum of 2.1 & 2.2)"},{"$f":"SUM(D11:D12)","v":0},{"$f":"SUM(E11:E12)","v":0},{"$f":"SUM(F11:F12)","v":0},0]
[1054,null,{"$f":"IF(ADSI!$L$10=1,LangMaster!A448,LangMaster!B448)","v":"2.1 Irrigated"},0,0,0,0]
[1055,null,{"$f":"IF(ADSI!$L$10=1,LangMaster!A449,LangMaster!B449)","v":"2.2 Un-irrigated"},0,0,0,0]
[1056,3,{"$f":"IF(ADSI!$L$10=1,LangMaster!A450,LangMaster!B450)","v":"Medium  Farmers (sum of 3.1 & 3.2)"},{"$f":"SUM(D14:D15)","v":0},{"$f":"SUM(E14:E15)","v":0},0,0]
[1057,null,{"$f":"IF(ADSI!$L$10=1,LangMaster!A451,LangMaster!B451)","v":"3.1 Irrigated"},0,0,0,0]
[1058,null,{"$f":"IF(ADSI!$L$10=1,LangMaster!A452,LangMaster!B452)","v":"3.2 Un-irrigated"},0,0,0,0]
[1059,4,{"$f":"IF(ADSI!$L$10=1,LangMaster!A453,LangMaster!B453)","v":"Large  Farmers (sum of 4.1 & 4.2)"},{"$f":"SUM(D17:D18)","v":0},{"$f":"SUM(E17:E18)","v":0},0,0]
[1060,null,{"$f":"IF(ADSI!$L$10=1,LangMaster!A454,LangMaster!B454)","v":"4.1 Irrigated"},0,0,0,0]
[1061,null,{"$f":"IF(ADSI!$L$10=1,LangMaster!A455,LangMaster!B455)","v":"4.2 Un-irrigated"},0,0,0,0]
[1070,5,{"$f":"IF(ADSI!$L$10=1,LangMaster!A456,LangMaster!B456)","v":"Total (sum of Sl. 1 to 4)"},{"$f":"SUM(D7,D10,D13,D16)","v":0},{"$f":"SUM(E7,E10,E13,E16)","v":0},0,0]
["PROFORMA–XV VALUES [Sl.-6.1 Farmers/Cultivators (Sub-Total)]",null,null,{"$f":"'P-XV'!K26","v":0},{"$f":"'P-XV'!R26","v":0},{"$f":"'P-XV'!Y26","v":0},{"$f":"'P-XV'!Z26","v":0}]
["VALIDATION  WITH PROFORMA–XV [Sl.-6.1 Farmers/Cultivators (Sub-Total)]",null,null,{"$f":"IF(D19='P-XV'!K26,\"\",FALSE)","v":""},{"$f":"IF(E19='P-XV'!R26,\"\",FALSE)","v":""},{"$f":"IF(F19='P-XV'!Y26,\"\",FALSE)","v":""},{"$f":"IF(G19='P-XV'!Z26,\"\",FALSE)","v":""}]
[" PROFORMA–XIV VALUES [Sl.–21 (Total)]",null,null,{"$f":"'P-XIV'!J38","v":232},{"$f":"'P-XIV'!Q38","v":70},{"$f":"'P-XIV'!X38","v":0},{"$f":"'P-XIV'!Y38","v":302}]
["VALIDATION  WITH  PROFORMA–XIV [Sl.–21 (Total)]",null,null,{"$f":"IF(D19<='P-XIV'!J38,\"\",FALSE)","v":""},{"$f":"IF(E19<='P-XIV'!Q38,\"\",FALSE)","v":""},{"$f":"IF(F19<='P-XIV'!X38,\"\",FALSE)","v":""},{"$f":"IF(G19<='P-XIV'!Y38,\"\",FALSE)","v":""}]
[]
["Note: Marginal (below 1 ha), Small (1 ha & above – below 2 ha),  Medium (2 ha & above – below 10 ha) and Large (10 ha & above) Cultivators as per Agricultural Census "]
[]
[]
[]
[]
[]
[]
[]
[]
[]
[]
[]
[]
[]
[]
[]
[]
[]
[]
[]
[]
[]
[]
[]
[]
[]
[]
[]
[]
[]
[]
[]
[]
[]
[]
[]
[]
[]
[]
[]
[]
[]
[]
[]
[]
[]
[]
[]
[]
[]
[]
[]
[]
[]
[]
[]
[]
[]
[]
[]
[]
[]
[]
[]
[]
[]
[]
[]
[]
[]
[]
[]
[]
[]
[]
[]
[]
[]
[]
[]
[]
[]
[]
[]
[]
[]
[]
[]
[]
[]
[]
[]
[]
[]
[]
[]
[]
[]
[]
[]
[]
[]
[]
[]
[]
[]
[]
[]
[]
[]
[]
[]
[]
[]
[]
[]
[]
[]
[]
[]
[]
[]
[]
[]
[]
[]
[]
[]
[]
[]
[]
[]
[]
[]
[]
[]
[]
[]
[]
[]
[]
[]
[]
[]
[]
[]
[]
[]
[]
[]
[]
[]
[]
[]
[]
[]
[]
[]
[]
[]
[]
[]
[]
[]
[]
[]
[]
[]
[]
[]
[]
[]
[]
[]
[]
[null,null,null,null,null,null,null,null,null,null,null,null,null,null,null,null,null,null,null,null,null,null,null,null,null,null,null,null,null,null,null,null,null,null,null,null,null,null,null,null,null,null,null,null,null,null,null,null,null,null,null,null,{"$f":"A1","v":"Goa, , ADSI-2022"}]
[null,null,null,null,null,null,null,null,null,null,null,null,null,null,null,null,null,null,null,null,null,null,null,null,null,null,null,null,null,null,null,null,null,null,null,null,null,null,null,null,null,null,null,null,null,null,null,null,null,null,null,null,{"$f":"A2","v":"Errors"},{"$f":"C2","v":0}]
[null,null,null,null,null,null,null,null,null,null,null,null,null,null,null,null,null,null,null,null,null,null,null,null,null,null,null,null,null,null,null,null,null,null,null,null,null,null,null,null,null,null,null,null,null,null,null,null,null,null,null,null,{"$f":"A3","v":"Proforma-XXI"}]
[null,null,null,null,null,null,null,null,null,null,null,null,null,null,null,null,null,null,null,null,null,null,null,null,null,null,null,null,null,null,null,null,null,null,null,null,null,null,null,null,null,null,null,null,null,null,null,null,null,null,null,null,{"$f":"A4","v":"Land Holding Status-wise distribution of  suicides committed by Farmers/Cultivators"}]
[null,null,null,null,null,null,null,null,null,null,null,null,null,null,null,null,null,null,null,null,null,null,null,null,null,null,null,null,null,null,null,null,null,null,null,null,null,null,null,null,null,null,null,null,null,null,null,null,null,null,null,null,{"$f":"B5","v":"S.No."},{"$f":"C5","v":"Land Holding Status"},{"$f":"D5","v":"Male"},{"$f":"E5","v":"Female"},{"$f":"F5","v":"Transgender"},{"$f":"G5","v":"Total"}]
[null,null,null,null,null,null,null,null,null,null,null,null,null,null,null,null,null,null,null,null,null,null,null,null,null,null,null,null,null,null,null,null,null,null,null,null,null,null,null,null,null,null,null,null,null,null,null,null,null,null,null,null,"(1)","(2)","(3)","(4)","(5)","(6)"]
[null,null,null,null,null,null,null,null,null,null,null,null,null,null,null,null,null,null,null,null,null,null,null,null,null,null,null,null,null,null,null,null,null,null,null,null,null,null,null,null,null,null,null,null,null,null,null,null,null,null,null,null,1,"Marginal Farmers (sum of 1.1 & 1.2)",0,0,0,0]
[null,null,null,null,null,null,null,null,null,null,null,null,null,null,null,null,null,null,null,null,null,null,null,null,null,null,null,null,null,null,null,null,null,null,null,null,null,null,null,null,null,null,null,null,null,null,null,null,null,null,null,null,null,"1.1 Irrigated",0,0,0,0]
[null,null,null,null,null,null,null,null,null,null,null,null,null,null,null,null,null,null,null,null,null,null,null,null,null,null,null,null,null,null,null,null,null,null,null,null,null,null,null,null,null,null,null,null,null,null,null,null,null,null,null,null,null,"1.2 Un-irrigated",0,0,0,0]
[null,null,null,null,null,null,null,null,null,null,null,null,null,null,null,null,null,null,null,null,null,null,null,null,null,null,null,null,null,null,null,null,null,null,null,null,null,null,null,null,null,null,null,null,null,null,null,null,null,null,null,null,2,"Small Farmers (sum of 2.1 & 2.2)",0,0,0,0]
[null,null,null,null,null,null,null,null,null,null,null,null,null,null,null,null,null,null,null,null,null,null,null,null,null,null,null,null,null,null,null,null,null,null,null,null,null,null,null,null,null,null,null,null,null,null,null,null,null,null,null,null,null,{"$f":"C11","v":"2.1 Irrigated"},{"$f":"D11","v":0},{"$f":"E11","v":0},{"$f":"F11","v":0},{"$f":"G11","v":0}]
[null,null,null,null,null,null,null,null,null,null,null,null,null,null,null,null,null,null,null,null,null,null,null,null,null,null,null,null,null,null,null,null,null,null,null,null,null,null,null,null,null,null,null,null,null,null,null,null,null,null,null,null,null,"2.2 Un-irrigated",0,0,0,0]
[null,null,null,null,null,null,null,null,null,null,null,null,null,null,null,null,null,null,null,null,null,null,null,null,null,null,null,null,null,null,null,null,null,null,null,null,null,null,null,null,null,null,null,null,null,null,null,null,null,null,null,null,3,"Medium  Farmers (sum of 3.1 & 3.2)",0,0,0,0]
[null,null,null,null,null,null,null,null,null,null,null,null,null,null,null,null,null,null,null,null,null,null,null,null,null,null,null,null,null,null,null,null,null,null,null,null,null,null,null,null,null,null,null,null,null,null,null,null,null,null,null,null,null,"3.1 Irrigated",0,0,0,0]
[null,null,null,null,null,null,null,null,null,null,null,null,null,null,null,null,null,null,null,null,null,null,null,null,null,null,null,null,null,null,null,null,null,null,null,null,null,null,null,null,null,null,null,null,null,null,null,null,null,null,null,null,null,"3.2 Un-irrigated",0,0,0,0]
[null,null,null,null,null,null,null,null,null,null,null,null,null,null,null,null,null,null,null,null,null,null,null,null,null,null,null,null,null,null,null,null,null,null,null,null,null,null,null,null,null,null,null,null,null,null,null,null,null,null,null,null,4,"Large  Farmers (sum of 4.1 & 4.2)",0,0,0,0]
[null,null,null,null,null,null,null,null,null,null,null,null,null,null,null,null,null,null,null,null,null,null,null,null,null,null,null,null,null,null,null,null,null,null,null,null,null,null,null,null,null,null,null,null,null,null,null,null,null,null,null,null,null,"4.1 Irrigated",0,0,0,0]
[null,null,null,null,null,null,null,null,null,null,null,null,null,null,null,null,null,null,null,null,null,null,null,null,null,null,null,null,null,null,null,null,null,null,null,null,null,null,null,null,null,null,null,null,null,null,null,null,null,null,null,null,null,"4.2 Un-irrigated",0,0,0,0]
[null,null,null,null,null,null,null,null,null,null,null,null,null,null,null,null,null,null,null,null,null,null,null,null,null,null,null,null,null,null,null,null,null,null,null,null,null,null,null,null,null,null,null,null,null,null,null,null,null,null,null,null,5,"Total (sum of Sl. 1 to 4)",0,0,0,0]
[null,null,null,null,null,null,null,null,null,null,null,null,null,null,null,null,null,null,null,null,null,null,null,null,null,null,null,null,null,null,null,null,null,null,null,null,null,null,null,null,null,null,null,null,null,null,null,null,null,null,null,null,{"$f":"A20","v":"PROFORMA–XV VALUES [Sl.-6.1 Farmers/Cultivators (Sub-Total)]"},null,{"$f":"D20","v":0},0,0,0]
[null,null,null,null,null,null,null,null,null,null,null,null,null,null,null,null,null,null,null,null,null,null,null,null,null,null,null,null,null,null,null,null,null,null,null,null,null,null,null,null,null,null,null,null,null,null,null,null,null,null,null,null,{"$f":"A21","v":"VALIDATION  WITH PROFORMA–XV [Sl.-6.1 Farmers/Cultivators (Sub-Total)]"},null,"","","",""]
[null,null,null,null,null,null,null,null,null,null,null,null,null,null,null,null,null,null,null,null,null,null,null,null,null,null,null,null,null,null,null,null,null,null,null,null,null,null,null,null,null,null,null,null,null,null,null,null,null,null,null,null,{"$f":"A22","v":" PROFORMA–XIV VALUES [Sl.–21 (Total)]"},null,232,70,0,302]
[null,null,null,null,null,null,null,null,null,null,null,null,null,null,null,null,null,null,null,null,null,null,null,null,null,null,null,null,null,null,null,null,null,null,null,null,null,null,null,null,null,null,null,null,null,null,null,null,null,null,null,null,{"$f":"A23","v":"VALIDATION  WITH  PROFORMA–XIV [Sl.–21 (Total)]"},null,"","","",""]
[]
[null,null,null,null,null,null,null,null,null,null,null,null,null,null,null,null,null,null,null,null,null,null,null,null,null,null,null,null,null,null,null,null,null,null,null,null,null,null,null,null,null,null,null,null,null,null,null,null,null,null,null,null,{"$f":"A25","v":"Note: Marginal (below 1 ha), Small (1 ha & above – below 2 ha),  Medium (2 ha & above – below 10 ha) and Large (10 ha & above) Cultivators as per Agricultural Census "}]
[]
[]
[]
[]
[]
[]
[]
[]
[]
[]
[]
[]
[]
[]
[]
[]
[]
[]
[]
[]
[]
[]
[]
[]
[]
[]
[]
[]
[]
[]
[]
[]
[]
[]
[]
[]
[]
[]
[]
[]
[]
[]
[]
[]
[]
[]
[]
[]
[]
[]
[]
[]
[]
[]
[]
[]
[]
[]
[]
[]
[]
[]
[]
[]
[]
[]
[]
[]
[]
[]
[]
[]
[]
[]
[]
[]
[]
[]
[]
[]
[]
[]
[]
[]
[]
[]
[]
[]
[]
[]
[]
[]
[]
[]
[]
[]
[]
[]
[]
[]
[]
[]
[]
[]
[]
[]
[]
[]
[]
[]
[]
[]
[]
[]
[]
[]
[]
[]
[]
[]
[]
[]
[]
[]
[]
[]
[]
[]
[]
[]
[]
[]
[]
[]
[]
[]
[]
[]
[]
[]
[]
[]
[]
[]
[]
[]
[]
[]
[]
[]
[]
[]
[]
[]
[]
[]
[]
[]
[]
[]
[]
[]
[]
[]
[]
[]
[]
[]
[]
[]
[]
[]
[]
[]
[]
[]
[]
[]
[]
[]
[]
[]
[]
[]
[]
[]
[]
[]
[]
[]
[]
[]
[]
[]
[]
[]
[]
[]
[]
[]
[]
[]
[]
[]
[]
[]
[]
[]
[]
[]
[]
[]
[]
[]
[]
[]
[]
[]
[]
[]
[]
[]
[]
[]
[]
[]
[]
[]
[]
[]
[]
[]
[]
[]
[]
[]
[]
[]
[]
[]
[]
[]
[]
[]
[]
[]
[]
[]
[]
[]
[]
[]
[]
[]
[]
[]
[]
[]
[]
[]
[]
[]
[]
[]
[]
[]
[]
[]
[]
[]
[]
[]
[]
[]
[]
["StateUTCityCode","DistrictCode","CrimeCode","DataYear","Male","Female","Trans","Total"]
[{"$f":"IF(ADSI!$G$12=\"\",ADSI!$H$16,ADSI!$H$12)","v":6},{"$f":"IF(ADSI!$G$12=\"\",ADSI!$H$16,ADSI!$H$14)","v":""},{"$f":"A7","v":1050},{"$f":"ADSI!$K$12","v":2022},{"$f":"D7","v":0},{"$f":"E7","v":0},0,0]
[{"$f":"IF(ADSI!$G$12=\"\",ADSI!$H$16,ADSI!$H$12)","v":6},{"$f":"IF(ADSI!$G$12=\"\",ADSI!$H$16,ADSI!$H$14)","v":""},{"$f":"A8","v":1051},{"$f":"ADSI!$K$12","v":2022},{"$f":"D8","v":0},0,0,0]
[{"$f":"IF(ADSI!$G$12=\"\",ADSI!$H$16,ADSI!$H$12)","v":6},{"$f":"IF(ADSI!$G$12=\"\",ADSI!$H$16,ADSI!$H$14)","v":""},1052,{"$f":"ADSI!$K$12","v":2022},{"$f":"D9","v":0},0,0,0]
[{"$f":"IF(ADSI!$G$12=\"\",ADSI!$H$16,ADSI!$H$12)","v":6},{"$f":"IF(ADSI!$G$12=\"\",ADSI!$H$16,ADSI!$H$14)","v":""},1053,{"$f":"ADSI!$K$12","v":2022},{"$f":"D10","v":0},0,0,0]
[{"$f":"IF(ADSI!$G$12=\"\",ADSI!$H$16,ADSI!$H$12)","v":6},{"$f":"IF(ADSI!$G$12=\"\",ADSI!$H$16,ADSI!$H$14)","v":""},1054,{"$f":"ADSI!$K$12","v":2022},{"$f":"D11","v":0},0,0,0]
[{"$f":"IF(ADSI!$G$12=\"\",ADSI!$H$16,ADSI!$H$12)","v":6},{"$f":"IF(ADSI!$G$12=\"\",ADSI!$H$16,ADSI!$H$14)","v":""},1055,{"$f":"ADSI!$K$12","v":2022},{"$f":"D12","v":0},0,0,0]
[{"$f":"IF(ADSI!$G$12=\"\",ADSI!$H$16,ADSI!$H$12)","v":6},{"$f":"IF(ADSI!$G$12=\"\",ADSI!$H$16,ADSI!$H$14)","v":""},1056,{"$f":"ADSI!$K$12","v":2022},{"$f":"D13","v":0},0,0,0]
[{"$f":"IF(ADSI!$G$12=\"\",ADSI!$H$16,ADSI!$H$12)","v":6},{"$f":"IF(ADSI!$G$12=\"\",ADSI!$H$16,ADSI!$H$14)","v":""},1057,{"$f":"ADSI!$K$12","v":2022},{"$f":"D14","v":0},0,0,0]
[{"$f":"IF(ADSI!$G$12=\"\",ADSI!$H$16,ADSI!$H$12)","v":6},{"$f":"IF(ADSI!$G$12=\"\",ADSI!$H$16,ADSI!$H$14)","v":""},1058,{"$f":"ADSI!$K$12","v":2022},{"$f":"D15","v":0},0,0,0]
[{"$f":"IF(ADSI!$G$12=\"\",ADSI!$H$16,ADSI!$H$12)","v":6},{"$f":"IF(ADSI!$G$12=\"\",ADSI!$H$16,ADSI!$H$14)","v":""},1059,{"$f":"ADSI!$K$12","v":2022},{"$f":"D16","v":0},0,0,0]
[{"$f":"IF(ADSI!$G$12=\"\",ADSI!$H$16,ADSI!$H$12)","v":6},{"$f":"IF(ADSI!$G$12=\"\",ADSI!$H$16,ADSI!$H$14)","v":""},{"$f":"A17","v":1060},{"$f":"ADSI!$K$12","v":2022},{"$f":"D17","v":0},0,0,0]
[{"$f":"IF(ADSI!$G$12=\"\",ADSI!$H$16,ADSI!$H$12)","v":6},{"$f":"IF(ADSI!$G$12=\"\",ADSI!$H$16,ADSI!$H$14)","v":""},1061,{"$f":"ADSI!$K$12","v":2022},{"$f":"D18","v":0},0,0,0]
[{"$f":"IF(ADSI!$G$12=\"\",ADSI!$H$16,ADSI!$H$12)","v":6},{"$f":"IF(ADSI!$G$12=\"\",ADSI!$H$16,ADSI!$H$14)","v":""},1070,{"$f":"ADSI!$K$12","v":2022},{"$f":"D19","v":0},0,0,0]

{"sheet":"P-XXII","index":25,"n_rows":521,"n_cols":70,"rows_kept":521,"cut":false,"hidden":true,"merged":[[0,6,1,15],[4,0,6,0],[29,0,29,2],[30,0,30,2],[4,1,6,1],[4,2,6,2],[35,3,35,12],[31,0,31,2],[32,0,32,2],[33,0,33,2],[34,0,34,2],[4,18,6,18],[5,3,5,7],[5,8,5,12],[5,13,5,17],[4,3,4,17],[230,52,230,53],[231,52,231,53],[232,52,232,53],[233,52,233,53],[203,69,205,69],[203,52,205,52],[203,53,205,53],[203,54,203,68],[204,64,204,68],[204,59,204,63],[204,54,204,58],[229,52,229,53],[228,52,228,53]]}
[{"$f":"ADSI!$B$1","v":"Goa, , ADSI-2022"},null,null,null,null,null,"Central Armed Police Force (CAPF) includes Assam Rifles (AR), Border Security Force (BSF), Central Industrial Security Force (CISF), Central Reserve Police Force (CRPF), Indo Tibetan Border Police (ITBP), National Security Guard (NSG) and Sashastra Seema Bal (SSB)"]
["Errors",null,{"$f":"COUNTIF(D31:S31,FALSE)","v":0},null,"Abnormal Variations",{"$f":"COUNTIF(D32:S35,\"ABVAR\")","v":0}]
["Proforma–XXII"]
["Distribution of Suicides of Central Armed Police Force (CAPF) Personnel by Causes"]
["Code","Sl. No.","Causes","Number of Suicidal Deaths",null,null,null,null,null,null,null,null,null,null,null,null,null,null,"Grand Total [col. (7)+(12)+(17)]"]
[null,null,null,"Male",null,null,null,null,"Female",null,null,null,null,"Transgender"]
[null,null,null,"18 and above – below 30 years","30 and above – below 45 years","45 and above – below 60 years","60 years & above"," Total [sum of  (3) to (6)]","18 and above – below 30 years","30 and above – below 45 years","45 and above – below 60 years","60 years & above","Total \n[sum of (8) to (11)]","18 and above – below 30 years","30 and above – below 45 years","45 and above – below 60 years","60 years & above","Total \n[sum of (13) to (16)]"]
[null,"(1)","(2)","(3)","(4)","(5)","(6)","(7)","(8)","(9)","(10)","(11)","(12)","(13)","(14)","(15)","(16)","(17)","(18)"]
[1075,1,"Bankruptcy or indebtedness",0,0,0,0,{"$f":"SUM(D9:G9)","v":0},0,0,0,0,{"$f":"SUM(I9:L9)","v":0},0,0,0,0,{"$f":"SUM(N9:Q9)","v":0},{"$f":"SUM(H9+M9+R9)","v":0}]
[1076,2,"Marriage Related Isuues (sum of 2.1 to 2.5)",{"$f":"SUM(D11:D15)","v":0},{"$f":"SUM(E11:E15)","v":0},0,0,{"$f":"SUM(D10:G10)","v":0},{"$f":"SUM(I11:I15)","v":0},0,0,0,{"$f":"SUM(I10:L10)","v":0},0,0,0,0,{"$f":"SUM(N10:Q10)","v":0},{"$f":"SUM(H10+M10+R10)","v":0}]
[1077,null,"2.1 Non Settlement of Marriage",0,0,0,0,0,0,0,0,0,0,0,0,0,0,0,0]
[1078,null,"2.2 Dowry Related Issues",0,0,0,0,0,0,0,0,0,0,0,0,0,0,0,0]
[1079,null,"2.3 Extra Marital affairs",0,0,0,0,0,0,0,0,0,0,0,0,0,0,0,0]
[1080,null,"2.4 Divorce",0,0,0,0,0,0,0,0,0,0,0,0,0,0,0,0]
[1081,null,"2.5 Others",0,0,0,0,0,0,0,0,0,0,0,0,0,0,0,0]
[1082,3,"Property dispute",0,0,0,0,0,0,0,0,0,0,0,0,0,0,0,0]
[1083,4,"Impotency/Infertility",0,0,0,0,0,0,0,0,0,0,0,0,0,0,0,0]
[1084,5,"Family problems",0,0,0,0,0,0,0,0,0,0,0,0,0,0,0,0]
[1085,6,"Service Related Issues (sum of 6.1 to 6.5)",{"$f":"SUM(D20:D24)","v":0},{"$f":"SUM(E20:E24)","v":0},0,0,{"$f":"SUM(D19:G19)","v":0},{"$f":"SUM(I20:I24)","v":0},0,0,0,0,0,0,0,0,0,0]
[1086,null,"6.1 Physical  fatigue",0,0,0,0,0,0,0,0,0,0,0,0,0,0,0,0]
[1087,null,"6.2 Mental Depression",0,0,0,0,0,0,0,0,0,0,0,0,0,0,0,0]
[1088,null,"6.3 Promotion related issues",0,0,0,0,0,0,0,0,0,0,0,0,0,0,0,0]
[1089,null,"6.4 Leave related issues",0,0,0,0,0,0,0,0,0,0,0,0,0,0,0,0]
[1090,null,"6.5 Other service conditions",0,0,0,0,0,0,0,0,0,0,0,0,0,0,0,0]
[1091,7,"Drug abuse/Alcoholic addiction",0,0,0,0,0,0,0,0,0,0,0,0,0,0,0,0]
[1092,8,"Fall in social reputation",0,0,0,0,0,0,0,0,0,0,0,0,0,0,0,0]
[1093,9,"Causes not known",0,0,0,0,0,0,0,0,0,0,0,0,0,0,0,0]
[1094,10,"Other causes",0,0,0,0,0,0,0,0,0,0,0,0,0,0,0,{"$f":"SUM(H28+M28+R28)","v":0}]
[1110,11,"Total (sum of Sl. 1 to 10)",{"$f":"SUM(D9:D10,D16:D19,D25:D28)","v":0},{"$f":"SUM(E9:E10,E16:E19,E25:E28)","v":0},0,0,{"$f":"SUM(D29:G29)","v":0},0,0,0,0,{"$f":"SUM(I29:L29)","v":0},0,0,0,0,{"$f":"SUM(N29:Q29)","v":0},{"$f":"SUM(H29+M29+R29)","v":0}]
["Proforma-XIV VALUES [Sl. 21 (Total)]",null,null,{"$f":"'P-XIV'!F38","v":55},{"$f":"'P-XIV'!G38","v":88},{"$f":"'P-XIV'!H38","v":57},{"$f":"'P-XIV'!I38","v":28},{"$f":"'P-XIV'!J38","v":232},{"$f":"'P-XIV'!M38","v":26},{"$f":"'P-XIV'!N38","v":16},{"$f":"'P-XIV'!O38","v":14},{"$f":"'P-XIV'!P38","v":6},{"$f":"'P-XIV'!Q38","v":70},{"$f":"'P-XIV'!T38","v":0},{"$f":"'P-XIV'!U38","v":0},{"$f":"'P-XIV'!V38","v":0},{"$f":"'P-XIV'!W38","v":0},{"$f":"'P-XIV'!X38","v":0},{"$f":"'P-XIV'!Y38","v":302}]
["VALIDATION  WITH  PROFORMA–XIV [Sl.–21 (Total)]",null,null,{"$f":"IF(D29<='P-XIV'!F38,\"\",FALSE)","v":""},{"$f":"IF(E29<='P-XIV'!G38,\"\",FALSE)","v":""},{"$f":"IF(F29<='P-XIV'!H38,\"\",FALSE)","v":""},{"$f":"IF(G29<='P-XIV'!I38,\"\",FALSE)","v":""},{"$f":"IF(H29<='P-XIV'!J38,\"\",FALSE)","v":""},{"$f":"IF(I29<='P-XIV'!M38,\"\",FALSE)","v":""},{"$f":"IF(J29<='P-XIV'!N38,\"\",FALSE)","v":""},{"$f":"IF(K29<='P-XIV'!O38,\"\",FALSE)","v":""},{"$f":"IF(L29<='P-XIV'!P38,\"\",FALSE)","v":""},{"$f":"IF(M29<='P-XIV'!Q38,\"\",FALSE)","v":""},{"$f":"IF(N29<='P-XIV'!T38,\"\",FALSE)","v":""},{"$f":"IF(O29<='P-XIV'!U38,\"\",FALSE)","v":""},{"$f":"IF(P29<='P-XIV'!V38,\"\",FALSE)","v":""},{"$f":"IF(Q29<='P-XIV'!W38,\"\",FALSE)","v":""},{"$f":"IF(R29<='P-XIV'!X38,\"\",FALSE)","v":""},{"$f":"IF(S29<='P-XIV'!Y38,\"\",FALSE)","v":""}]
["SL-2.5 ABNORMAL VARIATION IN \"OTHERS\" DATA",null,null,{"$f":"IF(D10>0,IF((D15/D10*100)>10,\"ABVAR\",\"\"),\"\")","v":""},{"$f":"IF(E10>0,IF((E15/E10*100)>10,\"ABVAR\",\"\"),\"\")","v":""},"","","","","","","","","","","","","",""]
["SL-6.5 ABNORMAL VARIATION IN \"OTHER SERVICE CONDITIONS\" DATA",null,null,{"$f":"IF(D19>0,IF((D24/D19*100)>10,\"ABVAR\",\"\"),\"\")","v":""},{"$f":"IF(E19>0,IF((E24/E19*100)>10,\"ABVAR\",\"\"),\"\")","v":""},"","","","","","","","","","","","","",""]
["SL-9 ABNORMAL VARIATION IN \"CAUSES NOT KNOWN\" DATA",null,null,{"$f":"IF(D29>0,IF((D27/D29*100)>10,\"ABVAR\",\"\"),\"\")","v":""},{"$f":"IF(E29>0,IF((E27/E29*100)>10,\"ABVAR\",\"\"),\"\")","v":""},"","","","","","","","","","","","","",""]
["SL-10 ABNORMAL VARIATION IN \"OTHER CAUSES\" DATA",null,null,{"$f":"IF(D29>0,IF((D28/D29*100)>10,\"ABVAR\",\"\"),\"\")","v":""},{"$f":"IF(E29>0,IF((E28/E29*100)>10,\"ABVAR\",\"\"),\"\")","v":""},"","","","","","","","","","","","","",""]
[]
["Note: If causes of suicides is found as more than one, the most immediate cause of suicides should be considered."]
[]
[]
[]
[]
[]
[]
[]
[]
[]
[]
[]
[]
[]
[]
[]
[]
[]
[]
[]
[]
[]
[]
[]
[]
[]
[]
[]
[]
[]
[]
[]
[]
[]
[]
[]
[]
[]
[]
[]
[]
[]
[]
[]
[]
[]
[]
[]
[]
[]
[]
[]
[]
[]
[]
[]
[]
[]
[]
[]
[]
[]
[]
[]
[]
[]
[]
[]
[]
[]
[]
[]
[]
[]
[]
[]
[]
[]
[]
[]
[]
[]
[]
[]
[]
[]
[]
[]
[]
[]
[]
[]
[]
[]
[]
[]
[]
[]
[]
[]
[]
[]
[]
[]
[]
[]
[]
[]
[]
[]
[]
[]
[]
[]
[]
[]
[]
[]
[]
[]
[]
[]
[]
[]
[]
[]
[]
[]
[]
[]
[]
[]
[]
[]
[]
[]
[]
[]
[]
[]
[]
[]
[]
[]
[]
[]
[]
[]
[]
[]
[]
[]
[]
[]
[]
[]
[]
[]
[]
[]
[]
[]
[]
[null,null,null,null,null,null,null,null,null,null,null,null,null,null,null,null,null,null,null,null,null,null,null,null,null,null,null,null,null,null,null,null,null,null,null,null,null,null,null,null,null,null,null,null,null,null,null,null,null,null,null,null,{"$f":"A1","v":"Goa, , ADSI-2022"}]
[null,null,null,null,null,null,null,null,null,null,null,null,null,null,null,null,null,null,null,null,null,null,null,null,null,null,null,null,null,null,null,null,null,null,null,null,null,null,null,null,null,null,null,null,null,null,null,null,null,null,null,null,{"$f":"A2","v":"Errors"},{"$f":"C2","v":0},null,{"$f":"E2","v":"Abnormal Variations"},{"$f":"F2","v":0}]
[null,null,null,null,null,null,null,null,null,null,null,null,null,null,null,null,null,null,null,null,null,null,null,null,null,null,null,null,null,null,null,null,null,null,null,null,null,null,null,null,null,null,null,null,null,null,null,null,null,null,null,null,{"$f":"A3","v":"Proforma–XXII"}]
[null,null,null,null,null,null,null,null,null,null,null,null,null,null,null,null,null,null,null,null,null,null,null,null,null,null,null,null,null,null,null,null,null,null,null,null,null,null,null,null,null,null,null,null,null,null,null,null,null,null,null,null,{"$f":"A4","v":"Distribution of Suicides of Central Armed Police Force (CAPF) Personnel by Causes"}]
[null,null,null,null,null,null,null,null,null,null,null,null,null,null,null,null,null,null,null,null,null,null,null,null,null,null,null,null,null,null,null,null,null,null,null,null,null,null,null,null,null,null,null,null,null,null,null,null,null,null,null,null,{"$f":"B5","v":"Sl. No."},{"$f":"C5","v":"Causes"},{"$f":"D5","v":"Number of Suicidal Deaths"},null,null,null,null,null,null,null,null,null,null,null,null,null,null,{"$f":"S5","v":"Grand Total [col. (7)+(12)+(17)]"}]
[null,null,null,null,null,null,null,null,null,null,null,null,null,null,null,null,null,null,null,null,null,null,null,null,null,null,null,null,null,null,null,null,null,null,null,null,null,null,null,null,null,null,null,null,null,null,null,null,null,null,null,null,null,null,{"$f":"D6","v":"Male"},null,null,null,null,{"$f":"I6","v":"Female"},null,null,null,null,{"$f":"N6","v":"Transgender"}]
[null,null,null,null,null,null,null,null,null,null,null,null,null,null,null,null,null,null,null,null,null,null,null,null,null,null,null,null,null,null,null,null,null,null,null,null,null,null,null,null,null,null,null,null,null,null,null,null,null,null,null,null,null,null,"18 and above – below 30 years",{"$f":"E7","v":"30 and above – below 45 years"},{"$f":"F7","v":"45 and above – below 60 years"},{"$f":"G7","v":"60 years & above"},{"$f":"H7","v":" Total [sum of  (3) to (6)]"},"18 and above – below 30 years",{"$f":"J7","v":"30 and above – below 45 years"},{"$f":"K7","v":"45 and above – below 60 years"},{"$f":"L7","v":"60 years & above"},{"$f":"M7","v":"Total \n[sum of (8) to (11)]"},"18 and above – below 30 years",{"$f":"O7","v":"30 and above – below 45 years"},{"$f":"P7","v":"45 and above – below 60 years"},{"$f":"Q7","v":"60 years & above"},{"$f":"R7","v":"Total \n[sum of (13) to (16)]"}]
[null,null,null,null,null,null,null,null,null,null,null,null,null,null,null,null,null,null,null,null,null,null,null,null,null,null,null,null,null,null,null,null,null,null,null,null,null,null,null,null,null,null,null,null,null,null,null,null,null,null,null,null,{"$f":"B8","v":"(1)"},{"$f":"C8","v":"(2)"},"(3)","(4)","(5)","(6)","(7)","(8)","(9)","(10)","(11)","(12)","(13)","(14)","(15)","(16)","(17)",{"$f":"S8","v":"(18)"}]
[null,null,null,null,null,null,null,null,null,null,null,null,null,null,null,null,null,null,null,null,null,null,null,null,null,null,null,null,null,null,null,null,null,null,null,null,null,null,null,null,null,null,null,null,null,null,null,null,null,null,null,null,1,"Bankruptcy or indebtedness",0,0,0,0,0,0,0,0,0,0,0,0,0,0,0,0]
[null,null,null,null,null,null,null,null,null,null,null,null,null,null,null,null,null,null,null,null,null,null,null,null,null,null,null,null,null,null,null,null,null,null,null,null,null,null,null,null,null,null,null,null,null,null,null,null,null,null,null,null,2,"Marriage Related Isuues (sum of 2.1 to 2.5)",0,0,0,0,0,0,0,0,0,0,0,0,0,0,0,0]
[null,null,null,null,null,null,null,null,null,null,null,null,null,null,null,null,null,null,null,null,null,null,null,null,null,null,null,null,null,null,null,null,null,null,null,null,null,null,null,null,null,null,null,null,null,null,null,null,null,null,null,null,null,"2.1 Non Settlement of Marriage",0,0,0,0,0,0,0,0,0,0,0,0,0,0,0,0]
[null,null,null,null,null,null,null,null,null,null,null,null,null,null,null,null,null,null,null,null,null,null,null,null,null,null,null,null,null,null,null,null,null,null,null,null,null,null,null,null,null,null,null,null,null,null,null,null,null,null,null,null,null,"2.2 Dowry Related Issues",0,0,0,0,0,0,0,0,0,0,0,0,0,0,0,0]
[null,null,null,null,null,null,null,null,null,null,null,null,null,null,null,null,null,null,null,null,null,null,null,null,null,null,null,null,null,null,null,null,null,null,null,null,null,null,null,null,null,null,null,null,null,null,null,null,null,null,null,null,null,"2.3 Extra Marital affairs",0,0,0,0,0,0,0,0,0,0,0,0,0,0,0,0]
[null,null,null,null,null,null,null,null,null,null,null,null,null,null,null,null,null,null,null,null,null,null,null,null,null,null,null,null,null,null,null,null,null,null,null,null,null,null,null,null,null,null,null,null,null,null,null,null,null,null,null,null,null,"2.4 Divorce",0,0,0,0,0,0,0,0,0,0,0,0,0,0,0,0]
[null,null,null,null,null,null,null,null,null,null,null,null,null,null,null,null,null,null,null,null,null,null,null,null,null,null,null,null,null,null,null,null,null,null,null,null,null,null,null,null,null,null,null,null,null,null,null,null,null,null,null,null,null,"2.5 Others",0,0,0,0,0,0,0,0,0,0,0,0,0,0,0,0]
[null,null,null,null,null,null,null,null,null,null,null,null,null,null,null,null,null,null,null,null,null,null,null,null,null,null,null,null,null,null,null,null,null,null,null,null,null,null,null,null,null,null,null,null,null,null,null,null,null,null,null,null,3,"Property dispute",0,0,0,0,0,0,0,0,0,0,0,0,0,0,0,0]
[null,null,null,null,null,null,null,null,null,null,null,null,null,null,null,null,null,null,null,null,null,null,null,null,null,null,null,null,null,null,null,null,null,null,null,null,null,null,null,null,null,null,null,null,null,null,null,null,null,null,null,null,4,"Impotency/Infertility",0,0,0,0,0,0,0,0,0,0,0,0,0,0,0,0]
[null,null,null,null,null,null,null,null,null,null,null,null,null,null,null,null,null,null,null,null,null,null,null,null,null,null,null,null,null,null,null,null,null,null,null,null,null,null,null,null,null,null,null,null,null,null,null,null,null,null,null,null,5,"Family problems",0,0,0,0,0,0,0,0,0,0,0,0,0,0,0,0]
[null,null,null,null,null,null,null,null,null,null,null,null,null,null,null,null,null,null,null,null,null,null,null,null,null,null,null,null,null,null,null,null,null,null,null,null,null,null,null,null,null,null,null,null,null,null,null,null,null,null,null,null,6,"Service Related Issues (sum of 6.1 to 6.5)",0,0,0,0,0,0,0,0,0,0,0,0,0,0,0,0]
[null,null,null,null,null,null,null,null,null,null,null,null,null,null,null,null,null,null,null,null,null,null,null,null,null,null,null,null,null,null,null,null,null,null,null,null,null,null,null,null,null,null,null,null,null,null,null,null,null,null,null,null,null,"6.1 Physical  fatigue",0,0,0,0,0,0,0,0,0,0,0,0,0,0,0,0]
[null,null,null,null,null,null,null,null,null,null,null,null,null,null,null,null,null,null,null,null,null,null,null,null,null,null,null,null,null,null,null,null,null,null,null,null,null,null,null,null,null,null,null,null,null,null,null,null,null,null,null,null,null,"6.2 Mental Depression",0,0,0,0,0,0,0,0,0,0,0,0,0,0,0,0]
[null,null,null,null,null,null,null,null,null,null,null,null,null,null,null,null,null,null,null,null,null,null,null,null,null,null,null,null,null,null,null,null,null,null,null,null,null,null,null,null,null,null,null,null,null,null,null,null,null,null,null,null,null,"6.3 Promotion related issues",0,0,0,0,0,0,0,0,0,0,0,0,0,0,0,0]
[null,null,null,null,null,null,null,null,null,null,null,null,null,null,null,null,null,null,null,null,null,null,null,null,null,null,null,null,null,null,null,null,null,null,null,null,null,null,null,null,null,null,null,null,null,null,null,null,null,null,null,null,null,"6.4 Leave related issues",0,0,0,0,0,0,0,0,0,0,0,0,0,0,0,0]
[null,null,null,null,null,null,null,null,null,null,null,null,null,null,null,null,null,null,null,null,null,null,null,null,null,null,null,null,null,null,null,null,null,null,null,null,null,null,null,null,null,null,null,null,null,null,null,null,null,null,null,null,null,"6.5 Other service conditions",0,0,0,0,0,0,0,0,0,0,0,0,0,0,0,0]
[null,null,null,null,null,null,null,null,null,null,null,null,null,null,null,null,null,null,null,null,null,null,null,null,null,null,null,null,null,null,null,null,null,null,null,null,null,null,null,null,null,null,null,null,null,null,null,null,null,null,null,null,7,"Drug abuse/Alcoholic addiction",0,0,0,0,0,0,0,0,0,0,0,0,0,0,0,0]
[null,null,null,null,null,null,null,null,null,null,null,null,null,null,null,null,null,null,null,null,null,null,null,null,null,null,null,null,null,null,null,null,null,null,null,null,null,null,null,null,null,null,null,null,null,null,null,null,null,null,null,null,8,"Fall in social reputation",0,0,0,0,0,0,0,0,0,0,0,0,0,0,0,0]
[null,null,null,null,null,null,null,null,null,null,null,null,null,null,null,null,null,null,null,null,null,null,null,null,null,null,null,null,null,null,null,null,null,null,null,null,null,null,null,null,null,null,null,null,null,null,null,null,null,null,null,null,9,"Causes not known",0,0,0,0,0,0,0,0,0,0,0,0,0,0,0,0]
[null,null,null,null,null,null,null,null,null,null,null,null,null,null,null,null,null,null,null,null,null,null,null,null,null,null,null,null,null,null,null,null,null,null,null,null,null,null,null,null,null,null,null,null,null,null,null,null,null,null,null,null,10,"Other causes",0,0,0,0,0,0,0,0,0,0,0,0,0,0,0,0]
[null,null,null,null,null,null,null,null,null,null,null,null,null,null,null,null,null,null,null,null,null,null,null,null,null,null,null,null,null,null,null,null,null,null,null,null,null,null,null,null,null,null,null,null,null,null,null,null,null,null,null,null,11,"Total (sum of Sl. 1 to 10)",0,0,0,0,0,0,0,0,0,0,0,0,0,0,0,0]
[null,null,null,null,null,null,null,null,null,null,null,null,null,null,null,null,null,null,null,null,null,null,null,null,null,null,null,null,null,null,null,null,null,null,null,null,null,null,null,null,null,null,null,null,null,null,null,null,null,null,null,null,{"$f":"A30","v":"Proforma-XIV VALUES [Sl. 21 (Total)]"},null,{"$f":"D30","v":55},88,57,28,232,26,16,14,6,70,0,0,0,0,0,302]
[null,null,null,null,null,null,null,null,null,null,null,null,null,null,null,null,null,null,null,null,null,null,null,null,null,null,null,null,null,null,null,null,null,null,null,null,null,null,null,null,null,null,null,null,null,null,null,null,null,null,null,null,{"$f":"A31","v":"VALIDATION  WITH  PROFORMA–XIV [Sl.–21 (Total)]"},null,{"$f":"D31","v":""},"","","","","","","","","","","","","","",""]
[null,null,null,null,null,null,null,null,null,null,null,null,null,null,null,null,null,null,null,null,null,null,null,null,null,null,null,null,null,null,null,null,null,null,null,null,null,null,null,null,null,null,null,null,null,null,null,null,null,null,null,null,{"$f":"A32","v":"SL-2.5 ABNORMAL VARIATION IN \"OTHERS\" DATA"},null,{"$f":"D32","v":""},"","","","","","","","","","","","","","",""]
[null,null,null,null,null,null,null,null,null,null,null,null,null,null,null,null,null,null,null,null,null,null,null,null,null,null,null,null,null,null,null,null,null,null,null,null,null,null,null,null,null,null,null,null,null,null,null,null,null,null,null,null,{"$f":"A33","v":"SL-6.5 ABNORMAL VARIATION IN \"OTHER SERVICE CONDITIONS\" DATA"},null,{"$f":"D33","v":""},"","","","","","","","","","","","","","",""]
[null,null,null,null,null,null,null,null,null,null,null,null,null,null,null,null,null,null,null,null,null,null,null,null,null,null,null,null,null,null,null,null,null,null,null,null,null,null,null,null,null,null,null,null,null,null,null,null,null,null,null,null,"SL-9 ABNORMAL VARIATION IN \"CAUSES NOT KNOWN\" DATA",null,"","","","","","","","","","","","","","","",""]
[null,null,null,null,null,null,null,null,null,null,null,null,null,null,null,null,null,null,null,null,null,null,null,null,null,null,null,null,null,null,null,null,null,null,null,null,null,null,null,null,null,null,null,null,null,null,null,null,null,null,null,null,"SL-10 ABNORMAL VARIATION IN \"OTHER CAUSES\" DATA",null,"","","","","","","","","","","","","","","",""]
[]
[]
[]
[]
[]
[]
[]
[]
[]
[]
[]
[]
[]
[]
[]
[]
[]
[]
[]
[]
[]
[]
[]
[]
[]
[]
[]
[]
[]
[]
[]
[]
[]
[]
[]
[]
[]
[]
[]
[]
[]
[]
[]
[]
[]
[]
[]
[]
[]
[]
[]
[]
[]
[]
[]
[]
[]
[]
[]
[]
[]
[]
[]
[]
[]
[]
[]
[]
[]
[]
[]
[]
[]
[]
[]
[]
[]
[]
[]
[]
[]
[]
[]
[]
[]
[]
[]
[]
[]
[]
[]
[]
[]
[]
[]
[]
[]
[]
[]
[]
[]
[]
[]
[]
[]
[]
[]
[]
[]
[]
[]
[]
[]
[]
[]
[]
[]
[]
[]
[]
[]
[]
[]
[]
[]
[]
[]
[]
[]
[]
[]
[]
[]
[]
[]
[]
[]
[]
[]
[]
[]
[]
[]
[]
[]
[]
[]
[]
[]
[]
[]
[]
[]
[]
[]
[]
[]
[]
[]
[]
[]
[]
[]
[]
[]
[]
[]
[]
[]
[]
[]
[]
[]
[]
[]
[]
[]
[]
[]
[]
[]
[]
[]
[]
[]
[]
[]
[]
[]
[]
[]
[]
[]
[]
[]
[]
[]
[]
[]
[]
[]
[]
[]
[]
[]
[]
[]
[]
[]
[]
[]
[]
[]
[]
[]
[]
[]
[]
[]
[]
[]
[]
[]
[]
[]
[]
[]
[]
[]
[]
[]
[]
[]
[]
[]
[]
[]
[]
[]
[]
[]
[]
[]
[]
[]
[]
[]
[]
[]
[]
[]
[]
[]
[]
[]
[]
[]
[]
[]
[]
[]
[]
[]
[]
[]
["StateUTCityCode","DistrictCode","CrimeCode","DataYear","Male_18 and above – below 30 years","Male_30 and above – below 45 years","Male_45 and above – below 60 years","Male_60 years & above","Male_Total","Female_18 and above – below 30 years","Female_30 and above – below 45 years","Female_45 and above – below 60 years","Female_60 years & above","Female_Total","Trans_18 and above – below 30 years","Trans_30 and above – below 45 years","Trans_45 and above – below 60 years","Trans_60 years & above","Trans_Total","Grand Total"]
[{"$f":"IF(ADSI!$G$12=\"\",ADSI!$H$16,ADSI!$H$12)","v":6},{"$f":"IF(ADSI!$G$12=\"\",ADSI!$H$16,ADSI!$H$14)","v":""},{"$f":"A9","v":1075},{"$f":"ADSI!$K$12","v":2022},{"$f":"D9","v":0},{"$f":"E9","v":0},0,0,0,0,0,0,0,0,0,0,0,0,0,0]
[{"$f":"IF(ADSI!$G$12=\"\",ADSI!$H$16,ADSI!$H$12)","v":6},{"$f":"IF(ADSI!$G$12=\"\",ADSI!$H$16,ADSI!$H$14)","v":""},{"$f":"A10","v":1076},{"$f":"ADSI!$K$12","v":2022},{"$f":"D10","v":0},0,0,0,0,0,0,0,0,0,0,0,0,0,0,0]
[{"$f":"IF(ADSI!$G$12=\"\",ADSI!$H$16,ADSI!$H$12)","v":6},{"$f":"IF(ADSI!$G$12=\"\",ADSI!$H$16,ADSI!$H$14)","v":""},1077,{"$f":"ADSI!$K$12","v":2022},{"$f":"D11","v":0},0,0,0,0,0,0,0,0,0,0,0,0,0,0,0]
[{"$f":"IF(ADSI!$G$12=\"\",ADSI!$H$16,ADSI!$H$12)","v":6},{"$f":"IF(ADSI!$G$12=\"\",ADSI!$H$16,ADSI!$H$14)","v":""},1078,{"$f":"ADSI!$K$12","v":2022},{"$f":"D12","v":0},0,0,0,0,0,0,0,0,0,0,0,0,0,0,0]
[{"$f":"IF(ADSI!$G$12=\"\",ADSI!$H$16,ADSI!$H$12)","v":6},{"$f":"IF(ADSI!$G$12=\"\",ADSI!$H$16,ADSI!$H$14)","v":""},1079,{"$f":"ADSI!$K$12","v":2022},{"$f":"D13","v":0},0,0,0,0,0,0,0,0,0,0,0,0,0,0,0]
[{"$f":"IF(ADSI!$G$12=\"\",ADSI!$H$16,ADSI!$H$12)","v":6},{"$f":"IF(ADSI!$G$12=\"\",ADSI!$H$16,ADSI!$H$14)","v":""},1080,{"$f":"ADSI!$K$12","v":2022},{"$f":"D14","v":0},0,0,0,0,0,0,0,0,0,0,0,0,0,0,0]
[{"$f":"IF(ADSI!$G$12=\"\",ADSI!$H$16,ADSI!$H$12)","v":6},{"$f":"IF(ADSI!$G$12=\"\",ADSI!$H$16,ADSI!$H$14)","v":""},1081,{"$f":"ADSI!$K$12","v":2022},{"$f":"D15","v":0},0,0,0,0,0,0,0,0,0,0,0,0,0,0,0]
[{"$f":"IF(ADSI!$G$12=\"\",ADSI!$H$16,ADSI!$H$12)","v":6},{"$f":"IF(ADSI!$G$12=\"\",ADSI!$H$16,ADSI!$H$14)","v":""},1082,{"$f":"ADSI!$K$12","v":2022},{"$f":"D16","v":0},0,0,0,0,0,0,0,0,0,0,0,0,0,0,0]
[{"$f":"IF(ADSI!$G$12=\"\",ADSI!$H$16,ADSI!$H$12)","v":6},{"$f":"IF(ADSI!$G$12=\"\",ADSI!$H$16,ADSI!$H$14)","v":""},1083,{"$f":"ADSI!$K$12","v":2022},{"$f":"D17","v":0},0,0,0,0,0,0,0,0,0,0,0,0,0,0,0]
[{"$f":"IF(ADSI!$G$12=\"\",ADSI!$H$16,ADSI!$H$12)","v":6},{"$f":"IF(ADSI!$G$12=\"\",ADSI!$H$16,ADSI!$H$14)","v":""},1084,{"$f":"ADSI!$K$12","v":2022},{"$f":"D18","v":0},0,0,0,0,0,0,0,0,0,0,0,0,0,0,0]
[{"$f":"IF(ADSI!$G$12=\"\",ADSI!$H$16,ADSI!$H$12)","v":6},{"$f":"IF(ADSI!$G$12=\"\",ADSI!$H$16,ADSI!$H$14)","v":""},1085,{"$f":"ADSI!$K$12","v":2022},{"$f":"D19","v":0},0,0,0,0,0,0,0,0,0,0,0,0,0,0,0]
[{"$f":"IF(ADSI!$G$12=\"\",ADSI!$H$16,ADSI!$H$12)","v":6},{"$f":"IF(ADSI!$G$12=\"\",ADSI!$H$16,ADSI!$H$14)","v":""},1086,{"$f":"ADSI!$K$12","v":2022},{"$f":"D20","v":0},0,0,0,0,0,0,0,0,0,0,0,0,0,0,0]
[{"$f":"IF(ADSI!$G$12=\"\",ADSI!$H$16,ADSI!$H$12)","v":6},{"$f":"IF(ADSI!$G$12=\"\",ADSI!$H$16,ADSI!$H$14)","v":""},1087,{"$f":"ADSI!$K$12","v":2022},{"$f":"D21","v":0},0,0,0,0,0,0,0,0,0,0,0,0,0,0,0]
[{"$f":"IF(ADSI!$G$12=\"\",ADSI!$H$16,ADSI!$H$12)","v":6},{"$f":"IF(ADSI!$G$12=\"\",ADSI!$H$16,ADSI!$H$14)","v":""},1088,{"$f":"ADSI!$K$12","v":2022},{"$f":"D22","v":0},0,0,0,0,0,0,0,0,0,0,0,0,0,0,0]
[{"$f":"IF(ADSI!$G$12=\"\",ADSI!$H$16,ADSI!$H$12)","v":6},{"$f":"IF(ADSI!$G$12=\"\",ADSI!$H$16,ADSI!$H$14)","v":""},1089,{"$f":"ADSI!$K$12","v":2022},{"$f":"D23","v":0},0,0,0,0,0,0,0,0,0,0,0,0,0,0,0]
[{"$f":"IF(ADSI!$G$12=\"\",ADSI!$H$16,ADSI!$H$12)","v":6},{"$f":"IF(ADSI!$G$12=\"\",ADSI!$H$16,ADSI!$H$14)","v":""},1090,{"$f":"ADSI!$K$12","v":2022},{"$f":"D24","v":0},0,0,0,0,0,0,0,0,0,0,0,0,0,0,0]
[{"$f":"IF(ADSI!$G$12=\"\",ADSI!$H$16,ADSI!$H$12)","v":6},{"$f":"IF(ADSI!$G$12=\"\",ADSI!$H$16,ADSI!$H$14)","v":""},1091,{"$f":"ADSI!$K$12","v":2022},{"$f":"D25","v":0},0,0,0,0,0,0,0,0,0,0,0,0,0,0,0]
[{"$f":"IF(ADSI!$G$12=\"\",ADSI!$H$16,ADSI!$H$12)","v":6},{"$f":"IF(ADSI!$G$12=\"\",ADSI!$H$16,ADSI!$H$14)","v":""},1092,{"$f":"ADSI!$K$12","v":2022},{"$f":"D26","v":0},0,0,0,0,0,0,0,0,0,0,0,0,0,0,0]
[{"$f":"IF(ADSI!$G$12=\"\",ADSI!$H$16,ADSI!$H$12)","v":6},{"$f":"IF(ADSI!$G$12=\"\",ADSI!$H$16,ADSI!$H$14)","v":""},1093,{"$f":"ADSI!$K$12","v":2022},{"$f":"D27","v":0},0,0,0,0,0,0,0,0,0,0,0,0,0,0,0]
[{"$f":"IF(ADSI!$G$12=\"\",ADSI!$H$16,ADSI!$H$12)","v":6},{"$f":"IF(ADSI!$G$12=\"\",ADSI!$H$16,ADSI!$H$14)","v":""},{"$f":"A28","v":1094},{"$f":"ADSI!$K$12","v":2022},{"$f":"D28","v":0},0,0,0,0,0,0,0,0,0,0,0,0,0,0,0]
[{"$f":"IF(ADSI!$G$12=\"\",ADSI!$H$16,ADSI!$H$12)","v":6},{"$f":"IF(ADSI!$G$12=\"\",ADSI!$H$16,ADSI!$H$14)","v":""},1110,{"$f":"ADSI!$K$12","v":2022},{"$f":"D29","v":0},0,0,0,0,0,0,0,0,0,0,0,0,0,0,0]

{"sheet":"P-XXIII","index":26,"n_rows":510,"n_cols":66,"rows_kept":510,"cut":false,"hidden":false,"merged":[[4,0,6,0],[18,0,18,2],[18,3,18,10],[19,3,19,10],[19,0,19,2],[4,3,4,14],[4,1,6,1],[4,2,6,2],[5,3,5,6],[5,7,5,10],[5,11,5,14],[8,3,8,14],[9,2,9,14],[17,0,17,2],[17,3,17,14],[203,52,205,52],[207,54,207,65],[217,52,217,61],[218,54,218,61],[218,52,218,53],[208,53,208,65],[204,62,204,65],[204,58,204,61],[204,54,204,57],[203,53,205,53],[203,54,203,65],[216,52,216,53],[216,54,216,65]]}
[{"$f":"ADSI!$B$1","v":"Goa, , ADSI-2022"}]
["Errors",null,{"$f":"COUNTIF(L20:O20,FALSE)+COUNTIF(D18,FALSE)","v":0}]
[{"$f":"IF(ADSI!$L$10=1,LangMaster!A457,LangMaster!B457)","v":"Proforma-XXIII"}]
[{"$f":"IF(ADSI!$L$10=1,LangMaster!A458,LangMaster!B458)","v":"Mass/Family Suicides"}]
[{"$f":"IF(ADSI!$L$10=1,LangMaster!A26,LangMaster!B26)","v":"Code"},{"$f":"IF(ADSI!$L$10=1,LangMaster!A27,LangMaster!B27)","v":"S.No."},{"$f":"IF(ADSI!$L$10=1,LangMaster!A458,LangMaster!B458)","v":"Mass/Family Suicides"},{"$f":"IF(ADSI!$L$10=1,LangMaster!A474,LangMaster!B474)","v":"No. of Suicides"}]
[null,null,null,{"$f":"IF(ADSI!$L$10=1,LangMaster!A475,LangMaster!B475)","v":"Married"},null,null,null,{"$f":"IF(ADSI!$L$10=1,LangMaster!A476,LangMaster!B476)","v":"Un-Married"},null,null,null,{"$f":"IF(ADSI!$L$10=1,LangMaster!A477,LangMaster!B477)","v":"Grand Total"}]
[null,null,null,{"$f":"IF(ADSI!$L$10=1,LangMaster!A30,LangMaster!B30)","v":"Male"},{"$f":"IF(ADSI!$L$10=1,LangMaster!A31,LangMaster!B31)","v":"Female"},{"$f":"IF(ADSI!$L$10=1,LangMaster!A32,LangMaster!B32)","v":"Transgender"},{"$f":"IF(ADSI!$L$10=1,LangMaster!A33,LangMaster!B33)","v":"Total"},{"$f":"IF(ADSI!$L$10=1,LangMaster!A30,LangMaster!B30)","v":"Male"},{"$f":"IF(ADSI!$L$10=1,LangMaster!A31,LangMaster!B31)","v":"Female"},{"$f":"IF(ADSI!$L$10=1,LangMaster!A32,LangMaster!B32)","v":"Transgender"},{"$f":"IF(ADSI!$L$10=1,LangMaster!A33,LangMaster!B33)","v":"Total"},{"$f":"IF(ADSI!$L$10=1,LangMaster!A30,LangMaster!B30)","v":"Male"},{"$f":"IF(ADSI!$L$10=1,LangMaster!A31,LangMaster!B31)","v":"Female"},{"$f":"IF(ADSI!$L$10=1,LangMaster!A32,LangMaster!B32)","v":"Transgender"},{"$f":"IF(ADSI!$L$10=1,LangMaster!A33,LangMaster!B33)","v":"Total"}]
[null,"(1)","(2)","(3)","(4)","(5)","(6)","(7)","(8)","(9)","(10)","(11)","(12)","(13)","(14)"]
[1125,1,{"$f":"IF(ADSI!$L$10=1,LangMaster!A459,LangMaster!B459)","v":"Total number of cases of Mass/Family Suicides"},1]
[null,null,{"$f":"IF(ADSI!$L$10=1,LangMaster!A460,LangMaster!B460)","v":"Age group wise classification of Mass/Family Suicide Victims"}]
[1126,2,{"$f":"IF(ADSI!$L$10=1,LangMaster!A461,LangMaster!B461)","v":"below 14 years"},0,0,0,{"$f":"SUM(D11:F11)","v":0},1,0,0,{"$f":"SUM(H11:J11)","v":1},{"$f":"SUM(D11+H11)","v":1},{"$f":"SUM(E11+I11)","v":0},{"$f":"SUM(F11+J11)","v":0},{"$f":"SUM(L11:N11)","v":1}]
[1127,3,{"$f":"IF(ADSI!$L$10=1,LangMaster!A462,LangMaster!B462)","v":"14 and above – below 18 years"},0,0,0,{"$f":"SUM(D12:F12)","v":0},0,0,0,{"$f":"SUM(H12:J12)","v":0},{"$f":"SUM(D12+H12)","v":0},0,0,{"$f":"SUM(L12:N12)","v":0}]
[1128,4,{"$f":"IF(ADSI!$L$10=1,LangMaster!A463,LangMaster!B463)","v":"18 and above – below 30 years"},0,0,0,0,0,0,0,0,0,0,0,0]
[1129,5,{"$f":"IF(ADSI!$L$10=1,LangMaster!A464,LangMaster!B464)","v":"30 and above – below 45 years"},1,0,0,1,0,0,0,0,1,0,0,1]
[1130,6,{"$f":"IF(ADSI!$L$10=1,LangMaster!A465,LangMaster!B465)","v":"45 and above – below 60 years"},0,0,0,0,0,0,0,0,0,0,0,0]
[1131,7,{"$f":"IF(ADSI!$L$10=1,LangMaster!A466,LangMaster!B466)","v":"60 years & above"},0,0,0,0,0,0,0,0,0,0,0,0]
[1132,8,{"$f":"IF(ADSI!$L$10=1,LangMaster!A467,LangMaster!B467)","v":"Total (sum of Sl. 2 to 7)"},{"$f":"SUM(D11:D16)","v":1},0,0,{"$f":"SUM(D17:F17)","v":1},1,0,0,{"$f":"SUM(H17:J17)","v":1},2,0,0,{"$f":"SUM(L17:N17)","v":2}]
["VALIDATION WITH NUMBER OF CASES",null,null,{"$f":"IF(AND(OR(G17>0,K17>0),D9=0),FALSE,\"\")","v":""}]
["PROFORMA–XIV VALUES",null,null,"Proforma-XIV Sl.–21 (Total)",null,null,null,null,null,null,null,{"$f":"'P-XIV'!J38","v":232},{"$f":"'P-XIV'!Q38","v":70},{"$f":"'P-XIV'!X38","v":0},{"$f":"'P-XIV'!Y38","v":302}]
["VALIDATION OF TOTAL WITH PROFORMA–XIV [Sl.–21 (Total)]",null,null,"TOTAL (Col. 11, 12, 13 & 14 of Sl.–8) should be less than or equal to Sl.–21 (Total) of Proforma-XIV",null,null,null,null,null,null,null,{"$f":"IF(L17<='P-XIV'!J38,\"\",FALSE)","v":""},{"$f":"IF(M17<='P-XIV'!Q38,\"\",FALSE)","v":""},{"$f":"IF(N17<='P-XIV'!X38,\"\",FALSE)","v":""},{"$f":"IF(O17<='P-XIV'!Y38,\"\",FALSE)","v":""}]
[]
[]
[]
[]
[]
[]
[]
[]
[]
[]
[]
[]
[]
[]
[]
[]
[]
[]
[]
[]
[]
[]
[]
[]
[]
[]
[]
[]
[]
[]
[]
[]
[]
[]
[]
[]
[]
[]
[]
[]
[]
[]
[]
[]
[]
[]
[]
[]
[]
[]
[]
[]
[]
[]
[]
[]
[]
[]
[]
[]
[]
[]
[]
[]
[]
[]
[]
[]
[]
[]
[]
[]
[]
[]
[]
[]
[]
[]
[]
[]
[]
[]
[]
[]
[]
[]
[]
[]
[]
[]
[]
[]
[]
[]
[]
[]
[]
[]
[]
[]
[]
[]
[]
[]
[]
[]
[]
[]
[]
[]
[]
[]
[]
[]
[]
[]
[]
[]
[]
[]
[]
[]
[]
[]
[]
[]
[]
[]
[]
[]
[]
[]
[]
[]
[]
[]
[]
[]
[]
[]
[]
[]
[]
[]
[]
[]
[]
[]
[]
[]
[]
[]
[]
[]
[]
[]
[]
[]
[]
[]
[]
[]
[]
[]
[]
[]
[]
[]
[]
[]
[]
[]
[]
[]
[]
[]
[]
[]
[]
[null,null,null,null,null,null,null,null,null,null,null,null,null,null,null,null,null,null,null,null,null,null,null,null,null,null,null,null,null,null,null,null,null,null,null,null,null,null,null,null,null,null,null,null,null,null,null,null,null,null,null,null,{"$f":"A1","v":"Goa, , ADSI-2022"}]
[null,null,null,null,null,null,null,null,null,null,null,null,null,null,null,null,null,null,null,null,null,null,null,null,null,null,null,null,null,null,null,null,null,null,null,null,null,null,null,null,null,null,null,null,null,null,null,null,null,null,null,null,{"$f":"A2","v":"Errors"},{"$f":"C2","v":0}]
[null,null,null,null,null,null,null,null,null,null,null,null,null,null,null,null,null,null,null,null,null,null,null,null,null,null,null,null,null,null,null,null,null,null,null,null,null,null,null,null,null,null,null,null,null,null,null,null,null,null,null,null,{"$f":"A3","v":"Proforma-XXIII"}]
[null,null,null,null,null,null,null,null,null,null,null,null,null,null,null,null,null,null,null,null,null,null,null,null,null,null,null,null,null,null,null,null,null,null,null,null,null,null,null,null,null,null,null,null,null,null,null,null,null,null,null,null,{"$f":"A4","v":"Mass/Family Suicides"}]
[null,null,null,null,null,null,null,null,null,null,null,null,null,null,null,null,null,null,null,null,null,null,null,null,null,null,null,null,null,null,null,null,null,null,null,null,null,null,null,null,null,null,null,null,null,null,null,null,null,null,null,null,{"$f":"B5","v":"S.No."},{"$f":"C5","v":"Mass/Family Suicides"},{"$f":"D5","v":"No. of Suicides"}]
[null,null,null,null,null,null,null,null,null,null,null,null,null,null,null,null,null,null,null,null,null,null,null,null,null,null,null,null,null,null,null,null,null,null,null,null,null,null,null,null,null,null,null,null,null,null,null,null,null,null,null,null,null,null,{"$f":"D6","v":"Married"},null,null,null,{"$f":"H6","v":"Un-Married"},null,null,null,{"$f":"L6","v":"Grand Total"}]
[null,null,null,null,null,null,null,null,null,null,null,null,null,null,null,null,null,null,null,null,null,null,null,null,null,null,null,null,null,null,null,null,null,null,null,null,null,null,null,null,null,null,null,null,null,null,null,null,null,null,null,null,null,null,{"$f":"D7","v":"Male"},{"$f":"E7","v":"Female"},"Transgender","Total",{"$f":"H7","v":"Male"},{"$f":"I7","v":"Female"},"Transgender","Total",{"$f":"L7","v":"Male"},{"$f":"M7","v":"Female"},"Transgender","Total"]
[null,null,null,null,null,null,null,null,null,null,null,null,null,null,null,null,null,null,null,null,null,null,null,null,null,null,null,null,null,null,null,null,null,null,null,null,null,null,null,null,null,null,null,null,null,null,null,null,null,null,null,null,{"$f":"B8","v":"(1)"},{"$f":"C8","v":"(2)"},{"$f":"D8","v":"(3)"},"(4)","(5)","(6)",{"$f":"H8","v":"(7)"},"(8)","(9)","(10)",{"$f":"L8","v":"(11)"},"(12)","(13)","(14)"]
[null,null,null,null,null,null,null,null,null,null,null,null,null,null,null,null,null,null,null,null,null,null,null,null,null,null,null,null,null,null,null,null,null,null,null,null,null,null,null,null,null,null,null,null,null,null,null,null,null,null,null,null,{"$f":"B9","v":1},"Total number of cases of Mass/Family Suicides",{"$f":"D9","v":1}]
[null,null,null,null,null,null,null,null,null,null,null,null,null,null,null,null,null,null,null,null,null,null,null,null,null,null,null,null,null,null,null,null,null,null,null,null,null,null,null,null,null,null,null,null,null,null,null,null,null,null,null,null,null,"Age group wise classification of Mass/Family Suicide Victims"]
[null,null,null,null,null,null,null,null,null,null,null,null,null,null,null,null,null,null,null,null,null,null,null,null,null,null,null,null,null,null,null,null,null,null,null,null,null,null,null,null,null,null,null,null,null,null,null,null,null,null,null,null,{"$f":"B11","v":2},"below 14 years",{"$f":"D11","v":0},0,0,0,1,0,0,1,{"$f":"L11","v":1},0,0,1]
[null,null,null,null,null,null,null,null,null,null,null,null,null,null,null,null,null,null,null,null,null,null,null,null,null,null,null,null,null,null,null,null,null,null,null,null,null,null,null,null,null,null,null,null,null,null,null,null,null,null,null,null,3,"14 and above – below 18 years",0,0,0,0,0,0,0,0,0,0,0,0]
[null,null,null,null,null,null,null,null,null,null,null,null,null,null,null,null,null,null,null,null,null,null,null,null,null,null,null,null,null,null,null,null,null,null,null,null,null,null,null,null,null,null,null,null,null,null,null,null,null,null,null,null,4,"18 and above – below 30 years",0,0,0,0,0,0,0,0,0,0,0,0]
[null,null,null,null,null,null,null,null,null,null,null,null,null,null,null,null,null,null,null,null,null,null,null,null,null,null,null,null,null,null,null,null,null,null,null,null,null,null,null,null,null,null,null,null,null,null,null,null,null,null,null,null,5,"30 and above – below 45 years",1,0,0,1,0,0,0,0,1,0,0,1]
[null,null,null,null,null,null,null,null,null,null,null,null,null,null,null,null,null,null,null,null,null,null,null,null,null,null,null,null,null,null,null,null,null,null,null,null,null,null,null,null,null,null,null,null,null,null,null,null,null,null,null,null,6,"45 and above – below 60 years",0,0,0,0,0,0,0,0,0,0,0,0]
[null,null,null,null,null,null,null,null,null,null,null,null,null,null,null,null,null,null,null,null,null,null,null,null,null,null,null,null,null,null,null,null,null,null,null,null,null,null,null,null,null,null,null,null,null,null,null,null,null,null,null,null,7,"60 years & above",0,0,0,0,0,0,0,0,0,0,0,0]
[null,null,null,null,null,null,null,null,null,null,null,null,null,null,null,null,null,null,null,null,null,null,null,null,null,null,null,null,null,null,null,null,null,null,null,null,null,null,null,null,null,null,null,null,null,null,null,null,null,null,null,null,8,"Total (sum of Sl. 2 to 7)",1,0,0,1,1,0,0,1,2,0,0,2]
[null,null,null,null,null,null,null,null,null,null,null,null,null,null,null,null,null,null,null,null,null,null,null,null,null,null,null,null,null,null,null,null,null,null,null,null,null,null,null,null,null,null,null,null,null,null,null,null,null,null,null,null,{"$f":"A18","v":"VALIDATION WITH NUMBER OF CASES"},null,{"$f":"D18","v":""}]
[null,null,null,null,null,null,null,null,null,null,null,null,null,null,null,null,null,null,null,null,null,null,null,null,null,null,null,null,null,null,null,null,null,null,null,null,null,null,null,null,null,null,null,null,null,null,null,null,null,null,null,null,{"$f":"D19","v":"Proforma-XIV Sl.–21 (Total)"},null,null,null,null,null,null,null,null,null,{"$f":"L19","v":232},{"$f":"M19","v":70},{"$f":"N19","v":0},{"$f":"O19","v":302}]
[null,null,null,null,null,null,null,null,null,null,null,null,null,null,null,null,null,null,null,null,null,null,null,null,null,null,null,null,null,null,null,null,null,null,null,null,null,null,null,null,null,null,null,null,null,null,null,null,null,null,null,null,{"$f":"A20","v":"VALIDATION OF TOTAL WITH PROFORMA–XIV [Sl.–21 (Total)]"},null,{"$f":"D20","v":"TOTAL (Col. 11, 12, 13 & 14 of Sl.–8) should be less than or equal to Sl.–21 (Total) of Proforma-XIV"},null,null,null,null,null,null,null,"","","",""]
[]
[]
[]
[]
[]
[]
[]
[]
[]
[]
[]
[]
[]
[]
[]
[]
[]
[]
[]
[]
[]
[]
[]
[]
[]
[]
[]
[]
[]
[]
[]
[]
[]
[]
[]
[]
[]
[]
[]
[]
[]
[]
[]
[]
[]
[]
[]
[]
[]
[]
[]
[]
[]
[]
[]
[]
[]
[]
[]
[]
[]
[]
[]
[]
[]
[]
[]
[]
[]
[]
[]
[]
[]
[]
[]
[]
[]
[]
[]
[]
[]
[]
[]
[]
[]
[]
[]
[]
[]
[]
[]
[]
[]
[]
[]
[]
[]
[]
[]
[]
[]
[]
[]
[]
[]
[]
[]
[]
[]
[]
[]
[]
[]
[]
[]
[]
[]
[]
[]
[]
[]
[]
[]
[]
[]
[]
[]
[]
[]
[]
[]
[]
[]
[]
[]
[]
[]
[]
[]
[]
[]
[]
[]
[]
[]
[]
[]
[]
[]
[]
[]
[]
[]
[]
[]
[]
[]
[]
[]
[]
[]
[]
[]
[]
[]
[]
[]
[]
[]
[]
[]
[]
[]
[]
[]
[]
[]
[]
[]
[]
[]
[]
[]
[]
[]
[]
[]
[]
[]
[]
[]
[]
[]
[]
[]
[]
[]
[]
[]
[]
[]
[]
[]
[]
[]
[]
[]
[]
[]
[]
[]
[]
[]
[]
[]
[]
[]
[]
[]
[]
[]
[]
[]
[]
[]
[]
[]
[]
[]
[]
[]
[]
[]
[]
[]
[]
[]
[]
[]
[]
[]
[]
[]
[]
[]
[]
[]
[]
[]
[]
[]
[]
[]
[]
[]
[]
[]
[]
[]
[]
[]
[]
[]
[]
[]
[]
[]
[]
[]
[]
[]
[]
[]
[]
[]
[]
[]
[]
[]
[]
["StateUTCityCode","DistrictCode","CrimeCode","DataYear","Total Cases"]
[{"$f":"IF(ADSI!$G$12=\"\",ADSI!$H$16,ADSI!$H$12)","v":6},{"$f":"IF(ADSI!$G$12=\"\",ADSI!$H$16,ADSI!$H$14)","v":""},{"$f":"A9","v":1125},{"$f":"ADSI!$K$12","v":2022},{"$f":"D9","v":1}]
[]
["StateUTCityCode","DistrictCode","CrimeCode","DataYear","Married_Male","Married_Female","Married_Trans","Married_Total","UnMarried_Male","UnMarried_Female","UnMarried_Trans","UnMarried_Total","GrandTotal_Male","GrandTotal_Female","GrandTotal_Trans","GrandTotal_Total"]
[{"$f":"IF(ADSI!$G$12=\"\",ADSI!$H$16,ADSI!$H$12)","v":6},{"$f":"IF(ADSI!$G$12=\"\",ADSI!$H$16,ADSI!$H$14)","v":""},{"$f":"A11","v":1126},{"$f":"ADSI!$K$12","v":2022},{"$f":"D11","v":0},{"$f":"E11","v":0},0,0,1,0,0,1,1,0,0,1]
[{"$f":"IF(ADSI!$G$12=\"\",ADSI!$H$16,ADSI!$H$12)","v":6},{"$f":"IF(ADSI!$G$12=\"\",ADSI!$H$16,ADSI!$H$14)","v":""},{"$f":"A12","v":1127},{"$f":"ADSI!$K$12","v":2022},{"$f":"D12","v":0},0,0,0,0,0,0,0,0,0,0,0]
[{"$f":"IF(ADSI!$G$12=\"\",ADSI!$H$16,ADSI!$H$12)","v":6},{"$f":"IF(ADSI!$G$12=\"\",ADSI!$H$16,ADSI!$H$14)","v":""},1128,{"$f":"ADSI!$K$12","v":2022},{"$f":"D13","v":0},0,0,0,0,0,0,0,0,0,0,0]
[{"$f":"IF(ADSI!$G$12=\"\",ADSI!$H$16,ADSI!$H$12)","v":6},{"$f":"IF(ADSI!$G$12=\"\",ADSI!$H$16,ADSI!$H$14)","v":""},1129,{"$f":"ADSI!$K$12","v":2022},{"$f":"D14","v":1},0,0,1,0,0,0,0,1,0,0,1]
[{"$f":"IF(ADSI!$G$12=\"\",ADSI!$H$16,ADSI!$H$12)","v":6},{"$f":"IF(ADSI!$G$12=\"\",ADSI!$H$16,ADSI!$H$14)","v":""},1130,{"$f":"ADSI!$K$12","v":2022},{"$f":"D15","v":0},0,0,0,0,0,0,0,0,0,0,0]
[{"$f":"IF(ADSI!$G$12=\"\",ADSI!$H$16,ADSI!$H$12)","v":6},{"$f":"IF(ADSI!$G$12=\"\",ADSI!$H$16,ADSI!$H$14)","v":""},1131,{"$f":"ADSI!$K$12","v":2022},{"$f":"D16","v":0},0,0,0,0,0,0,0,0,0,0,0]
[{"$f":"IF(ADSI!$G$12=\"\",ADSI!$H$16,ADSI!$H$12)","v":6},{"$f":"IF(ADSI!$G$12=\"\",ADSI!$H$16,ADSI!$H$14)","v":""},1132,{"$f":"ADSI!$K$12","v":2022},{"$f":"D17","v":1},0,0,1,1,0,0,1,2,0,0,2]

{"sheet":"Status","index":27,"n_rows":7,"n_cols":13,"rows_kept":7,"cut":false,"hidden":true,"merged":[]}
["Consolidation Status"]
["(File generated on 24-03-2023 15:25:39)"]
[]
["SNo","DataYear","StateCode","StateName","DistCode","DistName","MCityCode","MCityName","PSName","TotalError","TotalVariation","FileName","DateOn"]
[1,"2022","6","GOA","1","North Goa","-","-","-","0","57","C:\\Users\\Dell\\Desktop\\ADSI 2022\\DISTWISE\\ADSI_GOA_North Goa_2022.xlsm","24-03-2023 15:24:23"]
[2,"2022","6","GOA","3","CID","-","-","-","0","12","C:\\Users\\Dell\\Desktop\\ADSI 2022\\DISTWISE\\CID.xlsm","24-03-2023 15:24:24"]
[3,"2022","6","GOA","2","South Goa","-","-","-","0","25","C:\\Users\\Dell\\Desktop\\ADSI 2022\\DISTWISE\\SOUTH.xlsm","24-03-2023 15:24:26"]

{"sheet":"LangMaster","index":28,"n_rows":484,"n_cols":4,"rows_kept":484,"cut":false,"hidden":false,"merged":[]}
["English","Language Selected","Hindi","Regional Language"]
["Accidental Deaths & Suicides in India","भारत में दुर्घटनात्मक मृत्यु एवं आत्महत्यायें","भारत में दुर्घटनात्मक मृत्यु एवं आत्महत्यायें","भारत में दुर्घटनात्मक मृत्यु एवं आत्महत्यायें"]
["(Proformae Revision year 2016)","(प्रोफार्मा संशोधन वर्ष 2016)","(प्रोफार्मा संशोधन वर्ष 2016)","(प्रोफार्मा संशोधन वर्ष 2016)"]
["Data Entry Module v5.0","आँकड़े प्रविष्टि v5.0","आँकड़े प्रविष्टि v5.0","आँकड़े प्रविष्टि v5.0"]
["Select the State/UT Name","राज्य / संघ शासित प्रदेश का नाम चुनें","राज्य / संघ शासित प्रदेश का नाम चुनें","राज्य / संघ शासित प्रदेश का नाम चुनें"]
["Select the District Name","जिले का नाम चुनें","जिले का नाम चुनें","जिले का नाम चुनें"]
["Select the Metropolitan City Name","महानगर का नाम चुनें","महानगर का नाम चुनें","महानगर का नाम चुनें"]
["Police Station Name","थाना का नाम चुनें","थाना का नाम चुनें","थाना का नाम चुनें"]
["Name of the Officer preparing this report","इस रिपोर्ट को तैयार करने वाले अधिकारी का नाम","इस रिपोर्ट को तैयार करने वाले अधिकारी का नाम","इस रिपोर्ट को तैयार करने वाले अधिकारी का नाम"]
["Whether Original / Revised data?","मूल या संशोधित डेटा?","मूल या संशोधित डेटा?","मूल या संशोधित डेटा?"]
["Date of Submission of this report","इस रिपोर्ट को प्रस्तुत करने की तारीख","इस रिपोर्ट को प्रस्तुत करने की तारीख","इस रिपोर्ट को प्रस्तुत करने की तारीख"]
["Language","भाषा","भाषा","भाषा"]
["Data Year","वर्ष","वर्ष","वर्ष"]
["Number of Errors Found:","त्रुटियों की कुल संख्या","त्रुटियों की कुल संख्या","त्रुटियों की कुल संख्या"]
["Total Abnormal variations in data:","आंकडों में असाधारण विचलनों की कुल संख्या","आंकडों में असाधारण विचलनों की कुल संख्या","आंकडों में असाधारण विचलनों की कुल संख्या"]
["(Authorized Signatory)","(अधिकृत हस्ताक्षर)","(अधिकृत हस्ताक्षर)","(अधिकृत हस्ताक्षर)"]
["Name :  ","नाम","नाम","नाम"]
["Rank :  ","पद","पद","पद"]
["Office seal :  ","कार्यालय मोहर","कार्यालय मोहर","कार्यालय मोहर"]
["Note:    1. The output file (after data entry) must be saved in .xlsm format only.","टिप्पणी:     1. डेटा प्रविष्टि के बाद फ़ाइल को .xlsm प्रारूप में सेव करें।","टिप्पणी:     1. डेटा प्रविष्टि के बाद फ़ाइल को .xlsm प्रारूप में सेव करें।","टिप्पणी:     1. डेटा प्रविष्टि के बाद फ़ाइल को .xlsm प्रारूप में सेव करें।"]
["2. NCRB/SCRB can not import/accept the data until the data is error free (i.e. Error count = 0)","2. जब तक डेटा त्रुटि मुक्त ना हो तब तक एन.सी.आर.बी/एस.सी.आर.बी डेटा को आयात / स्वीकार नहीं कर सकते हैं।","2. जब तक डेटा त्रुटि मुक्त ना हो तब तक एन.सी.आर.बी/एस.सी.आर.बी डेटा को आयात / स्वीकार नहीं कर सकते हैं।","2. जब तक डेटा त्रुटि मुक्त ना हो तब तक एन.सी.आर.बी/एस.सी.आर.बी डेटा को आयात / स्वीकार नहीं कर सकते हैं।"]
["3. The proformae output can be printed only on LEGAL size paper.","3. प्रोफार्मा को लीगल आकार कागज में प्रिंट करें / छापें।","3. प्रोफार्मा को लीगल आकार कागज में प्रिंट करें / छापें।","3. प्रोफार्मा को लीगल आकार कागज में प्रिंट करें / छापें।"]
["Proforma-I","प्रपत्र-1","प्रपत्र-1","प्रपत्र-1"]
["Accidental Deaths due to Natural Calamities","प्राकृतिक आपदाओं के कारण आकस्मिक मृत्यु","प्राकृतिक आपदाओं के कारण आकस्मिक मृत्यु","प्राकृतिक आपदाओं के कारण आकस्मिक मृत्यु"]
["Abnormal Variations","असामान्य विविधताएं","असामान्य विविधताएं","असामान्य विविधताएं"]
["Code","कोड","कोड","कोड"]
["S.No.","क्र. स.","क्र. स.","क्र. स."]
["Factors","कारक","कारक","कारक"]
["Number of Accidental Deaths","दुर्घटना में होने वाली मौतों की संख्या","दुर्घटना में होने वाली मौतों की संख्या","दुर्घटना में होने वाली मौतों की संख्या"]
["Male","पुरुष","पुरुष","पुरुष"]
["Female","महिला","महिला","महिला"]
["Transgender","उभयलिंगी ","उभयलिंगी ","उभयलिंगी "]
["Total","कुल","कुल","कुल"]
["below 14 years","14 वर्ष से नीचे","14 वर्ष से नीचे","14 वर्ष से नीचे"]
["14 and above – below 18 years","14 वर्ष और उससे ऊपर - 18 वर्ष से कम","14 वर्ष और उससे ऊपर - 18 वर्ष से कम","14 वर्ष और उससे ऊपर - 18 वर्ष से कम"]
["18 and above – below 30 years","18  वर्ष और उससे ऊपर - 30 साल से नीचे","18  वर्ष और उससे ऊपर - 30 साल से नीचे","18  वर्ष और उससे ऊपर - 30 साल से नीचे"]
["30 and above – below 45 years","30  वर्ष और उससे ऊपर - 45 साल से नीचे","30  वर्ष और उससे ऊपर - 45 साल से नीचे","30  वर्ष और उससे ऊपर - 45 साल से नीचे"]
["45 and above – below 60 years","45  वर्ष और उससे ऊपर - 60 साल से नीचे","45  वर्ष और उससे ऊपर - 60 साल से नीचे","45  वर्ष और उससे ऊपर - 60 साल से नीचे"]
["60 years & above","60 वर्ष और उससे ऊपर","60 वर्ष और उससे ऊपर","60 वर्ष और उससे ऊपर"]
["sum","योग","योग","योग"]
["Total","कुल","कुल","कुल"]
["Avalanche","हिमस्खलन","हिमस्खलन","हिमस्खलन"]
["Exposure to cold","ठंड के कारण","ठंड के कारण","ठंड के कारण"]
["Cyclone","चक्रवात","चक्रवात","चक्रवात"]
["Tornado","वंडर","वंडर","वंडर"]
["Tsunami","सुनामी","सुनामी","सुनामी"]
["Starvation due to natural calamity","प्राकृतिक आपदा के कारण भुखमरी","प्राकृतिक आपदा के कारण भुखमरी","प्राकृतिक आपदा के कारण भुखमरी"]
["Earthquake","भूकंप","भूकंप","भूकंप"]
["Epidemic","महामारी","महामारी","महामारी"]
["Flood","बाढ़","बाढ़","बाढ़"]
["Heat/Sun Stroke","गर्मी/लू लगने से","गर्मी/लू लगने से","गर्मी/लू लगने से"]
["Landslide","भूस्खलन","भूस्खलन","भूस्खलन"]
["Lightning","आकाशीय बिजली","आकाशीय बिजली","आकाशीय बिजली"]
["Torrential Rain","मूसलधार बारिश","मूसलधार बारिश","मूसलधार बारिश"]
["Forest Fire","जंगल की आग","जंगल की आग","जंगल की आग"]
["Other Natural Causes","अन्य प्राकृतिक कारण","अन्य प्राकृतिक कारण","अन्य प्राकृतिक कारण"]
["Proforma-II","प्रपत्र-II","प्रपत्र-II","प्रपत्र-II"]
["Cause-wise distribution of Un-natural Accidents","अप्राकृतिक दुर्घटनाओं का कारण-वार वितरण","अप्राकृतिक दुर्घटनाओं का कारण-वार वितरण","अप्राकृतिक दुर्घटनाओं का कारण-वार वितरण"]
["Air Crash","विमान दुर्घटना  से","विमान दुर्घटना  से","विमान दुर्घटना  से"]
["Ship Accidents","जहाज दुर्घटना से","जहाज दुर्घटना से","जहाज दुर्घटना से"]
["Collapse of Structure (Total) (sum of 3.1 to 3.5)","संरचना का पतन (कुल) (3.1 से 3.5 का योग)","संरचना का पतन (कुल) (3.1 से 3.5 का योग)","संरचना का पतन (कुल) (3.1 से 3.5 का योग)"]
["3.1 Collapse of Dwelling House/Residential building","3.1 निवास स्थान / आवासीय इमारत के ढहने से","3.1 निवास स्थान / आवासीय इमारत के ढहने से","3.1 निवास स्थान / आवासीय इमारत के ढहने से"]
["3.2 Collapse of Official/Commercial Building","3.2 सरकरी /व्यावसायिक इमारत के ढहने से","3.2 सरकरी /व्यावसायिक इमारत के ढहने से","3.2 सरकरी /व्यावसायिक इमारत के ढहने से"]
["3.3 Collapse of Dam","3.3  बांध के टूटने से","3.3  बांध के टूटने से","3.3  बांध के टूटने से"]
["3.4 Collapse of  Bridge","3.4  पुल के ढहने से","3.4  पुल के ढहने से","3.4  पुल के ढहने से"]
["3.5 Others","3.5 अन्य इमारतों के ढहने से","3.5 अन्य इमारतों के ढहने से","3.5 अन्य इमारतों के ढहने से"]
["Drowning (Total) (sum of 4.1 to 4.3)","डूबने से(कुल) (4.1 से 4.3 का योग)","डूबने से(कुल) (4.1 से 4.3 का योग)","डूबने से(कुल) (4.1 से 4.3 का योग)"]
["4.1 Boat Capsize","4.1 नाव पलटने से","4.1 नाव पलटने से","4.1 नाव पलटने से"]
["4.2 Accidental Falls into Waterbody","4.2 गलती से पानी मे गिरने से","4.2 गलती से पानी मे गिरने से","4.2 गलती से पानी मे गिरने से"]
["4.3 Other Cases","4.3 अन्य डूबने के मामलो से","4.3 अन्य डूबने के मामलो से","4.3 अन्य डूबने के मामलो से"]
["Electrocution","बिजली के तार छूने से","बिजली के तार छूने से","बिजली के तार छूने से"]
["Accidental Explosion (Total) (sum of 6.1 to 6.4)","आकस्मिक विस्फोट(कुल) (6.1 से 6.4 का योग)","आकस्मिक विस्फोट(कुल) (6.1 से 6.4 का योग)","आकस्मिक विस्फोट(कुल) (6.1 से 6.4 का योग)"]
["6.1 Domestic Gas Cylinder","6.1 घरेलू गैस सिलेंडर से","6.1 घरेलू गैस सिलेंडर से","6.1 घरेलू गैस सिलेंडर से"]
["6.2 Industrial Boiler/Gas cylinder explosion","6.2 औद्योगिक बॉयलर / गैस सिलेंडर विस्फोट से","6.2 औद्योगिक बॉयलर / गैस सिलेंडर विस्फोट से","6.2 औद्योगिक बॉयलर / गैस सिलेंडर विस्फोट से"]
["6.3 Ammunition explosion in Armed Forces/Police/CPMF","6.3 सशस्त्र बलों / पुलिस / सीपीएमएफ में गोला बारूद विस्फोट से","6.3 सशस्त्र बलों / पुलिस / सीपीएमएफ में गोला बारूद विस्फोट से","6.3 सशस्त्र बलों / पुलिस / सीपीएमएफ में गोला बारूद विस्फोट से"]
["6.4 Other","6.4 अन्य विस्पोटक कारणो से","6.4 अन्य विस्पोटक कारणो से","6.4 अन्य विस्पोटक कारणो से"]
["Falls (Total) (sum of 7.1 to 7.6)","गिरने से (कुल) (7.1 से 7.6 का योग)","गिरने से (कुल) (7.1 से 7.6 का योग)","गिरने से (कुल) (7.1 से 7.6 का योग)"]
["7.1 Fall from Height","7.1 ऊंचाई से गिरने से","7.1 ऊंचाई से गिरने से","7.1 ऊंचाई से गिरने से"]
["7.2 Fall from Vehicles (Automobile like Bus, Trucks, etc.)","7.2 वाहनों से गिरने से (बस, ट्रक, आदि जैसे ऑटोमोबाइल)","7.2 वाहनों से गिरने से (बस, ट्रक, आदि जैसे ऑटोमोबाइल)","7.2 वाहनों से गिरने से (बस, ट्रक, आदि जैसे ऑटोमोबाइल)"]
["7.3 Fall into Manhole / Sewer","7.3 मैनहोल / सीवर में गिरने से","7.3 मैनहोल / सीवर में गिरने से","7.3 मैनहोल / सीवर में गिरने से"]
["7.4 Fall into Pit","7.4 गड्ढे में गिरने से","7.4 गड्ढे में गिरने से","7.4 गड्ढे में गिरने से"]
["7.5 Fall into Borewell","7.5  बोरवेल में गिरने से","7.5  बोरवेल में गिरने से","7.5  बोरवेल में गिरने से"]
["7.6 Others","7.6 अन्य गिरने के मामलो से","7.6 अन्य गिरने के मामलो से","7.6 अन्य गिरने के मामलो से"]
["Factory/Machine accidents","कारखाना / मशीन दुर्घटनाएं से","कारखाना / मशीन दुर्घटनाएं से","कारखाना / मशीन दुर्घटनाएं से"]
["Accidental Fire (Total) (sum of 9.1 to 9.5)","आकस्मिक आग से (कुल) (9.1 से 9.5 का योग)","आकस्मिक आग से (कुल) (9.1 से 9.5 का योग)","आकस्मिक आग से (कुल) (9.1 से 9.5 का योग)"]
["9.1 Electrical Short circuit","9.1 विद्युत शॉर्ट सर्किट से","9.1 विद्युत शॉर्ट सर्किट से","9.1 विद्युत शॉर्ट सर्किट से"]
["9.2 Riot/Agitation","9.2 दंगा / आंदोलन से","9.2 दंगा / आंदोलन से","9.2 दंगा / आंदोलन से"]
["9.3 Fireworks","9.3 आतिशबाजी से","9.3 आतिशबाजी से","9.3 आतिशबाजी से"]
["9.4 Cooking Gas cylinder/stove burst","9.4 रसोई गैस सिलेंडर / स्टोव से","9.4 रसोई गैस सिलेंडर / स्टोव से","9.4 रसोई गैस सिलेंडर / स्टोव से"]
["9.5 Other Causes","9.5 अन्य आग कारणो से","9.5 अन्य आग कारणो से","9.5 अन्य आग कारणो से"]
["Firearm","बन्दूक से","बन्दूक से","बन्दूक से"]
["Mines or Quarry disaster","खानो या खदान आपदा से","खानो या खदान आपदा से","खानो या खदान आपदा से"]
["Traffic Accidents (Total) (sum of 12.1, 12.2 and 12.3)","यातायात दुर्घटनाएं (कुल) (12.1, 12.2 और 12.3 का योग)","यातायात दुर्घटनाएं (कुल) (12.1, 12.2 और 12.3 का योग)","यातायात दुर्घटनाएं (कुल) (12.1, 12.2 और 12.3 का योग)"]
["12.1 Road Accidents ","12.1 सड़क घटनाओं से","12.1 सड़क घटनाओं से","12.1 सड़क घटनाओं से"]
[]
[]
["12.2 Railway Crossing Accidents"," 12.2  रेलवे क्रॉसिंग के कारण घटनाओं से"," 12.2  रेलवे क्रॉसिंग के कारण घटनाओं से"," 12.2  रेलवे क्रॉसिंग के कारण घटनाओं से"]
["12.3 Railway Accidents ","12.3  रेलवे दुर्घटना से","12.3  रेलवे दुर्घटना से","12.3  रेलवे दुर्घटना से"]
["Stampede","भगदड़ से","भगदड़ से","भगदड़ से"]
["Other Unnatural Causes","अन्य अप्राकृतिक कारण","अन्य अप्राकृतिक कारण","अन्य अप्राकृतिक कारण"]
["Causes not known","अज्ञात करणों से","अज्ञात करणों से","अज्ञात करणों से"]
["Total (sum of Sl. 1 to 15)","कुल (क्रम 1 से 15 का योग)","कुल (क्रम 1 से 15 का योग)","कुल (क्रम 1 से 15 का योग)"]
["Proforma-II(A)","प्रपत्र--II(A)","प्रपत्र--II(A)","प्रपत्र--II(A)"]
["Fire Accidents classified according to Place of Occurrence ","आग दुर्घटनाओं को घटना के स्थान के अनुसार वर्गीकृत ","आग दुर्घटनाओं को घटना के स्थान के अनुसार वर्गीकृत ","आग दुर्घटनाओं को घटना के स्थान के अनुसार वर्गीकृत "]
["Place of occurrence","घटना स्थल","घटना स्थल","घटना स्थल"]
["Fire in School Buildings","स्कूल की इमारतों में आग लगने से","स्कूल की इमारतों में आग लगने से","स्कूल की इमारतों में आग लगने से"]
["Fire in Commercial Buildings","व्यावसायिक इमारतों में आग लगने से","व्यावसायिक इमारतों में आग लगने से","व्यावसायिक इमारतों में आग लगने से"]
["Fire in Residential/Dwelling Building","निवास स्थान / आवासीय इमारतों में आग लगने से","निवास स्थान / आवासीय इमारतों में आग लगने से","निवास स्थान / आवासीय इमारतों में आग लगने से"]
["Fire in Government Buildings","सरकारी इमारतों मे आग लगने से","सरकारी इमारतों मे आग लगने से","सरकारी इमारतों मे आग लगने से"]
["Fire in the Mines","खानों मे आग लगने से","खानों मे आग लगने से","खानों मे आग लगने से"]
["Fire in Factory manufacturing combustible materials including Cracker/Match Box Factories","पटाखे / माचिस कारखानों सहित दहनशील सामग्री का उत्पादन करने वाले कारखानो में आग लगने से  ","पटाखे / माचिस कारखानों सहित दहनशील सामग्री का उत्पादन करने वाले कारखानो में आग लगने से  ","पटाखे / माचिस कारखानों सहित दहनशील सामग्री का उत्पादन करने वाले कारखानो में आग लगने से  "]
["Fire in the factories (other than Sl.-6)","कारखानो में आग लगने से (क्र.-6 को छोड़कर) ","कारखानो में आग लगने से (क्र.-6 को छोड़कर) ","कारखानो में आग लगने से (क्र.-6 को छोड़कर) "]
["Accidental Fire in Train(s)","ट्रेन में आकस्मिक आग से","ट्रेन में आकस्मिक आग से","ट्रेन में आकस्मिक आग से"]
["Accidental Fire in Vehicles (Automobiles) (Total) (sum of 9.1 to 9.3)","वाहनों (ऑटोमोबाइल) में आकस्मिक आग से (कुल) (कुल) (9.1 से 9.3 का योग)","वाहनों (ऑटोमोबाइल) में आकस्मिक आग से (कुल) (कुल) (9.1 से 9.3 का योग)","वाहनों (ऑटोमोबाइल) में आकस्मिक आग से (कुल) (कुल) (9.1 से 9.3 का योग)"]
["9.1 Passenger Vehicle (e.g. Bus/Taxi/ Auto/etc.)","9.1यात्री वाहन (जैसे बस / टैक्सी / ऑटो / आदि) मे आग लगने से","9.1यात्री वाहन (जैसे बस / टैक्सी / ऑटो / आदि) मे आग लगने से","9.1यात्री वाहन (जैसे बस / टैक्सी / ऑटो / आदि) मे आग लगने से"]
["9.2 Private Vehicle","9.2निजी वाहन मे आग लगने से","9.2निजी वाहन मे आग लगने से","9.2निजी वाहन मे आग लगने से"]
["9.3 Goods Carriers","9.3 माल वाहक","9.3 माल वाहक","9.3 माल वाहक"]
["Others","अन्य घटनास्थल पर","अन्य घटनास्थल पर","अन्य घटनास्थल पर"]
["Total (sum of Sl. 1 to 10)","कुल (क्रम 1 से 10 का योग)","कुल (क्रम 1 से 10 का योग)","कुल (क्रम 1 से 10 का योग)"]
["Proforma-III","प्रपत्र--III","प्रपत्र--III","प्रपत्र--III"]
["Age wise Distribution of Accidental Deaths by Un-Natural Causes","अप्राकृतिक दुर्घटनाओं का आयुवार वितरण","अप्राकृतिक दुर्घटनाओं का आयुवार वितरण","अप्राकृतिक दुर्घटनाओं का आयुवार वितरण"]
["Proforma-IV","प्रपत्र--IV","प्रपत्र--IV","प्रपत्र--IV"]
["Profile of Accidents due to Other than Un-natural Causes","अप्राकृतिक कारणों के अलावा अन्य कारणों से होने वाली दुर्घटनाओं की रूपरेखा","अप्राकृतिक कारणों के अलावा अन्य कारणों से होने वाली दुर्घटनाओं की रूपरेखा","अप्राकृतिक कारणों के अलावा अन्य कारणों से होने वाली दुर्घटनाओं की रूपरेखा"]
["Sudden Deaths (Total) (sum of 1.1 to 1.3)","आकस्मिक मौते (कुल) (1.1 से 1.3 का योग)","आकस्मिक मौते (कुल) (1.1 से 1.3 का योग)","आकस्मिक मौते (कुल) (1.1 से 1.3 का योग)"]
["1.1 Industrial Accidents","1.1 औद्योगिक दुर्घटनाओ से","1.1 औद्योगिक दुर्घटनाओ से","1.1 औद्योगिक दुर्घटनाओ से"]
["1.2 Heart Attack","1.2 दिल का दौरा पड़ने से","1.2 दिल का दौरा पड़ने से","1.2 दिल का दौरा पड़ने से"]
["1.3 Others","1.3 अन्य आकस्मिक मौते","1.3 अन्य आकस्मिक मौते","1.3 अन्य आकस्मिक मौते"]
["Deaths of Women during Pregnancy (Total) (sum of 2.1 and 2.2)","गर्भावस्था के दौरान महिलाओं की मौतें (कुल) (9.1 से 9.5 का योग)","गर्भावस्था के दौरान महिलाओं की मौतें (कुल) (9.1 से 9.5 का योग)","गर्भावस्था के दौरान महिलाओं की मौतें (कुल) (9.1 से 9.5 का योग)"]
["2.1 Due  to Abortions","2.1  गर्भपात के कारण","2.1  गर्भपात के कारण","2.1  गर्भपात के कारण"]
["2.2 Due to Other accidents during Pregnancy","2.2 गर्भावस्था के दौरान अन्य दुर्घटनाओं से","2.2 गर्भावस्था के दौरान अन्य दुर्घटनाओं से","2.2 गर्भावस्था के दौरान अन्य दुर्घटनाओं से"]
["Deaths Due to consumption of Illicit/Spurious Liquor","अवैध / नकली शराब की सेवन से होने वाली मौते","अवैध / नकली शराब की सेवन से होने वाली मौते","अवैध / नकली शराब की सेवन से होने वाली मौते"]
["Killed by animals","जानवरों द्वारा मारे जाने से","जानवरों द्वारा मारे जाने से","जानवरों द्वारा मारे जाने से"]
["Poisoning (Total) (sum of 5.1 to 5.3 & 5.4 to 5.6)","विषाक्तता से कुल) (5.1 से 5.3 और 5.4 से 5.6 का योग)","विषाक्तता से कुल) (5.1 से 5.3 और 5.4 से 5.6 का योग)","विषाक्तता से कुल) (5.1 से 5.3 और 5.4 से 5.6 का योग)"]
["5.1 Food Poisoning","5.1 विषाक्तता भोजन खाने से","5.1 विषाक्तता भोजन खाने से","5.1 विषाक्तता भोजन खाने से"]
["5.2 Accidental intake of Insecticides/Pesticides","5.2 अनजाने मे कीटनाशकों / कीटनाशकों के सेवन से","5.2 अनजाने मे कीटनाशकों / कीटनाशकों के सेवन से","5.2 अनजाने मे कीटनाशकों / कीटनाशकों के सेवन से"]
["5.3  Poisonous Gases (Total) (sum of 5.3.1 & 5.3.2)","5.3  जहरीले गैसों से (कुल) (कुल) (5.3.1 से 5.3.2 का योग) ","5.3  जहरीले गैसों से (कुल) (कुल) (5.3.1 से 5.3.2 का योग) ","5.3  जहरीले गैसों से (कुल) (कुल) (5.3.1 से 5.3.2 का योग) "]
["5.3.1 Carbon Monoxide (CO) Gas","5.3.1  कार्बन मोनोऑक्साइड (सीओ) गैस","5.3.1  कार्बन मोनोऑक्साइड (सीओ) गैस","5.3.1  कार्बन मोनोऑक्साइड (सीओ) गैस"]
["5.3.2 Other poisonous Gases","5.3.2  अन्य जहरीले गैसों से","5.3.2  अन्य जहरीले गैसों से","5.3.2  अन्य जहरीले गैसों से"]
["5.4 Snake bite ","5.4  सांप के काटने से","5.4  सांप के काटने से","5.4  सांप के काटने से"]
["5.5 Animal/Reptiles/Insects bite","5.5 पशु / सरीसृप / कीड़े काटने से","5.5 पशु / सरीसृप / कीड़े काटने से","5.5 पशु / सरीसृप / कीड़े काटने से"]
["5.6 Other","5.6 अन्य","5.6 अन्य","5.6 अन्य"]
["Suffocation","दम घुटने से","दम घुटने से","दम घुटने से"]
["Drug Overdose","अधिक मात्रा मे दवा के सेवन से","अधिक मात्रा मे दवा के सेवन से","अधिक मात्रा मे दवा के सेवन से"]
["Total (sum of Sl. 1 to 7)","कुल (क्रम 1 से 7 का योग)","कुल (क्रम 1 से 7 का योग)","कुल (क्रम 1 से 7 का योग)"]
["Proforma-V","प्रपत्र--V","प्रपत्र--V","प्रपत्र--V"]
["Age Wise Distribution of Accidental Deaths by Other than Un-natural Causes","अप्राकृतिक कारणों के अलावा अन्य कारणों से होने वाली आकस्मिक मौतों का आयुवार वितरण","अप्राकृतिक कारणों के अलावा अन्य कारणों से होने वाली आकस्मिक मौतों का आयुवार वितरण","अप्राकृतिक कारणों के अलावा अन्य कारणों से होने वाली आकस्मिक मौतों का आयुवार वितरण"]
["Proforma-VI","प्रपत्र--VI","प्रपत्र--VI","प्रपत्र--VI"]
["Mode of Transport","परिवहन के साधन","परिवहन के साधन","परिवहन के साधन"]
["Truck/Lorry/Mini Truck","ट्रक/लोरी/मिनी ट्रक","ट्रक/लोरी/मिनी ट्रक","ट्रक/लोरी/मिनी ट्रक"]
["Bus","बस","बस","बस"]
["SUV / Car / Jeep / etc.","एसयूवी/कार/जीप","एसयूवी/कार/जीप","एसयूवी/कार/जीप"]
["Tractor","ट्रैक्टर","ट्रैक्टर","ट्रैक्टर"]
["Three Wheeler/Auto rickshaw","तीन पहिया वाहन / ऑटो रिक्शा","तीन पहिया वाहन / ऑटो रिक्शा","तीन पहिया वाहन / ऑटो रिक्शा"]
["5.1 Passenger Carriers","5.1 यात्री वाहक","5.1 यात्री वाहक","5.1 यात्री वाहक"]
["5.2 Goods Carriers","5.2 माल वाहक","5.2 माल वाहक","5.2 माल वाहक"]
["Total (sum of 5.1 & 5.2)","कुल (5.1 और 5.2 का योग)","कुल (5.1 और 5.2 का योग)","कुल (5.1 और 5.2 का योग)"]
["Two Wheeler","दो पहिया वाहन ","दो पहिया वाहन ","दो पहिया वाहन "]
["Other Motor Vehicles","अन्य मोटर वाहन","अन्य मोटर वाहन","अन्य मोटर वाहन"]
["Sub-Total (sum of Sl. 1 to 7)","उप-योग (क्रम 1 से 7  का योग)","उप-योग (क्रम 1 से 7  का योग)","उप-योग (क्रम 1 से 7  का योग)"]
["Bicycle","साइकिल","साइकिल","साइकिल"]
["Hand Drawn Vehicle/Cycle rickshaw","हाथ चालित वाहन/साइकिल रिक्शा","हाथ चालित वाहन/साइकिल रिक्शा","हाथ चालित वाहन/साइकिल रिक्शा"]
["Animal Drawn Vehicle","पशु चालित वाहन","पशु चालित वाहन","पशु चालित वाहन"]
["Pedestrian","पैदल यात्री","पैदल यात्री","पैदल यात्री"]
["Others","अन्य","अन्य","अन्य"]
["Sub-Total (sum of Sl. 9 to 13)","उप-योग ( क्रम 9 से 13 का योग)","उप-योग ( क्रम 9 से 13 का योग)","उप-योग ( क्रम 9 से 13 का योग)"]
["Total (sum of Sl. 8 & 14)","कुल (क्रम 8 और 14 का योग)","कुल (क्रम 8 और 14 का योग)","कुल (क्रम 8 और 14 का योग)"]
["Details of Road Accident According to Type of Vehicle and Mode of Transport involved","वाहन के प्रकार और परिवहन के साधन के अनुसार सड़क दुर्घटना का विवरण","वाहन के प्रकार और परिवहन के साधन के अनुसार सड़क दुर्घटना का विवरण","वाहन के प्रकार और परिवहन के साधन के अनुसार सड़क दुर्घटना का विवरण"]
["Number of Persons Travelling in the Involved mode of Transport","परिवहन के साधन के अनुसार यात्रा करने वाले व्यक्तियों की संख्या","परिवहन के साधन के अनुसार यात्रा करने वाले व्यक्तियों की संख्या","परिवहन के साधन के अनुसार यात्रा करने वाले व्यक्तियों की संख्या"]
["Total [sum of (3) to (5)]","कुल [(3) से (5) का योग]","कुल [(3) से (5) का योग]","कुल [(3) से (5) का योग]"]
["Total [sum of (7) to (9)]","कुल [(7) से (9) का योग]","कुल [(7) से (9) का योग]","कुल [(7) से (9) का योग]"]
["ProformaVII","प्रपत्र--VII","प्रपत्र--VII","प्रपत्र--VII"]
["Road Accidents Classified According to classification of Road","सड़क दुर्घटनाओं को सड़क के वर्गीकरण के अनुसार वर्गीकृत","सड़क दुर्घटनाओं को सड़क के वर्गीकरण के अनुसार वर्गीकृत","सड़क दुर्घटनाओं को सड़क के वर्गीकरण के अनुसार वर्गीकृत"]
["Classification of Roads","सड़कों का वर्गीकरण","सड़कों का वर्गीकरण","सड़कों का वर्गीकरण"]
[" Total [sum of (4) to (6)]","कुल [(4) से (6) का योग]","कुल [(4) से (6) का योग]","कुल [(4) से (6) का योग]"]
[" Total [sum of (8) to (10)]","कुल [(8) से (10) का योग]","कुल [(8) से (10) का योग]","कुल [(8) से (10) का योग]"]
["National Highways","राष्ट्रीय राजमार्ग","राष्ट्रीय राजमार्ग","राष्ट्रीय राजमार्ग"]
["State Highways","राज्य राजमार्ग","राज्य राजमार्ग","राज्य राजमार्ग"]
["Expressways","एक्सप्रेस मार्ग","एक्सप्रेस मार्ग","एक्सप्रेस मार्ग"]
["Other Roads","अन्य सड़कें","अन्य सड़कें","अन्य सड़कें"]
["Total (sum of Sl. 1 to 4)","कुल (क्रम 1 से 4 का योग)","कुल (क्रम 1 से 4 का योग)","कुल (क्रम 1 से 4 का योग)"]
["Proforma-VIII","प्रपत्र--VIII","प्रपत्र--VIII","प्रपत्र--VIII"]
["Road Accidents Classified According to Place of Occurrence","घटना के स्थान के अनुसार वर्गीकृत सड़क दुर्घटनाएं","घटना के स्थान के अनुसार वर्गीकृत सड़क दुर्घटनाएं","घटना के स्थान के अनुसार वर्गीकृत सड़क दुर्घटनाएं"]
["Place of occurrence refers to the nearest point from the spot of accident occurred.","घटना का स्थान दुर्घटना के स्थान से निकटतम बिंदु","घटना का स्थान दुर्घटना के स्थान से निकटतम बिंदु","घटना का स्थान दुर्घटना के स्थान से निकटतम बिंदु"]
["Near School/College/Educational institution","स्कूल / कॉलेज / शैक्षिक संस्थान के समीप","स्कूल / कॉलेज / शैक्षिक संस्थान के समीप","स्कूल / कॉलेज / शैक्षिक संस्थान के समीप"]
["Place of Occurrence","घटना का स्थान","घटना का स्थान","घटना का स्थान"]
["Near Residential area","आवासीय क्षेत्र के पास","आवासीय क्षेत्र के पास","आवासीय क्षेत्र के पास"]
["Near religious place","धार्मिक स्थानो के पास","धार्मिक स्थानो के पास","धार्मिक स्थानो के पास"]
["Near recreation place/cinema hall","मनोरंजन स्थल / सिनेमा हॉल के पास","मनोरंजन स्थल / सिनेमा हॉल के पास","मनोरंजन स्थल / सिनेमा हॉल के पास"]
["Near Factory","कारखाने के पास","कारखाने के पास","कारखाने के पास"]
["Other Rural Area","अन्य ग्रामीण क्षेत्र मे","अन्य ग्रामीण क्षेत्र मे","अन्य ग्रामीण क्षेत्र मे"]
["Sub-Total (Rural) (sum of Sl. 1 to 6)","उप-योग (ग्रामीण) (क्रम संख्या 1 से 6 का योग)","उप-योग (ग्रामीण) (क्रम संख्या 1 से 6 का योग)","उप-योग (ग्रामीण) (क्रम संख्या 1 से 6 का योग)"]
["Near School/College/Educational institution","स्कूल / कॉलेज / शैक्षिक संस्थान के समीप","स्कूल / कॉलेज / शैक्षिक संस्थान के समीप","स्कूल / कॉलेज / शैक्षिक संस्थान के समीप"]
["Near Residential area","आवासीय क्षेत्र के पास","आवासीय क्षेत्र के पास","आवासीय क्षेत्र के पास"]
["Near religious place","धार्मिक स्थानो के पास","धार्मिक स्थानो के पास","धार्मिक स्थानो के पास"]
["Near recreation place/cinema hall","मनोरंजन स्थल / सिनेमा हॉल के पास","मनोरंजन स्थल / सिनेमा हॉल के पास","मनोरंजन स्थल / सिनेमा हॉल के पास"]
["Near Factory/Industrial area","कारखाने के पास","कारखाने के पास","कारखाने के पास"]
["At Pedestrian crossing","पैदल पार पथ पर","पैदल पार पथ पर","पैदल पार पथ पर"]
["Other Urban Area","अन्य शहरी क्षेत्र मे","अन्य शहरी क्षेत्र मे","अन्य शहरी क्षेत्र मे"]
["Sub-Total (Urban) (sum of Sl. 8 to 14)","उप-योग (शहरी) (क्रम संख्या 8 से 14 का योग)","उप-योग (शहरी) (क्रम संख्या 8 से 14 का योग)","उप-योग (शहरी) (क्रम संख्या 8 से 14 का योग)"]
["Grand Total (sum of Sl. 7 & 15)","कुल योग (क्रम 7 और 15 का योग)","कुल योग (क्रम 7 और 15 का योग)","कुल योग (क्रम 7 और 15 का योग)"]
["Rural Area","ग्रामीण क्षेत्र","ग्रामीण क्षेत्र","ग्रामीण क्षेत्र"]
["Urban Area","शहरी क्षेत्र","शहरी क्षेत्र","शहरी क्षेत्र"]
["Proforma-IX","प्रपत्र--IX","प्रपत्र--IX","प्रपत्र--IX"]
["Road Accidents Classified According to Causes and Unmanned Railway Crossing Accidents","सड़क दुर्घटनाओं को कारणों और मानव रहित रेलवे क्रॉसिंग दुर्घटनाओं के अनुसार वर्गीकृत","सड़क दुर्घटनाओं को कारणों और मानव रहित रेलवे क्रॉसिंग दुर्घटनाओं के अनुसार वर्गीकृत","सड़क दुर्घटनाओं को कारणों और मानव रहित रेलवे क्रॉसिंग दुर्घटनाओं के अनुसार वर्गीकृत"]
["Dangerous/Over-taking/Careless/etc.","खतरनाक / ओवर-टेकिंग / लापरवाही चालन / आदि।","खतरनाक / ओवर-टेकिंग / लापरवाही चालन / आदि।","खतरनाक / ओवर-टेकिंग / लापरवाही चालन / आदि।"]
["Over speeding","आवशयकता से अधिक गति से चलाने से","आवशयकता से अधिक गति से चलाने से","आवशयकता से अधिक गति से चलाने से"]
["Driving under influence of drug/alcohol","नशीले पदार्थ/ शराब के प्रभाव में गाड़ी चलाने से","नशीले पदार्थ/ शराब के प्रभाव में गाड़ी चलाने से","नशीले पदार्थ/ शराब के प्रभाव में गाड़ी चलाने से"]
["Physical fatigue of Drivers","चालको की शारारिक थकान से","चालको की शारारिक थकान से","चालको की शारारिक थकान से"]
["Defect in Mechanical condition of Motor Vehicle","मोटर वाहन की यांत्रिक स्थिति में दोष से","मोटर वाहन की यांत्रिक स्थिति में दोष से","मोटर वाहन की यांत्रिक स्थिति में दोष से"]
["Animal Crossing","पशुओ के सड़क पार करने के दोरान","पशुओ के सड़क पार करने के दोरान","पशुओ के सड़क पार करने के दोरान"]
["Weather condition (sum of 7.1 & 7.2)","मौसम की स्थिति (7.1 और 7.2 का योग)","मौसम की स्थिति (7.1 और 7.2 का योग)","मौसम की स्थिति (7.1 और 7.2 का योग)"]
["7.1 Poor visibility","7.1 खराब दृश्यता से","7.1 खराब दृश्यता से","7.1 खराब दृश्यता से"]
["7.2 Others causes of weather condition","7.2 अन्य मौसम की स्थिति के कारणो से","7.2 अन्य मौसम की स्थिति के कारणो से","7.2 अन्य मौसम की स्थिति के कारणो से"]
["Lack of road infrastructure","सड़क की बुनियादी ढांचे की कमी","सड़क की बुनियादी ढांचे की कमी","सड़क की बुनियादी ढांचे की कमी"]
["Vehicles Parking at road shoulders","सड़क किनारे पर वाहन पार्किंग से","सड़क किनारे पर वाहन पार्किंग से","सड़क किनारे पर वाहन पार्किंग से"]
["Unmanned Railway Crossing","मानव रहित रेलवे क्रोससिंग से","मानव रहित रेलवे क्रोससिंग से","मानव रहित रेलवे क्रोससिंग से"]
["Causes not known","ज्ञात कारणो से","ज्ञात कारणो से","ज्ञात कारणो से"]
["Other Causes","अन्य कारण","अन्य कारण","अन्य कारण"]
["Total (sum of Sl. 1 to 12)","कुल (क्रम 1 से 12 का योग)","कुल (क्रम 1 से 12 का योग)","कुल (क्रम 1 से 12 का योग)"]
["ROAD ACCIDENTS TOTAL (EXCLUDING Unmanned Railway Crossing Accidents; Sl.–10)","कुल सड़क दुर्घटनाएं (मानव रहित रेलवे क्रॉसिंग दुर्घटनाओं को छोड़कर; क्र.-10)","कुल सड़क दुर्घटनाएं (मानव रहित रेलवे क्रॉसिंग दुर्घटनाओं को छोड़कर; क्र.-10)","कुल सड़क दुर्घटनाएं (मानव रहित रेलवे क्रॉसिंग दुर्घटनाओं को छोड़कर; क्र.-10)"]
["Proforma-X","प्रपत्र--X","प्रपत्र--X","प्रपत्र--X"]
["Month wise occurence of Traffic Accidents","यातायात दुर्घटनाओं की माहवार घटना","यातायात दुर्घटनाओं की माहवार घटना","यातायात दुर्घटनाओं की माहवार घटना"]
["Month","महीना","महीना","महीना"]
["January","जनवरी","जनवरी","जनवरी"]
["February","फ़रवरी","फ़रवरी","फ़रवरी"]
["March","मार्च","मार्च","मार्च"]
["April","अप्रैल","अप्रैल","अप्रैल"]
[" May","मई","मई","मई"]
["June","जून","जून","जून"]
["July","जुलाई","जुलाई","जुलाई"]
["August","अगस्त","अगस्त","अगस्त"]
["September","सितंबर","सितंबर","सितंबर"]
["October","अक्टूबर","अक्टूबर","अक्टूबर"]
["November","नवंबर","नवंबर","नवंबर"]
["December","दिसंबर","दिसंबर","दिसंबर"]
["Total (sum of Sl. 1 to 12)","कुल (क्रम 1 से 12 का योग)","कुल (क्रम 1 से 12 का योग)","कुल (क्रम 1 से 12 का योग)"]
["Proforma-XI","प्रपत्र--XI","प्रपत्र--XI","प्रपत्र--XI"]
["Time wise occurence of Traffic Accidents","यातायात दुर्घटनाओं की समयानुसार घटना","यातायात दुर्घटनाओं की समयानुसार घटना","यातायात दुर्घटनाओं की समयानुसार घटना"]
["Time","समय","समय","समय"]
["00:00 hrs. to 03:00 hrs. (Night)","00:00 बजे से 03:00 बजे तक (रात)","00:00 बजे से 03:00 बजे तक (रात)","00:00 बजे से 03:00 बजे तक (रात)"]
["03:00 hrs. to 06:00 hrs. (Night)","03:00 बजे से 06:00 बजे तक (रात)","03:00 बजे से 06:00 बजे तक (रात)","03:00 बजे से 06:00 बजे तक (रात)"]
["06:00 hrs. to 09:00 hrs. (Day)","06:00 बजे से 09:00 बजे तक (दिन)","06:00 बजे से 09:00 बजे तक (दिन)","06:00 बजे से 09:00 बजे तक (दिन)"]
["09:00 hrs. to 12:00 hrs. (Day)","09:00 बजे से 12:00 बजे तक (दिन)","09:00 बजे से 12:00 बजे तक (दिन)","09:00 बजे से 12:00 बजे तक (दिन)"]
["12:00 hrs. to 15:00 hrs. (Day)","12:00 बजे से 15:00 बजे तक (दिन)","12:00 बजे से 15:00 बजे तक (दिन)","12:00 बजे से 15:00 बजे तक (दिन)"]
["15:00 hrs. to  18:00 hrs. (Day)","15:00 बजे से 18:00 बजे तक (दिन)","15:00 बजे से 18:00 बजे तक (दिन)","15:00 बजे से 18:00 बजे तक (दिन)"]
["18:00 hrs. to 21:00 hrs. (Night)","18:00 बजे से 21: 00 बजे तक (रात)","18:00 बजे से 21: 00 बजे तक (रात)","18:00 बजे से 21: 00 बजे तक (रात)"]
["21:00 hrs. to 24:00 hrs. (Night)","21:00 बजे से 24:00 बजे तक (रात)","21:00 बजे से 24:00 बजे तक (रात)","21:00 बजे से 24:00 बजे तक (रात)"]
["Total (sum of (Sl. 1 to 8))","कुल (क्रम 1 से 8 का योग)","कुल (क्रम 1 से 8 का योग)","कुल (क्रम 1 से 8 का योग)"]
["Proforma-XII","प्रपत्र--XII","प्रपत्र--XII","प्रपत्र--XII"]
["Classification of Railway Accidents and Causes of Railway Accidents","रेल दुर्घटनाओं का वर्गीकरण और रेल दुर्घटनाओं के कारण","रेल दुर्घटनाओं का वर्गीकरण और रेल दुर्घटनाओं के कारण","रेल दुर्घटनाओं का वर्गीकरण और रेल दुर्घटनाओं के कारण"]
["Classification/Causes","वर्गीकरण / कारण","वर्गीकरण / कारण","वर्गीकरण / कारण"]
["Part-I:Classification of Railway Accidents","भाग-I: रेल दुर्घटनाओं का वर्गीकरण","भाग-I: रेल दुर्घटनाओं का वर्गीकरण","भाग-I: रेल दुर्घटनाओं का वर्गीकरण"]
["Train Collisions","रेल की टक्करों से","रेल की टक्करों से","रेल की टक्करों से"]
["Train Derailments","रेल का पटरी के उतरने से","रेल का पटरी के उतरने से","रेल का पटरी के उतरने से"]
["Fall from train/Collision with people at tracks","रेल से गिरने/रेल्वे पटरी पर चलने वाले लोगो के साथ टकराव से","रेल से गिरने/रेल्वे पटरी पर चलने वाले लोगो के साथ टकराव से","रेल से गिरने/रेल्वे पटरी पर चलने वाले लोगो के साथ टकराव से"]
["Explosion/Fire in Train","रेल मे विस्फोट से/आग से","रेल मे विस्फोट से/आग से","रेल मे विस्फोट से/आग से"]
["Other Classifications","अन्य वर्गिकरण","अन्य वर्गिकरण","अन्य वर्गिकरण"]
["Total (Classification) (sum of Sl. 1 to 5)","कुल (वर्गीकरण) (क्रम 1 से 5 का योग)","कुल (वर्गीकरण) (क्रम 1 से 5 का योग)","कुल (वर्गीकरण) (क्रम 1 से 5 का योग)"]
["Part-II: Causes of Railway Accidents","भाग-II: रेल दुर्घटनाओं के कारण","भाग-II: रेल दुर्घटनाओं के कारण","भाग-II: रेल दुर्घटनाओं के कारण"]
["Fault of Driver","ड्राइवरों की गलती से","ड्राइवरों की गलती से","ड्राइवरों की गलती से"]
["Sabotage by Extremist/Terrorist/others","उगरवादी/आतंकवादी/अन्य के द्वारा तोडफोड से","उगरवादी/आतंकवादी/अन्य के द्वारा तोडफोड से","उगरवादी/आतंकवादी/अन्य के द्वारा तोडफोड से"]
["Signalmen's  Error","सिग्नलमेन की त्रुटि","सिग्नलमेन की त्रुटि","सिग्नलमेन की त्रुटि"]
["Mechanical Failures (like poor design, track faults, bridge/tunnel collapse, etc.)","यांत्रिक विफलताओं (जैसे गरीब डिजाइन, ट्रैक दोष, पुल / सुरंग पतन, आदि) से","यांत्रिक विफलताओं (जैसे गरीब डिजाइन, ट्रैक दोष, पुल / सुरंग पतन, आदि) से","यांत्रिक विफलताओं (जैसे गरीब डिजाइन, ट्रैक दोष, पुल / सुरंग पतन, आदि) से"]
["Other Causes","अन्य कारणो से","अन्य कारणो से","अन्य कारणो से"]
["Total (Causes) (sum of Sl. 7 to 11)","कुल (वर्गीकरण) (क्रम 7 से 11का योग)","कुल (वर्गीकरण) (क्रम 7 से 11का योग)","कुल (वर्गीकरण) (क्रम 7 से 11का योग)"]
["Proforma-XIV","प्रपत्र--XIV","प्रपत्र--XIV","प्रपत्र--XIV"]
["Distribution of Suicides by Causes","कारणों से आत्महत्याओं का वितरण","कारणों से आत्महत्याओं का वितरण","कारणों से आत्महत्याओं का वितरण"]
["Number of Suicidal Deaths","आत्मघाती मौतों की संख्या","आत्मघाती मौतों की संख्या","आत्मघाती मौतों की संख्या"]
["Bankruptcy or indebtedness","दिवालियापन या ऋणात्मकता से","दिवालियापन या ऋणात्मकता से","दिवालियापन या ऋणात्मकता से"]
["Marriage Related Issues (sum of 2.1 to 2.5)","विवाह संबंधी मुद्दे (2.1 से 2.5 का योग)","विवाह संबंधी मुद्दे (2.1 से 2.5 का योग)","विवाह संबंधी मुद्दे (2.1 से 2.5 का योग)"]
["2.1 Non Settlement of Marriage","2.1 विवाह का सम्बंधित मुदे","2.1 विवाह का सम्बंधित मुदे","2.1 विवाह का सम्बंधित मुदे"]
["2.2 Dowry Related Issues","2.2 दहेज संबंधित मुद्दों","2.2 दहेज संबंधित मुद्दों","2.2 दहेज संबंधित मुद्दों"]
["2.3 Extra Marital affairs","2.3 अतिरिक्त वैवाहिक संब्ध","2.3 अतिरिक्त वैवाहिक संब्ध","2.3 अतिरिक्त वैवाहिक संब्ध"]
["2.4 Divorce","2.4 तलाक","2.4 तलाक","2.4 तलाक"]
["2.5 Others","2.5 अन्य","2.5 अन्य","2.5 अन्य"]
["Failure in Examination","परीक्षा में विफलता","परीक्षा में विफलता","परीक्षा में विफलता"]
["Impotency/Infertility","नपुंसकता / बांझपन","नपुंसकता / बांझपन","नपुंसकता / बांझपन"]
["Family problems","Family problems/पारिवारिक समस्याएं","Family problems/पारिवारिक समस्याएं","Family problems/पारिवारिक समस्याएं"]
["Illness (sum of 6.1 to 6.5)","बीमारी से (6.1 से 6.5 का योग)","बीमारी से (6.1 से 6.5 का योग)","बीमारी से (6.1 से 6.5 का योग)"]
["6.1 AIDS/STD","6.1 एड्स / एसटीडी","6.1 एड्स / एसटीडी","6.1 एड्स / एसटीडी"]
["6.2 Cancer","6.2  कैंसर","6.2  कैंसर","6.2  कैंसर"]
["6.3 Paralysis","6.3 पक्षाघात","6.3 पक्षाघात","6.3 पक्षाघात"]
["6.4 Insanity/Mental illness","6.4  पागलपन / मानसिक बीमारी","6.4  पागलपन / मानसिक बीमारी","6.4  पागलपन / मानसिक बीमारी"]
["6.5 Other prolonged illness","6.5 अन्य लंबे समय तक बीमारी","6.5 अन्य लंबे समय तक बीमारी","6.5 अन्य लंबे समय तक बीमारी"]
["Death of dear person","प्रिय व्यक्ति की मृत्यु से","प्रिय व्यक्ति की मृत्यु से","प्रिय व्यक्ति की मृत्यु से"]
["Drug abuse/Alcoholic addiction","नशीली दवाओं का दुरुपयोग / शराब की लत","नशीली दवाओं का दुरुपयोग / शराब की लत","नशीली दवाओं का दुरुपयोग / शराब की लत"]
["Fall in social reputation","सामाजिक प्रतिष्ठा में गिरावट","सामाजिक प्रतिष्ठा में गिरावट","सामाजिक प्रतिष्ठा में गिरावट"]
["Ideological causes/Hero worshipping","विचारधारात्मक कारण / नायक पूजा","विचारधारात्मक कारण / नायक पूजा","विचारधारात्मक कारण / नायक पूजा"]
["Love affairs","प्रेम - प्रसंग","प्रेम - प्रसंग","प्रेम - प्रसंग"]
["Poverty","गरीबी","गरीबी","गरीबी"]
["Unemployment","बेरोजगारी","बेरोजगारी","बेरोजगारी"]
["Property dispute","संपत्ति विवाद","संपत्ति विवाद","संपत्ति विवाद"]
["Suspected/Illicit relation (other than item 2.3)","संदिग्ध / अवैध संबंध (आइटम 2.3 के अलावा)","संदिग्ध / अवैध संबंध (आइटम 2.3 के अलावा)","संदिग्ध / अवैध संबंध (आइटम 2.3 के अलावा)"]
["Illegitimate Pregnancy (other than item 2.3)","अवैध गर्भावस्था (आइटम 2.3 के अलावा)","अवैध गर्भावस्था (आइटम 2.3 के अलावा)","अवैध गर्भावस्था (आइटम 2.3 के अलावा)"]
["Physical Abuse (Rape, etc.)","शारीरिक दुर्व्यवहार (बलात्कार, आदि)","शारीरिक दुर्व्यवहार (बलात्कार, आदि)","शारीरिक दुर्व्यवहार (बलात्कार, आदि)"]
["Professional/Career Problem","पेशेवर / करियर समस्या","पेशेवर / करियर समस्या","पेशेवर / करियर समस्या"]
["Causes not known","अज्ञात कारणो से","अज्ञात कारणो से","अज्ञात कारणो से"]
["Other causes","अन्य कारण","अन्य कारण","अन्य कारण"]
["Total (sum of Sl. 1 to 20)","कुल (क्रम 1 से 20 का योग)","कुल (क्रम 1 से 20 का योग)","कुल (क्रम 1 से 20 का योग)"]
["Note: If causes of suicides is found as more than one, the most immediate cause of suicides should be considered.","नोट: यदि आत्महत्या के कारण एक से अधिक पाए जाते हैं, तो आत्महत्या के सबसे तात्कालिक कारण पर विचार किया जाना चाहिए।","नोट: यदि आत्महत्या के कारण एक से अधिक पाए जाते हैं, तो आत्महत्या के सबसे तात्कालिक कारण पर विचार किया जाना चाहिए।","नोट: यदि आत्महत्या के कारण एक से अधिक पाए जाते हैं, तो आत्महत्या के सबसे तात्कालिक कारण पर विचार किया जाना चाहिए।"]
["Proforma-XV","प्रपत्र--XIV","प्रपत्र--XIV","प्रपत्र--XIV"]
["Profession Profile of Suicide Victims","आत्महत्या के शिकार लोगों का पेशा प्रोफ़ाइल","आत्महत्या के शिकार लोगों का पेशा प्रोफ़ाइल","आत्महत्या के शिकार लोगों का पेशा प्रोफ़ाइल"]
["Profession","पेशा","पेशा","पेशा"]
["Housewife","गृहिणी","गृहिणी","गृहिणी"]
["Professional/Salaried Persons (Total) (sum of 2.1 to 2.3)","पेशेवर/वेतनभोगी व्यक्ति (कुल) (2.1 से 2.3 का योग)","पेशेवर/वेतनभोगी व्यक्ति (कुल) (2.1 से 2.3 का योग)","पेशेवर/वेतनभोगी व्यक्ति (कुल) (2.1 से 2.3 का योग)"]
["2.1. Govt.","2.1 सरकारी","2.1 सरकारी","2.1 सरकारी"]
["Govt. Servants (Total) (sum of 2.1.1 to 2.1.3)","सरकारी कर्मचारी(कुल) (2.1.1 से 2.1.3 का योग)","सरकारी कर्मचारी(कुल) (2.1.1 से 2.1.3 का योग)","सरकारी कर्मचारी(कुल) (2.1.1 से 2.1.3 का योग)"]
["2.1.1 Central/UT Govt. Servants","2.1.1 केंद्रीय/संघ सरकारी कर्मचारी","2.1.1 केंद्रीय/संघ सरकारी कर्मचारी","2.1.1 केंद्रीय/संघ सरकारी कर्मचारी"]
["2.1.2 State Govt. Servants","2.1.2 राज्य सरकारी कर्मचारी","2.1.2 राज्य सरकारी कर्मचारी","2.1.2 राज्य सरकारी कर्मचारी"]
["2.1.3 Other Statutory Body/etc.","2.1.3 अन्य संविधनिक निकाय कर्मचारी/इत्यादि","2.1.3 अन्य संविधनिक निकाय कर्मचारी/इत्यादि","2.1.3 अन्य संविधनिक निकाय कर्मचारी/इत्यादि"]
["2.2 Private Sector Enterprises","2.2  निजी क्षेत्र के उद्यम","2.2  निजी क्षेत्र के उद्यम","2.2  निजी क्षेत्र के उद्यम"]
["2.3 Public Sector Undertaking","2.3  सार्वजनिक क्षेत्र उपक्रम","2.3  सार्वजनिक क्षेत्र उपक्रम","2.3  सार्वजनिक क्षेत्र उपक्रम"]
["Students","छात्र","छात्र","छात्र"]
["Unemployed Persons","बेरोजगार व्यक्ति","बेरोजगार व्यक्ति","बेरोजगार व्यक्ति"]
["Self-employed Persons (Total) \n(sum of 5.1 & 5.2)","स्व-नियोजित व्यक्ति (कुल)\n(5.1 और 5.2 का योग)","स्व-नियोजित व्यक्ति (कुल)\n(5.1 और 5.2 का योग)","स्व-नियोजित व्यक्ति (कुल)\n(5.1 और 5.2 का योग)"]
["5.1 Business (Total) (sum of 5.1.1 to 5.1.3)","5.1 व्यवसाय (कुल) (5.1.1 से 5.1.3 का योग)","5.1 व्यवसाय (कुल) (5.1.1 से 5.1.3 का योग)","5.1 व्यवसाय (कुल) (5.1.1 से 5.1.3 का योग)"]
["5.1.1 Vendor","5.1.1 विक्रेता","5.1.1 विक्रेता","5.1.1 विक्रेता"]
["5.1.2 Tradesmen","5.1.2  शिल्पकार","5.1.2  शिल्पकार","5.1.2  शिल्पकार"]
["5.1.3 Other Business","5.1.3 अन्य कारोबारी व्यक्ति","5.1.3 अन्य कारोबारी व्यक्ति","5.1.3 अन्य कारोबारी व्यक्ति"]
["5.2 Other Self-employed Persons","5.2 अन्य स्वरोजगार व्यक्ति","5.2 अन्य स्वरोजगार व्यक्ति","5.2 अन्य स्वरोजगार व्यक्ति"]
["Persons engaged in Farming Sector (Total) (sum of 6.1 & 6.2)","कृषि क्षेत्र में लगे व्यक्ति (कुल) (6.1 और 6.2 का योग)","कृषि क्षेत्र में लगे व्यक्ति (कुल) (6.1 और 6.2 का योग)","कृषि क्षेत्र में लगे व्यक्ति (कुल) (6.1 और 6.2 का योग)"]
["6.1 Farmers/Cultivators (Sub-Total) (sum of 6.1.1 & 6.1.2)","6.1 किसान/कृषक (उप-योग) (6.1.1 और 6.1.2 का योग)","6.1 किसान/कृषक (उप-योग) (6.1.1 और 6.1.2 का योग)","6.1 किसान/कृषक (उप-योग) (6.1.1 और 6.1.2 का योग)"]
["6.1.1 who cultivate their own land with or without assistance of agricultural labourers","6.1.1 किसान / क्र्षक मजदूरो की सहायता या उनकी सहायता की बिना खेती करने वाले","6.1.1 किसान / क्र्षक मजदूरो की सहायता या उनकी सहायता की बिना खेती करने वाले","6.1.1 किसान / क्र्षक मजदूरो की सहायता या उनकी सहायता की बिना खेती करने वाले"]
["6.1.2 who cultivate on lease land/work on lease/on other's land (known by different nomenclature) with or without assistance of agricultural labourers","6.1.2 किसान / क्र्षक मजदूरों की सहायता के साथ या बिना किसी दूसरे की जमीन पर / पट्टे भूमि पर खेती करने वाले   ","6.1.2 किसान / क्र्षक मजदूरों की सहायता के साथ या बिना किसी दूसरे की जमीन पर / पट्टे भूमि पर खेती करने वाले   ","6.1.2 किसान / क्र्षक मजदूरों की सहायता के साथ या बिना किसी दूसरे की जमीन पर / पट्टे भूमि पर खेती करने वाले   "]
["6.2 Agricultural labourers","खेतिहर मजदूर","खेतिहर मजदूर","खेतिहर मजदूर"]
["Daily Wage Earner","दिहाड़ी मजदूर","दिहाड़ी मजदूर","दिहाड़ी मजदूर"]
["Retired Persons","सेवानिवृत्त व्यक्ति","सेवानिवृत्त व्यक्ति","सेवानिवृत्त व्यक्ति"]
["Other Persons","अन्य व्यक्ति","अन्य व्यक्ति","अन्य व्यक्ति"]
["Total (sum of Sl. 1 to 9)","कुल (क्रम 1 से 9 का योग)","कुल (क्रम 1 से 9 का योग)","कुल (क्रम 1 से 9 का योग)"]
["Daily wage earner excludes Agricultural labourer.","दैनिक वेतन भोगी में कृषि मजदूर शामिल नहीं है।","दैनिक वेतन भोगी में कृषि मजदूर शामिल नहीं है।","दैनिक वेतन भोगी में कृषि मजदूर शामिल नहीं है।"]
["Disclaimer:  “This data depicts only profession of persons who have committed suicide and has no linkage whatsoever regarding cause of suicide.”","अस्वीकरण: \"यह डेटा केवल उन व्यक्तियों के पेशे को दर्शाता है जिन्होंने आत्महत्या की है और आत्महत्या के कारण के संबंध में इसका कोई संबंध नहीं है।\"","अस्वीकरण: \"यह डेटा केवल उन व्यक्तियों के पेशे को दर्शाता है जिन्होंने आत्महत्या की है और आत्महत्या के कारण के संबंध में इसका कोई संबंध नहीं है।\"","अस्वीकरण: \"यह डेटा केवल उन व्यक्तियों के पेशे को दर्शाता है जिन्होंने आत्महत्या की है और आत्महत्या के कारण के संबंध में इसका कोई संबंध नहीं है।\""]
["Proforma-XVI","प्रपत्र--XVI","प्रपत्र--XVI","प्रपत्र--XVI"]
["Social and Economic Status of Suicide Victims","आत्महत्या पीड़ितों की सामाजिक और आर्थिक स्थिति","आत्महत्या पीड़ितों की सामाजिक और आर्थिक स्थिति","आत्महत्या पीड़ितों की सामाजिक और आर्थिक स्थिति"]
["Status","स्थिति","स्थिति","स्थिति"]
["Part-I: Social Status","'भाग-I: सामाजिक स्थिति","'भाग-I: सामाजिक स्थिति","'भाग-I: सामाजिक स्थिति"]
["Un-Married","अविवाहित","अविवाहित","अविवाहित"]
["Married","विवाहित","विवाहित","विवाहित"]
["Widowed/Widower","विधवा / विधुर","विधवा / विधुर","विधवा / विधुर"]
["Divorcee","तलाकशुदा","तलाकशुदा","तलाकशुदा"]
["Separated","परितयकय","परितयकय","परितयकय"]
["Others","अन्य","अन्य","अन्य"]
["Status not known","स्थिति ज्ञात नहीं","स्थिति ज्ञात नहीं","स्थिति ज्ञात नहीं"]
["Total (sum of sl. 1 to 7)","कुल (क्रम 1 से 7 का योग)","कुल (क्रम 1 से 7 का योग)","कुल (क्रम 1 से 7 का योग)"]
["Part-II: Economic Status","भाग-II: आर्थिक स्थिति","भाग-II: आर्थिक स्थिति","भाग-II: आर्थिक स्थिति"]
["less than Rs. 1 lakh","1 लाख रुपये से कम","1 लाख रुपये से कम","1 लाख रुपये से कम"]
["Rs. 1 lakh & above – less than Rs. 5 lakhs","1 लाख रुपये और ऊपर - 5 लाख रुपये से कम","1 लाख रुपये और ऊपर - 5 लाख रुपये से कम","1 लाख रुपये और ऊपर - 5 लाख रुपये से कम"]
["Rs. 5 lakhs & above – less than Rs. 10 lakhs","5 लाख रुपये और ऊपर - 10 लाख रुपये से कम","5 लाख रुपये और ऊपर - 10 लाख रुपये से कम","5 लाख रुपये और ऊपर - 10 लाख रुपये से कम"]
["Rs. 10 lakhs and above","10 लाख रुपये और ऊपर","10 लाख रुपये और ऊपर","10 लाख रुपये और ऊपर"]
["Total (Economic Status) (sum of Sl. 9 to 12)","कुल (आर्थिक स्थिति) (क्रम संख्या 9 से 12 का योग)","कुल (आर्थिक स्थिति) (क्रम संख्या 9 से 12 का योग)","कुल (आर्थिक स्थिति) (क्रम संख्या 9 से 12 का योग)"]
["Proforma-XVII","प्रपत्र--XVII","प्रपत्र--XVII","प्रपत्र--XVII"]
["Educational Status of Suicide Victims","आत्महत्या पीड़ितों की शैक्षिक स्थिति","आत्महत्या पीड़ितों की शैक्षिक स्थिति","आत्महत्या पीड़ितों की शैक्षिक स्थिति"]
["Educational Status","शैक्षिक स्थिति","शैक्षिक स्थिति","शैक्षिक स्थिति"]
["No Education","अनपढ़","अनपढ़","अनपढ़"]
["Primary (upto class–5)","प्राथमिक (कक्षा-5 तक)","प्राथमिक (कक्षा-5 तक)","प्राथमिक (कक्षा-5 तक)"]
["Middle (upto class–8)","मध्य (कक्षा-8 तक)","मध्य (कक्षा-8 तक)","मध्य (कक्षा-8 तक)"]
["Matriculate/Secondary (upto class–10)","मट्रिकुलेट / माध्यमिक (कक्षा -10 तक)","मट्रिकुलेट / माध्यमिक (कक्षा -10 तक)","मट्रिकुलेट / माध्यमिक (कक्षा -10 तक)"]
["Higher Secondary/ Intermediate/ Pre-University (upto class–12)","उच्च माध्यमिक / मध्यवर्ती / पूर्व-विश्वविद्यालय (कक्षा -12 तक)","उच्च माध्यमिक / मध्यवर्ती / पूर्व-विश्वविद्यालय (कक्षा -12 तक)","उच्च माध्यमिक / मध्यवर्ती / पूर्व-विश्वविद्यालय (कक्षा -12 तक)"]
["Diploma/ITI/Certificate","डिप्लोमा / आईटीआई / प्रमाणपत्र","डिप्लोमा / आईटीआई / प्रमाणपत्र","डिप्लोमा / आईटीआई / प्रमाणपत्र"]
["Graduate and above","स्नातक तथा अधिक","स्नातक तथा अधिक","स्नातक तथा अधिक"]
["Professionals (MBA, etc.)","पेशेवर (एमबीए, आदि)","पेशेवर (एमबीए, आदि)","पेशेवर (एमबीए, आदि)"]
["Status not known","स्थिति ज्ञात नहीं","स्थिति ज्ञात नहीं","स्थिति ज्ञात नहीं"]
["Total (sum of Sl. 1 to 9 )","कुल (क्रम 1 से 9 का योग)","कुल (क्रम 1 से 9 का योग)","कुल (क्रम 1 से 9 का योग)"]
["Proforma-XVIII","प्रपत्र--XVIII","प्रपत्र--XVIII","प्रपत्र--XVIII"]
["Distribution of Suicides by Means Adopted","अपनाए गए तरीकों से आत्महत्याओं का वितरण","अपनाए गए तरीकों से आत्महत्याओं का वितरण","अपनाए गए तरीकों से आत्महत्याओं का वितरण"]
["By consuming Sleeping Pills","नींद की गोलियों का सेवन करके","नींद की गोलियों का सेवन करके","नींद की गोलियों का सेवन करके"]
["By Drowning","डूबने/पानी मे छ्लांग लगाने से","डूबने/पानी मे छ्लांग लगाने से","डूबने/पानी मे छ्लांग लगाने से"]
["By Fire/Self Immolation","आग/आत्मदाह से","आग/आत्मदाह से","आग/आत्मदाह से"]
["By Firearms","आग्नेयास्त्रों द्वारा","आग्नेयास्त्रों द्वारा","आग्नेयास्त्रों द्वारा"]
["By Hanging","फांसी से","फांसी से","फांसी से"]
["By Poison (sum of 6.1 & 6.2)","जहर से (6.1 और 6.2 का योग)","जहर से (6.1 और 6.2 का योग)","जहर से (6.1 और 6.2 का योग)"]
["6.1 By Consuming Insecticides","6.1 कीटनाशकों का सेवन करके","6.1 कीटनाशकों का सेवन करके","6.1 कीटनाशकों का सेवन करके"]
["6.2 By Consuming other Poison","6.2 अन्य जहर का सेवन करके","6.2 अन्य जहर का सेवन करके","6.2 अन्य जहर का सेवन करके"]
["By Self Inflicting  Injury","स्वंय चोट से","स्वंय चोट से","स्वंय चोट से"]
["By Jumping from (sum of 8.1 to 8.3)","कूदने से (8.1 से 8.3 का योग)","कूदने से (8.1 से 8.3 का योग)","कूदने से (8.1 से 8.3 का योग)"]
["8.1 Building","8.1 इमारत से","8.1 इमारत से","8.1 इमारत से"]
["8.2 Other sites","8.2 अन्य स्थानों से","8.2 अन्य स्थानों से","8.2 अन्य स्थानों से"]
["8.3 by Jumping off moving trains/ vehicles","8.3 चलती ट्रेन/वाहन से कूदने से","8.3 चलती ट्रेन/वाहन से कूदने से","8.3 चलती ट्रेन/वाहन से कूदने से"]
["By Coming under running vehicles/trains","चलती गाड़ियों/ट्रेनों के नीचे आने से","चलती गाड़ियों/ट्रेनों के नीचे आने से","चलती गाड़ियों/ट्रेनों के नीचे आने से"]
["By touching electric wire","बिजली के तार के स्पर्श करने से","बिजली के तार के स्पर्श करने से","बिजली के तार के स्पर्श करने से"]
["By Other Means","अन्य तरीको से","अन्य तरीको से","अन्य तरीको से"]
["Total (sum of Sl. 1 to 11)","कुल (क्रम 1 से 11 का योग)","कुल (क्रम 1 से 11 का योग)","कुल (क्रम 1 से 11 का योग)"]
["Proforma-XIX","प्रपत्र--XIX","प्रपत्र--XIX","प्रपत्र--XIX"]
["Cause-wise distribution of suicides committed by Farmers/Cultivators","किसानों/किसानों द्वारा की गई आत्महत्याओं का कारण-वार वितरण","किसानों/किसानों द्वारा की गई आत्महत्याओं का कारण-वार वितरण","किसानों/किसानों द्वारा की गई आत्महत्याओं का कारण-वार वितरण"]
["Poverty","गरीबी","गरीबी","गरीबी"]
["Property dispute","संपत्ति विवाद","संपत्ति विवाद","संपत्ति विवाद"]
["Marriage Related Issues (sum of 3.1 to 3.5)","विवाह से संबंधित मुदों से (3.1 से 3.5 का योग) ","विवाह से संबंधित मुदों से (3.1 से 3.5 का योग) ","विवाह से संबंधित मुदों से (3.1 से 3.5 का योग) "]
["3.1 Non Settlement of Marriage","3.1 विवाह का गैर निपटान से","3.1 विवाह का गैर निपटान से","3.1 विवाह का गैर निपटान से"]
["3.2 Dowry Related Issues","3.2  दहेज संबंधित मुद्दों से","3.2  दहेज संबंधित मुद्दों से","3.2  दहेज संबंधित मुद्दों से"]
["3.3 Extra Marital affairs","3.3 अतिरिक्त वैवाहिक सम्बंध से","3.3 अतिरिक्त वैवाहिक सम्बंध से","3.3 अतिरिक्त वैवाहिक सम्बंध से"]
["3.4 Divorce","3.4 तलाक से ","3.4 तलाक से ","3.4 तलाक से "]
["3.5 Others","3.5 अन्य","3.5 अन्य","3.5 अन्य"]
["Family problems","पारिवारिक समस्याएं","पारिवारिक समस्याएं","पारिवारिक समस्याएं"]
["Farming related Issues (sum of 5.1 & 5.2)","खेती संबंधी मुद्दों (5.1 और 5.2 का योग)","खेती संबंधी मुद्दों (5.1 और 5.2 का योग)","खेती संबंधी मुद्दों (5.1 और 5.2 का योग)"]
["5.1 Failure of  Crop (sum of 5.1.1 & 5.1.2)","5.1 फसल की विफलता (5.1.1 और 5.1.2 का योग)","5.1 फसल की विफलता (5.1.1 और 5.1.2 का योग)","5.1 फसल की विफलता (5.1.1 और 5.1.2 का योग)"]
["5.1.1 Due to Natural Calamities","5.1.1 प्राकृतिक आपदाओं के कारण","5.1.1 प्राकृतिक आपदाओं के कारण","5.1.1 प्राकृतिक आपदाओं के कारण"]
["5.1.2 Due to Other reasons","5.1.2 अन्य कारणों से","5.1.2 अन्य कारणों से","5.1.2 अन्य कारणों से"]
["5.2 Inability to Sell","5.2  बेचने में असमर्थता","5.2  बेचने में असमर्थता","5.2  बेचने में असमर्थता"]
["Illness (sum of 6.1 to 6.5)","बीमारी से (6.1 से 6.5 का योग)","बीमारी से (6.1 से 6.5 का योग)","बीमारी से (6.1 से 6.5 का योग)"]
["6.1 AIDS/STD","6.1 एड्स / एसटीडी","6.1 एड्स / एसटीडी","6.1 एड्स / एसटीडी"]
["6.2 Cancer","6.2  कैंसर","6.2  कैंसर","6.2  कैंसर"]
["6.3 Paralysis","6.3 पक्षाघात","6.3 पक्षाघात","6.3 पक्षाघात"]
["6.4 Insanity/Mental illness","6.4 पागलपन / मानसिक बीमारी","6.4 पागलपन / मानसिक बीमारी","6.4 पागलपन / मानसिक बीमारी"]
["6.5 Other prolonged illness","6.5 अन्य लंबे समय तक बीमारी","6.5 अन्य लंबे समय तक बीमारी","6.5 अन्य लंबे समय तक बीमारी"]
["Drug abuse/Alcoholic addiction","नशीली दवाओं का दुरुपयोग / शराब की लत","नशीली दवाओं का दुरुपयोग / शराब की लत","नशीली दवाओं का दुरुपयोग / शराब की लत"]
["Fall in social reputation","सामाजिक प्रतिष्ठा में गिरावट","सामाजिक प्रतिष्ठा में गिरावट","सामाजिक प्रतिष्ठा में गिरावट"]
["Bankruptcy or Indebtedness (sum of 9.1 to 9.3)","दिवालियापन या ऋणात्मकता से(9.1 से 9.3 का योग)","दिवालियापन या ऋणात्मकता से(9.1 से 9.3 का योग)","दिवालियापन या ऋणात्मकता से(9.1 से 9.3 का योग)"]
["9.1 Bankruptcy or Indebtedness due to Loan taken from Financial Institutions like Bank/Registered Micro Financial Institutions","9.1 बैंक / पंजीकृत सूक्षम फाइनेंशियल संस्थानों जैसे वित्तीय संस्थानों से लिया गया ऋण के कारण दिवालियापन या ऋणात्मकता","9.1 बैंक / पंजीकृत सूक्षम फाइनेंशियल संस्थानों जैसे वित्तीय संस्थानों से लिया गया ऋण के कारण दिवालियापन या ऋणात्मकता","9.1 बैंक / पंजीकृत सूक्षम फाइनेंशियल संस्थानों जैसे वित्तीय संस्थानों से लिया गया ऋण के कारण दिवालियापन या ऋणात्मकता"]
["9.2 Due to loan taken from Money Lenders/ Non-Financial Institutions","9.2  पैसे उधारदाताओं / गैर-वित्तीय संस्थानों से किए गए ऋण के कारण","9.2  पैसे उधारदाताओं / गैर-वित्तीय संस्थानों से किए गए ऋण के कारण","9.2  पैसे उधारदाताओं / गैर-वित्तीय संस्थानों से किए गए ऋण के कारण"]
["9.3 Due to loan taken from both Financial Institutions as well as Money Lenders/Non-Financial Institutions","9.3  वित्तीय संस्थानों के साथ-साथ मनी उधारकर्ताओं / गैर-वित्तीय संस्थानों दोनों से लिया गया ऋण के कारण","9.3  वित्तीय संस्थानों के साथ-साथ मनी उधारकर्ताओं / गैर-वित्तीय संस्थानों दोनों से लिया गया ऋण के कारण","9.3  वित्तीय संस्थानों के साथ-साथ मनी उधारकर्ताओं / गैर-वित्तीय संस्थानों दोनों से लिया गया ऋण के कारण"]
["Causes not known","अज्ञात कारणो से","अज्ञात कारणो से","अज्ञात कारणो से"]
["Other causes","अन्य कारणो से","अन्य कारणो से","अन्य कारणो से"]
["Total (sum of Sl. 1 to 11)","कुल (क्रम 1 से 11 का योग)","कुल (क्रम 1 से 11 का योग)","कुल (क्रम 1 से 11 का योग)"]
["Proforma-XIX(A)","प्रपत्र--XIX(A)","प्रपत्र--XIX(A)","प्रपत्र--XIX(A)"]
["Cause-wise distribution of suicides committed by Agricultural Labourers","खेतिहर मजदूरों द्वारा की गई आत्महत्याओं का कारण-वार वितरण","खेतिहर मजदूरों द्वारा की गई आत्महत्याओं का कारण-वार वितरण","खेतिहर मजदूरों द्वारा की गई आत्महत्याओं का कारण-वार वितरण"]
["Poverty","गरीबी","गरीबी","गरीबी"]
["Property dispute","संपत्ति विवाद","संपत्ति विवाद","संपत्ति विवाद"]
["Marriage Related Issues (Dowry, Non settlement of marriage, divorce/extra-marital affairs etc.)","विवाह संबंधी मुद्दे (दहेज, विवाह का गैर-समझौता, तलाक / अतिरिक्त-वैवाहिक मामलों आदि)  ","विवाह संबंधी मुद्दे (दहेज, विवाह का गैर-समझौता, तलाक / अतिरिक्त-वैवाहिक मामलों आदि)  ","विवाह संबंधी मुद्दे (दहेज, विवाह का गैर-समझौता, तलाक / अतिरिक्त-वैवाहिक मामलों आदि)  "]
["Death of dear person","प्रिय व्यक्ति की मृत्यु","प्रिय व्यक्ति की मृत्यु","प्रिय व्यक्ति की मृत्यु"]
["Family problems","पारिवारिक समस्याएं","पारिवारिक समस्याएं","पारिवारिक समस्याएं"]
["Illness","बीमारी से","बीमारी से","बीमारी से"]
["Drug abuse/Alcoholic addiction","नशीली दवाओं का दुरुपयोग / शराब की लत","नशीली दवाओं का दुरुपयोग / शराब की लत","नशीली दवाओं का दुरुपयोग / शराब की लत"]
["Fall in social reputation","सामाजिक प्रतिष्ठा में गिरावट","सामाजिक प्रतिष्ठा में गिरावट","सामाजिक प्रतिष्ठा में गिरावट"]
["Bankruptcy or Indebtedness from Financial Institutions","वित्तीय संस्थानों से दिवालियापन या ऋणात्मकता","वित्तीय संस्थानों से दिवालियापन या ऋणात्मकता","वित्तीय संस्थानों से दिवालियापन या ऋणात्मकता"]
["Bankruptcy or Indebtedness from  Non-Financial Institutions/Money Lenders","गैर-वित्तीय संस्थानों / धन उधारदाताओं से दिवालियापन या ऋणात्मकता","गैर-वित्तीय संस्थानों / धन उधारदाताओं से दिवालियापन या ऋणात्मकता","गैर-वित्तीय संस्थानों / धन उधारदाताओं से दिवालियापन या ऋणात्मकता"]
["Physical Abuse (rape etc.)","शारीरिक दुर्व्यवहार (बलात्कार आदि)","शारीरिक दुर्व्यवहार (बलात्कार आदि)","शारीरिक दुर्व्यवहार (बलात्कार आदि)"]
["Causes not known","अज्ञात कारणो से","अज्ञात कारणो से","अज्ञात कारणो से"]
["Other causes","अन्य कारणो से","अन्य कारणो से","अन्य कारणो से"]
["Total (sum of Sl. 1 to 13)","कुल (क्रम 1 से 13 का योग)","कुल (क्रम 1 से 13 का योग)","कुल (क्रम 1 से 13 का योग)"]
["Proforma-XX","प्रपत्र--XX","प्रपत्र--XX","प्रपत्र--XX"]
["Educational Status-wise distribution of suicides committed by Farmers/Cultivators","किसानों/किसानों द्वारा की गई आत्महत्याओं का शैक्षिक स्थिति-वार वितरण","किसानों/किसानों द्वारा की गई आत्महत्याओं का शैक्षिक स्थिति-वार वितरण","किसानों/किसानों द्वारा की गई आत्महत्याओं का शैक्षिक स्थिति-वार वितरण"]
["No Education","अनपढ़","अनपढ़","अनपढ़"]
["Primary (upto class–5)","प्राथमिक (कक्षा -5 तक)","प्राथमिक (कक्षा -5 तक)","प्राथमिक (कक्षा -5 तक)"]
["Middle (upto class–8)","मध्य (कक्षा -8 तक)","मध्य (कक्षा -8 तक)","मध्य (कक्षा -8 तक)"]
["Matriculate/Secondary (upto class–10)","मैट्रिकुलेट / माध्यमिक (कक्षा -10 तक)","मैट्रिकुलेट / माध्यमिक (कक्षा -10 तक)","मैट्रिकुलेट / माध्यमिक (कक्षा -10 तक)"]
["Higher Secondary/ Intermediate/ Pre-University (upto class–12)","उच्च माध्यमिक / मध्यवर्ती / पूर्व-विश्वविद्यालय (कक्षा -12 तक)","उच्च माध्यमिक / मध्यवर्ती / पूर्व-विश्वविद्यालय (कक्षा -12 तक)","उच्च माध्यमिक / मध्यवर्ती / पूर्व-विश्वविद्यालय (कक्षा -12 तक)"]
["Diploma/ITI/Certificate","डिप्लोमा / आईटीआई / प्रमाणपत्र","डिप्लोमा / आईटीआई / प्रमाणपत्र","डिप्लोमा / आईटीआई / प्रमाणपत्र"]
["Graduate and above","स्नातक तथा अधिक","स्नातक तथा अधिक","स्नातक तथा अधिक"]
["Professionals (MBA, etc.)","पेशेवर (एमबीए, आदि)","पेशेवर (एमबीए, आदि)","पेशेवर (एमबीए, आदि)"]
["Not known","स्थिति ज्ञात नहीं","स्थिति ज्ञात नहीं","स्थिति ज्ञात नहीं"]
["Total (sum of Sl. 1 to 9 )","कुल (क्रम 1 से 9 का योग)","कुल (क्रम 1 से 9 का योग)","कुल (क्रम 1 से 9 का योग)"]
["Proforma-XXI","प्रपत्र--XXI","प्रपत्र--XXI","प्रपत्र--XXI"]
["Land Holding Status-wise distribution of  suicides committed by Farmers/Cultivators","किसानों/किसानों द्वारा की गई आत्महत्याओं का भूमि जोत स्थिति-वार वितरण","किसानों/किसानों द्वारा की गई आत्महत्याओं का भूमि जोत स्थिति-वार वितरण","किसानों/किसानों द्वारा की गई आत्महत्याओं का भूमि जोत स्थिति-वार वितरण"]
["Land Holding Status","भूमि जोत की स्थिति","भूमि जोत की स्थिति","भूमि जोत की स्थिति"]
["Marginal Farmers (sum of 1.1 & 1.2)","सीमांत किसान (1.1 और 1.2 का योग)","सीमांत किसान (1.1 और 1.2 का योग)","सीमांत किसान (1.1 और 1.2 का योग)"]
["1.1 Irrigated","1.1 सिंचित","1.1 सिंचित","1.1 सिंचित"]
["1.2 Un-irrigated","1.2 असिंचित","1.2 असिंचित","1.2 असिंचित"]
["Small Farmers (sum of 2.1 & 2.2)","छोटे किसान (2.1 और 2.2 का योग)","छोटे किसान (2.1 और 2.2 का योग)","छोटे किसान (2.1 और 2.2 का योग)"]
["2.1 Irrigated","2.1 सिंचित","2.1 सिंचित","2.1 सिंचित"]
["2.2 Un-irrigated","2.2 असिंचित","2.2 असिंचित","2.2 असिंचित"]
["Medium  Farmers (sum of 3.1 & 3.2)","मध्यम किसान (3.1 और 3.2 का योग)","मध्यम किसान (3.1 और 3.2 का योग)","मध्यम किसान (3.1 और 3.2 का योग)"]
["3.1 Irrigated","3.1 सिंचित","3.1 सिंचित","3.1 सिंचित"]
["3.2 Un-irrigated","3.2 असिंचित","3.2 असिंचित","3.2 असिंचित"]
["Large  Farmers (sum of 4.1 & 4.2)","बड़े किसान (4.1 और 4.2 का योग)","बड़े किसान (4.1 और 4.2 का योग)","बड़े किसान (4.1 और 4.2 का योग)"]
["4.1 Irrigated","4.1 सिंचित","4.1 सिंचित","4.1 सिंचित"]
["4.2 Un-irrigated","4.2 असिंचित","4.2 असिंचित","4.2 असिंचित"]
["Total (sum of Sl. 1 to 4)","कुल (क्रम 1 से 4 का योग)","कुल (क्रम 1 से 4 का योग)","कुल (क्रम 1 से 4 का योग)"]
["Proforma-XXIII","प्रपत्र--XXIII","प्रपत्र--XXIII","प्रपत्र--XXIII"]
["Mass/Family Suicides","सामूहिक/पारिवारिक आत्महत्याएं","सामूहिक/पारिवारिक आत्महत्याएं","सामूहिक/पारिवारिक आत्महत्याएं"]
["Total number of cases of Mass/Family Suicides","सामूहिक / परिवार आत्महत्या के मामलों की कुल संख्या","सामूहिक / परिवार आत्महत्या के मामलों की कुल संख्या","सामूहिक / परिवार आत्महत्या के मामलों की कुल संख्या"]
["Age group wise classification of Mass/Family Suicide Victims","सामूहिक/पारिवारिक आत्महत्या पीड़ितों का आयु समूह के अनुसार वर्गीकरण","सामूहिक/पारिवारिक आत्महत्या पीड़ितों का आयु समूह के अनुसार वर्गीकरण","सामूहिक/पारिवारिक आत्महत्या पीड़ितों का आयु समूह के अनुसार वर्गीकरण"]
["below 14 years","14 वर्ष से नीचे","14 वर्ष से नीचे","14 वर्ष से नीचे"]
["14 and above – below 18 years","14 वर्ष और उससे ऊपर - 18 वर्ष से कम","14 वर्ष और उससे ऊपर - 18 वर्ष से कम","14 वर्ष और उससे ऊपर - 18 वर्ष से कम"]
["18 and above – below 30 years","18  वर्ष और उससे ऊपर - 30 साल से नीचे","18  वर्ष और उससे ऊपर - 30 साल से नीचे","18  वर्ष और उससे ऊपर - 30 साल से नीचे"]
["30 and above – below 45 years","30  वर्ष और उससे ऊपर - 45 साल से नीचे","30  वर्ष और उससे ऊपर - 45 साल से नीचे","30  वर्ष और उससे ऊपर - 45 साल से नीचे"]
["45 and above – below 60 years","45  वर्ष और उससे ऊपर - 60 साल से नीचे","45  वर्ष और उससे ऊपर - 60 साल से नीचे","45  वर्ष और उससे ऊपर - 60 साल से नीचे"]
["60 years & above","60 वर्ष और उससे ऊपर","60 वर्ष और उससे ऊपर","60 वर्ष और उससे ऊपर"]
["Total (sum of Sl. 2 to 7)","कुल (क्रम 2 से 7 का योग)","कुल (क्रम 2 से 7 का योग)","कुल (क्रम 2 से 7 का योग)"]
[]
[]
[" Total [sum of (3) to (8)]","कुल [(3) से (8) का योग]","कुल [(3) से (8) का योग]","कुल [(3) से (8) का योग]"]
["Total    [sum of (10) to (15)]","कुल [(10) से (15) का योग]","कुल [(10) से (15) का योग]","कुल [(10) से (15) का योग]"]
["Total [sum of (17) to (22)]","कुल [(17) से (22) का योग]","कुल [(17) से (22) का योग]","कुल [(17) से (22) का योग]"]
["Grand Total (9) + (16)+(23)","कुल योग (9)+ (16)+ (23)","कुल योग (9)+ (16)+ (23)","कुल योग (9)+ (16)+ (23)"]
["No. of Suicides","आत्महत्याओं की संख्या","आत्महत्याओं की संख्या","आत्महत्याओं की संख्या"]
["Married","विवाहित","विवाहित","विवाहित"]
["Un-Married","अविवाहित","अविवाहित","अविवाहित"]
["Grand Total","कुल योग","कुल योग","कुल योग"]
["Causes","कारण","कारण","कारण"]
["No. of Cases","मामलों की संख्या","मामलों की संख्या","मामलों की संख्या"]
["VALIDATION WITH NUMBER OF CASES","मामलों की संख्या के साथ सत्यापन","मामलों की संख्या के साथ सत्यापन","मामलों की संख्या के साथ सत्यापन"]
["No. of Persons Injured","घायल व्यक्तियों की संख्या","घायल व्यक्तियों की संख्या","घायल व्यक्तियों की संख्या"]
["No. of Persons Died","मृत व्यक्तियों की संख्या","मृत व्यक्तियों की संख्या","मृत व्यक्तियों की संख्या"]
[" Total[sum of (4) to (6)]","कुल [(4) से (6) का योग]","कुल [(4) से (6) का योग]","कुल [(4) से (6) का योग]"]
[" Total[sum of (8) to (10)]","कुल [(8) से (10) का योग]","कुल [(8) से (10) का योग]","कुल [(8) से (10) का योग]"]